{"text_format":"3","workbook":"xlsx","n_sheets":10,"sheets":["Comanda","Antecalculatie","Data","P.V.","NOTA PRODUCTIE","Export","NOMECLATOR PARTENERI","PRETURI","Formula Cant","Grafica Cant"],"not_rendered":{"images":2,"external_links":2,"defined_names":26},"read":"whole","date_system":"1900"}

{"sheet":"Comanda","index":0,"n_rows":219,"n_cols":13,"rows_kept":219,"merged":[[1,6,1,8],[2,6,2,8],[2,12,12,12],[4,2,4,8],[5,2,5,8],[6,2,6,8],[7,4,7,8],[8,4,8,8],[8,10,9,11],[10,2,10,3],[10,4,10,5],[10,7,10,8],[10,10,10,11],[11,2,11,3],[11,4,11,5],[11,6,11,8],[11,10,11,11],[12,4,15,5],[12,7,12,8],[13,7,13,8],[13,12,14,12],[14,7,14,8],[15,7,15,8],[17,0,18,0],[17,1,18,1],[17,2,18,2],[17,3,18,3],[17,4,18,4],[17,5,18,5],[17,6,18,6],[17,7,17,10],[17,11,18,11],[17,12,18,12]]}
[null,"Comanda servicii de debitare/cantuire pal melaminat"]
[null,"Numar comanda:",{"$nulls":3},"Solicitare Livrare:"]
[null,"Data:",{"$f":"TODAY()","v":"2022-01-12"},null,null,"Data livrare:",{"$nulls":6},"Prezentul formular este in continua dezolvare. \n\nToate datele prezente pot fi modificate de catre GLOBAL DESIGN s.r.l. fara o prenotare anterioara."]
[]
[null,"Denumire client:"]
[null,"Persoana contact:"]
[null,"Adresa:"]
[null,"Telefon:",null,"Email:"]
[null,"Cod Fiscal:",{"$f":"VLOOKUP(C5,'NOMECLATOR PARTENERI'!A:B,2,FALSE)","v":{"$error":"#N/A"}},"Reg.Com:",{"$nulls":6},"GLOBAL DESIGN  s.r.l."]
[]
[null,"Alege tip Panou:",null,null,"Suprafata:",null,{"$f":"Antecalculatie!E19","v":{"v":0,"d":"0.00"}},"[mp]",null,null,"Calea Unirii 31, Suceava"]
[null,"Alege Décor:",{"$nulls":4},"Lungime cant",{"$nulls":3},"J33/616/2001 | RO14374722"]
[null,"Alege tip de cant 1:",null,1,"marcheaza cu valoarea din stanga, cantul necesar a fi finisat",null,{"$f":"Antecalculatie!E22","v":0},"[ml]",null,null,"E-Mail:","servicii.debitare@frontmdf.ro"]
[null,"Alege tip de cant 2:",null,2,null,null,{"$f":"Antecalculatie!E23","v":0},"[ml]",null,null,"Web:","www.frontmdf.ro","DESCARCA FORMULAR ACTUALIZAT"]
[null,"Alege tip de cant 3:",null,3,null,null,{"$f":"Antecalculatie!E24","v":0},"[ml]",null,null,"Tel:","0742 09 55 21"]
[null,"Alege tip de cant 4:",null,4,null,null,{"$f":"Antecalculatie!E25","v":0},"[ml]"]
[]
["Nr.","Produs","Decor","Lungime\n-mm-                L (max2800)","Latime\n-mm-         l \n(max2070)","Buc","Fibra","Cant",{"$nulls":3},"Observatii","Info Dublaj"]
[{"$nulls":7},"L1","L2","l1","l2"]
[1,null,{"$f":"IF(B20<>0,$C$12,\"\")","v":""},{"$nulls":9},{"$f":"IF(B20=\"dublaj\",\"<<Specifica elementul de dublaj\",\" \")","v":" "}]
[2,null,"",{"$nulls":9},{"$f":"IF(B21=\"dublaj\",\"<<Specifica elementul de dublaj\",\" \")","v":" "}]
[3,null,"",{"$nulls":9}," "]
[4,null,"",{"$nulls":9}," "]
[5,null,{"$f":"IF(B24<>0,$C$12,\"\")","v":""},{"$nulls":9}," "]
[6,null,"",{"$nulls":9}," "]
[7,null,"",{"$nulls":9}," "]
[8,null,"",{"$nulls":9}," "]
[9,null,"",{"$nulls":9}," "]
[10,null,"",{"$nulls":9}," "]
[11,null,"",{"$nulls":9}," "]
[12,null,"",{"$nulls":9}," "]
[13,null,"",{"$nulls":9}," "]
[14,null,"",{"$nulls":9}," "]
[15,null,"",{"$nulls":9}," "]
[16,null,"",{"$nulls":9}," "]
[17,null,"",{"$nulls":9}," "]
[18,null,"",{"$nulls":9}," "]
[19,null,"",{"$nulls":9}," "]
[20,null,"",{"$nulls":9}," "]
[21,null,"",{"$nulls":9}," "]
[22,null,"",{"$nulls":9}," "]
[23,null,"",{"$nulls":9}," "]
[24,null,"",{"$nulls":9}," "]
[25,null,"",{"$nulls":9}," "]
[26,null,"",{"$nulls":9}," "]
[27,null,"",{"$nulls":9}," "]
[28,null,"",{"$nulls":9}," "]
[29,null,"",{"$nulls":9}," "]
[30,null,"",{"$nulls":9}," "]
[31,null,"",{"$nulls":9}," "]
[32,null,"",{"$nulls":9}," "]
[33,null,{"$f":"IF(B52<>0,$C$12,\"\")","v":""},{"$nulls":9}," "]
[34,null,"",{"$nulls":9}," "]
[35,null,"",{"$nulls":9}," "]
[36,null,"",{"$nulls":9}," "]
[37,null,"",{"$nulls":9}," "]
[38,null,"",{"$nulls":9}," "]
[39,null,"",{"$nulls":9}," "]
[40,null,"",{"$nulls":9}," "]
[41,null,"",{"$nulls":9}," "]
[42,null,"",{"$nulls":9}," "]
[43,null,"",{"$nulls":9}," "]
[44,null,"",{"$nulls":9}," "]
[45,null,"",{"$nulls":9}," "]
[46,null,"",{"$nulls":9}," "]
[47,null,"",{"$nulls":9}," "]
[48,null,"",{"$nulls":9}," "]
[49,null,"",{"$nulls":9}," "]
[50,null,"",{"$nulls":9}," "]
[51,null,"",{"$nulls":9}," "]
[52,null,"",{"$nulls":9}," "]
[53,null,"",{"$nulls":9}," "]
[54,null,"",{"$nulls":9}," "]
[55,null,"",{"$nulls":9}," "]
[56,null,"",{"$nulls":9}," "]
[57,null,"",{"$nulls":9}," "]
[58,null,"",{"$nulls":9}," "]
[59,null,"",{"$nulls":9}," "]
[60,null,"",{"$nulls":9}," "]
[61,null,"",{"$nulls":9}," "]
[62,null,"",{"$nulls":9}," "]
[63,null,"",{"$nulls":9}," "]
[64,null,"",{"$nulls":9}," "]
[65,null,{"$f":"IF(B84<>0,$C$12,\"\")","v":""},{"$nulls":9}," "]
[66,null,"",{"$nulls":9},{"$f":"IF(B85=\"dublaj\",\"<<Specifica elementul de dublaj\",\" \")","v":" "}]
[67,null,"",{"$nulls":9}," "]
[68,null,"",{"$nulls":9}," "]
[69,null,"",{"$nulls":9}," "]
[70,null,"",{"$nulls":9}," "]
[71,null,"",{"$nulls":9}," "]
[72,null,"",{"$nulls":9}," "]
[73,null,"",{"$nulls":9}," "]
[74,null,"",{"$nulls":9}," "]
[75,null,"",{"$nulls":9}," "]
[76,null,"",{"$nulls":9}," "]
[77,null,"",{"$nulls":9}," "]
[78,null,"",{"$nulls":9}," "]
[79,null,"",{"$nulls":9}," "]
[80,null,"",{"$nulls":9}," "]
[81,null,"",{"$nulls":9}," "]
[82,null,"",{"$nulls":9}," "]
[83,null,"",{"$nulls":9}," "]
[84,null,"",{"$nulls":9}," "]
[85,null,"",{"$nulls":9}," "]
[86,null,"",{"$nulls":9}," "]
[87,null,{"$f":"IF(B106<>0,$C$12,\"\")","v":""},{"$nulls":9}," "]
[88,null,"",{"$nulls":9}," "]
[89,null,"",{"$nulls":9}," "]
[90,null,"",{"$nulls":9}," "]
[91,null,"",{"$nulls":9}," "]
[92,null,"",{"$nulls":9}," "]
[93,null,"",{"$nulls":9}," "]
[94,null,"",{"$nulls":9}," "]
[95,null,"",{"$nulls":9}," "]
[96,null,"",{"$nulls":9}," "]
[97,null,"",{"$nulls":9}," "]
[98,null,"",{"$nulls":9}," "]
[99,null,"",{"$nulls":9}," "]
[100,null,"",{"$nulls":9}," "]
[101,null,"",{"$nulls":9}," "]
[102,null,"",{"$nulls":9}," "]
[103,null,"",{"$nulls":9}," "]
[104,null,"",{"$nulls":9}," "]
[105,null,"",{"$nulls":9}," "]
[106,null,"",{"$nulls":9}," "]
[107,null,"",{"$nulls":9}," "]
[108,null,"",{"$nulls":9}," "]
[109,null,{"$f":"IF(B128<>0,$C$12,\"\")","v":""},{"$nulls":9}," "]
[110,null,"",{"$nulls":9}," "]
[111,null,"",{"$nulls":9}," "]
[112,null,"",{"$nulls":9}," "]
[113,null,"",{"$nulls":9}," "]
[114,null,"",{"$nulls":9}," "]
[115,null,"",{"$nulls":9}," "]
[116,null,"",{"$nulls":9}," "]
[117,null,"",{"$nulls":9}," "]
[118,null,{"$f":"IF(B137<>0,$C$12,\"\")","v":""},{"$nulls":9}," "]
[119,null,"",{"$nulls":9}," "]
[120,null,"",{"$nulls":9}," "]
[121,null,"",{"$nulls":9}," "]
[122,null,"",{"$nulls":9}," "]
[123,null,"",{"$nulls":9}," "]
[124,null,"",{"$nulls":9}," "]
[125,null,"",{"$nulls":9}," "]
[126,null,"",{"$nulls":9}," "]
[127,null,"",{"$nulls":9}," "]
[128,null,"",{"$nulls":9}," "]
[129,null,"",{"$nulls":9}," "]
[130,null,"",{"$nulls":9},{"$f":"IF(B149=\"dublaj\",\"<<Specifica elementul de dublaj\",\" \")","v":" "}]
[131,null,"",{"$nulls":9}," "]
[132,null,{"$f":"IF(B151<>0,$C$12,\"\")","v":""},{"$nulls":9}," "]
[133,null,"",{"$nulls":9}," "]
[134,null,"",{"$nulls":9}," "]
[135,null,"",{"$nulls":9}," "]
[136,null,"",{"$nulls":9}," "]
[137,null,"",{"$nulls":9}," "]
[138,null,"",{"$nulls":9}," "]
[139,null,"",{"$nulls":9}," "]
[140,null,"",{"$nulls":9}," "]
[141,null,"",{"$nulls":9}," "]
[142,null,"",{"$nulls":9}," "]
[143,null,"",{"$nulls":9}," "]
[144,null,"",{"$nulls":9}," "]
[145,null,"",{"$nulls":9}," "]
[146,null,"",{"$nulls":9}," "]
[147,null,"",{"$nulls":9}," "]
[148,null,"",{"$nulls":9}," "]
[149,null,"",{"$nulls":9}," "]
[150,null,"",{"$nulls":9}," "]
[151,null,"",{"$nulls":9}," "]
[152,null,"",{"$nulls":9}," "]
[153,null,"",{"$nulls":9}," "]
[154,null,"",{"$nulls":9}," "]
[155,null,"",{"$nulls":9}," "]
[156,null,"",{"$nulls":9}," "]
[157,null,"",{"$nulls":9}," "]
[158,null,"",{"$nulls":9}," "]
[159,null,"",{"$nulls":9}," "]
[160,null,"",{"$nulls":9}," "]
[161,null,"",{"$nulls":9}," "]
[162,null,"",{"$nulls":9}," "]
[163,null,"",{"$nulls":9}," "]
[164,null,"",{"$nulls":9}," "]
[165,null,"",{"$nulls":9}," "]
[166,null,"",{"$nulls":9}," "]
[167,null,"",{"$nulls":9}," "]
[168,null,"",{"$nulls":9}," "]
[169,null,"",{"$nulls":9}," "]
[170,null,"",{"$nulls":9}," "]
[171,null,{"$f":"IF(B190<>0,$C$12,\"\")","v":""},{"$nulls":9}," "]
[172,null,"",{"$nulls":9}," "]
[173,null,"",{"$nulls":9}," "]
[174,null,"",{"$nulls":9}," "]
[175,null,"",{"$nulls":9}," "]
[176,null,"",{"$nulls":9}," "]
[177,null,"",{"$nulls":9}," "]
[178,null,"",{"$nulls":9}," "]
[179,null,"",{"$nulls":9}," "]
[180,null,"",{"$nulls":9}," "]
[181,null,"",{"$nulls":9}," "]
[182,null,"",{"$nulls":9}," "]
[183,null,"",{"$nulls":9}," "]
[184,null,"",{"$nulls":9}," "]
[185,null,"",{"$nulls":9}," "]
[186,null,"",{"$nulls":9}," "]
[187,null,"",{"$nulls":9}," "]
[188,null,"",{"$nulls":9}," "]
[189,null,"",{"$nulls":9}," "]
[190,null,"",{"$nulls":9}," "]
[191,null,"",{"$nulls":9}," "]
[192,null,"",{"$nulls":9}," "]
[193,null,"",{"$nulls":9}," "]
[194,null,"",{"$nulls":9},{"$f":"IF(B213=\"dublaj\",\"<<Specifica elementul de dublaj\",\" \")","v":" "}]
[195,null,"",{"$nulls":9}," "]
[196,null,"",{"$nulls":9}," "]
[197,null,"",{"$nulls":9}," "]
[198,null,"",{"$nulls":9}," "]
[199,null,{"$f":"IF(B218<>0,$C$12,\"\")","v":""},{"$nulls":9}," "]
[200,null,"",{"$nulls":9}," "]

{"sheet":"Antecalculatie","index":1,"n_rows":43,"n_cols":9,"rows_kept":43,"merged":[[7,2,7,4],[7,5,7,8],[8,2,8,4],[8,5,8,8],[9,2,9,4],[9,5,9,8],[10,5,10,8],[11,5,11,8],[18,1,19,1],[18,2,19,2],[18,3,19,3],[18,4,19,4],[18,5,19,5],[18,6,19,6],[18,7,19,7],[18,8,19,8],[21,3,24,3],[32,8,33,8]]}
[null,"Antecalculatii servicii debitare/cantuire/prelucrare panouri PAL"]
[]
[null,"Numar comanda:",{"$f":"Comanda!C2","v":0},null,"Data:"]
[null,"Data:",{"$f":"Comanda!C3","v":"2022-01-12"},null,{"$f":"TODAY()","v":"2022-01-12"}]
[null,"Data solicitata pt livrare:",{"$f":"Comanda!G2","v":0}]
[null,"Data livrare efectiva:",{"$f":"Comanda!G3","v":"00:00:00"}]
[]
[null,"Denumire client:",{"$f":"Comanda!C5","v":0}]
[null,"Persoana contact:",{"$f":"Comanda!C6","v":0},null,null,"GLOBAL DESIGN S.r.l."]
[null,"Adresa:",{"$f":"Comanda!C7","v":0},null,null,"Calea Unirii 31, Suceava"]
[null,"Telefon:",{"$f":"Comanda!C8","v":0},"Email:",{"$f":"Comanda!E8","v":0},"RO14374722"]
[null,"Cod Fiscal:",{"$f":"Comanda!C9","v":{"$error":"#N/A"}},"Reg. Com:",{"$f":"Comanda!E9","v":0},"J33/616/2001"]
[]
[]
[]
[{"$nulls":6},"P.U.","P.TOTAL F.TVA","TOTAL CU TVA"]
[{"$nulls":6},"[RON/UM]","[RON/UM]","[RON/UM]"]
[]
[null,"Décor:",{"$f":"Comanda!$C$12","v":0},"Suprafata:",{"$f":"Export!$AP$203","v":{"v":0,"d":"0.00"}},{"$f":"IF(OR(Comanda!C11=\"BLAT_BUCATARIE_600\", Comanda!C11=\"BLAT_BUCATARIE_920\"),\"[ML]\", \"[MP]\")","v":"[MP]"},{"$f":"IF(C19<>0,VLOOKUP(C19, PRETURI!A2:B408, 2,FALSE))","v":false},{"$f":"E19*G19","v":{"v":0,"d":"0.00"}},{"$f":"H19*1.19","v":{"v":0,"d":"0.00"}}]
[]
[]
[null,"Tip cant 1:",{"$f":"Comanda!$C$13","v":0},"Lungime: [ml]",{"$f":"ROUNDUP(Export!$AT$203, 2)","v":0},"[ML]",{"$f":"IF(E22<>0,VLOOKUP(C22,PRETURI!$D$2:$E$1090, 2,FALSE),\"0\")","v":"0"},{"$f":"E22*G22","v":{"v":0,"d":"0.00"}},{"$f":"H22*1.19","v":{"v":0,"d":"0.00"}}]
[null,"Tip cant 2:",{"$f":"Comanda!$C$14","v":0},null,{"$f":"ROUNDUP(Export!$AY$203, 2)","v":0},"[ML]",{"$f":"IF(E23<>0,VLOOKUP(C23,PRETURI!$D$2:$E$1090, 2,FALSE),\"0\")","v":"0"},{"$f":"E23*G23","v":{"v":0,"d":"0.00"}},{"$f":"H23*1.19","v":{"v":0,"d":"0.00"}}]
[null,"Tip cant 3:",{"$f":"Comanda!$C$15","v":0},null,{"$f":"ROUNDUP(Export!$BD$203, 2)","v":0},"[ML]",{"$f":"IF(E24<>0,VLOOKUP(C24,PRETURI!$D$2:$E$1090, 2,FALSE),\"0\")","v":"0"},{"v":0,"d":"0.00"},{"v":0,"d":"0.00"}]
[null,"Tip cant 4:",{"$f":"Comanda!$C$16","v":0},null,{"$f":"ROUNDUP(Export!$BI$203, 2)","v":0},"[ML]",{"$f":"IF(E25<>0,VLOOKUP(C25,PRETURI!$D$2:$E$1090, 2,FALSE),\"0\")","v":"0"},{"v":0,"d":"0.00"},{"v":0,"d":"0.00"}]
[]
[{"$nulls":3},"Lungime de aplicare cant pe curb:",null,"[ML]",{"$f":"IF(E27<>0,PRETURI!J4,\"0\")","v":"0"},{"$f":"E27*G27","v":{"v":0,"d":"0.00"}},{"$f":"H27*1.19","v":{"v":0,"d":"0.00"}}]
[{"$nulls":3},"Lungime prelucrare CNC:",null,"[ML]",{"$f":"IF(E28<>0,PRETURI!J3,\"0\")","v":"0"},{"$f":"E28*G28","v":{"v":0,"d":"0.00"}},{"$f":"H28*1.19","v":{"v":0,"d":"0.00"}}]
[{"$nulls":3},"Manopera dublare panouri:",null,"[BUC]",{"$f":"IF(E29<>0,PRETURI!J2,\"0\")","v":"0"},{"$f":"E29*G29","v":{"v":0,"d":"0.00"}},{"$f":"H29*1.19","v":{"v":0,"d":"0.00"}}]
[{"$nulls":3},"Nr de gauri prelucrate in CNC:",null,"[BUC]",{"$f":"IF(E30<>0,PRETURI!J5,\"0\")","v":"0"},{"$f":"E30*G30","v":{"v":0,"d":"0.00"}},{"$f":"H30*1.19","v":{"v":0,"d":"0.00"}}]
[]
[]
[{"$nulls":6},"TOTAL FARA TVA",{"$f":"SUM(H19:H30)","v":{"v":0,"d":"0.00"}},"RON"]
[{"$nulls":6},"TOAL CU TAVA",{"$f":"SUM(I19:I30)","v":{"v":0,"d":"0.00"}}]
[]
[]
[]
[]
[null,"Nota:"]
[null,"Prezenta antecalculatie este supusa actualizarilor permanente."]
[null,"Preturile prezente au doar caracter orientativ si nu creeaza obligatii pentru GLOBAL DESIGN s.r.l. Suceava."]
[null,"Oferta de pret in baza careia se efectueaza plata si executa comanda, este cea generata de sistemele informatice ale GLOBAL DESIGN s.r.l., "]
[null,"identificata prin numar si data."]

{"sheet":"Data","index":2,"n_rows":635,"n_cols":41,"rows_kept":635,"hidden":true}
["Repere",null,"TIP DE PRODUS",null,"BLAT_BUCATARIE_600",null,"BLAT_MASA_920",null,"BLAT_INSULA_1200",null,"PAL_MELAMINAT",null,"PAL_BRUT",null,"EUROLIGHT",null,"MDF",null,"PFL",null,"PROTECTIE",null,"Panou_Spate",null,"TIP DE CANT",null,"CANT_BLAT_BUCATARIE_600",null,"CANT_BLAT_MASA_920",null,"CANT_BLAT_INSULA_1200",null,"CANT_PAL_MELAMINAT",null,"CANT_PAL_BRUT",null,"CANT_MDF",null,"Fibra",null,"Valoare Cant"]
["Usa",null,"PAL_MELAMINAT",null,"F011-ST-9-600-mm-1430489",null,"F011-ST-9-920-mm-1396978",null,"F028 ST89 1200 1196639",null,"F186-ST-9-18-mm 1356283",null,"PROTECTIE-PANOU-18-MM",null,"Eurolight Brut 38 mm 769822",null,"MDF-2D-NEMELAMINAT-18MM-372733",null,"W5001-ALB-PFL-SUBTIRE-LACUIT",null,"PROTECTIE-PANOU-18-MM",null,"F028-ST89 Panou Spate 9.2 mm",null,{"$f":"CONCATENATE(\"CANT_\",Comanda!$C$11)","v":"CANT_"},null,"F011-ST-9 43/1.5 1384694",null,"F011-ST-9 43/1.5 1384694",null,"F011-ST-9 43/1.5 1384694",null,"F186-ST-9 23/0.4 1195888",null,"F186-ST-9 23/0.4 1195888",null,"NU SE APLICA CANT",null,"Da",null,1]
["Fata sertar",null,"BLAT_BUCATARIE_600",null,"F012-ST-9-600-mm-1430488",null,"F012-ST-9-920-mm-1397062",null,"F029 ST89 1200 1196770",null,"F187-ST-9-18-mm 1356240",{"$nulls":3},"Eurolight Brut 50 mm 769823",null,"MDF-TREND-WHITE-22MM-M110686800650",{"$nulls":5},"F029-ST89 Panou Spate 9.2 mm",null,"CANT_BLAT_BUCATARIE_920",null,"F012-ST-9 43/1.5 1384695",null,"F012-ST-9 43/1.5 1384695",null,"F012-ST-9 43/1.5 1384695",null,"F187-ST-9 23/0.4 1195887",null,"F187-ST-9 23/0.4 1195887",{"$nulls":5},2]
["Perete",null,"BLAT_MASA_920",null,"F014-ST-9-600-mm-1396912",null,"F014-ST-9-920-mm-1397063",null,"F041 ST15 1200 241817",null,"F204-ST-9-18-mm 1385944",{"$nulls":5},"MDF-3D-MEBRANE-WHITE-18MM-M110686800650",{"$nulls":5},"F041-ST15 Panou Spate 9.2 mm",null,"CANT_BLAT_INSULA_1200",null,"F014-ST-9 43/1.5 1384692",null,"F014-ST-9 43/1.5 1384692",null,"F014-ST-9 43/1.5 1384692",null,"F204-ST-9 23/0.4 1380955",null,"F204-ST-9 23/0.4 1380955",{"$nulls":5},3]
["Traversa",null,"PANOU_SPATE",null,"F021-ST-9-600-mm-1430487",null,"F021-ST-9-920-mm-1394987",null,"F059 ST89 1200 1196771",null,"F206-ST-9-18-mm 1386014",{"$nulls":11},"F059-ST89 Panou Spate 9.2 mm",null,"CANT_PAL_MELAMINAT",null,"F021-ST-9 43/1.5 1428331",null,"F021-ST-9 43/1.5 1428331",null,"F021-ST-9 43/1.5 1428331",null,"F206-ST-9 23/0.4 1381000",null,"F206-ST-9 23/0.4 1381000",{"$nulls":5},4]
["Raft",null,"MDF",null,"F028-ST-89-600-mm-1196560",null,"F028-ST-89-920-mm-1196639",null,"F061 ST89 1200 1196772",null,"F416-ST-10-18-mm 1386035",{"$nulls":11},"F061-ST89 Panou Spate 9.2 mm",null,"CANT_PAL_BRUT",null,"F028-ST-89 43/1.5 1194318",null,"F028-ST-89 43/1.5 1194318",null,"F028-ST-89 43/1.5 1194318",null,"F302-ST-87 23/0.4 1195863",null,"F302-ST-87 23/0.4 1195863"]
["Blat",null,"PFL",null,"F029-ST-89-600-mm-1196561",null,"F029-ST-89-920-mm-1196770",null,"F074 ST9 1200 1196785",null,"F433-ST-10-18-mm 1356028",{"$nulls":11},"F074-ST9 Panou Spate 9.2 mm",{"$nulls":3},"F029-ST-89 43/1.5 1194317",null,"F029-ST-89 43/1.5 1194317",null,"F029-ST-89 43/1.5 1194317",null,"F416-ST-10 23/0.4 1381100",null,"F416-ST-10 23/0.4 1381100"]
["Placa",null,"PROTECTIE",null,"F041-ST-15-600-mm-241706",null,"F041-ST-15-920-mm-241817",null,"F076 ST9 1200 1196786",null,"F501-ST-2-18-mm 1354623",{"$nulls":11},"F076-ST9 Panou Spate 9.2 mm",{"$nulls":3},"F041-ST-15 43/1.5 1194319",null,"F041-ST-15 43/1.5 1194319",null,"F041-ST-15 43/1.5 1194319",null,"F425-ST-10 23/0.4 1194539",null,"F425-ST-10 23/0.4 1194539"]
["Laterala",{"$nulls":3},"F059-ST-89-600-mm-1196562",null,"F059-ST-89-920-mm-1196771",null,"F080 ST82 1200 1122631",null,"F509-ST-2-18-mm 1354830",{"$nulls":11},"F080-ST82 Panou Spate 9.2 mm",{"$nulls":3},"F059-ST-89 43/1.5 1199282",null,"F059-ST-89 43/1.5 1199282",null,"F059-ST-89 43/1.5 1199282",null,"F433-ST-10 23/0.4 1200530",null,"F433-ST-10 23/0.4 1200530"]
["Fund",{"$nulls":3},"F061-ST-89-600-mm-1196563",null,"F061-ST-89-920-mm-1196772",null,"F081 ST82 1200 1122632",null,"F637-ST-16-18-mm 1386285",{"$nulls":11},"F081-ST82 Panou Spate 9.2 mm",{"$nulls":3},"F061-ST-89 43/1.5 1191183",null,"F061-ST-89 43/1.5 1191183",null,"F061-ST-89 43/1.5 1191183",null,"F501-ST-2 23/0.4 1194439",null,"F501-ST-2 23/0.4 1194439"]
["Schita",{"$nulls":3},"F074-ST-9-600-mm-1196602",null,"F074-ST-9-920-mm-1196785",null,"F092 ST15 1200 1196787",null,"F642-ST-16-18-mm 1386312",{"$nulls":11},"F092-ST15 Panou Spate 9.2 mm",{"$nulls":3},"F074-ST-9 43/1.5 1184578",null,"F074-ST-9 43/1.5 1184578",null,"F074-ST-9 43/1.5 1184578",null,"F509-ST-2 23/0.4 237318",null,"F509-ST-2 23/0.4 237318"]
["Traversa Dublaj",{"$nulls":3},"F076-ST-9-600-mm-1196603",null,"F076-ST-9-920-mm-1196786",null,"F093 ST15 1200 1196773",null,"F812-ST-9-18-mm 1385994",{"$nulls":11},"F093-ST15 Panou Spate 9.2 mm",{"$nulls":3},"F076-ST-9 43/1.5 1184579",null,"F076-ST-9 43/1.5 1184579",null,"F076-ST-9 43/1.5 1184579",null,"F570-ST-2 23/0.4 1195858",null,"F570-ST-2 23/0.4 1195858"]
["Dublaj",{"$nulls":3},"F080-ST-82-600-mm-1122434",null,"F080-ST-82-920-mm-1122631",null,"F094 ST15 1200 1196774",null,"H1113-ST-10-18-mm 1356221",{"$nulls":11},"F094-ST15 Panou Spate 9.2 mm",{"$nulls":3},"F080-ST-82 43/1.5 1194266",null,"F080-ST-82 43/1.5 1194266",null,"F080-ST-82 43/1.5 1194266",null,"F571-ST-2 23/0.4 1195857",null,"F571-ST-2 23/0.4 1195857"]
[{"$nulls":4},"F081-ST-82-600-mm-1122435",null,"F081-ST-82-920-mm-1122632",null,"F104 ST2 1200 720986",null,"H1115-ST-12-18-mm 1355967",{"$nulls":11},"F104-ST2 Panou Spate 9.2 mm",{"$nulls":3},"F081-ST-82 43/1.5 1194265",null,"F081-ST-82 43/1.5 1194265",null,"F081-ST-82 43/1.5 1194265",null,"F637-ST-16 23/0.4 1380751",null,"F637-ST-16 23/0.4 1380751"]
[{"$nulls":4},"F092-ST-15-600-mm-1196604",null,"F092-ST-15-920-mm-1196787",null,"F105 ST15 1200 241819",null,"H1122-ST-22-18-mm 1356029",{"$nulls":11},"F105-ST15 Panou Spate 9.2 mm",{"$nulls":3},"F092-ST-15 43/1.5 1191181",null,"F092-ST-15 43/1.5 1191181",null,"F092-ST-15 43/1.5 1191181",null,"F642-ST-16 23/0.4 1380664",null,"F642-ST-16 23/0.4 1380664"]
[{"$nulls":4},"F093-ST-15-600-mm-1196564",null,"F093-ST-15-920-mm-1196773",null,"F110 ST9 1200 1196775",null,"H1123-ST-22-18-mm 1356270",{"$nulls":11},"F110-ST9 Panou Spate 9.2 mm",{"$nulls":3},"F093-ST-15 43/1.5 1195291",null,"F093-ST-15 43/1.5 1195291",null,"F093-ST-15 43/1.5 1195291",null,"F812-ST-9 23/0.4 1380684",null,"F812-ST-9 23/0.4 1380684"]
[{"$nulls":4},"F094-ST-15-600-mm-1196565",null,"F094-ST-15-920-mm-1196774",null,"F141 ST15 1200 1196788",null,"H1137-ST-12-18-mm 1356222",{"$nulls":11},"F141-ST15 Panou Spate 9.2 mm",{"$nulls":3},"F094-ST-15 43/1.5 1195289",null,"F094-ST-15 43/1.5 1195289",null,"F094-ST-15 43/1.5 1195289",null,"H1101-ST-12 23/0.4 1200527",null,"H1101-ST-12 23/0.4 1200527"]
[{"$nulls":4},"F095-ST-87-600-mm-1430429",null,"F095-ST-87-920-mm-1430521",null,"F142 ST15 1200 1196776",null,"H1145-ST-10-18-mm 1354616",{"$nulls":11},"F142-ST15 Panou Spate 9.2 mm",{"$nulls":3},"F095-ST-87 43/1.5 1380351",null,"F095-ST-87 43/1.5 1380351",null,"F095-ST-87 43/1.5 1380351",null,"H1113-ST-10 23/0.4 1195856",null,"H1113-ST-10 23/0.4 1195856"]
[{"$nulls":4},"F104-ST-2-600-mm-538296",null,"F104-ST-2-920-mm-720986",null,"F147 ST82 1200 766527",null,"H1146-ST-10-18-mm 1354633",{"$nulls":11},"F147-ST82 Panou Spate 9.2 mm",{"$nulls":3},"F104-ST-2 43/1.5 1194333",null,"F104-ST-2 43/1.5 1194333",null,"F104-ST-2 43/1.5 1194333",null,"H1114-ST-9 23/0.4 1200655",null,"H1114-ST-9 23/0.4 1200655"]
[{"$nulls":4},"F105-ST-15-600-mm-241708",null,"F105-ST-15-920-mm-241819",null,"F148 ST82 1200 772173",null,"H1151-ST-10-18-mm 1354614",{"$nulls":11},"F148-ST82 Panou Spate 9.2 mm",{"$nulls":3},"F105-ST-15 43/1.5 1194332",null,"F105-ST-15 43/1.5 1194332",null,"F105-ST-15 43/1.5 1194332",null,"H1115-ST-12 23/0.4 1196499",null,"H1115-ST-12 23/0.4 1196499"]
[{"$nulls":4},"F110-ST-9-600-mm-1196566",null,"F110-ST-9-920-mm-1196775",null,"F160 ST9 1200 1196777",null,"H1176-ST-37-18-mm 1183000",{"$nulls":11},"F160-ST9 Panou Spate 9.2 mm",{"$nulls":3},"F110-ST-9 43/1.5 1195284",null,"F110-ST-9 43/1.5 1195284",null,"F110-ST-9 43/1.5 1195284",null,"H1116-ST-12 23/0.4 1196299",null,"H1116-ST-12 23/0.4 1196299"]
[{"$nulls":4},"F112-ST-9-600-mm-1430426",null,"F112-ST-9-920-mm-1395143",null,"F166 ST9 1200 981706",null,"H1180-ST-37-18-mm 1045290",{"$nulls":11},"F166-ST9 Panou Spate 9.2 mm",{"$nulls":3},"F112-ST-9 43/1.5 1380350",null,"F112-ST-9 43/1.5 1380350",null,"F112-ST-9 43/1.5 1380350",null,"H1122-ST-22 23/0.4 1196298",null,"H1122-ST-22 23/0.4 1196298"]
[{"$nulls":4},"F117-ST-76-600-mm-1430425",null,"F117-ST-76-920-mm-1395160",null,"F221 ST87 1200 1130689",null,"H1181-ST-37-18-mm 1063953",{"$nulls":11},"F221-ST87 Panou Spate 9.2 mm",{"$nulls":3},"F117-ST-76 43/1.5 1380349",null,"F117-ST-76 43/1.5 1380349",null,"F117-ST-76 43/1.5 1380349",null,"H1123-ST-22 23/0.4 1195855",null,"H1123-ST-22 23/0.4 1195855"]
[{"$nulls":4},"F121-ST-87-600-mm-1430424",null,"F121-ST-87-920-mm-1394938",null,"F222 ST87 1200 1122634",null,"H1199-ST-12-18-mm 1355990",{"$nulls":11},"F222-ST87 Panou Spate 9.2 mm",{"$nulls":3},"F121-ST-87 43/1.5 1380984",null,"F121-ST-87 43/1.5 1380984",null,"F121-ST-87 43/1.5 1380984",null,"H1137-ST-12 23/0.4 1195578",null,"H1137-ST-12 23/0.4 1195578"]
[{"$nulls":4},"F141-ST-15-600-mm-1196605",null,"F141-ST-15-920-mm-1196788",null,"F256 ST87 1200 1130770",null,"H1250-ST-36-18-mm 1003066",{"$nulls":11},"F256-ST87 Panou Spate 9.2 mm",{"$nulls":3},"F141-ST-15 43/1.5 1184616",null,"F141-ST-15 43/1.5 1184616",null,"F141-ST-15 43/1.5 1184616",null,"H1145-ST-10 23/0.4 1425324",null,"H1145-ST-10 23/0.4 1425324"]
[{"$nulls":4},"F142-ST-15-600-mm-1196567",null,"F142-ST-15-920-mm-1196776",null,"F274 ST9 1200 731917",null,"H1251-ST-19-18-mm 1385840",{"$nulls":11},"F274-ST9 Panou Spate 9.2 mm",{"$nulls":3},"F142-ST-15 43/1.5 1184612",null,"F142-ST-15 43/1.5 1184612",null,"F142-ST-15 43/1.5 1184612",null,"H1146-ST-10 23/0.4 1425327",null,"H1146-ST-10 23/0.4 1425327"]
[{"$nulls":4},"F147-ST-82-600-mm-755709",null,"F147-ST-82-920-mm-766527",null,"F275 ST9 1200 731918",null,"H1253-ST-19-18-mm 1385900",{"$nulls":11},"F275-ST9 Panou Spate 9.2 mm",{"$nulls":3},"F147-ST-82 43/1.5 1194337",null,"F147-ST-82 43/1.5 1194337",null,"F147-ST-82 43/1.5 1194337",null,"H1151-ST-10 23/0.4 1194079",null,"H1151-ST-10 23/0.4 1194079"]
[{"$nulls":4},"F148-ST-82-600-mm-762487",null,"F148-ST-82-920-mm-772173",null,"F292 ST9 1200 241872",null,"H1277-ST-9-18-mm 1353852",{"$nulls":11},"F292-ST9 Panou Spate 9.2 mm",{"$nulls":3},"F148-ST-82 43/1.5 1194349",null,"F148-ST-82 43/1.5 1194349",null,"F148-ST-82 43/1.5 1194349",null,"H1176-ST-37 23/0.4 1195854",null,"H1176-ST-37 23/0.4 1195854"]
[{"$nulls":4},"F160-ST-9-600-mm-1196568",null,"F160-ST-9-920-mm-1196777",null,"F302 ST87 1200 1196778",null,"H1312-ST-10-18-mm 1385892",{"$nulls":11},"F302-ST87 Panou Spate 9.2 mm",{"$nulls":3},"F160-ST-9 43/1.5 1194347",null,"F160-ST-9 43/1.5 1194347",null,"F160-ST-9 43/1.5 1194347",null,"H1180-ST-37 23/0.4 1194031",null,"H1180-ST-37 23/0.4 1194031"]
[{"$nulls":4},"F166-ST-9-600-mm-966135",null,"F166-ST-9-920-mm-981706",null,"F303 ST87 1200 1196779",null,"H1313-ST-10-18-mm 1385922",{"$nulls":11},"F303-ST87 Panou Spate 9.2 mm",{"$nulls":3},"F166-ST-9 43/1.5 1194346",null,"F166-ST-9 43/1.5 1194346",null,"F166-ST-9 43/1.5 1194346",null,"H1181-ST-37 23/0.4 1194000",null,"H1181-ST-37 23/0.4 1194000"]
[{"$nulls":4},"F186-ST-9-600-mm-1430422",null,"F186-ST-9-920-mm-1430519",null,"F310 ST87 1200 1005501",null,"H1318-ST-10-18-mm 1385914",{"$nulls":11},"F310-ST87 Panou Spate 9.2 mm",{"$nulls":3},"F186-ST-9 43/1.5 1189772",null,"F186-ST-9 43/1.5 1189772",null,"F186-ST-9 43/1.5 1189772",null,"H1199-ST-12 23/0.4 1193969",null,"H1199-ST-12 23/0.4 1193969"]
[{"$nulls":4},"F187-ST-9-600-mm-1430420",null,"F187-ST-9-920-mm-1430518",null,"F311 ST87 1200 1034454",null,"H1330-ST-10-18-mm 1385906",{"$nulls":11},"F311-ST87 Panou Spate 9.2 mm",{"$nulls":3},"F187-ST-9 43/1.5 1195275",null,"F187-ST-9 43/1.5 1195275",null,"F187-ST-9 43/1.5 1195275",null,"H1210-ST-33 23/0.4 1195883",null,"H1210-ST-33 23/0.4 1195883"]
[{"$nulls":4},"F204-ST-75-600-mm-1430418",null,"F204-ST-75-920-mm-1395087",null,"F312 ST87 1200 1122635",null,"H1334-ST-9-18-mm 1354164",{"$nulls":11},"F312-ST87 Panou Spate 9.2 mm",{"$nulls":3},"F204-ST-75 43/1.5 1381018",null,"F204-ST-75 43/1.5 1381018",null,"F204-ST-75 43/1.5 1381018",null,"H1212-ST-33 23/0.4 1195882",null,"H1212-ST-33 23/0.4 1195882"]
[{"$nulls":4},"F205-ST-9-600-mm-1430417",null,"F205-ST-9-920-mm-1395113",null,"F371 ST82 1200 772176",null,"H1344-ST-32-18-mm 1377171",{"$nulls":11},"F371-ST82 Panou Spate 9.2 mm",{"$nulls":3},"F205-ST-9 43/1.5 1381007",null,"F205-ST-9 43/1.5 1381007",null,"F205-ST-9 43/1.5 1381007",null,"H1213-ST-33 23/0.4 1195881",null,"H1213-ST-33 23/0.4 1195881"]
[{"$nulls":4},"F206-ST-9-600-mm-1430416",null,"F206-ST-9-920-mm-1395096",null,"F385 ST10 1200 249635",null,"H1345-ST-32-18-mm 1377173",{"$nulls":11},"F385-ST10 Panou Spate 9.2 mm",{"$nulls":3},"F206-ST-9 43/1.5 1380910",null,"F206-ST-9 43/1.5 1380910",null,"F206-ST-9 43/1.5 1380910",null,"H1250-ST-36 23/0.4 1193907",null,"H1250-ST-36 23/0.4 1193907"]
[{"$nulls":4},"F221-ST-87-600-mm-1123018",null,"F221-ST-87-920-mm-1130689",null,"F502 ST2 1200 659272",null,"H1346-ST-32-18-mm 1377172",{"$nulls":11},"F502-ST2 Panou Spate 9.2 mm",{"$nulls":3},"F221-ST-87 43/1.5 1090814",null,"F221-ST-87 43/1.5 1090814",null,"F221-ST-87 43/1.5 1090814",null,"H1251-ST-19 23/0.4 1381688",null,"H1251-ST-19 23/0.4 1381688"]
[{"$nulls":4},"F222-ST-87-600-mm-1122398",null,"F222-ST-87-920-mm-1122634",null,"F547 ST9 1200 1196780",null,"H1387-ST-10-18-mm 1356299",{"$nulls":11},"F547-ST9 Panou Spate 9.2 mm",{"$nulls":3},"F222-ST-87 43/1.5 1090813",null,"F222-ST-87 43/1.5 1090813",null,"F222-ST-87 43/1.5 1090813",null,"H1253-ST-19 23/0.4 1381714",null,"H1253-ST-19 23/0.4 1381714"]
[{"$nulls":4},"F242-ST-9-600-mm-1430413",null,"F242-ST-9-920-mm-1395134",null,"F638 ST16 1200 1196781",null,"H1394-ST-9-18-mm 1355139",{"$nulls":11},"F638-ST16 Panou Spate 9.2 mm",{"$nulls":3},"F242-ST-9 43/1.5 1380945",null,"F242-ST-9 43/1.5 1380945",null,"F242-ST-9 43/1.5 1380945",null,"H1277-ST-9 23/0.4 1193961",null,"H1277-ST-9 23/0.4 1193961"]
[{"$nulls":4},"F256-ST-87-600-mm-1123019",null,"F256-ST-87-920-mm-1130770",null,"F641 ST16 1200 1196782",null,"H1399-ST-10-18-mm 1354342",{"$nulls":11},"F641-ST16 Panou Spate 9.2 mm",{"$nulls":3},"F256-ST-87 43/1.5 1090812",null,"F256-ST-87 43/1.5 1090812",null,"F256-ST-87 43/1.5 1090812",null,"H1312-ST-10 23/0.4 1381632",null,"H1312-ST-10 23/0.4 1381632"]
[{"$nulls":4},"F274-ST-9-600-mm-731912",null,"F274-ST-9-920-mm-731917",null,"F649 ST16 1200 1196783",null,"H1401-ST-22-18-mm 1354715",{"$nulls":11},"F649-ST16 Panou Spate 9.2 mm",{"$nulls":3},"F274-ST-9 43/1.5 1194361",null,"F274-ST-9 43/1.5 1194361",null,"F274-ST-9 43/1.5 1194361",null,"H1313-ST-10 23/0.4 1381608",null,"H1313-ST-10 23/0.4 1381608"]
[{"$nulls":4},"F275-ST-9-600-mm-731913",null,"F275-ST-9-920-mm-731918",null,"F651 ST16 1200 1196784",null,"H1424-ST-22-18-mm 1353921",{"$nulls":11},"F651-ST16 Panou Spate 9.2 mm",{"$nulls":3},"F275-ST-9 43/1.5 1194461",null,"F275-ST-9 43/1.5 1194461",null,"F275-ST-9 43/1.5 1194461",null,"H1318-ST-10 23/0.4 1381650",null,"H1318-ST-10 23/0.4 1381650"]
[{"$nulls":4},"F292-ST-9-600-mm-204506",null,"F292-ST-9-920-mm-241872",null,"H110 ST9 1200 1196789",null,"H1486-ST-36-18-mm 1020329",{"$nulls":11},"H110-ST9 Panou Spate 9.2 mm",{"$nulls":3},"F292-ST-9 43/1.5 1194467",null,"F292-ST-9 43/1.5 1194467",null,"F292-ST-9 43/1.5 1194467",null,"H1330-ST-10 23/0.4 1381805",null,"H1330-ST-10 23/0.4 1381805"]
[{"$nulls":4},"F302-ST-87-600-mm-1196569",null,"F302-ST-87-920-mm-1196778",null,"H111 ST12 1200 1216258",null,"H1487-ST-22-18-mm 1354654",{"$nulls":11},"H111-ST12 Panou Spate 9.2 mm",{"$nulls":3},"F302-ST-87 43/1.5 1194473",null,"F302-ST-87 43/1.5 1194473",null,"F302-ST-87 43/1.5 1194473",null,"H1334-ST-9 23/0.4 1132687",null,"H1334-ST-9 23/0.4 1132687"]
[{"$nulls":4},"F303-ST-87-600-mm-1196570",null,"F303-ST-87-920-mm-1196779",null,"H1145 ST10 1200 249475",null,"H1511-ST-15-18-mm 1354590",{"$nulls":11},"H1145-ST10 Panou Spate 9.2 mm",{"$nulls":3},"F303-ST-87 43/1.5 1194491",null,"F303-ST-87 43/1.5 1194491",null,"F303-ST-87 43/1.5 1194491",null,"H1344-ST-32 23/0.4 1381823",null,"H1344-ST-32 23/0.4 1381823"]
[{"$nulls":4},"F310-ST-87-600-mm-1005458",null,"F310-ST-87-920-mm-1005501",null,"H1180 ST37 1200 1126867",null,"H1555-ST-15-18-mm 1354883",{"$nulls":11},"H1180-ST37 Panou Spate 9.6 mm",{"$nulls":3},"F310-ST-87 43/1.5 1090811",null,"F310-ST-87 43/1.5 1090811",null,"F310-ST-87 43/1.5 1090811",null,"H1345-ST-32 23/0.4 1381746",null,"H1345-ST-32 23/0.4 1381746"]
[{"$nulls":4},"F311-ST-87-600-mm-1027690",null,"F311-ST-87-920-mm-1034454",null,"H1181 ST37 1200 1126868",null,"H1582-ST-15-18-mm 1354573",{"$nulls":11},"H1181-ST37 Panou Spate 9.6 mm",{"$nulls":3},"F311-ST-87 43/1.5 1090810",null,"F311-ST-87 43/1.5 1090810",null,"F311-ST-87 43/1.5 1090810",null,"H1346-ST-32 23/0.4 1381728",null,"H1346-ST-32 23/0.4 1381728"]
[{"$nulls":4},"F312-ST-87-600-mm-1122399",null,"F312-ST-87-920-mm-1122635",null,"H1199 ST12 1200 1216256",null,"H1615-ST-9-18-mm 1354130",{"$nulls":11},"H1199-ST12 Panou Spate 9.2 mm",{"$nulls":3},"F312-ST-87 43/1.5 1090749",null,"F312-ST-87 43/1.5 1090749",null,"F312-ST-87 43/1.5 1090749",null,"H1387-ST-10 23/0.4 1195853",null,"H1387-ST-10 23/0.4 1195853"]
[{"$nulls":4},"F333-ST-76-600-mm-1430450",null,"F333-ST-76-920-mm-1395114",null,"H1401 ST22 1200 1197020",null,"H1636-ST-12-18-mm 1356234",{"$nulls":11},"H1401-ST22 Panou Spate 9.2 mm",{"$nulls":3},"F333-ST-76 43/1.5 1380923",null,"F333-ST-76 43/1.5 1380923",null,"F333-ST-76 43/1.5 1380923",null,"H1394-ST-9 23/0.4 1264507",null,"H1394-ST-9 23/0.4 1264507"]
[{"$nulls":4},"F371-ST-82-600-mm-772119",null,"F371-ST-82-920-mm-772176",null,"H148 ST10 1200 1197024",null,"H1706-ST-15-18-mm 1354598",{"$nulls":11},"H148-ST10 Panou Spate 9.2 mm",{"$nulls":3},"F371-ST-82 43/1.5 1194519",null,"F371-ST-82 43/1.5 1194519",null,"F371-ST-82 43/1.5 1194519",null,"H1399-ST-10 23/0.4 1193836",null,"H1399-ST-10 23/0.4 1193836"]
[{"$nulls":4},"F371-ST-89-600-mm-1430449",null,"F371-ST-89-920-mm-1395104",null,"H2415 ST10 1200 1197021",null,"H1710-ST-10-18-mm 1385760",{"$nulls":11},"H2415-ST10 Panou Spate 9.2 mm",{"$nulls":3},"F371-ST-89 43/1.5 1415211",null,"F371-ST-89 43/1.5 1415211",null,"F371-ST-89 43/1.5 1415211",null,"H1400-ST-36 23/0.4 1196498",null,"H1400-ST-36 23/0.4 1196498"]
[{"$nulls":4},"F385-ST-10-600-mm-249736",null,"F385-ST-10-920-mm-249635",null,"H3133 ST12 1200 1216257",null,"H1714-ST-19-18-mm 1385815",{"$nulls":11},"H3133-ST12 Panou Spate 9.2 mm",{"$nulls":3},"F385-ST-10 43/1.5 1194579",null,"F385-ST-10 43/1.5 1194579",null,"F385-ST-10 43/1.5 1194579",null,"H1401-ST-22 23/0.4 1193835",null,"H1401-ST-22 23/0.4 1193835"]
[{"$nulls":4},"F484-ST-87-600-mm-1430446",null,"F484-ST-87-920-mm-1394988",null,"H3303 ST10 1200 249477",null,"H1733-ST-9-18-mm 1354096",{"$nulls":11},"H3303-ST10 Panou Spate 9.2 mm",{"$nulls":3},"F484-ST-87 43/1.5 1381071",null,"F484-ST-87 43/1.5 1381071",null,"F484-ST-87 43/1.5 1381071",null,"H1424-ST-22 23/0.4 1193819",null,"H1424-ST-22 23/0.4 1193819"]
[{"$nulls":4},"F502-ST-2-600-mm-570031",null,"F502-ST-2-920-mm-659272",null,"H3309 ST28 1200 1126869",null,"H2033-ST-10-18-mm 1385809",{"$nulls":11},"H3309-ST28 Panou Spate 9.6 mm",{"$nulls":3},"F502-ST-2 43/1.5 1199883",null,"F502-ST-2 43/1.5 1199883",null,"F502-ST-2 43/1.5 1199883",null,"H1444-ST-9 23/0.4 1195852",null,"H1444-ST-9 23/0.4 1195852"]
[{"$nulls":4},"F508-ST-10-600-mm-1430440",null,"F508-ST-10-920-mm-1395161",null,"H3325 ST28 1200 1126910",null,"H3006-ST-22-18-mm 1353929",{"$nulls":11},"H3325-ST28 Panou Spate 9.6 mm",{"$nulls":3},"F508-ST-10 43/1.5 1380736",null,"F508-ST-10 43/1.5 1380736",null,"F508-ST-10 43/1.5 1380736",null,"H1486-ST-36 23/0.4 1193790",null,"H1486-ST-36 23/0.4 1193790"]
[{"$nulls":4},"F547-ST-9-600-mm-1196571",null,"F547-ST-9-920-mm-1196780",null,"H3331 ST10 1200 262449",null,"H3012-ST-22-18-mm 1354475",{"$nulls":11},"H3331-ST10 Panou Spate 9.2 mm",{"$nulls":3},"F547-ST-9 43/1.5 1199255",null,"F547-ST-9 43/1.5 1199255",null,"F547-ST-9 43/1.5 1199255",null,"H1487-ST-22 23/0.4 1193687",null,"H1487-ST-22 23/0.4 1193687"]
[{"$nulls":4},"F637-ST-16-600-mm-1430439",null,"F637-ST-16-920-mm-1430509",null,"H3332 ST10 1200 249512",null,"H3058-ST-22-18-mm 1354245",{"$nulls":11},"H3332-ST10 Panou Spate 9.2 mm",{"$nulls":3},"F637-ST-16 43/1.5 1380679",null,"F637-ST-16 43/1.5 1380679",null,"F637-ST-16 43/1.5 1380679",null,"H1511-ST-15 23/0.4 1193676",null,"H1511-ST-15 23/0.4 1193676"]
[{"$nulls":4},"F638-ST-16-600-mm-1196572",null,"F638-ST-16-920-mm-1196781",null,"H3702 ST10 1200 1197022",null,"H3090-ST-22-18-mm 1354531",{"$nulls":11},"H3702-ST10 Panou Spate 9.2 mm",{"$nulls":3},"F812-ST-9 43/1.5 1380847",null,"F812-ST-9 43/1.5 1380847",null,"F812-ST-9 43/1.5 1380847",null,"H1555-ST-15 23/0.4 1264559",null,"H1555-ST-15 23/0.4 1264559"]
[{"$nulls":4},"F641-ST-16-600-mm-1196583",null,"F641-ST-16-920-mm-1196782",null,"H3704 ST15 1200 813730",null,"H3131-ST-12-18-mm 1355985",{"$nulls":11},"H3704-ST15 Panou Spate 9.2 mm",{"$nulls":3},"H050-ST-9 43/1.5 1382050",null,"H050-ST-9 43/1.5 1382050",null,"H050-ST-9 43/1.5 1382050",null,"H1582-ST-15 23/0.4 237317",null,"H1582-ST-15 23/0.4 237317"]
[{"$nulls":4},"F649-ST-16-600-mm-1196592",null,"F649-ST-16-920-mm-1196783",null,"H3860 ST9 1200 1197023",null,"H3133-ST-12-18-mm 1355982",{"$nulls":11},"H3860-ST9 Panou Spate 9.2 mm",{"$nulls":3},"H110-ST-9 43/1.5 1194260",null,"H110-ST-9 43/1.5 1194260",null,"H110-ST-9 43/1.5 1194260",null,"H1599-ST-15 23/0.4 961389",null,"H1599-ST-15 23/0.4 961389"]
[{"$nulls":4},"F651-ST-16-600-mm-1196601",null,"F651-ST-16-920-mm-1196784",null,"U702 ST89 1200 1197790",null,"H3146-ST-19-18-mm 1385785",{"$nulls":11},"U702-ST89 Panou Spate 9.2 mm",{"$nulls":3},"H111-ST-12 43/1.5 1194247",null,"H111-ST-12 43/1.5 1194247",null,"H111-ST-12 43/1.5 1194247",null,"H1615-ST-9 23/0.4 1193634",null,"H1615-ST-9 23/0.4 1193634"]
[{"$nulls":4},"F812-ST-9-600-mm-1430437",null,"F812-ST-9-920-mm-1430508",null,"U763 ST76 1200 1197025",null,"H3154-ST-36-18-mm 1178726",{"$nulls":11},"U763-ST76 Panou Spate 9.2 mm",{"$nulls":3},"H1145-ST-10 43/1.5 1090748",null,"H1145-ST-10 43/1.5 1090748",null,"H1145-ST-10 43/1.5 1090748",null,"H1636-ST-12 23/0.4 1196497",null,"H1636-ST-12 23/0.4 1196497"]
[{"$nulls":4},"H050-ST-9-600-mm-1430472",null,"H050-ST-9-920-mm-1430542",null,"U960 ST76 1200 1197026",null,"H3156-ST-12-18-mm 1355978",{"$nulls":11},"U960-ST76 Panou Spate 9.2 mm",{"$nulls":3},"H1176-ST-37 43/1.5 1382005",null,"H1176-ST-37 43/1.5 1382005",null,"H1176-ST-37 43/1.5 1382005",null,"H1706-ST-15 23/0.4 1265500",null,"H1706-ST-15 23/0.4 1265500"]
[{"$nulls":4},"H110-ST-9-600-mm-1196606",null,"H110-ST-9-920-mm-1196789",null,"U999 ST89 1200 1130373",null,"H3157-ST-12-18-mm 1356038",{"$nulls":11},"U999-ST89 Panou Spate 9.2 mm",{"$nulls":3},"H1180-ST-37 43/1.5 1090746",null,"H1180-ST-37 43/1.5 1090746",null,"H1180-ST-37 43/1.5 1090746",null,"H1709-ST-15 23/0.4 1265507",null,"H1709-ST-15 23/0.4 1265507"]
[{"$nulls":4},"H111-ST-12-600-mm-1199864",null,"H111-ST-12-920-mm-1216258",null,"W1000 ST76 1200 1197027",null,"H3170-ST-12-18-mm 1355975",{"$nulls":11},"W1000-ST76 Panou Spate 9.2 mm",{"$nulls":3},"H1181-ST-37 43/1.5 1090745",null,"H1181-ST-37 43/1.5 1090745",null,"H1181-ST-37 43/1.5 1090745",null,"H1710-ST-10 23/0.4 1380447",null,"H1710-ST-10 23/0.4 1380447"]
[{"$nulls":4},"H1145-ST-10-600-mm-249422",null,"H1145-ST-10-920-mm-249475",null,"W1000 ST89 1200 1130374",null,"H3176-ST-37-18-mm 1377185",{"$nulls":11},"W1000-ST89 Panou Spate 9.2 mm",{"$nulls":3},"H1199-ST-12 43/1.5 1193977",null,"H1199-ST-12 43/1.5 1193977",null,"H1199-ST-12 43/1.5 1193977",null,"H1714-ST-19 23/0.4 1380428",null,"H1714-ST-19 23/0.4 1380428"]
[{"$nulls":4},"H1176-ST-37-600-mm-1436036",null,"H1176-ST-37-920-mm-1406523",{"$nulls":3},"H3178-ST-37-18-mm 1377188",{"$nulls":15},"H1313-ST-10 43/1.5 1381657",null,"H1313-ST-10 43/1.5 1381657",null,"H1313-ST-10 43/1.5 1381657",null,"H1733-ST-9 23/0.4 1193614",null,"H1733-ST-9 23/0.4 1193614"]
[{"$nulls":4},"H1180-ST-37-600-mm-1130268",null,"H1180-ST-37-920-mm-1126867",{"$nulls":3},"H3190-ST-19-18-mm 1386089",{"$nulls":15},"H1318-ST-10 43/1.5 1381638",null,"H1318-ST-10 43/1.5 1381638",null,"H1318-ST-10 43/1.5 1381638",null,"H2033-ST-10 23/0.4 1380465",null,"H2033-ST-10 23/0.4 1380465"]
[{"$nulls":4},"H1181-ST-37-600-mm-1130269",null,"H1181-ST-37-920-mm-1126868",{"$nulls":3},"H3192-ST-19-18-mm 1386081",{"$nulls":15},"H1344-ST-32 43/1.5 1381811",null,"H1344-ST-32 43/1.5 1381811",null,"H1344-ST-32 43/1.5 1381811",null,"H3006-ST-22 23/0.4 1193551",null,"H3006-ST-22 23/0.4 1193551"]
[{"$nulls":4},"H1199-ST-12-600-mm-1199863",null,"H1199-ST-12-920-mm-1216256",{"$nulls":3},"H3303-ST-10-18-mm 1354613",{"$nulls":15},"H1401-ST-22 43/1.5 1193849",null,"H1401-ST-22 43/1.5 1193849",null,"H1401-ST-22 43/1.5 1193849",null,"H3012-ST-22 23/0.4 1193550",null,"H3012-ST-22 23/0.4 1193550"]
[{"$nulls":4},"H1313-ST-10-600-mm-1430507",null,"H1313-ST-10-920-mm-1395137",{"$nulls":3},"H3309-ST-28-18-mm 318968",{"$nulls":15},"H1486-ST-36 43/1.5 1380493",null,"H1486-ST-36 43/1.5 1380493",null,"H1486-ST-36 43/1.5 1380493",null,"H3047-ST-10 23/0.4 1195752",null,"H3047-ST-10 23/0.4 1195752"]
[{"$nulls":4},"H1318-ST-10-600-mm-1430506",null,"H1318-ST-10-920-mm-1395214",{"$nulls":3},"H3325-ST-28-18-mm 302745",{"$nulls":15},"H148-ST-10 43/1.5 1191865",null,"H148-ST-10 43/1.5 1191865",null,"H148-ST-10 43/1.5 1191865",null,"H3048-ST-10 23/0.4 1195751",null,"H3048-ST-10 23/0.4 1195751"]
[{"$nulls":4},"H1344-ST-32-600-mm-1435949",null,"H1344-ST-32-920-mm-1398575",{"$nulls":3},"H3326-ST-28-18-mm 312950",{"$nulls":15},"H193-ST-12 43/1.5 1384740",null,"H193-ST-12 43/1.5 1384740",null,"H193-ST-12 43/1.5 1384740",null,"H3058-ST-22 23/0.4 1193496",null,"H3058-ST-22 23/0.4 1193496"]
[{"$nulls":4},"H1401-ST-22-600-mm-1196607",null,"H1401-ST-22-920-mm-1197020",{"$nulls":3},"H3330-ST-36-18-mm 1377184",{"$nulls":15},"H194-ST-12 43/1.5 1384741",null,"H194-ST-12 43/1.5 1384741",null,"H194-ST-12 43/1.5 1384741",null,"H3080-ST-15 23/0.4 1193478",null,"H3080-ST-15 23/0.4 1193478"]
[{"$nulls":4},"H1486-ST-36-600-mm-1430503",null,"H1486-ST-36-920-mm-1430535",{"$nulls":3},"H3331-ST-10-18-mm 1354674",{"$nulls":15},"H195-ST-10 43/1.5 1384698",null,"H195-ST-10 43/1.5 1384698",null,"H195-ST-10 43/1.5 1384698",null,"H3081-ST-22 23/0.4 1193470",null,"H3081-ST-22 23/0.4 1193470"]
[{"$nulls":4},"H148-ST-10-600-mm-1196611",null,"H148-ST-10-920-mm-1197024",{"$nulls":3},"H3395-ST-12-18-mm 1355972",{"$nulls":15},"H197-ST-10 43/1.5 1384699",null,"H197-ST-10 43/1.5 1384699",null,"H197-ST-10 43/1.5 1384699",null,"H3090-ST-22 23/0.4 1193454",null,"H3090-ST-22 23/0.4 1193454"]
[{"$nulls":4},"H193-ST-12-600-mm-1430470",null,"H193-ST-12-920-mm-1397052",{"$nulls":3},"H3398-ST-12-18-mm 1356247",{"$nulls":15},"H198-ST-10 43/1.5 1384696",null,"H198-ST-10 43/1.5 1384696",null,"H198-ST-10 43/1.5 1384696",null,"H3113-ST-15 23/0.4 1193444",null,"H3113-ST-15 23/0.4 1193444"]
[{"$nulls":4},"H194-ST-12-600-mm-1430469",null,"H194-ST-12-920-mm-1396995",{"$nulls":3},"H3408-ST-38-18-mm 1377189",{"$nulls":15},"H2031-ST-10 43/1.5 1380470",null,"H2031-ST-10 43/1.5 1380470",null,"H2031-ST-10 43/1.5 1380470",null,"H3114-ST-9 23/0.4 1193425",null,"H3114-ST-9 23/0.4 1193425"]
[{"$nulls":4},"H195-ST-10-600-mm-1430468",null,"H195-ST-10-920-mm-1397043",{"$nulls":3},"H3430-ST-22-18-mm 1354301",{"$nulls":15},"H2032-ST-10 43/1.5 1380469",null,"H2032-ST-10 43/1.5 1380469",null,"H2032-ST-10 43/1.5 1380469",null,"H3131-ST-12 23/0.4 1196496",null,"H3131-ST-12 23/0.4 1196496"]
[{"$nulls":4},"H197-ST-10-600-mm-1430467",null,"H197-ST-10-920-mm-1396979",{"$nulls":3},"H3433-ST-22-18-mm 1354360",{"$nulls":15},"H2033-ST-10 43/1.5 1380452",null,"H2033-ST-10 43/1.5 1380452",null,"H2033-ST-10 43/1.5 1380452",null,"H3133-ST-12 23/0.4 1195799",null,"H3133-ST-12 23/0.4 1195799"]
[{"$nulls":4},"H198-ST-10-600-mm-1430466",null,"H198-ST-10-920-mm-1397033",{"$nulls":3},"H3450-ST-22-18-mm 1354332",{"$nulls":15},"H2415-ST-10 43/1.5 1184611",null,"H2415-ST-10 43/1.5 1184611",null,"H2415-ST-10 43/1.5 1184611",null,"H3146-ST-19 23/0.4 1380654",null,"H3146-ST-19 23/0.4 1380654"]
[{"$nulls":4},"H2031-ST-10-600-mm-1430500",null,"H2031-ST-10-920-mm-1430533",{"$nulls":3},"H3451-ST-22-18-mm 1354335",{"$nulls":15},"H3133-ST-12 43/1.5 1195092",null,"H3133-ST-12 43/1.5 1195092",null,"H3133-ST-12 43/1.5 1195092",null,"H3154-ST-36 23/0.4 1195798",null,"H3154-ST-36 23/0.4 1195798"]
[{"$nulls":4},"H2032-ST-10-600-mm-1430499",null,"H2032-ST-10-920-mm-1430532",{"$nulls":3},"H3453-ST-22-18-mm 1354331",{"$nulls":15},"H3176-ST-37 43/1.5 1380581",null,"H3176-ST-37 43/1.5 1380581",null,"H3176-ST-37 43/1.5 1380581",null,"H3156-ST-12 23/0.4 1196494",null,"H3156-ST-12 23/0.4 1196494"]
[{"$nulls":4},"H2033-ST-10-600-mm-1430498",null,"H2033-ST-10-920-mm-1430531",{"$nulls":3},"H3700-ST-10-18-mm 1354952",{"$nulls":15},"H3303-ST-10 43/1.5 1090744",null,"H3303-ST-10 43/1.5 1090744",null,"H3303-ST-10 43/1.5 1090744",null,"H3157-ST-12 23/0.4 1199300",null,"H3157-ST-12 23/0.4 1199300"]
[{"$nulls":4},"H2415-ST-10-600-mm-1196608",null,"H2415-ST-10-920-mm-1197021",{"$nulls":3},"H3702-ST-10-18-mm 1354619",{"$nulls":15},"H3309-ST-28 43/1.5 1090743",null,"H3309-ST-28 43/1.5 1090743",null,"H3309-ST-28 43/1.5 1090743",null,"H3170-ST-12 23/0.4 1195796",null,"H3170-ST-12 23/0.4 1195796"]
[{"$nulls":4},"H3133-ST-12-600-mm-1199862",null,"H3133-ST-12-920-mm-1216257",{"$nulls":3},"H3704-ST-15-18-mm 1353880",{"$nulls":15},"H3325-ST-28 43/1.5 1090742",null,"H3325-ST-28 43/1.5 1090742",null,"H3325-ST-28 43/1.5 1090742",null,"H3176-ST-37 23/0.4 1380594",null,"H3176-ST-37 23/0.4 1380594"]
[{"$nulls":4},"H3176-ST-37-600-mm-1436050",null,"H3176-ST-37-920-mm-1397893",{"$nulls":3},"H3710-ST-12-18-mm 1385966",{"$nulls":15},"H3330-ST-36 43/1.5 1380207",null,"H3330-ST-36 43/1.5 1380207",null,"H3330-ST-36 43/1.5 1380207",null,"H3178-ST-37 23/0.4 1380574",null,"H3178-ST-37 23/0.4 1380574"]
[{"$nulls":4},"H3303-ST-10-600-mm-249427",null,"H3303-ST-10-920-mm-249477",{"$nulls":3},"H3730-ST-10-18-mm 1354341",{"$nulls":15},"H3331-ST-10 43/1.5 1193077",null,"H3331-ST-10 43/1.5 1193077",null,"H3331-ST-10 43/1.5 1193077",null,"H3190-ST-19 23/0.4 1380268",null,"H3190-ST-19 23/0.4 1380268"]
[{"$nulls":4},"H3309-ST-28-600-mm-1130290",null,"H3309-ST-28-920-mm-1126869",{"$nulls":3},"H3734-ST-9-18-mm 1354001",{"$nulls":15},"H3332-ST-10 43/1.5 1090741",null,"H3332-ST-10 43/1.5 1090741",null,"H3332-ST-10 43/1.5 1090741",null,"H3192-ST-19 23/0.4 1380251",null,"H3192-ST-19 23/0.4 1380251"]
[{"$nulls":4},"H3325-ST-28-600-mm-1130291",null,"H3325-ST-28-920-mm-1126910",{"$nulls":3},"H3840-ST-9-18-mm 1354535",{"$nulls":15},"H3702-ST-10 43/1.5 1192285",null,"H3702-ST-10 43/1.5 1192285",null,"H3702-ST-10 43/1.5 1192285",null,"H3303-ST-10 23/0.4 1425360",null,"H3303-ST-10 23/0.4 1425360"]
[{"$nulls":4},"H3330-ST-36-600-mm-1430493",null,"H3330-ST-36-920-mm-1395243",{"$nulls":3},"H3860-ST-9-18-mm 1356294",{"$nulls":15},"H3704-ST-15 43/1.5 1192273",null,"H3704-ST-15 43/1.5 1192273",null,"H3704-ST-15 43/1.5 1192273",null,"H3309-ST-28 23/0.4 1050496",null,"H3309-ST-28 23/0.4 1050496"]
[{"$nulls":4},"H3331-ST-10-600-mm-253730",null,"H3331-ST-10-920-mm-262449",{"$nulls":3},"U104-ST-9-18-mm 1354502",{"$nulls":15},"H3730-ST-10 43/1.5 1380311",null,"H3730-ST-10 43/1.5 1380311",null,"H3730-ST-10 43/1.5 1380311",null,"H3325-ST-28 23/0.4 1193184",null,"H3325-ST-28 23/0.4 1193184"]
[{"$nulls":4},"H3332-ST-10-600-mm-249472",null,"H3332-ST-10-920-mm-249512",{"$nulls":3},"U108-ST-9-18-mm 1356030",{"$nulls":15},"H3860-ST-9 43/1.5 1192145",null,"H3860-ST-9 43/1.5 1192145",null,"H3860-ST-9 43/1.5 1192145",null,"H3326-ST-28 23/0.4 1193106",null,"H3326-ST-28 23/0.4 1193106"]
[{"$nulls":4},"H3702-ST-10-600-mm-1196609",null,"H3702-ST-10-920-mm-1197022",{"$nulls":3},"U113-ST-9-18-mm 1354485",{"$nulls":15},"Q1180-RO 43/1.5 1189589",null,"Q1180-RO 43/1.5 1189589",null,"Q1180-RO 43/1.5 1189589",null,"H3330-ST-36 23/0.4 1380219",null,"H3330-ST-36 23/0.4 1380219"]
[{"$nulls":4},"H3704-ST-15-600-mm-809629",null,"H3704-ST-15-920-mm-813730",{"$nulls":3},"U114-ST-9-18-mm 1353971",{"$nulls":15},"Q1181-RO 43/1.5 1090745",null,"Q1181-RO 43/1.5 1090745",null,"Q1181-RO 43/1.5 1090745",null,"H3331-ST-10 23/0.4 1193078",null,"H3331-ST-10 23/0.4 1193078"]
[{"$nulls":4},"H3730-ST-10-600-mm-1430490",null,"H3730-ST-10-920-mm-1430526",{"$nulls":3},"U131-ST-9-18-mm 1356216",{"$nulls":15},"Q3325-RO 43/1.5 1090742",null,"Q3325-RO 43/1.5 1090742",null,"Q3325-RO 43/1.5 1090742",null,"H3342-ST-28 23/0.4 1193044",null,"H3342-ST-28 23/0.4 1193044"]
[{"$nulls":4},"H3860-ST-9-600-mm-1196610",null,"H3860-ST-9-920-mm-1197023",{"$nulls":3},"U156-ST-9-18-mm 1354103",{"$nulls":15},"Q3326-RO 43/1.5 1380281",null,"Q3326-RO 43/1.5 1380281",null,"Q3326-RO 43/1.5 1380281",null,"H3395-ST-12 23/0.4 1196493",null,"H3395-ST-12 23/0.4 1196493"]
[{"$nulls":4},"U702-ST-89-600-mm-1197719",null,"U702-ST-89-920-mm-1197790",{"$nulls":3},"U200-ST-9-18-mm 1356274",{"$nulls":15},"U702-ST-89 43/1.5 1090819",null,"U702-ST-89 43/1.5 1090819",null,"U702-ST-89 43/1.5 1090819",null,"H3398-ST-12 23/0.4 1196492",null,"H3398-ST-12 23/0.4 1196492"]
[{"$nulls":4},"U763-ST-76-600-mm-1196612",null,"U763-ST-76-920-mm-1197025",{"$nulls":3},"U201-ST-19-18-mm 1386459",{"$nulls":15},"U763-ST-76 43/1.5 1189864",null,"U763-ST-76 43/1.5 1189864",null,"U763-ST-76 43/1.5 1189864",null,"H3408-ST-38 23/0.4 1380387",null,"H3408-ST-38 23/0.4 1380387"]
[{"$nulls":4},"U960-ST-76-600-mm-1196613",null,"U960-ST-76-920-mm-1197026",{"$nulls":3},"U201-ST-9-18-mm 1356250",{"$nulls":15},"U960-ST-76 43/1.5 1194682",null,"U960-ST-76 43/1.5 1194682",null,"U960-ST-76 43/1.5 1194682",null,"H3430-ST-22 23/0.4 1192540",null,"H3430-ST-22 23/0.4 1192540"]
[{"$nulls":4},"U999-ST-89-600-mm-1123016",null,"U999-ST-89-920-mm-1130373",{"$nulls":3},"U216-ST-9-18-mm 1354261",{"$nulls":15},"U999-ST-89 43/1.5 1090640",null,"U999-ST-89 43/1.5 1090640",null,"U999-ST-89 43/1.5 1090640",null,"H3433-ST-22 23/0.4 1195022",null,"H3433-ST-22 23/0.4 1195022"]
[{"$nulls":4},"W1000-ST-76-600-mm-1196614",null,"W1000-ST-76-920-mm-1197027",{"$nulls":3},"U222-ST-9-18-mm 1354533",{"$nulls":15},"W1000-ST-76 43/1.5 1194681",null,"W1000-ST-76 43/1.5 1194681",null,"W1000-ST-76 43/1.5 1194681",null,"H3450-ST-22 23/0.4 1192499",null,"H3450-ST-22 23/0.4 1192499"]
[{"$nulls":4},"W1000-ST-89-600-mm-1123017",null,"W1000-ST-89-920-mm-1197027",{"$nulls":3},"U311-ST-9-18-mm 1354520",{"$nulls":15},"W1000-ST-89 43/1.5 1090641",null,"W1000-ST-89 43/1.5 1090641",null,"W1000-ST-89 43/1.5 1090641",null,"H3451-ST-22 23/0.4 1192498",null,"H3451-ST-22 23/0.4 1192498"]
[{"$nulls":10},"U321-ST-9-18-mm 1356203",{"$nulls":15},"F186-ST-9 43/2 1197294",null,"F186-ST-9 43/2 1197294",null,"F186-ST-9 43/2 1197294",null,"H3453-ST-22 23/0.4 1192302",null,"H3453-ST-22 23/0.4 1192302"]
[{"$nulls":10},"U323-ST-9-18-mm 1356202",{"$nulls":15},"F187-ST-9 43/2 1380959",null,"F187-ST-9 43/2 1380959",null,"F187-ST-9 43/2 1380959",null,"H3700-ST-10 23/0.4 1192298",null,"H3700-ST-10 23/0.4 1192298"]
[{"$nulls":10},"U325-ST-9-18-mm 1386444",{"$nulls":15},"F204-ST-9 43/2 1381022",null,"F204-ST-9 43/2 1381022",null,"F204-ST-9 43/2 1381022",null,"H3702-ST-10 23/0.4 1192286",null,"H3702-ST-10 23/0.4 1192286"]
[{"$nulls":10},"U332-ST-9-18-mm 1356201",{"$nulls":15},"F206-ST-9 43/2 1380911",null,"F206-ST-9 43/2 1380911",null,"F206-ST-9 43/2 1380911",null,"H3704-ST-15 23/0.4 1192267",null,"H3704-ST-15 23/0.4 1192267"]
[{"$nulls":10},"U337-ST-9-18-mm 1354649",{"$nulls":15},"F302-ST-87 43/2 1380936",null,"F302-ST-87 43/2 1380936",null,"F302-ST-87 43/2 1380936",null,"H3710-ST-12 23/0.4 1380331",null,"H3710-ST-12 23/0.4 1380331"]
[{"$nulls":10},"U363-ST-9-18-mm 1356228",{"$nulls":15},"F416-ST-10 43/2 1381088",null,"F416-ST-10 43/2 1381088",null,"F416-ST-10 43/2 1381088",null,"H3711-ST-9 23/0.4 1192237",null,"H3711-ST-9 23/0.4 1192237"]
[{"$nulls":10},"U504-ST-9-18-mm 1354315",{"$nulls":15},"F425-ST-10 43/2 1194526",null,"F425-ST-10 43/2 1194526",null,"F425-ST-10 43/2 1194526",null,"H3730-ST-10 23/0.4 1192236",null,"H3730-ST-10 23/0.4 1192236"]
[{"$nulls":10},"U522-ST-9-18-mm 1354782",{"$nulls":15},"F433-ST-10 43/2 1196922",null,"F433-ST-10 43/2 1196922",null,"F433-ST-10 43/2 1196922",null,"H3732-ST-10 23/0.4 1192224",null,"H3732-ST-10 23/0.4 1192224"]
[{"$nulls":10},"U525-ST-9-18-mm 1356002",{"$nulls":15},"F501-ST-2 43/2 1194444",null,"F501-ST-2 43/2 1194444",null,"F501-ST-2 43/2 1194444",null,"H3734-ST-9 23/0.4 1192210",null,"H3734-ST-9 23/0.4 1192210"]
[{"$nulls":10},"U600-ST-9-18-mm 1387014",{"$nulls":15},"F509-ST-2 43/2 1194432",null,"F509-ST-2 43/2 1194432",null,"F509-ST-2 43/2 1194432",null,"H3773-ST-9 23/0.4 1195811",null,"H3773-ST-9 23/0.4 1195811"]
[{"$nulls":10},"U626-ST-9-18-mm 1354740",{"$nulls":15},"F570-ST-2 43/2 1194420",null,"F570-ST-2 43/2 1194420",null,"F570-ST-2 43/2 1194420",null,"H3840-ST-9 23/0.4 1192171",null,"H3840-ST-9 23/0.4 1192171"]
[{"$nulls":10},"U630-ST-9-18-mm 1356208",{"$nulls":15},"F571-ST-2 43/2 1194398",null,"F571-ST-2 43/2 1194398",null,"F571-ST-2 43/2 1194398",null,"H3860-ST-9 23/0.4 1195810",null,"H3860-ST-9 23/0.4 1195810"]
[{"$nulls":10},"U702-ST-9-18-mm 1354689",{"$nulls":15},"F637-ST-16 43/2 1380682",null,"F637-ST-16 43/2 1380682",null,"F637-ST-16 43/2 1380682",null,"H3991-ST-10 23/0.4 1196488",null,"H3991-ST-10 23/0.4 1196488"]
[{"$nulls":10},"U707-ST-9-18-mm 1354282",{"$nulls":15},"F812-ST-9 43/2 1380850",null,"F812-ST-9 43/2 1380850",null,"F812-ST-9 43/2 1380850",null,"U104-ST-9 23/0.4 1195021",null,"U104-ST-9 23/0.4 1195021"]
[{"$nulls":10},"U708-ST-9-18-mm 1354162",{"$nulls":15},"H1101-ST-12 43/2 1196921",null,"H1101-ST-12 43/2 1196921",null,"H1101-ST-12 43/2 1196921",null,"U108-ST-9 23/0.4 1195008",null,"U108-ST-9 23/0.4 1195008"]
[{"$nulls":10},"U727-ST-9-18-mm 1354229",{"$nulls":15},"H1113-ST-10 43/2 1194235",null,"H1113-ST-10 43/2 1194235",null,"H1113-ST-10 43/2 1194235",null,"U113-ST-9 23/0.4 1194999",null,"U113-ST-9 23/0.4 1194999"]
[{"$nulls":10},"U732-ST-9-18-mm 1353866",{"$nulls":15},"H1114-ST-9 43/2 1200400",null,"H1114-ST-9 43/2 1200400",null,"H1114-ST-9 43/2 1200400",null,"U114-ST-9 23/0.4 1194990",null,"U114-ST-9 23/0.4 1194990"]
[{"$nulls":10},"U741-ST-9-18-mm 1354511",{"$nulls":15},"H1115-ST-12 43/2 1197287",null,"H1115-ST-12 43/2 1197287",null,"H1115-ST-12 43/2 1197287",null,"U131-ST-9 23/0.4 1198907",null,"U131-ST-9 23/0.4 1198907"]
[{"$nulls":10},"U748-ST-9-18-mm 1354186",{"$nulls":15},"H1116-ST-12 43/2 1197286",null,"H1116-ST-12 43/2 1197286",null,"H1116-ST-12 43/2 1197286",null,"U156-ST-9 23/0.4 1159154",null,"U156-ST-9 23/0.4 1159154"]
[{"$nulls":10},"U750-ST-9-18-mm 1355118",{"$nulls":15},"H1122-ST-22 43/2 1197285",null,"H1122-ST-22 43/2 1197285",null,"H1122-ST-22 43/2 1197285",null,"U200-ST-9 23/0.4 1198906",null,"U200-ST-9 23/0.4 1198906"]
[{"$nulls":10},"U763-ST-9-18-mm 1353956",{"$nulls":15},"H1123-ST-22 43/2 1194231",null,"H1123-ST-22 43/2 1194231",null,"H1123-ST-22 43/2 1194231",null,"U201-ST-19 23/0.4 1381560",null,"U201-ST-19 23/0.4 1381560"]
[{"$nulls":10},"U767-ST-9-18-mm 1356241",{"$nulls":15},"H1137-ST-12 43/2 1197283",null,"H1137-ST-12 43/2 1197283",null,"H1137-ST-12 43/2 1197283",null,"U201-ST-9 23/0.4 1194975",null,"U201-ST-9 23/0.4 1194975"]
[{"$nulls":10},"U775-ST-9-18-mm 1354887",{"$nulls":15},"H1145-ST-10 43/2 1194210",null,"H1145-ST-10 43/2 1194210",null,"H1145-ST-10 43/2 1194210",null,"U216-ST-9 23/0.4 1194968",null,"U216-ST-9 23/0.4 1194968"]
[{"$nulls":10},"U780-ST-9-18-mm 1386852",{"$nulls":15},"H1146-ST-10 43/2 1194091",null,"H1146-ST-10 43/2 1194091",null,"H1146-ST-10 43/2 1194091",null,"U222-ST-9 23/0.4 1195228",null,"U222-ST-9 23/0.4 1195228"]
[{"$nulls":10},"U788-ST-9-18-mm 1354316",{"$nulls":15},"H1151-ST-10 43/2 1382011",null,"H1151-ST-10 43/2 1382011",null,"H1151-ST-10 43/2 1382011",null,"U311-ST-9 23/0.4 1194860",null,"U311-ST-9 23/0.4 1194860"]
[{"$nulls":10},"U818-ST-9-18-mm 1356408",{"$nulls":15},"H1176-ST-37 43/2 1194067",null,"H1176-ST-37 43/2 1194067",null,"H1176-ST-37 43/2 1194067",null,"U321-ST-9 23/0.4 1194851",null,"U321-ST-9 23/0.4 1194851"]
[{"$nulls":10},"U830-ST-9-18-mm 1386790",{"$nulls":15},"H1180-ST-37 43/2 1194056",null,"H1180-ST-37 43/2 1194056",null,"H1180-ST-37 43/2 1194056",null,"U323-ST-9 23/0.4 1194841",null,"U323-ST-9 23/0.4 1194841"]
[{"$nulls":10},"U899-ST-9-18-mm 1354274",{"$nulls":15},"H1181-ST-37 43/2 1381997",null,"H1181-ST-37 43/2 1381997",null,"H1181-ST-37 43/2 1381997",null,"U325-ST-9 23/0.4 1381498",null,"U325-ST-9 23/0.4 1381498"]
[{"$nulls":10},"U960-ST-9-18-mm 1354221",{"$nulls":15},"H1199-ST-12 43/2 1193979",null,"H1199-ST-12 43/2 1193979",null,"H1199-ST-12 43/2 1193979",null,"U332-ST-9 23/0.4 1194832",null,"U332-ST-9 23/0.4 1194832"]
[{"$nulls":10},"U961-ST-19-18-mm 1386808",{"$nulls":15},"H1210-ST-33 43/2 1381988",null,"H1210-ST-33 43/2 1381988",null,"H1210-ST-33 43/2 1381988",null,"U337-ST-9 23/0.4 1191932",null,"U337-ST-9 23/0.4 1191932"]
[{"$nulls":10},"U961-ST-2-18-mm 1354775",{"$nulls":15},"H1212-ST-33 43/2 1381986",null,"H1212-ST-33 43/2 1381986",null,"H1212-ST-33 43/2 1381986",null,"U363-ST-9 23/0.4 1200086",null,"U363-ST-9 23/0.4 1200086"]
[{"$nulls":10},"U963-ST-9-18-mm 1353905",{"$nulls":15},"H1213-ST-33 43/2 1197280",null,"H1213-ST-33 43/2 1197280",null,"H1213-ST-33 43/2 1197280",null,"U504-ST-9 23/0.4 1191887",null,"U504-ST-9 23/0.4 1191887"]
[{"$nulls":10},"U968-ST-9-18-mm 1386193",{"$nulls":15},"H1250-ST-36 43/2 1193908",null,"H1250-ST-36 43/2 1193908",null,"H1250-ST-36 43/2 1193908",null,"U522-ST-9 23/0.4 1194807",null,"U522-ST-9 23/0.4 1194807"]
[{"$nulls":10},"U998-ST-38-18-mm 1395605",{"$nulls":15},"H1251-ST-19 43/2 1381676",null,"H1251-ST-19 43/2 1381676",null,"H1251-ST-19 43/2 1381676",null,"U525-ST-9 23/0.4 1194801",null,"U525-ST-9 23/0.4 1194801"]
[{"$nulls":10},"U999-ST-19-18-mm 1386207",{"$nulls":15},"H1253-ST-19 43/2 1381702",null,"H1253-ST-19 43/2 1381702",null,"H1253-ST-19 43/2 1381702",null,"U560-ST-9 23/0.4 1200062",null,"U560-ST-9 23/0.4 1200062"]
[{"$nulls":10},"U999-ST-2-18-mm 1354756",{"$nulls":15},"H1277-ST-9 43/2 1193947",null,"H1277-ST-9 43/2 1193947",null,"H1277-ST-9 43/2 1193947",null,"U600-ST-9 23/0.4 1381190",null,"U600-ST-9 23/0.4 1381190"]
[{"$nulls":10},"W1000-ST-19-18-mm 1386612",{"$nulls":15},"H1312-ST-10 43/2 1381620",null,"H1312-ST-10 43/2 1381620",null,"H1312-ST-10 43/2 1381620",null,"U606-ST-9 23/0.4 1191861",null,"U606-ST-9 23/0.4 1191861"]
[{"$nulls":10},"W1000-ST-38-18-mm 1189300",{"$nulls":15},"H1313-ST-10 43/2 1381659",null,"H1313-ST-10 43/2 1381659",null,"H1313-ST-10 43/2 1381659",null,"U626-ST-9 23/0.4 1191634",null,"U626-ST-9 23/0.4 1191634"]
[{"$nulls":10},"W1000-ST-22-18-mm 1354385",{"$nulls":15},"H1318-ST-10 43/2 1381639",null,"H1318-ST-10 43/2 1381639",null,"H1318-ST-10 43/2 1381639",null,"U630-ST-9 23/0.4 1194781",null,"U630-ST-9 23/0.4 1194781"]
[{"$nulls":10},"W1000-ST-9-18-mm 1353996",{"$nulls":15},"H1330-ST-10 43/2 1381796",null,"H1330-ST-10 43/2 1381796",null,"H1330-ST-10 43/2 1381796",null,"U655-ST-9 23/0.4 1200049",null,"U655-ST-9 23/0.4 1200049"]
[{"$nulls":10},"W1100-ST-9-18-mm 1354272",{"$nulls":15},"H1334-ST-9 43/2 1193885",null,"H1334-ST-9 43/2 1193885",null,"H1334-ST-9 43/2 1193885",null,"U702-ST-9 23/0.4 1191535",null,"U702-ST-9 23/0.4 1191535"]
[{"$nulls":10},"W908-ST-2-18-mm 1354770",{"$nulls":15},"H1344-ST-32 43/2 1381812",null,"H1344-ST-32 43/2 1381812",null,"H1344-ST-32 43/2 1381812",null,"U707-ST-9 23/0.4 1196237",null,"U707-ST-9 23/0.4 1196237"]
[{"$nulls":10},"W908-ST-SM-18-mm 1354768",{"$nulls":15},"H1345-ST-32 43/2 1381735",null,"H1345-ST-32 43/2 1381735",null,"H1345-ST-32 43/2 1381735",null,"U708-ST-9 23/0.4 1191534",null,"U708-ST-9 23/0.4 1191534"]
[{"$nulls":10},"W908-ST-SM-8-mm 1354758",{"$nulls":15},"H1346-ST-32 43/2 1381775",null,"H1346-ST-32 43/2 1381775",null,"H1346-ST-32 43/2 1381775",null,"U727-ST-9 23/0.4 1007927",null,"U727-ST-9 23/0.4 1007927"]
[{"$nulls":10},"W908-ST-SM-10-mm 1354058",{"$nulls":15},"H1387-ST-10 43/2 1193855",null,"H1387-ST-10 43/2 1193855",null,"H1387-ST-10 43/2 1193855",null,"U732-ST-9 23/0.4 1191532",null,"U732-ST-9 23/0.4 1191532"]
[{"$nulls":10},"W908-ST-SM-16-mm 1354753",{"$nulls":15},"H1394-ST-9 43/2 1276286",null,"H1394-ST-9 43/2 1276286",null,"H1394-ST-9 43/2 1276286",null,"U741-ST-9 23/0.4 1191531",null,"U741-ST-9 23/0.4 1191531"]
[{"$nulls":10},"W908-ST-SM-25-mm 1354861",{"$nulls":15},"H1399-ST-10 43/2 1193827",null,"H1399-ST-10 43/2 1193827",null,"H1399-ST-10 43/2 1193827",null,"U748-ST-9 23/0.4 1191530",null,"U748-ST-9 23/0.4 1191530"]
[{"$nulls":10},"W962-ST-2-18-mm 1570819",{"$nulls":15},"H1400-ST-36 43/2 1197279",null,"H1400-ST-36 43/2 1197279",null,"H1400-ST-36 43/2 1197279",null,"U750-ST-9 23/0.4 1191529",null,"U750-ST-9 23/0.4 1191529"]
[{"$nulls":10},"W962-ST-2-16-mm 1570739",{"$nulls":15},"H1401-ST-22 43/2 1193851",null,"H1401-ST-22 43/2 1193851",null,"H1401-ST-22 43/2 1193851",null,"U763-ST-9 23/0.4 1194730",null,"U763-ST-9 23/0.4 1194730"]
[{"$nulls":10},"W962-ST-SM-18-mm 1570799",{"$nulls":15},"H1424-ST-22 43/2 1193823",null,"H1424-ST-22 43/2 1193823",null,"H1424-ST-22 43/2 1193823",null,"U767-ST-9 23/0.4 1194717",null,"U767-ST-9 23/0.4 1194717"]
[{"$nulls":10},"W980-ST-2-18-mm 1354596",{"$nulls":15},"H1444-ST-9 43/2 1193805",null,"H1444-ST-9 43/2 1193805",null,"H1444-ST-9 43/2 1193805",null,"U775-ST-9 23/0.4 1191528",null,"U775-ST-9 23/0.4 1191528"]
[{"$nulls":10},"W980-ST-SM-18-mm 1354587",{"$nulls":15},"H1486-ST-36 43/2 1380495",null,"H1486-ST-36 43/2 1380495",null,"H1486-ST-36 43/2 1380495",null,"U780-ST-9 23/0.4 1381901",null,"U780-ST-9 23/0.4 1381901"]
[{"$nulls":26},"H1487-ST-22 43/2 1380489",null,"H1487-ST-22 43/2 1380489",null,"H1487-ST-22 43/2 1380489",null,"U788-ST-9 23/0.4 1194694",null,"U788-ST-9 23/0.4 1194694"]
[{"$nulls":26},"H1511-ST-15 43/2 1380485",null,"H1511-ST-15 43/2 1380485",null,"H1511-ST-15 43/2 1380485",null,"U818-ST-9 23/0.4 1191524",null,"U818-ST-9 23/0.4 1191524"]
[{"$nulls":26},"H1555-ST-15 43/2 1276283",null,"H1555-ST-15 43/2 1276283",null,"H1555-ST-15 43/2 1276283",null,"U830-ST-9 23/0.4 1381927",null,"U830-ST-9 23/0.4 1381927"]
[{"$nulls":26},"H1582-ST-15 43/2 1193665",null,"H1582-ST-15 43/2 1193665",null,"H1582-ST-15 43/2 1193665",null,"U899-ST-9 23/0.4 1196236",null,"U899-ST-9 23/0.4 1196236"]
[{"$nulls":26},"H1599-ST-15 43/2 1276288",null,"H1599-ST-15 43/2 1276288",null,"H1599-ST-15 43/2 1276288",null,"U960-ST-9 23/0.4 1191523",null,"U960-ST-9 23/0.4 1191523"]
[{"$nulls":26},"H1615-ST-9 43/2 1380537",null,"H1615-ST-9 43/2 1380537",null,"H1615-ST-9 43/2 1380537",null,"U961-ST-19 23/0.4 1381841",null,"U961-ST-19 23/0.4 1381841"]
[{"$nulls":26},"H1636-ST-12 43/2 1197278",null,"H1636-ST-12 43/2 1197278",null,"H1636-ST-12 43/2 1197278",null,"U961-ST-2 23/0.4 237314",null,"U961-ST-2 23/0.4 237314"]
[{"$nulls":26},"H1706-ST-15 43/2 1276302",null,"H1706-ST-15 43/2 1276302",null,"H1706-ST-15 43/2 1276302",null,"U963-ST-9 23/0.4 1191522",null,"U963-ST-9 23/0.4 1191522"]
[{"$nulls":26},"H1709-ST-15 43/2 1276285",null,"H1709-ST-15 43/2 1276285",null,"H1709-ST-15 43/2 1276285",null,"U968-ST-9 23/0.4 1381874",null,"U968-ST-9 23/0.4 1381874"]
[{"$nulls":26},"H1710-ST-10 43/2 1380435",null,"H1710-ST-10 43/2 1380435",null,"H1710-ST-10 43/2 1380435",null,"U998-ST-38 23/0.4 1401035",null,"U998-ST-38 23/0.4 1401035"]
[{"$nulls":26},"H1714-ST-19 43/2 1380476",null,"H1714-ST-19 43/2 1380476",null,"H1714-ST-19 43/2 1380476",null,"U999-ST-19 23/0.4 1382018",null,"U999-ST-19 23/0.4 1382018"]
[{"$nulls":26},"H1733-ST-9 43/2 1193607",null,"H1733-ST-9 43/2 1193607",null,"H1733-ST-9 43/2 1193607",null,"U999-ST-2 23/0.4 237315",null,"U999-ST-2 23/0.4 237315"]
[{"$nulls":26},"H2033-ST-10 43/2 1380454",null,"H2033-ST-10 43/2 1380454",null,"H2033-ST-10 43/2 1380454",null,"U999-ST-30 23/0.4 1191520",null,"U999-ST-30 23/0.4 1191520"]
[{"$nulls":26},"H3006-ST-22 43/2 1461298",null,"H3006-ST-22 43/2 1461298",null,"H3006-ST-22 43/2 1461298",null,"U999-ST-38 23/0.4 1196235",null,"U999-ST-38 23/0.4 1196235"]
[{"$nulls":26},"H3012-ST-22 43/2 1193578",null,"H3012-ST-22 43/2 1193578",null,"H3012-ST-22 43/2 1193578",null,"W1000-ST-9 23/0.8 1191124",null,"W1000-ST-9 23/0.8 1191124"]
[{"$nulls":26},"H3047-ST-10 43/2 1193515",null,"H3047-ST-10 43/2 1193515",null,"H3047-ST-10 43/2 1193515",null,"W1000-ST-19 23/0.4 1381479",null,"W1000-ST-19 23/0.4 1381479"]
[{"$nulls":26},"H3048-ST-10 43/2 1193497",null,"H3048-ST-10 43/2 1193497",null,"H3048-ST-10 43/2 1193497",null,"W1000-ST-22 23/0.4 1191519",null,"W1000-ST-22 23/0.4 1191519"]
[{"$nulls":26},"H3058-ST-22 43/2 1193510",null,"H3058-ST-22 43/2 1193510",null,"H3058-ST-22 43/2 1193510",null,"W1000-ST-38 23/0.4 1196234",null,"W1000-ST-38 23/0.4 1196234"]
[{"$nulls":26},"H3080-ST-15 43/2 1193482",null,"H3080-ST-15 43/2 1193482",null,"H3080-ST-15 43/2 1193482",null,"W1000-ST-9 23/0.4 226690",null,"W1000-ST-9 23/0.4 226690"]
[{"$nulls":26},"H3081-ST-22 43/2 1193490",null,"H3081-ST-22 43/2 1193490",null,"H3081-ST-22 43/2 1193490",null,"W1100-ST-30 23/0.4 1191518",null,"W1100-ST-30 23/0.4 1191518"]
[{"$nulls":26},"H3090-ST-22 43/2 1193465",null,"H3090-ST-22 43/2 1193465",null,"H3090-ST-22 43/2 1193465",null,"W1100-ST-9 23/0.4 1191517",null,"W1100-ST-9 23/0.4 1191517"]
[{"$nulls":26},"H3113-ST-15 43/2 1193451",null,"H3113-ST-15 43/2 1193451",null,"H3113-ST-15 43/2 1193451",null,"W1100-ST-9 23/0.8 1191112",null,"W1100-ST-9 23/0.8 1191112"]
[{"$nulls":26},"H3114-ST-9 43/2 1193422",null,"H3114-ST-9 43/2 1193422",null,"H3114-ST-9 43/2 1193422",null,"W908-ST-2 23/0.4 1191515",null,"W908-ST-2 23/0.4 1191515"]
[{"$nulls":26},"H3131-ST-12 43/2 1197277",null,"H3131-ST-12 43/2 1197277",null,"H3131-ST-12 43/2 1197277",null,"W908-ST-2 23/0.8 1191056",null,"W908-ST-2 23/0.8 1191056"]
[{"$nulls":26},"H3133-ST-12 43/2 1197276",null,"H3133-ST-12 43/2 1197276",null,"H3133-ST-12 43/2 1197276",null,"W908-ST-SM 23/0.4 1191516",null,"W908-ST-SM 23/0.4 1191516"]
[{"$nulls":26},"H3146-ST-19 43/2 1380643",null,"H3146-ST-19 43/2 1380643",null,"H3146-ST-19 43/2 1380643",null,"W908-ST-SM 23/0.8 1191063",null,"W908-ST-SM 23/0.8 1191063"]
[{"$nulls":26},"H3154-ST-36 43/2 1197275",null,"H3154-ST-36 43/2 1197275",null,"H3154-ST-36 43/2 1197275",null,"W980-ST-2 23/0.4 237311",null,"W980-ST-2 23/0.4 237311"]
[{"$nulls":26},"H3156-ST-12 43/2 1197273",null,"H3156-ST-12 43/2 1197273",null,"H3156-ST-12 43/2 1197273",null,"W980-ST-SM 23/0.4 237210",null,"W980-ST-SM 23/0.4 237210"]
[{"$nulls":26},"H3157-ST-12 43/2 1380562",null,"H3157-ST-12 43/2 1380562",null,"H3157-ST-12 43/2 1380562",null,"W980-ST-SM 23/0.8 1191019",null,"W980-ST-SM 23/0.8 1191019"]
[{"$nulls":26},"H3170-ST-12 43/2 1197271",null,"H3170-ST-12 43/2 1197271",null,"H3170-ST-12 43/2 1197271",null,"F186-ST-9 23/2 1191941",null,"F186-ST-9 23/2 1191941"]
[{"$nulls":26},"H3176-ST-37 43/2 1380583",null,"H3176-ST-37 43/2 1380583",null,"H3176-ST-37 43/2 1380583",null,"F187-ST-9 23/2 1189865",null,"F187-ST-9 23/2 1189865"]
[{"$nulls":26},"H3178-ST-37 43/2 1380275",null,"H3178-ST-37 43/2 1380275",null,"H3178-ST-37 43/2 1380275",null,"F204-ST-9 23/2 1380953",null,"F204-ST-9 23/2 1380953"]
[{"$nulls":26},"H3190-ST-19 43/2 1380258",null,"H3190-ST-19 43/2 1380258",null,"H3190-ST-19 43/2 1380258",null,"F206-ST-9 23/2 1380988",null,"F206-ST-9 23/2 1380988"]
[{"$nulls":26},"H3192-ST-19 43/2 1380297",null,"H3192-ST-19 43/2 1380297",null,"H3192-ST-19 43/2 1380297",null,"F302-ST-87 23/2 1194479",null,"F302-ST-87 23/2 1194479"]
[{"$nulls":26},"H3303-ST-10 43/2 1193178",null,"H3303-ST-10 43/2 1193178",null,"H3303-ST-10 43/2 1193178",null,"F416-ST-10 23/2 1381098",null,"F416-ST-10 23/2 1381098"]
[{"$nulls":26},"H3309-ST-28 43/2 1380287",null,"H3309-ST-28 43/2 1380287",null,"H3309-ST-28 43/2 1380287",null,"F425-ST-10 23/2 226010",null,"F425-ST-10 23/2 226010"]
[{"$nulls":26},"H3325-ST-28 43/2 1193174",null,"H3325-ST-28 43/2 1193174",null,"H3325-ST-28 43/2 1193174",null,"F433-ST-10 23/2 1196153",null,"F433-ST-10 23/2 1196153"]
[{"$nulls":26},"H3326-ST-28 43/2 1380281",null,"H3326-ST-28 43/2 1380281",null,"H3326-ST-28 43/2 1380281",null,"F501-ST-2 23/2 764227",null,"F501-ST-2 23/2 764227"]
[{"$nulls":26},"H3330-ST-36 43/2 1380208",null,"H3330-ST-36 43/2 1380208",null,"H3330-ST-36 43/2 1380208",null,"F509-ST-2 23/2 764225",null,"F509-ST-2 23/2 764225"]
[{"$nulls":26},"H3331-ST-10 43/2 1193071",null,"H3331-ST-10 43/2 1193071",null,"H3331-ST-10 43/2 1193071",null,"F570-ST-2 23/2 1186682",null,"F570-ST-2 23/2 1186682"]
[{"$nulls":26},"H3342-ST-28 43/2 1193041",null,"H3342-ST-28 43/2 1193041",null,"H3342-ST-28 43/2 1193041",null,"F571-ST-2 23/2 1186683",null,"F571-ST-2 23/2 1186683"]
[{"$nulls":26},"H3395-ST-12 43/2 1380229",null,"H3395-ST-12 43/2 1380229",null,"H3395-ST-12 43/2 1380229",null,"F637-ST-16 23/2 1380749",null,"F637-ST-16 23/2 1380749"]
[{"$nulls":26},"H3398-ST-12 43/2 1197268",null,"H3398-ST-12 43/2 1197268",null,"H3398-ST-12 43/2 1197268",null,"F642-ST-16 23/2 1380666",null,"F642-ST-16 23/2 1380666"]
[{"$nulls":26},"H3408-ST-38 43/2 1380376",null,"H3408-ST-38 43/2 1380376",null,"H3408-ST-38 43/2 1380376",null,"F812-ST-9 23/2 1365041",null,"F812-ST-9 23/2 1365041"]
[{"$nulls":26},"H3430-ST-22 43/2 1192551",null,"H3430-ST-22 43/2 1192551",null,"H3430-ST-22 43/2 1192551",null,"H1101-ST-12 23/2 1196152",null,"H1101-ST-12 23/2 1196152"]
[{"$nulls":26},"H3433-ST-22 43/2 1197263",null,"H3433-ST-22 43/2 1197263",null,"H3433-ST-22 43/2 1197263",null,"H1113-ST-10 23/2 1184938",null,"H1113-ST-10 23/2 1184938"]
[{"$nulls":26},"H3450-ST-22 43/2 1197262",null,"H3450-ST-22 43/2 1197262",null,"H3450-ST-22 43/2 1197262",null,"H1114-ST-9 23/2 1196172",null,"H1114-ST-9 23/2 1196172"]
[{"$nulls":26},"H3451-ST-22 43/2 1197261",null,"H3451-ST-22 43/2 1197261",null,"H3451-ST-22 43/2 1197261",null,"H1115-ST-12 23/2 1195150",null,"H1115-ST-12 23/2 1195150"]
[{"$nulls":26},"H3453-ST-22 43/2 1380404",null,"H3453-ST-22 43/2 1380404",null,"H3453-ST-22 43/2 1380404",null,"H1116-ST-12 23/2 1194826",null,"H1116-ST-12 23/2 1194826"]
[{"$nulls":26},"H3700-ST-10 43/2 1380396",null,"H3700-ST-10 43/2 1380396",null,"H3700-ST-10 43/2 1380396",null,"H1122-ST-22 23/2 1194312",null,"H1122-ST-22 23/2 1194312"]
[{"$nulls":26},"H3702-ST-10 43/2 1380335",null,"H3702-ST-10 43/2 1380335",null,"H3702-ST-10 43/2 1380335",null,"H1123-ST-22 23/2 1185584",null,"H1123-ST-22 23/2 1185584"]
[{"$nulls":26},"H3704-ST-15 43/2 1192274",null,"H3704-ST-15 43/2 1192274",null,"H3704-ST-15 43/2 1192274",null,"H1137-ST-12 23/2 1197470",null,"H1137-ST-12 23/2 1197470"]
[{"$nulls":26},"H3710-ST-12 43/2 1380320",null,"H3710-ST-12 43/2 1380320",null,"H3710-ST-12 43/2 1380320",null,"H1145-ST-10 23/2 1415212",null,"H1145-ST-10 23/2 1415212"]
[{"$nulls":26},"H3711-ST-9 43/2 1192229",null,"H3711-ST-9 43/2 1192229",null,"H3711-ST-9 43/2 1192229",null,"H1146-ST-10 23/2 1415148",null,"H1146-ST-10 23/2 1415148"]
[{"$nulls":26},"H3730-ST-10 43/2 1192227",null,"H3730-ST-10 43/2 1192227",null,"H3730-ST-10 43/2 1192227",null,"H1151-ST-10 23/2 226963",null,"H1151-ST-10 23/2 226963"]
[{"$nulls":26},"H3732-ST-10 43/2 1192216",null,"H3732-ST-10 43/2 1192216",null,"H3732-ST-10 43/2 1192216",null,"H1176-ST-37 23/2 1187703",null,"H1176-ST-37 23/2 1187703"]
[{"$nulls":26},"H3734-ST-9 43/2 1192201",null,"H3734-ST-9 43/2 1192201",null,"H3734-ST-9 43/2 1192201",null,"H1180-ST-37 23/2 1062700",null,"H1180-ST-37 23/2 1062700"]
[{"$nulls":26},"H3773-ST-9 43/2 1192162",null,"H3773-ST-9 43/2 1192162",null,"H3773-ST-9 43/2 1192162",null,"H1181-ST-37 23/2 1062705",null,"H1181-ST-37 23/2 1062705"]
[{"$nulls":26},"H3840-ST-9 43/2 1192134",null,"H3840-ST-9 43/2 1192134",null,"H3840-ST-9 43/2 1192134",null,"H1199-ST-12 23/2 1184919",null,"H1199-ST-12 23/2 1184919"]
[{"$nulls":26},"H3860-ST-9 43/2 1380359",null,"H3860-ST-9 43/2 1380359",null,"H3860-ST-9 43/2 1380359",null,"H1210-ST-33 23/2 1189777",null,"H1210-ST-33 23/2 1189777"]
[{"$nulls":26},"H3991-ST-10 43/2 1197258",null,"H3991-ST-10 43/2 1197258",null,"H3991-ST-10 43/2 1197258",null,"H1212-ST-33 23/2 1189778",null,"H1212-ST-33 23/2 1189778"]
[{"$nulls":26},"U104-ST-9 43/2 1197257",null,"U104-ST-9 43/2 1197257",null,"U104-ST-9 43/2 1197257",null,"H1213-ST-33 23/2 1191814",null,"H1213-ST-33 23/2 1191814"]
[{"$nulls":26},"U108-ST-9 43/2 1381429",null,"U108-ST-9 43/2 1381429",null,"U108-ST-9 43/2 1381429",null,"H1250-ST-36 23/2 1002947",null,"H1250-ST-36 23/2 1002947"]
[{"$nulls":26},"U113-ST-9 43/2 1197255",null,"U113-ST-9 43/2 1197255",null,"U113-ST-9 43/2 1197255",null,"H1251-ST-19 23/2 1381686",null,"H1251-ST-19 23/2 1381686"]
[{"$nulls":26},"U114-ST-9 43/2 1381418",null,"U114-ST-9 43/2 1381418",null,"U114-ST-9 43/2 1381418",null,"H1253-ST-19 23/2 1381712",null,"H1253-ST-19 23/2 1381712"]
[{"$nulls":26},"U131-ST-9 43/2 1381412",null,"U131-ST-9 43/2 1381412",null,"U131-ST-9 43/2 1381412",null,"H1277-ST-9 23/2 757463",null,"H1277-ST-9 23/2 757463"]
[{"$nulls":26},"U156-ST-9 43/2 1381402",null,"U156-ST-9 43/2 1381402",null,"U156-ST-9 43/2 1381402",null,"H1312-ST-10 23/2 1381630",null,"H1312-ST-10 23/2 1381630"]
[{"$nulls":26},"U200-ST-9 43/2 1196919",null,"U200-ST-9 43/2 1196919",null,"U200-ST-9 43/2 1196919",null,"H1313-ST-10 23/2 1381614",null,"H1313-ST-10 23/2 1381614"]
[{"$nulls":26},"U201-ST-19 43/2 1381549",null,"U201-ST-19 43/2 1381549",null,"U201-ST-19 43/2 1381549",null,"H1318-ST-10 23/2 1381648",null,"H1318-ST-10 23/2 1381648"]
[{"$nulls":26},"U201-ST-9 43/2 1197252",null,"U201-ST-9 43/2 1197252",null,"U201-ST-9 43/2 1197252",null,"H1330-ST-10 23/2 1364897",null,"H1330-ST-10 23/2 1364897"]
[{"$nulls":26},"U216-ST-9 43/2 1197251",null,"U216-ST-9 43/2 1197251",null,"U216-ST-9 43/2 1197251",null,"H1334-ST-9 23/2 764142",null,"H1334-ST-9 23/2 764142"]
[{"$nulls":26},"U222-ST-9 43/2 1197250",null,"U222-ST-9 43/2 1197250",null,"U222-ST-9 43/2 1197250",null,"H1344-ST-32 23/2 1381821",null,"H1344-ST-32 23/2 1381821"]
[{"$nulls":26},"U311-ST-9 43/2 1381578",null,"U311-ST-9 43/2 1381578",null,"U311-ST-9 43/2 1381578",null,"H1345-ST-32 23/2 1381744",null,"H1345-ST-32 23/2 1381744"]
[{"$nulls":26},"U321-ST-9 43/2 1197247",null,"U321-ST-9 43/2 1197247",null,"U321-ST-9 43/2 1197247",null,"H1346-ST-32 23/2 1381726",null,"H1346-ST-32 23/2 1381726"]
[{"$nulls":26},"U323-ST-9 43/2 1381504",null,"U323-ST-9 43/2 1381504",null,"U323-ST-9 43/2 1381504",null,"H1387-ST-10 23/2 1187702",null,"H1387-ST-10 23/2 1187702"]
[{"$nulls":26},"U325-ST-9 43/2 1381545",null,"U325-ST-9 43/2 1381545",null,"U325-ST-9 43/2 1381545",null,"H1394-ST-9 23/2 764144",null,"H1394-ST-9 23/2 764144"]
[{"$nulls":26},"U332-ST-9 43/2 1197244",null,"U332-ST-9 43/2 1197244",null,"U332-ST-9 43/2 1197244",null,"H1399-ST-10 23/2 1126807",null,"H1399-ST-10 23/2 1126807"]
[{"$nulls":26},"U337-ST-9 43/2 1381523",null,"U337-ST-9 43/2 1381523",null,"U337-ST-9 43/2 1381523",null,"H1400-ST-36 23/2 1194391",null,"H1400-ST-36 23/2 1194391"]
[{"$nulls":26},"U363-ST-9 43/2 1196915",null,"U363-ST-9 43/2 1196915",null,"U363-ST-9 43/2 1196915",null,"H1401-ST-22 23/2 1118024",null,"H1401-ST-22 23/2 1118024"]
[{"$nulls":26},"U504-ST-9 43/2 1191853",null,"U504-ST-9 43/2 1191853",null,"U504-ST-9 43/2 1191853",null,"H1424-ST-22 23/2 764145",null,"H1424-ST-22 23/2 764145"]
[{"$nulls":26},"U522-ST-9 43/2 1381162",null,"U522-ST-9 43/2 1381162",null,"U522-ST-9 43/2 1381162",null,"H1444-ST-9 23/2 1184800",null,"H1444-ST-9 23/2 1184800"]
[{"$nulls":26},"U525-ST-9 43/2 1197239",null,"U525-ST-9 43/2 1197239",null,"U525-ST-9 43/2 1197239",null,"H1486-ST-36 23/2 1005354",null,"H1486-ST-36 23/2 1005354"]
[{"$nulls":26},"U560-ST-9 43/2 1196905",null,"U560-ST-9 43/2 1196905",null,"U560-ST-9 43/2 1196905",null,"H1487-ST-22 23/2 239553",null,"H1487-ST-22 23/2 239553"]
[{"$nulls":26},"U600-ST-9 43/2 1381179",null,"U600-ST-9 43/2 1381179",null,"U600-ST-9 43/2 1381179",null,"H1511-ST-15 23/2 764149",null,"H1511-ST-15 23/2 764149"]
[{"$nulls":26},"U606-ST-9 43/2 1191799",null,"U606-ST-9 43/2 1191799",null,"U606-ST-9 43/2 1191799",null,"H1555-ST-15 23/2 764155",null,"H1555-ST-15 23/2 764155"]
[{"$nulls":26},"U626-ST-9 43/2 1381333",null,"U626-ST-9 43/2 1381333",null,"U626-ST-9 43/2 1381333",null,"H1582-ST-15 23/2 764156",null,"H1582-ST-15 23/2 764156"]
[{"$nulls":26},"U630-ST-9 43/2 1197236",null,"U630-ST-9 43/2 1197236",null,"U630-ST-9 43/2 1197236",null,"H1599-ST-15 23/2 764158",null,"H1599-ST-15 23/2 764158"]
[{"$nulls":26},"U655-ST-9 43/2 1196902",null,"U655-ST-9 43/2 1196902",null,"U655-ST-9 43/2 1196902",null,"H1615-ST-9 23/2 764159",null,"H1615-ST-9 23/2 764159"]
[{"$nulls":26},"U702-ST-9 43/2 1381352",null,"U702-ST-9 43/2 1381352",null,"U702-ST-9 43/2 1381352",null,"H1636-ST-12 23/2 1194369",null,"H1636-ST-12 23/2 1194369"]
[{"$nulls":26},"U707-ST-9 43/2 1197233",null,"U707-ST-9 43/2 1197233",null,"U707-ST-9 43/2 1197233",null,"H1706-ST-15 23/2 764165",null,"H1706-ST-15 23/2 764165"]
[{"$nulls":26},"U708-ST-9 43/2 1191412",null,"U708-ST-9 43/2 1191412",null,"U708-ST-9 43/2 1191412",null,"H1709-ST-15 23/2 239551",null,"H1709-ST-15 23/2 239551"]
[{"$nulls":26},"U727-ST-9 43/2 1191331",null,"U727-ST-9 43/2 1191331",null,"U727-ST-9 43/2 1191331",null,"H1710-ST-10 23/2 1380445",null,"H1710-ST-10 23/2 1380445"]
[{"$nulls":26},"U732-ST-30 43/2 1197232",null,"U732-ST-30 43/2 1197232",null,"U732-ST-30 43/2 1197232",null,"H1714-ST-19 23/2 1366183",null,"H1714-ST-19 23/2 1366183"]
[{"$nulls":26},"U732-ST-9 43/2 1191318",null,"U732-ST-9 43/2 1191318",null,"U732-ST-9 43/2 1191318",null,"H1733-ST-9 23/2 764168",null,"H1733-ST-9 23/2 764168"]
[{"$nulls":26},"U741-ST-9 43/2 1381290",null,"U741-ST-9 43/2 1381290",null,"U741-ST-9 43/2 1381290",null,"H2033-ST-10 23/2 1380463",null,"H2033-ST-10 23/2 1380463"]
[{"$nulls":26},"U748-ST-9 43/2 1381925",null,"U748-ST-9 43/2 1381925",null,"U748-ST-9 43/2 1381925",null,"H3006-ST-22 23/2 764185",null,"H3006-ST-22 23/2 764185"]
[{"$nulls":26},"U750-ST-9 43/2 1191284",null,"U750-ST-9 43/2 1191284",null,"U750-ST-9 43/2 1191284",null,"H3012-ST-22 23/2 973278",null,"H3012-ST-22 23/2 973278"]
[{"$nulls":26},"U763-ST-9 43/2 1197231",null,"U763-ST-9 43/2 1197231",null,"U763-ST-9 43/2 1197231",null,"H3047-ST-10 23/2 1184937",null,"H3047-ST-10 23/2 1184937"]
[{"$nulls":26},"U767-ST-9 43/2 1197230",null,"U767-ST-9 43/2 1197230",null,"U767-ST-9 43/2 1197230",null,"H3048-ST-10 23/2 1184935",null,"H3048-ST-10 23/2 1184935"]
[{"$nulls":26},"U775-ST-9 43/2 1191283",null,"U775-ST-9 43/2 1191283",null,"U775-ST-9 43/2 1191283",null,"H3058-ST-22 23/2 963257",null,"H3058-ST-22 23/2 963257"]
[{"$nulls":26},"U780-ST-9 43/2 1381948",null,"U780-ST-9 43/2 1381948",null,"U780-ST-9 43/2 1381948",null,"H3080-ST-15 23/2 239552",null,"H3080-ST-15 23/2 239552"]
[{"$nulls":26},"U788-ST-9 43/2 1197228",null,"U788-ST-9 43/2 1197228",null,"U788-ST-9 43/2 1197228",null,"H3081-ST-22 23/2 881850",null,"H3081-ST-22 23/2 881850"]
[{"$nulls":26},"U818-ST-9 43/2 1381931",null,"U818-ST-9 43/2 1381931",null,"U818-ST-9 43/2 1381931",null,"H3090-ST-22 23/2 882429",null,"H3090-ST-22 23/2 882429"]
[{"$nulls":26},"U830-ST-9 43/2 1381858",null,"U830-ST-9 43/2 1381858",null,"U830-ST-9 43/2 1381858",null,"H3113-ST-15 23/2 239550",null,"H3113-ST-15 23/2 239550"]
[{"$nulls":26},"U899-ST-9 43/2 1197227",null,"U899-ST-9 43/2 1197227",null,"U899-ST-9 43/2 1197227",null,"H3114-ST-9 23/2 226004",null,"H3114-ST-9 23/2 226004"]
[{"$nulls":26},"U960-ST-9 43/2 1191229",null,"U960-ST-9 43/2 1191229",null,"U960-ST-9 43/2 1191229",null,"H3131-ST-12 23/2 1194368",null,"H3131-ST-12 23/2 1194368"]
[{"$nulls":26},"U961-ST-19 43/2 1381888",null,"U961-ST-19 43/2 1381888",null,"U961-ST-19 43/2 1381888",null,"H3133-ST-12 23/2 1190962",null,"H3133-ST-12 23/2 1190962"]
[{"$nulls":26},"U961-ST-2 43/2 1191218",null,"U961-ST-2 43/2 1191218",null,"U961-ST-2 43/2 1191218",null,"H3146-ST-19 23/2 1380652",null,"H3146-ST-19 23/2 1380652"]
[{"$nulls":26},"U963-ST-9 43/2 1191200",null,"U963-ST-9 43/2 1191200",null,"U963-ST-9 43/2 1191200",null,"H3154-ST-36 23/2 1189779",null,"H3154-ST-36 23/2 1189779"]
[{"$nulls":26},"U968-ST-9 43/2 1382037",null,"U968-ST-9 43/2 1382037",null,"U968-ST-9 43/2 1382037",null,"H3156-ST-12 23/2 1194321",null,"H3156-ST-12 23/2 1194321"]
[{"$nulls":26},"U998-ST-38 43/2 1401046",null,"U998-ST-38 43/2 1401046",null,"U998-ST-38 43/2 1401046",null,"H3157-ST-12 23/2 1194313",null,"H3157-ST-12 23/2 1194313"]
[{"$nulls":26},"U999-ST-19 43/2 1382064",null,"U999-ST-19 43/2 1382064",null,"U999-ST-19 43/2 1382064",null,"H3170-ST-12 23/2 1190961",null,"H3170-ST-12 23/2 1190961"]
[{"$nulls":26},"U999-ST-2 43/2 1191152",null,"U999-ST-2 43/2 1191152",null,"U999-ST-2 43/2 1191152",null,"H3176-ST-37 23/2 1380592",null,"H3176-ST-37 23/2 1380592"]
[{"$nulls":26},"U999-ST-30 43/2 1191138",null,"U999-ST-30 43/2 1191138",null,"U999-ST-30 43/2 1191138",null,"H3178-ST-37 23/2 1380572",null,"H3178-ST-37 23/2 1380572"]
[{"$nulls":26},"U999-ST-38 43/2 1196682",null,"U999-ST-38 43/2 1196682",null,"U999-ST-38 43/2 1196682",null,"H3190-ST-19 23/2 1366406",null,"H3190-ST-19 23/2 1366406"]
[{"$nulls":26},"W1000-ST-19 43/2 1381468",null,"W1000-ST-19 43/2 1381468",null,"W1000-ST-19 43/2 1381468",null,"H3192-ST-19 23/2 1380249",null,"H3192-ST-19 23/2 1380249"]
[{"$nulls":26},"W1000-ST-22 43/2 1191135",null,"W1000-ST-22 43/2 1191135",null,"W1000-ST-22 43/2 1191135",null,"H3303-ST-10 23/2 1415147",null,"H3303-ST-10 23/2 1415147"]
[{"$nulls":26},"W1000-ST-38 43/2 1196662",null,"W1000-ST-38 43/2 1196662",null,"W1000-ST-38 43/2 1196662",null,"H3309-ST-28 23/2 318106",null,"H3309-ST-28 23/2 318106"]
[{"$nulls":26},"W1000-ST-9 43/2 1191111",null,"W1000-ST-9 43/2 1191111",null,"W1000-ST-9 43/2 1191111",null,"H3325-ST-28 23/2 315375",null,"H3325-ST-28 23/2 315375"]
[{"$nulls":26},"W1100-ST-30 43/2 1191077",null,"W1100-ST-30 43/2 1191077",null,"W1100-ST-30 43/2 1191077",null,"H3326-ST-28 23/2 315376",null,"H3326-ST-28 23/2 315376"]
[{"$nulls":26},"W1100-ST-9 43/2 1191110",null,"W1100-ST-9 43/2 1191110",null,"W1100-ST-9 43/2 1191110",null,"H3330-ST-36 23/2 1380217",null,"H3330-ST-36 23/2 1380217"]
[{"$nulls":26},"W908-ST-2 43/2 1191059",null,"W908-ST-2 43/2 1191059",null,"W908-ST-2 43/2 1191059",null,"H3331-ST-10 23/2 239549",null,"H3331-ST-10 23/2 239549"]
[{"$nulls":26},"W908-ST-SM 43/2 1191066",null,"W908-ST-SM 43/2 1191066",null,"W908-ST-SM 43/2 1191066",null,"H3342-ST-28 23/2 1133121",null,"H3342-ST-28 23/2 1133121"]
[{"$nulls":26},"W980-ST-2 43/2 1191012",null,"W980-ST-2 43/2 1191012",null,"W980-ST-2 43/2 1191012",null,"H3395-ST-12 23/2 1194311",null,"H3395-ST-12 23/2 1194311"]
[{"$nulls":26},"W980-ST-SM 43/2 1191022",null,"W980-ST-SM 43/2 1191022",null,"W980-ST-SM 43/2 1191022",null,"H3398-ST-12 23/2 1195149",null,"H3398-ST-12 23/2 1195149"]
[{"$nulls":32},"H3408-ST-38 23/2 1380385",null,"H3408-ST-38 23/2 1380385"]
[{"$nulls":32},"H3430-ST-22 23/2 1184930",null,"H3430-ST-22 23/2 1184930"]
[{"$nulls":32},"H3433-ST-22 23/2 1197469",null,"H3433-ST-22 23/2 1197469"]
[{"$nulls":32},"H3450-ST-22 23/2 1197468",null,"H3450-ST-22 23/2 1197468"]
[{"$nulls":32},"H3451-ST-22 23/2 1197467",null,"H3451-ST-22 23/2 1197467"]
[{"$nulls":32},"H3453-ST-22 23/2 1184931",null,"H3453-ST-22 23/2 1184931"]
[{"$nulls":32},"H3700-ST-10 23/2 226001",null,"H3700-ST-10 23/2 226001"]
[{"$nulls":32},"H3702-ST-10 23/2 226000",null,"H3702-ST-10 23/2 226000"]
[{"$nulls":32},"H3704-ST-15 23/2 764202",null,"H3704-ST-15 23/2 764202"]
[{"$nulls":32},"H3710-ST-12 23/2 1380329",null,"H3710-ST-12 23/2 1380329"]
[{"$nulls":32},"H3711-ST-9 23/2 1192252",null,"H3711-ST-9 23/2 1192252"]
[{"$nulls":32},"H3730-ST-10 23/2 1122422",null,"H3730-ST-10 23/2 1122422"]
[{"$nulls":32},"H3732-ST-10 23/2 1192221",null,"H3732-ST-10 23/2 1192221"]
[{"$nulls":32},"H3734-ST-9 23/2 757636",null,"H3734-ST-9 23/2 757636"]
[{"$nulls":32},"H3773-ST-9 23/2 1184933",null,"H3773-ST-9 23/2 1184933"]
[{"$nulls":32},"H3840-ST-9 23/2 936747",null,"H3840-ST-9 23/2 936747"]
[{"$nulls":32},"H3860-ST-9 23/2 1187701",null,"H3860-ST-9 23/2 1187701"]
[{"$nulls":32},"H3991-ST-10 23/2 1197466",null,"H3991-ST-10 23/2 1197466"]
[{"$nulls":32},"U104-ST-9 23/2 1197465",null,"U104-ST-9 23/2 1197465"]
[{"$nulls":32},"U108-ST-9 23/2 1197464",null,"U108-ST-9 23/2 1197464"]
[{"$nulls":32},"U113-ST-9 23/2 1197463",null,"U113-ST-9 23/2 1197463"]
[{"$nulls":32},"U114-ST-9 23/2 1197462",null,"U114-ST-9 23/2 1197462"]
[{"$nulls":32},"U131-ST-9 23/2 1196145",null,"U131-ST-9 23/2 1196145"]
[{"$nulls":32},"U156-ST-9 23/2 925164",null,"U156-ST-9 23/2 925164"]
[{"$nulls":32},"U200-ST-9 23/2 1195988",null,"U200-ST-9 23/2 1195988"]
[{"$nulls":32},"U201-ST-19 23/2 1381558",null,"U201-ST-19 23/2 1381558"]
[{"$nulls":32},"U201-ST-9 23/2 1197460",null,"U201-ST-9 23/2 1197460"]
[{"$nulls":32},"U216-ST-9 23/2 1197459",null,"U216-ST-9 23/2 1197459"]
[{"$nulls":32},"U222-ST-9 23/2 1197458",null,"U222-ST-9 23/2 1197458"]
[{"$nulls":32},"U311-ST-9 23/2 1197456",null,"U311-ST-9 23/2 1197456"]
[{"$nulls":32},"U321-ST-9 23/2 1197455",null,"U321-ST-9 23/2 1197455"]
[{"$nulls":32},"U323-ST-9 23/2 1197453",null,"U323-ST-9 23/2 1197453"]
[{"$nulls":32},"U325-ST-9 23/2 1381496",null,"U325-ST-9 23/2 1381496"]
[{"$nulls":32},"U332-ST-9 23/2 1197451",null,"U332-ST-9 23/2 1197451"]
[{"$nulls":32},"U337-ST-9 23/2 239583",null,"U337-ST-9 23/2 239583"]
[{"$nulls":32},"U363-ST-9 23/2 1196140",null,"U363-ST-9 23/2 1196140"]
[{"$nulls":32},"U504-ST-9 23/2 1191881",null,"U504-ST-9 23/2 1191881"]
[{"$nulls":32},"U522-ST-9 23/2 1197449",null,"U522-ST-9 23/2 1197449"]
[{"$nulls":32},"U525-ST-9 23/2 1197448",null,"U525-ST-9 23/2 1197448"]
[{"$nulls":32},"U560-ST-9 23/2 1196173",null,"U560-ST-9 23/2 1196173"]
[{"$nulls":32},"U600-ST-9 23/2 1381188",null,"U600-ST-9 23/2 1381188"]
[{"$nulls":32},"U606-ST-9 23/2 1184905",null,"U606-ST-9 23/2 1184905"]
[{"$nulls":32},"U626-ST-9 23/2 1191630",null,"U626-ST-9 23/2 1191630"]
[{"$nulls":32},"U630-ST-9 23/2 1197445",null,"U630-ST-9 23/2 1197445"]
[{"$nulls":32},"U655-ST-9 23/2 1196170",null,"U655-ST-9 23/2 1196170"]
[{"$nulls":32},"U702-ST-9 23/2 295330",null,"U702-ST-9 23/2 295330"]
[{"$nulls":32},"U707-ST-9 23/2 1197443",null,"U707-ST-9 23/2 1197443"]
[{"$nulls":32},"U708-ST-9 23/2 255162",null,"U708-ST-9 23/2 255162"]
[{"$nulls":32},"U727-ST-9 23/2 971232",null,"U727-ST-9 23/2 971232"]
[{"$nulls":32},"U732-ST-9 23/2 255100",null,"U732-ST-9 23/2 255100"]
[{"$nulls":32},"U741-ST-9 23/2 882432",null,"U741-ST-9 23/2 882432"]
[{"$nulls":32},"U748-ST-9 23/2 1005274",null,"U748-ST-9 23/2 1005274"]
[{"$nulls":32},"U750-ST-9 23/2 239567",null,"U750-ST-9 23/2 239567"]
[{"$nulls":32},"U763-ST-9 23/2 1197438",null,"U763-ST-9 23/2 1197438"]
[{"$nulls":32},"U767-ST-9 23/2 1197437",null,"U767-ST-9 23/2 1197437"]
[{"$nulls":32},"U775-ST-9 23/2 1191303",null,"U775-ST-9 23/2 1191303"]
[{"$nulls":32},"U780-ST-9 23/2 1381899",null,"U780-ST-9 23/2 1381899"]
[{"$nulls":32},"U788-ST-9 23/2 1197435",null,"U788-ST-9 23/2 1197435"]
[{"$nulls":32},"U818-ST-9 23/2 1184934",null,"U818-ST-9 23/2 1184934"]
[{"$nulls":32},"U830-ST-9 23/2 1381867",null,"U830-ST-9 23/2 1381867"]
[{"$nulls":32},"U899-ST-9 23/2 1197434",null,"U899-ST-9 23/2 1197434"]
[{"$nulls":32},"U960-ST-9 23/2 1049575",null,"U960-ST-9 23/2 1049575"]
[{"$nulls":32},"U961-ST-19 23/2 1381839",null,"U961-ST-19 23/2 1381839"]
[{"$nulls":32},"U961-ST-2 23/2 764136",null,"U961-ST-2 23/2 764136"]
[{"$nulls":32},"U963-ST-9 23/2 255096",null,"U963-ST-9 23/2 255096"]
[{"$nulls":32},"U968-ST-9 23/2 1381872",null,"U968-ST-9 23/2 1381872"]
[{"$nulls":32},"U998-ST-38 23/2 1401037",null,"U998-ST-38 23/2 1401037"]
[{"$nulls":32},"U999-ST-19 23/2 1382016",null,"U999-ST-19 23/2 1382016"]
[{"$nulls":32},"U999-ST-2 23/2 764138",null,"U999-ST-2 23/2 764138"]
[{"$nulls":32},"U999-ST-38 23/2 1196680",null,"U999-ST-38 23/2 1196680"]
[{"$nulls":32},"W1000-ST-19 23/2 1381477",null,"W1000-ST-19 23/2 1381477"]
[{"$nulls":32},"W1000-ST-22 23/2 882433",null,"W1000-ST-22 23/2 882433"]
[{"$nulls":32},"W1000-ST-38 23/2 1196660",null,"W1000-ST-38 23/2 1196660"]
[{"$nulls":32},"W1000-ST-9 23/2 764072",null,"W1000-ST-9 23/2 764072"]
[{"$nulls":32},"W1100-ST-9 23/2 977894",null,"W1100-ST-9 23/2 977894"]
[{"$nulls":32},"W908-ST-2 23/2 542956",null,"W908-ST-2 23/2 542956"]
[{"$nulls":32},"W908-ST-SM 23/2 542961",null,"W908-ST-SM 23/2 542961"]
[{"$nulls":32},"W980-ST-2 23/2 703249",null,"W980-ST-2 23/2 703249"]
[{"$nulls":32},"W980-ST-SM 23/2 764064",null,"W980-ST-SM 23/2 764064"]
[{"$nulls":32},"F011-ST-9 43/1.5 1384694",null,"F011-ST-9 43/1.5 1384694"]
[{"$nulls":32},"F012-ST-9 43/1.5 1384695",null,"F012-ST-9 43/1.5 1384695"]
[{"$nulls":32},"F014-ST-9 43/1.5 1384692",null,"F014-ST-9 43/1.5 1384692"]
[{"$nulls":32},"F021-ST-9 43/1.5 1428331",null,"F021-ST-9 43/1.5 1428331"]
[{"$nulls":32},"F028-ST-89 43/1.5 1194318",null,"F028-ST-89 43/1.5 1194318"]
[{"$nulls":32},"F029-ST-89 43/1.5 1194317",null,"F029-ST-89 43/1.5 1194317"]
[{"$nulls":32},"F041-ST-15 43/1.5 1194319",null,"F041-ST-15 43/1.5 1194319"]
[{"$nulls":32},"F059-ST-89 43/1.5 1199282",null,"F059-ST-89 43/1.5 1199282"]
[{"$nulls":32},"F061-ST-89 43/1.5 1191183",null,"F061-ST-89 43/1.5 1191183"]
[{"$nulls":32},"F074-ST-9 43/1.5 1184578",null,"F074-ST-9 43/1.5 1184578"]
[{"$nulls":32},"F076-ST-9 43/1.5 1184579",null,"F076-ST-9 43/1.5 1184579"]
[{"$nulls":32},"F080-ST-82 43/1.5 1194266",null,"F080-ST-82 43/1.5 1194266"]
[{"$nulls":32},"F081-ST-82 43/1.5 1194265",null,"F081-ST-82 43/1.5 1194265"]
[{"$nulls":32},"F092-ST-15 43/1.5 1191181",null,"F092-ST-15 43/1.5 1191181"]
[{"$nulls":32},"F093-ST-15 43/1.5 1195291",null,"F093-ST-15 43/1.5 1195291"]
[{"$nulls":32},"F094-ST-15 43/1.5 1195289",null,"F094-ST-15 43/1.5 1195289"]
[{"$nulls":32},"F095-ST-87 43/1.5 1380351",null,"F095-ST-87 43/1.5 1380351"]
[{"$nulls":32},"F104-ST-2 43/1.5 1194333",null,"F104-ST-2 43/1.5 1194333"]
[{"$nulls":32},"F105-ST-15 43/1.5 1194332",null,"F105-ST-15 43/1.5 1194332"]
[{"$nulls":32},"F110-ST-9 43/1.5 1195284",null,"F110-ST-9 43/1.5 1195284"]
[{"$nulls":32},"F112-ST-9 43/1.5 1380350",null,"F112-ST-9 43/1.5 1380350"]
[{"$nulls":32},"F117-ST-76 43/1.5 1380349",null,"F117-ST-76 43/1.5 1380349"]
[{"$nulls":32},"F121-ST-87 43/1.5 1380984",null,"F121-ST-87 43/1.5 1380984"]
[{"$nulls":32},"F141-ST-15 43/1.5 1184616",null,"F141-ST-15 43/1.5 1184616"]
[{"$nulls":32},"F142-ST-15 43/1.5 1184612",null,"F142-ST-15 43/1.5 1184612"]
[{"$nulls":32},"F147-ST-82 43/1.5 1194337",null,"F147-ST-82 43/1.5 1194337"]
[{"$nulls":32},"F148-ST-82 43/1.5 1194349",null,"F148-ST-82 43/1.5 1194349"]
[{"$nulls":32},"F160-ST-9 43/1.5 1194347",null,"F160-ST-9 43/1.5 1194347"]
[{"$nulls":32},"F166-ST-9 43/1.5 1194346",null,"F166-ST-9 43/1.5 1194346"]
[{"$nulls":32},"F186-ST-9 43/1.5 1189772",null,"F186-ST-9 43/1.5 1189772"]
[{"$nulls":32},"F187-ST-9 43/1.5 1195275",null,"F187-ST-9 43/1.5 1195275"]
[{"$nulls":32},"F204-ST-75 43/1.5 1381018",null,"F204-ST-75 43/1.5 1381018"]
[{"$nulls":32},"F205-ST-9 43/1.5 1381007",null,"F205-ST-9 43/1.5 1381007"]
[{"$nulls":32},"F206-ST-9 43/1.5 1380910",null,"F206-ST-9 43/1.5 1380910"]
[{"$nulls":32},"F221-ST-87 43/1.5 1090814",null,"F221-ST-87 43/1.5 1090814"]
[{"$nulls":32},"F222-ST-87 43/1.5 1090813",null,"F222-ST-87 43/1.5 1090813"]
[{"$nulls":32},"F242-ST-10 43/1.5 1380945",null,"F242-ST-10 43/1.5 1380945"]
[{"$nulls":32},"F256-ST-87 43/1.5 1090812",null,"F256-ST-87 43/1.5 1090812"]
[{"$nulls":32},"F274-ST-9 43/1.5 1194361",null,"F274-ST-9 43/1.5 1194361"]
[{"$nulls":32},"F275-ST-9 43/1.5 1194461",null,"F275-ST-9 43/1.5 1194461"]
[{"$nulls":32},"F292-ST-9 43/1.5 1194467",null,"F292-ST-9 43/1.5 1194467"]
[{"$nulls":32},"F302-ST-87 43/1.5 1194473",null,"F302-ST-87 43/1.5 1194473"]
[{"$nulls":32},"F303-ST-87 43/1.5 1194491",null,"F303-ST-87 43/1.5 1194491"]
[{"$nulls":32},"F310-ST-87 43/1.5 1090811",null,"F310-ST-87 43/1.5 1090811"]
[{"$nulls":32},"F311-ST-87 43/1.5 1090810",null,"F311-ST-87 43/1.5 1090810"]
[{"$nulls":32},"F312-ST-87 43/1.5 1090749",null,"F312-ST-87 43/1.5 1090749"]
[{"$nulls":32},"F333-ST-76 43/1.5 1380923",null,"F333-ST-76 43/1.5 1380923"]
[{"$nulls":32},"F371-ST-82 43/1.5 1194519",null,"F371-ST-82 43/1.5 1194519"]
[{"$nulls":32},"F371-ST-89 43/1.5 1415211",null,"F371-ST-89 43/1.5 1415211"]
[{"$nulls":32},"F385-ST-10 43/1.5 1194579",null,"F385-ST-10 43/1.5 1194579"]
[{"$nulls":32},"F484-ST-87 43/1.5 1381071",null,"F484-ST-87 43/1.5 1381071"]
[{"$nulls":32},"F502-ST-2 43/1.5 1199883",null,"F502-ST-2 43/1.5 1199883"]
[{"$nulls":32},"F508-ST-10 43/1.5 1380736",null,"F508-ST-10 43/1.5 1380736"]
[{"$nulls":32},"F547-ST-9 43/1.5 1199255",null,"F547-ST-9 43/1.5 1199255"]
[{"$nulls":32},"F637-ST-16 43/1.5 1380679",null,"F637-ST-16 43/1.5 1380679"]
[{"$nulls":32},"F812-ST-9 43/1.5 1380847",null,"F812-ST-9 43/1.5 1380847"]
[{"$nulls":32},"H050-ST-9 43/1.5 1382050",null,"H050-ST-9 43/1.5 1382050"]
[{"$nulls":32},"H110-ST-9 43/1.5 1194260",null,"H110-ST-9 43/1.5 1194260"]
[{"$nulls":32},"H111-ST-12 43/1.5 1194247",null,"H111-ST-12 43/1.5 1194247"]
[{"$nulls":32},"H1145-ST-10 43/1.5 1090748",null,"H1145-ST-10 43/1.5 1090748"]
[{"$nulls":32},"H1176-ST-37 43/1.5 1382005",null,"H1176-ST-37 43/1.5 1382005"]
[{"$nulls":32},"H1180-ST-37 43/1.5 1090746",null,"H1180-ST-37 43/1.5 1090746"]
[{"$nulls":32},"H1181-ST-37 43/1.5 1090745",null,"H1181-ST-37 43/1.5 1090745"]
[{"$nulls":32},"H1199-ST-12 43/1.5 1193977",null,"H1199-ST-12 43/1.5 1193977"]
[{"$nulls":32},"H1313-ST-10 43/1.5 1381657",null,"H1313-ST-10 43/1.5 1381657"]
[{"$nulls":32},"H1318-ST-10 43/1.5 1381638",null,"H1318-ST-10 43/1.5 1381638"]
[{"$nulls":32},"H1344-ST-32 43/1.5 1381811",null,"H1344-ST-32 43/1.5 1381811"]
[{"$nulls":32},"H1401-ST-22 43/1.5 1193849",null,"H1401-ST-22 43/1.5 1193849"]
[{"$nulls":32},"H1486-ST-36 43/1.5 1380493",null,"H1486-ST-36 43/1.5 1380493"]
[{"$nulls":32},"H148-ST-10 43/1.5 1191865",null,"H148-ST-10 43/1.5 1191865"]
[{"$nulls":32},"H193-ST-12 43/1.5 1384740",null,"H193-ST-12 43/1.5 1384740"]
[{"$nulls":32},"H194-ST-12 43/1.5 1384741",null,"H194-ST-12 43/1.5 1384741"]
[{"$nulls":32},"H195-ST-10 43/1.5 1384698",null,"H195-ST-10 43/1.5 1384698"]
[{"$nulls":32},"H197-ST-10 43/1.5 1384699",null,"H197-ST-10 43/1.5 1384699"]
[{"$nulls":32},"H198-ST-10 43/1.5 1384696",null,"H198-ST-10 43/1.5 1384696"]
[{"$nulls":32},"H2031-ST-10 43/1.5 1380470",null,"H2031-ST-10 43/1.5 1380470"]
[{"$nulls":32},"H2032-ST-10 43/1.5 1380469",null,"H2032-ST-10 43/1.5 1380469"]
[{"$nulls":32},"H2033-ST-10 43/1.5 1380452",null,"H2033-ST-10 43/1.5 1380452"]
[{"$nulls":32},"H2415-ST-10 43/1.5 1184611",null,"H2415-ST-10 43/1.5 1184611"]
[{"$nulls":32},"H3133-ST-12 43/1.5 1195092",null,"H3133-ST-12 43/1.5 1195092"]
[{"$nulls":32},"H3176-ST-37 43/1.5 1380581",null,"H3176-ST-37 43/1.5 1380581"]
[{"$nulls":32},"H3303-ST-10 43/1.5 1090744",null,"H3303-ST-10 43/1.5 1090744"]
[{"$nulls":32},"H3309-ST-28 43/1.5 1090743",null,"H3309-ST-28 43/1.5 1090743"]
[{"$nulls":32},"H3325-ST-28 43/1.5 1090742",null,"H3325-ST-28 43/1.5 1090742"]
[{"$nulls":32},"H3330-ST-36 43/1.5 1380207",null,"H3330-ST-36 43/1.5 1380207"]
[{"$nulls":32},"H3331-ST-10 43/1.5 1193077",null,"H3331-ST-10 43/1.5 1193077"]
[{"$nulls":32},"H3332-ST-10 43/1.5 1090741",null,"H3332-ST-10 43/1.5 1090741"]
[{"$nulls":32},"H3702-ST-10 43/1.5 1192285",null,"H3702-ST-10 43/1.5 1192285"]
[{"$nulls":32},"H3704-ST-15 43/1.5 1192273",null,"H3704-ST-15 43/1.5 1192273"]
[{"$nulls":32},"H3730-ST-10 43/1.5 1380311",null,"H3730-ST-10 43/1.5 1380311"]
[{"$nulls":32},"H3860-ST-9 43/1.5 1192145",null,"H3860-ST-9 43/1.5 1192145"]
[{"$nulls":32},"Q1180-RO 43/1.5 1189589",null,"Q1180-RO 43/1.5 1189589"]
[{"$nulls":32},"Q1181-RO 43/1.5 1090745",null,"Q1181-RO 43/1.5 1090745"]
[{"$nulls":32},"Q3325-RO 43/1.5 1090742",null,"Q3325-RO 43/1.5 1090742"]
[{"$nulls":32},"Q3326-RO 43/1.5 1380281",null,"Q3326-RO 43/1.5 1380281"]
[{"$nulls":32},"U702-ST-89 43/1.5 1090819",null,"U702-ST-89 43/1.5 1090819"]
[{"$nulls":32},"U763-ST-76 43/1.5 1189864",null,"U763-ST-76 43/1.5 1189864"]
[{"$nulls":32},"U960-ST-76 43/1.5 1194682",null,"U960-ST-76 43/1.5 1194682"]
[{"$nulls":32},"U999-ST-89 43/1.5 1090640",null,"U999-ST-89 43/1.5 1090640"]
[{"$nulls":32},"W1000-ST-76 43/1.5 1194681",null,"W1000-ST-76 43/1.5 1194681"]
[{"$nulls":32},"W1000-ST-89 43/1.5 1090641",null,"W1000-ST-89 43/1.5 1090641"]
[{"$nulls":32},"F186-ST-9 43/2 1380975",null,"F186-ST-9 43/2 1380975"]
[{"$nulls":32},"F187-ST-9 43/2 1380959",null,"F187-ST-9 43/2 1380959"]
[{"$nulls":32},"F204-ST-9 43/2 1381022",null,"F204-ST-9 43/2 1381022"]
[{"$nulls":32},"F206-ST-9 43/2 1380911",null,"F206-ST-9 43/2 1380911"]
[{"$nulls":32},"F302-ST-87 43/2 1380936",null,"F302-ST-87 43/2 1380936"]
[{"$nulls":32},"F416-ST-10 43/2 1381088",null,"F416-ST-10 43/2 1381088"]
[{"$nulls":32},"F425-ST-10 43/2 1194526",null,"F425-ST-10 43/2 1194526"]
[{"$nulls":32},"F433-ST-10 43/2 1196922",null,"F433-ST-10 43/2 1196922"]
[{"$nulls":32},"F501-ST-2 43/2 1380737",null,"F501-ST-2 43/2 1380737"]
[{"$nulls":32},"F509-ST-2 43/2 1380732",null,"F509-ST-2 43/2 1380732"]
[{"$nulls":32},"F570-ST-2 43/2 1194420",null,"F570-ST-2 43/2 1194420"]
[{"$nulls":32},"F571-ST-2 43/2 1194398",null,"F571-ST-2 43/2 1194398"]
[{"$nulls":32},"F637-ST-16 43/2 1380682",null,"F637-ST-16 43/2 1380682"]
[{"$nulls":32},"F642-ST-16 43/2 1380706",null,"F642-ST-16 43/2 1380706"]
[{"$nulls":32},"F812-ST-9 43/2 1380850",null,"F812-ST-9 43/2 1380850"]
[{"$nulls":32},"H1101-ST-12 43/2 1196921",null,"H1101-ST-12 43/2 1196921"]
[{"$nulls":32},"H1113-ST-10 43/2 1382046",null,"H1113-ST-10 43/2 1382046"]
[{"$nulls":32},"H1114-ST-9 43/2 1200400",null,"H1114-ST-9 43/2 1200400"]
[{"$nulls":32},"H1115-ST-12 43/2 1381983",null,"H1115-ST-12 43/2 1381983"]
[{"$nulls":32},"H1116-ST-12 43/2 1197286",null,"H1116-ST-12 43/2 1197286"]
[{"$nulls":32},"H1122-ST-22 43/2 1381979",null,"H1122-ST-22 43/2 1381979"]
[{"$nulls":32},"H1123-ST-22 43/2 1381973",null,"H1123-ST-22 43/2 1381973"]
[{"$nulls":32},"H1137-ST-12 43/2 1381969",null,"H1137-ST-12 43/2 1381969"]
[{"$nulls":32},"H1145-ST-10 43/2 1425019",null,"H1145-ST-10 43/2 1425019"]
[{"$nulls":32},"H1146-ST-10 43/2 1425111",null,"H1146-ST-10 43/2 1425111"]
[{"$nulls":32},"H1151-ST-10 43/2 1382011",null,"H1151-ST-10 43/2 1382011"]
[{"$nulls":32},"H1176-ST-37 43/2 1382007",null,"H1176-ST-37 43/2 1382007"]
[{"$nulls":32},"H1180-ST-37 43/2 1382002",null,"H1180-ST-37 43/2 1382002"]
[{"$nulls":32},"H1181-ST-37 43/2 1381997",null,"H1181-ST-37 43/2 1381997"]
[{"$nulls":32},"H1199-ST-12 43/2 1381991",null,"H1199-ST-12 43/2 1381991"]
[{"$nulls":32},"H1210-ST-33 43/2 1381988",null,"H1210-ST-33 43/2 1381988"]
[{"$nulls":32},"H1212-ST-33 43/2 1381986",null,"H1212-ST-33 43/2 1381986"]
[{"$nulls":32},"H1213-ST-33 43/2 1197280",null,"H1213-ST-33 43/2 1197280"]
[{"$nulls":32},"H1250-ST-36 43/2 1381692",null,"H1250-ST-36 43/2 1381692"]
[{"$nulls":32},"H1251-ST-19 43/2 1381676",null,"H1251-ST-19 43/2 1381676"]
[{"$nulls":32},"H1253-ST-19 43/2 1381702",null,"H1253-ST-19 43/2 1381702"]
[{"$nulls":32},"H1277-ST-9 43/2 1381697",null,"H1277-ST-9 43/2 1381697"]
[{"$nulls":32},"H1312-ST-10 43/2 1381620",null,"H1312-ST-10 43/2 1381620"]
[{"$nulls":32},"H1313-ST-10 43/2 1381659",null,"H1313-ST-10 43/2 1381659"]
[{"$nulls":32},"H1318-ST-10 43/2 1381639",null,"H1318-ST-10 43/2 1381639"]
[{"$nulls":32},"H1330-ST-10 43/2 1381796",null,"H1330-ST-10 43/2 1381796"]
[{"$nulls":32},"H1334-ST-9 43/2 1381781",null,"H1334-ST-9 43/2 1381781"]
[{"$nulls":32},"H1344-ST-32 43/2 1381812",null,"H1344-ST-32 43/2 1381812"]
[{"$nulls":32},"H1345-ST-32 43/2 1381735",null,"H1345-ST-32 43/2 1381735"]
[{"$nulls":32},"H1346-ST-32 43/2 1381775",null,"H1346-ST-32 43/2 1381775"]
[{"$nulls":32},"H1387-ST-10 43/2 1193855",null,"H1387-ST-10 43/2 1193855"]
[{"$nulls":32},"H1394-ST-9 43/2 1276286",null,"H1394-ST-9 43/2 1276286"]
[{"$nulls":32},"H1399-ST-10 43/2 1381752",null,"H1399-ST-10 43/2 1381752"]
[{"$nulls":32},"H1400-ST-36 43/2 1197279",null,"H1400-ST-36 43/2 1197279"]
[{"$nulls":32},"H1401-ST-22 43/2 1380503",null,"H1401-ST-22 43/2 1380503"]
[{"$nulls":32},"H1424-ST-22 43/2 1380499",null,"H1424-ST-22 43/2 1380499"]
[{"$nulls":32},"H1444-ST-9 43/2 1193805",null,"H1444-ST-9 43/2 1193805"]
[{"$nulls":32},"H1486-ST-36 43/2 1380495",null,"H1486-ST-36 43/2 1380495"]
[{"$nulls":32},"H1487-ST-22 43/2 1380489",null,"H1487-ST-22 43/2 1380489"]
[{"$nulls":32},"H1511-ST-15 43/2 1380485",null,"H1511-ST-15 43/2 1380485"]
[{"$nulls":32},"H1555-ST-15 43/2 1461124",null,"H1555-ST-15 43/2 1461124"]
[{"$nulls":32},"H1582-ST-15 43/2 1380483",null,"H1582-ST-15 43/2 1380483"]
[{"$nulls":32},"H1599-ST-15 43/2 1276288",null,"H1599-ST-15 43/2 1276288"]
[{"$nulls":32},"H1615-ST-9 43/2 1380537",null,"H1615-ST-9 43/2 1380537"]
[{"$nulls":32},"H1636-ST-12 43/2 1380532",null,"H1636-ST-12 43/2 1380532"]
[{"$nulls":32},"H1706-ST-15 43/2 1276302",null,"H1706-ST-15 43/2 1276302"]
[{"$nulls":32},"H1709-ST-15 43/2 1276285",null,"H1709-ST-15 43/2 1276285"]
[{"$nulls":32},"H1710-ST-10 43/2 1380435",null,"H1710-ST-10 43/2 1380435"]
[{"$nulls":32},"H1714-ST-19 43/2 1380476",null,"H1714-ST-19 43/2 1380476"]
[{"$nulls":32},"H1733-ST-9 43/2 1380471",null,"H1733-ST-9 43/2 1380471"]
[{"$nulls":32},"H2033-ST-10 43/2 1380454",null,"H2033-ST-10 43/2 1380454"]
[{"$nulls":32},"H3006-ST-22 43/2 1461298",null,"H3006-ST-22 43/2 1461298"]
[{"$nulls":32},"H3012-ST-22 43/2 1380617",null,"H3012-ST-22 43/2 1380617"]
[{"$nulls":32},"H3047-ST-10 43/2 1193515",null,"H3047-ST-10 43/2 1193515"]
[{"$nulls":32},"H3048-ST-10 43/2 1193497",null,"H3048-ST-10 43/2 1193497"]
[{"$nulls":32},"H3058-ST-22 43/2 1380614",null,"H3058-ST-22 43/2 1380614"]
[{"$nulls":32},"H3080-ST-15 43/2 1193482",null,"H3080-ST-15 43/2 1193482"]
[{"$nulls":32},"H3081-ST-22 43/2 1193490",null,"H3081-ST-22 43/2 1193490"]
[{"$nulls":32},"H3090-ST-22 43/2 1380610",null,"H3090-ST-22 43/2 1380610"]
[{"$nulls":32},"H3113-ST-15 43/2 1193451",null,"H3113-ST-15 43/2 1193451"]
[{"$nulls":32},"H3114-ST-9 43/2 1193422",null,"H3114-ST-9 43/2 1193422"]
[{"$nulls":32},"H3131-ST-12 43/2 1380604",null,"H3131-ST-12 43/2 1380604"]
[{"$nulls":32},"H3133-ST-12 43/2 1380599",null,"H3133-ST-12 43/2 1380599"]
[{"$nulls":32},"H3146-ST-19 43/2 1380643",null,"H3146-ST-19 43/2 1380643"]
[{"$nulls":32},"H3154-ST-36 43/2 1380635",null,"H3154-ST-36 43/2 1380635"]
[{"$nulls":32},"H3156-ST-12 43/2 1380630",null,"H3156-ST-12 43/2 1380630"]
[{"$nulls":32},"H3157-ST-12 43/2 1380562",null,"H3157-ST-12 43/2 1380562"]
[{"$nulls":32},"H3170-ST-12 43/2 1380544",null,"H3170-ST-12 43/2 1380544"]
[{"$nulls":32},"H3176-ST-37 43/2 1380583",null,"H3176-ST-37 43/2 1380583"]
[{"$nulls":32},"H3178-ST-37 43/2 1380275",null,"H3178-ST-37 43/2 1380275"]
[{"$nulls":32},"H3190-ST-19 43/2 1380258",null,"H3190-ST-19 43/2 1380258"]
[{"$nulls":32},"H3192-ST-19 43/2 1380297",null,"H3192-ST-19 43/2 1380297"]
[{"$nulls":32},"H3303-ST-10 43/2 1425121",null,"H3303-ST-10 43/2 1425121"]
[{"$nulls":32},"H3309-ST-28 43/2 1380287",null,"H3309-ST-28 43/2 1380287"]
[{"$nulls":32},"H3325-ST-28 43/2 1380284",null,"H3325-ST-28 43/2 1380284"]
[{"$nulls":32},"H3326-ST-28 43/2 1380281",null,"H3326-ST-28 43/2 1380281"]
[{"$nulls":32},"H3330-ST-36 43/2 1380208",null,"H3330-ST-36 43/2 1380208"]
[{"$nulls":32},"H3331-ST-10 43/2 1380151",null,"H3331-ST-10 43/2 1380151"]
[{"$nulls":32},"H3342-ST-28 43/2 1193041",null,"H3342-ST-28 43/2 1193041"]
[{"$nulls":32},"H3395-ST-12 43/2 1380229",null,"H3395-ST-12 43/2 1380229"]
[{"$nulls":32},"H3398-ST-12 43/2 1380224",null,"H3398-ST-12 43/2 1380224"]
[{"$nulls":32},"H3408-ST-38 43/2 1380376",null,"H3408-ST-38 43/2 1380376"]
[{"$nulls":32},"H3430-ST-22 43/2 1380367",null,"H3430-ST-22 43/2 1380367"]
[{"$nulls":32},"H3433-ST-22 43/2 1380419",null,"H3433-ST-22 43/2 1380419"]
[{"$nulls":32},"H3450-ST-22 43/2 1380414",null,"H3450-ST-22 43/2 1380414"]
[{"$nulls":32},"H3451-ST-22 43/2 1380408",null,"H3451-ST-22 43/2 1380408"]
[{"$nulls":32},"H3453-ST-22 43/2 1380404",null,"H3453-ST-22 43/2 1380404"]
[{"$nulls":32},"H3700-ST-10 43/2 1380396",null,"H3700-ST-10 43/2 1380396"]
[{"$nulls":32},"H3702-ST-10 43/2 1380335",null,"H3702-ST-10 43/2 1380335"]
[{"$nulls":32},"H3704-ST-15 43/2 1461223",null,"H3704-ST-15 43/2 1461223"]
[{"$nulls":32},"H3710-ST-12 43/2 1380320",null,"H3710-ST-12 43/2 1380320"]
[{"$nulls":32},"H3711-ST-9 43/2 1192229",null,"H3711-ST-9 43/2 1192229"]
[{"$nulls":32},"H3730-ST-10 43/2 1380312",null,"H3730-ST-10 43/2 1380312"]
[{"$nulls":32},"H3732-ST-10 43/2 1192216",null,"H3732-ST-10 43/2 1192216"]
[{"$nulls":32},"H3734-ST-9 43/2 1380309",null,"H3734-ST-9 43/2 1380309"]
[{"$nulls":32},"H3773-ST-9 43/2 1192162",null,"H3773-ST-9 43/2 1192162"]
[{"$nulls":32},"H3840-ST-9 43/2 1380363",null,"H3840-ST-9 43/2 1380363"]
[{"$nulls":32},"H3860-ST-9 43/2 1380359",null,"H3860-ST-9 43/2 1380359"]
[{"$nulls":32},"H3991-ST-10 43/2 1197258",null,"H3991-ST-10 43/2 1197258"]
[{"$nulls":32},"U104-ST-9 43/2 1381379",null,"U104-ST-9 43/2 1381379"]
[{"$nulls":32},"U108-ST-9 43/2 1381429",null,"U108-ST-9 43/2 1381429"]
[{"$nulls":32},"U113-ST-9 43/2 1381424",null,"U113-ST-9 43/2 1381424"]
[{"$nulls":32},"U114-ST-9 43/2 1381418",null,"U114-ST-9 43/2 1381418"]
[{"$nulls":32},"U131-ST-9 43/2 1381412",null,"U131-ST-9 43/2 1381412"]
[{"$nulls":32},"U156-ST-9 43/2 1381402",null,"U156-ST-9 43/2 1381402"]
[{"$nulls":32},"U200-ST-9 43/2 1381568",null,"U200-ST-9 43/2 1381568"]
[{"$nulls":32},"U201-ST-19 43/2 1381549",null,"U201-ST-19 43/2 1381549"]
[{"$nulls":32},"U201-ST-9 43/2 1381564",null,"U201-ST-9 43/2 1381564"]
[{"$nulls":32},"U216-ST-9 43/2 1381599",null,"U216-ST-9 43/2 1381599"]
[{"$nulls":32},"U222-ST-9 43/2 1381596",null,"U222-ST-9 43/2 1381596"]
[{"$nulls":32},"U311-ST-9 43/2 1381578",null,"U311-ST-9 43/2 1381578"]
[{"$nulls":32},"U321-ST-9 43/2 1381510",null,"U321-ST-9 43/2 1381510"]
[{"$nulls":32},"U323-ST-9 43/2 1381504",null,"U323-ST-9 43/2 1381504"]
[{"$nulls":32},"U325-ST-9 43/2 1381545",null,"U325-ST-9 43/2 1381545"]
[{"$nulls":32},"U332-ST-9 43/2 1381529",null,"U332-ST-9 43/2 1381529"]
[{"$nulls":32},"U337-ST-9 43/2 1381523",null,"U337-ST-9 43/2 1381523"]
[{"$nulls":32},"U363-ST-9 43/2 1381221",null,"U363-ST-9 43/2 1381221"]
[{"$nulls":32},"U504-ST-9 43/2 1381233",null,"U504-ST-9 43/2 1381233"]
[{"$nulls":32},"U522-ST-9 43/2 1381162",null,"U522-ST-9 43/2 1381162"]
[{"$nulls":32},"U525-ST-9 43/2 1381157",null,"U525-ST-9 43/2 1381157"]
[{"$nulls":32},"U560-ST-9 43/2 1196905",null,"U560-ST-9 43/2 1196905"]
[{"$nulls":32},"U600-ST-9 43/2 1381179",null,"U600-ST-9 43/2 1381179"]
[{"$nulls":32},"U606-ST-9 43/2 1191799",null,"U606-ST-9 43/2 1191799"]
[{"$nulls":32},"U626-ST-9 43/2 1381333",null,"U626-ST-9 43/2 1381333"]
[{"$nulls":32},"U630-ST-9 43/2 1381329",null,"U630-ST-9 43/2 1381329"]
[{"$nulls":32},"U655-ST-9 43/2 1196902",null,"U655-ST-9 43/2 1196902"]
[{"$nulls":32},"U702-ST-9 43/2 1381352",null,"U702-ST-9 43/2 1381352"]
[{"$nulls":32},"U707-ST-9 43/2 1381274",null,"U707-ST-9 43/2 1381274"]
[{"$nulls":32},"U708-ST-9 43/2 1381272",null,"U708-ST-9 43/2 1381272"]
[{"$nulls":32},"U727-ST-9 43/2 1381259",null,"U727-ST-9 43/2 1381259"]
[{"$nulls":32},"U732-ST-30 43/2 1197232",null,"U732-ST-30 43/2 1197232"]
[{"$nulls":32},"U732-ST-9 43/2 1381310",null,"U732-ST-9 43/2 1381310"]
[{"$nulls":32},"U741-ST-9 43/2 1381290",null,"U741-ST-9 43/2 1381290"]
[{"$nulls":32},"U748-ST-9 43/2 1381925",null,"U748-ST-9 43/2 1381925"]
[{"$nulls":32},"U750-ST-9 43/2 1381920",null,"U750-ST-9 43/2 1381920"]
[{"$nulls":32},"U763-ST-9 43/2 1381916",null,"U763-ST-9 43/2 1381916"]
[{"$nulls":32},"U767-ST-9 43/2 1381910",null,"U767-ST-9 43/2 1381910"]
[{"$nulls":32},"U775-ST-9 43/2 1381905",null,"U775-ST-9 43/2 1381905"]
[{"$nulls":32},"U780-ST-9 43/2 1381948",null,"U780-ST-9 43/2 1381948"]
[{"$nulls":32},"U788-ST-9 43/2 1381940",null,"U788-ST-9 43/2 1381940"]
[{"$nulls":32},"U818-ST-9 43/2 1381931",null,"U818-ST-9 43/2 1381931"]
[{"$nulls":32},"U830-ST-9 43/2 1381858",null,"U830-ST-9 43/2 1381858"]
[{"$nulls":32},"U899-ST-9 43/2 1381851",null,"U899-ST-9 43/2 1381851"]
[{"$nulls":32},"U960-ST-9 43/2 1381847",null,"U960-ST-9 43/2 1381847"]
[{"$nulls":32},"U961-ST-19 43/2 1381888",null,"U961-ST-19 43/2 1381888"]
[{"$nulls":32},"U961-ST-2 43/2 1381845",null,"U961-ST-2 43/2 1381845"]
[{"$nulls":32},"U963-ST-9 43/2 1381878",null,"U963-ST-9 43/2 1381878"]
[{"$nulls":32},"U968-ST-9 43/2 1382037",null,"U968-ST-9 43/2 1382037"]
[{"$nulls":32},"U998-ST-38 43/2 1401046",null,"U998-ST-38 43/2 1401046"]
[{"$nulls":32},"U999-ST-19 43/2 1382064",null,"U999-ST-19 43/2 1382064"]
[{"$nulls":32},"U999-ST-2 43/2 1382028",null,"U999-ST-2 43/2 1382028"]
[{"$nulls":32},"U999-ST-38 43/2 1196682",null,"U999-ST-38 43/2 1196682"]
[{"$nulls":32},"W1000-ST-19 43/2 1381468",null,"W1000-ST-19 43/2 1381468"]
[{"$nulls":32},"W1000-ST-22 43/2 1461299",null,"W1000-ST-22 43/2 1461299"]
[{"$nulls":32},"W1000-ST-38 43/2 1381460",null,"W1000-ST-38 43/2 1381460"]
[{"$nulls":32},"W1000-ST-9 43/2 1381483",null,"W1000-ST-9 43/2 1381483"]
[{"$nulls":32},"W1100-ST-9 43/2 1381394",null,"W1100-ST-9 43/2 1381394"]
[{"$nulls":32},"W908-ST-2 43/2 1381454",null,"W908-ST-2 43/2 1381454"]
[{"$nulls":32},"W908-ST-SM 43/2 1381456",null,"W908-ST-SM 43/2 1381456"]
[{"$nulls":32},"W980-ST-2 43/2 1381438",null,"W980-ST-2 43/2 1381438"]
[{"$nulls":32},"W980-ST-SM 43/2 1381439",null,"W980-ST-SM 43/2 1381439"]

{"sheet":"P.V.","index":3,"n_rows":41,"n_cols":7,"rows_kept":41,"merged":[[6,1,6,3],[9,1,9,2],[9,4,9,6],[11,2,11,5],[12,1,12,3],[17,1,17,3],[20,1,20,3],[32,3,32,6],[40,1,40,3]]}
[]
[]
["PROCES VERBAL PREDARE PRIMIRE ELEMENTE PRELUCRATE"]
[]
["Comanda nr:",{"$f":"Comanda!$C$2","v":0}]
["Data tiparire:",{"$f":"TODAY()","v":"2022-01-12"},{"$nulls":4},"GLOBAL DESIGN s.r.l."]
["Client:",{"$f":"Comanda!$C$5","v":0},{"$nulls":4},"Calea Unirii 31 A, Suceava, RO"]
[]
[]
["Astazi,",{"$f":"TODAY()","v":"2022-01-12"},null,"subsemnatul"]
["reprezentant al GLOBAL DESIGN s.r.l. Suceava, am procedat la predarea comenzii numarul:",{"$nulls":5},{"$f":"Comanda!C2","v":0}]
["catre reprezentantul:",null,{"$f":"Comanda!C5","v":0},{"$nulls":3},",reprezentant"]
["prin dl/dna:",{"$f":"Comanda!C6","v":0}]
[]
["Continut livrat, in confirmitate cu solicitarea clientului, transmisa prin formularele de comanda:"]
["Total repere:",{"$f":"Export!F203","v":0},"[buc]"]
["Supr. repere:",{"$f":"Antecalculatie!E19","v":{"v":0,"d":"0.00"}},"[mp]"]
["Décor:",{"$f":"Antecalculatie!C19","v":0}]
[]
["Lungime cant 1:",{"$f":"Antecalculatie!E22","v":0},"[ml]"]
["Décor cant 1:",{"$f":"Antecalculatie!C22","v":0}]
[]
["Lungime cant 2:",{"$f":"Antecalculatie!E23","v":0},"[ml]"]
["Décor cant 2:",{"$f":"Antecalculatie!C23","v":0}]
[]
["Lungime cant 3:",{"$f":"Antecalculatie!E24","v":0},"[ml]"]
["Décor cant 3:",{"$f":"Antecalculatie!C24","v":0}]
[]
["Lungime cant 4:",{"$f":"Antecalculatie!E25","v":0},"[ml]"]
["Décor cant 4:",{"$f":"Antecalculatie!C25","v":0}]
[]
["Reperele preluate, corespund din punct de vedere calitativ si cantitativ cu datele de mai sus."]
["La receptia produselor, reprezentantul clientului:",null,null,{"$f":"B7","v":0}]
["are obligatia de a verifica elementele livrate atat calitativ cat si cantitativ."]
[]
["Reclamatiile ulterioare, semnarii prezentului proces verbal, nu vor fi luate in considerare."]
[]
[]
[]
["Am primit,",{"$nulls":3},"Am predat,"]
["Reprezentant:",{"$f":"B7","v":0},{"$nulls":4},"Reprezentant Global Design s.r.l. Suceava"]

{"sheet":"NOTA PRODUCTIE","index":4,"n_rows":46,"n_cols":7,"rows_kept":46,"merged":[[1,3,1,4],[3,1,3,3],[5,1,7,4],[9,1,9,2],[9,3,12,3],[9,5,12,5],[10,1,10,2],[11,1,11,2],[12,1,12,2],[17,1,17,3],[20,1,20,3],[42,2,42,3],[43,2,43,3],[45,2,45,3],[51,1,51,3]]}
["NOTA PRODUCTIE COMANDA CLIENT"]
["Comanda nr:",{"$f":"Comanda!$C$2","v":0},"Data lansarii:"]
["Data tiparire:",{"$f":"TODAY()","v":"2022-01-12"}]
["Client:",{"$f":"Comanda!$C$5","v":0}]
[]
["Observatii:",{"$nulls":5},"GLOBAL DESIGN s.r.l."]
[{"$nulls":6},"Calea Unirii 31 A, Suceava, RO"]
[]
[]
["Oper. debitare:",null,null,"Data:",null,"Schimb:"]
["Oper. Cantuire:"]
["Oper. CNC:"]
["Oper. Dubl Pan.:"]
[]
["Continut comanda, in confirmitate cu solicitarea clientului:"]
["Total repere:",{"$f":"Export!F203","v":0},"[buc]"]
["Supr. repere:",{"$f":"Antecalculatie!E19","v":{"v":0,"d":"0.00"}},"[mp]"]
["Décor:",{"$f":"Antecalculatie!C19","v":0}]
[]
["Lungime cant 1:",{"$f":"Antecalculatie!E22","v":0},"[ml]"]
["Décor cant 1:",{"$f":"Antecalculatie!C22","v":0}]
[]
["Lungime cant 2:",{"$f":"Antecalculatie!E23","v":0},"[ml]"]
["Décor cant 2:",{"$f":"Antecalculatie!C23","v":0}]
[]
["Lungime cant 3:",{"$f":"Antecalculatie!E24","v":0},"[ml]"]
["Décor cant 3:",{"$f":"Antecalculatie!C24","v":0}]
[]
["Lungime cant 4:",{"$f":"Antecalculatie!E25","v":0},"[ml]"]
["Décor cant 4:",{"$f":"Antecalculatie!C25","v":0}]
[null,"DEBITARE CNC","GAURI BALAM.","CANT CURB."]
["Prelucrari suplim:",{"$f":"Antecalculatie!E28","v":0},{"$f":"Antecalculatie!E30","v":0},{"$f":"Antecalculatie!E27","v":0}]
[]
[]
["Reperele prelucrate, corespund din punct de vedere calitativ si cantitativ cu datele de mai sus."]
[]
["La predarea catre urmatoarea faza de prelucrare, fiecare operator are sarcina sa verifice, cantitativ si calitativ"]
["corectitudinea opeartiilor efectuate si a cantatatii de repere, pentru care smeneaza si confirma in campurile de mai"]
["sus."]
[]
["Reclamatiile ulterioare, semnarii prezentului proces verbal, nu vor fi luate in considerare."]
[]
["Data finalizare comanda:"]
["Receptia finala:"]
[]
["Am preluat / sef de sectie:"]

{"sheet":"Export","index":5,"n_rows":203,"n_cols":64,"rows_kept":203,"merged":[[0,0,1,0],[0,1,1,1],[0,2,1,2],[0,3,1,3],[0,4,1,4],[0,5,1,5],[0,6,1,6],[0,7,0,10],[0,11,1,11],[0,12,1,12],[0,13,1,13],[0,14,1,14],[0,15,1,15],[0,16,1,16],[0,17,1,17],[0,18,1,18],[0,19,1,19],[0,20,1,20],[0,21,1,21],[0,22,1,22],[0,23,1,23],[0,24,0,38],[0,39,1,39],[0,41,1,41],[0,43,0,46],[0,48,0,51],[0,53,0,56],[0,58,0,61],[202,43,202,44],[202,45,202,46],[202,48,202,49],[202,50,202,51],[202,53,202,54],[202,55,202,56],[202,58,202,59],[202,60,202,61]]}
["Nr.","Produs","Decor","Lungime - PAL / MDF\n-mm-         L","Latime - PAL (inaltime - MDF)\n-mm-         H","Buc","Fibra","Cant",{"$nulls":3},"Nr comanda","Client","Data livrare","Observatii","Grafica cant","PROGRAM CNC","REPER","CNC 1","CNC 2","CNC 3","CONTRACT (PD)","DENUMIRE COMANDA","DENUMIRE CORP","INFORMATII PT WME",{"$nulls":14},"AUTOMATIZARE DENUMIRE CORP",null," ",null,"Lung Cant Tip 1",{"$nulls":4},"Lung Cant Tip 2",{"$nulls":4},"Lung Cant Tip 3",{"$nulls":4},"Lung Cant Tip 4",{"$nulls":4},"CT CANT"]
[{"$nulls":7},"L1","L2","H1","H2",{"$nulls":13},"Cod Fiscal","Cod DÉCOR PAL/BLAT/SBP","SUPRAFATA NETA [MP]","COD EXTERN CANT 1","Total Lung. \n[ML]\nCANT 1","COD EXTERN CANT 2","Total Lung. \n[ML]\nCANT 2","COD EXTERN CANT 3","Total Lung. \n[ML]\nCANT 3","COD EXTERN CANT 4","Total Lung. \n[ML]\nCANT 4","Model","Finisaj","Culoare","Grosime",{"$nulls":4},"L1","L2","H1","H2",null,"L1","L2","H1","H2",null,"L1","L2","H1","H2",null,"L1","L2","H1","H2",null,0.1]
[1,{"$f":"IF(Comanda!B20<>0,Comanda!B20,\"\")","v":""},{"$f":"IF(Comanda!C20<>0,Comanda!C20,\"\")","v":""},{"$f":"IF(Comanda!D20<>0,Comanda!D20,\"\")","v":""},{"$f":"IF(Comanda!E20<>0,Comanda!E20,\"\")","v":""},{"$f":"IF(Comanda!F20<>0,Comanda!F20,\"\")","v":""},{"$f":"IF(Comanda!G20<>0,1,0)","v":0},{"$f":"IF(Comanda!H20=1,Comanda!$C$13,IF(Comanda!H20=2,Comanda!$C$14,IF(Comanda!$H20=3,Comanda!$C$15,IF(Comanda!$H20=4,Comanda!$C$16,0))))","v":0},{"$f":"IF(Comanda!I20=1,Comanda!$C$13,IF(Comanda!I20=2,Comanda!$C$14,IF(Comanda!$I20=3,Comanda!$C$15,IF(Comanda!$I20=4,Comanda!$C$16,0))))","v":0},{"$f":"IF(Comanda!J20=1,Comanda!$C$13,IF(Comanda!J20=2,Comanda!$C$14,IF(Comanda!$J20=3,Comanda!$C$15,IF(Comanda!$J20=4,Comanda!$C$16,0))))","v":0},{"$f":"IF(Comanda!K20=1,Comanda!$C$13,IF(Comanda!K20=2,Comanda!$C$14,IF(Comanda!$K20=3,Comanda!$C$15,IF(Comanda!$K20=4,Comanda!$C$16,0))))","v":0},{"$f":"IF(Comanda!B20<>0,Comanda!$C$2,\"\")","v":""},{"$f":"IF(Comanda!B20<>0,Comanda!$C$5,\"\")","v":""},{"$f":"IF(Comanda!B20<>0,Comanda!$G$2,\"\")","v":""},{"$f":"IF(Comanda!B20<>0,Comanda!L20,\"\")","v":""},{"$f":"IF(Comanda!D20<>0,VLOOKUP('Formula Cant'!F3,'Grafica Cant'!$G$2:$H$25,2,FALSE),\"\")","v":""},{"$nulls":8},{"$f":"IF(Comanda!B20<>0,Comanda!$C$9,\"\")","v":""},{"$f":"IF(Comanda!B20<>0,VLOOKUP(Comanda!$C$12,PRETURI!$A$2:$C$500,3,FALSE),\"\")","v":""},{"$f":"IFERROR(D3*E3*F3*0.000001,\"\")","v":""},{"$f":"IF(H3<>0,VLOOKUP(H3,PRETURI!$D$2:$F$1093,3,FALSE),\"\")","v":""},{"$f":"SUM(AR3:AU3)","v":{"v":0,"d":"0.00"}},{"$f":"IF(I3<>0,VLOOKUP(I3,PRETURI!$D$2:$F$1093,3,FALSE),\"\")","v":""},{"$f":"SUM(AW3:AZ3)","v":{"v":0,"d":"0.00"}},{"$f":"IF(J3<>0,VLOOKUP(J3,PRETURI!$D$2:$F$1093,3,FALSE),\"\")","v":""},{"$f":"SUM(BB3:BE3)","v":{"v":0,"d":"0.00"}},{"$f":"IF(K3<>0,VLOOKUP(K3,PRETURI!$D$2:$F$1093,3,FALSE),\"\")","v":""},{"$f":"SUM(BG3:BJ3)","v":{"v":0,"d":"0.00"}},{"$nulls":6},{"$f":"(Comanda!D20*Comanda!E20*Comanda!F20)*0.000001","v":{"v":0,"d":"0.00"}},null,{"$f":"IF(Comanda!H20=1,(Comanda!D20*0.001+$BL$2)*Comanda!F20,\"\")","v":""},{"$f":"IF(Comanda!I20=1,(Comanda!D20*0.001+$BL$2)*Comanda!F20,\"\")","v":""},{"$f":"IF(Comanda!J20=1,(Comanda!E20*0.001+$BL$2)*Comanda!F20,\"\")","v":""},{"$f":"IF(Comanda!K20=1,(Comanda!E20*0.001+$BL$2)*Comanda!F20,\"\")","v":""},null,{"$f":"IF(Comanda!H20=2,(Comanda!D20*0.001+$BL$2)*Comanda!F20,\"\")","v":""},{"$f":"IF(Comanda!I20=2,(Comanda!D20*0.001+$BL$2)*Comanda!F20,\"\")","v":""},{"$f":"IF(Comanda!J20=2,(Comanda!E20*0.001+$BL$2)*Comanda!F20,\"\")","v":""},{"$f":"IF(Comanda!K20=2,(Comanda!E20*0.001+$BL$2)*Comanda!F20,\"\")","v":""},null,{"$f":"IF(Comanda!H20=3,(Comanda!D20*0.001+$BL$2)*Comanda!F20,\"\")","v":""},{"$f":"IF(Comanda!I20=3,(Comanda!D20*0.001+$BL$2)*Comanda!F20,\"\")","v":""},{"$f":"IF(Comanda!J20=3,(Comanda!E20*0.001+$BL$2)*Comanda!F20,\"\")","v":""},{"$f":"IF(Comanda!K20=3,(Comanda!E20*0.001+$BL$2)*Comanda!F20,\"\")","v":""},null,{"$f":"IF(Comanda!H20=4,(Comanda!D20*0.001+$BL$2)*Comanda!F20,\"\")","v":""},{"$f":"IF(Comanda!I20=4,(Comanda!D20*0.001+$BL$2)*Comanda!F20,\"\")","v":""},{"$f":"IF(Comanda!J20=4,(Comanda!E20*0.001+$BL$2)*Comanda!F20,\"\")","v":""},{"$f":"IF(Comanda!K20=4,(Comanda!E20*0.001+$BL$2)*Comanda!F20,\"\")","v":""}]
[2,{"$f":"IF(Comanda!B21<>0,Comanda!B21,\"\")","v":""},{"$f":"IF(Comanda!C21<>0,Comanda!C21,\"\")","v":""},{"$f":"IF(Comanda!D21<>0,Comanda!D21,\"\")","v":""},{"$f":"IF(Comanda!E21<>0,Comanda!E21,\"\")","v":""},{"$f":"IF(Comanda!F21<>0,Comanda!F21,\"\")","v":""},{"$f":"IF(Comanda!G21<>0,1,0)","v":0},{"$f":"IF(Comanda!H21=1,Comanda!$C$13,IF(Comanda!H21=2,Comanda!$C$14,IF(Comanda!$H21=3,Comanda!$C$15,IF(Comanda!$H21=4,Comanda!$C$16,0))))","v":0},{"$f":"IF(Comanda!I21=1,Comanda!$C$13,IF(Comanda!I21=2,Comanda!$C$14,IF(Comanda!$I21=3,Comanda!$C$15,IF(Comanda!$I21=4,Comanda!$C$16,0))))","v":0},{"$f":"IF(Comanda!J21=1,Comanda!$C$13,IF(Comanda!J21=2,Comanda!$C$14,IF(Comanda!$J21=3,Comanda!$C$15,IF(Comanda!$J21=4,Comanda!$C$16,0))))","v":0},{"$f":"IF(Comanda!K21=1,Comanda!$C$13,IF(Comanda!K21=2,Comanda!$C$14,IF(Comanda!$K21=3,Comanda!$C$15,IF(Comanda!$K21=4,Comanda!$C$16,0))))","v":0},{"$f":"IF(Comanda!B21<>0,Comanda!$C$2,\"\")","v":""},{"$f":"IF(Comanda!B21<>0,Comanda!$C$5,\"\")","v":""},{"$f":"IF(Comanda!B21<>0,Comanda!$G$2,\"\")","v":""},{"$f":"IF(Comanda!B21<>0,Comanda!L21,\"\")","v":""},{"$f":"IF(Comanda!D21<>0,VLOOKUP('Formula Cant'!F4,'Grafica Cant'!$G$2:$H$25,2,FALSE),\"\")","v":""},{"$nulls":8},{"$f":"IF(Comanda!B21<>0,Comanda!$C$9,\"\")","v":""},{"$f":"IF(Comanda!B21<>0,VLOOKUP(Comanda!$C$12,PRETURI!$A$2:$C$500,3,FALSE),\"\")","v":""},{"$f":"IFERROR(D4*E4*F4*0.000001,\"\")","v":""},{"$f":"IF(H4<>0,VLOOKUP(H4,PRETURI!$D$2:$F$1093,3,FALSE),\"\")","v":""},{"$f":"SUM(AR4:AU4)","v":{"v":0,"d":"0.00"}},{"$f":"IF(I4<>0,VLOOKUP(I4,PRETURI!$D$2:$F$1093,3,FALSE),\"\")","v":""},{"$f":"SUM(AW4:AZ4)","v":{"v":0,"d":"0.00"}},{"$f":"IF(J4<>0,VLOOKUP(J4,PRETURI!$D$2:$F$1093,3,FALSE),\"\")","v":""},{"$f":"SUM(BB4:BE4)","v":{"v":0,"d":"0.00"}},{"$f":"IF(K4<>0,VLOOKUP(K4,PRETURI!$D$2:$F$1093,3,FALSE),\"\")","v":""},{"$f":"SUM(BG4:BJ4)","v":{"v":0,"d":"0.00"}},{"$nulls":6},{"$f":"(Comanda!D21*Comanda!E21*Comanda!F21)*0.000001","v":{"v":0,"d":"0.00"}},null,{"$f":"IF(Comanda!H21=1,(Comanda!D21*0.001+$BL$2)*Comanda!F21,\"\")","v":""},{"$f":"IF(Comanda!I21=1,(Comanda!D21*0.001+$BL$2)*Comanda!F21,\"\")","v":""},{"$f":"IF(Comanda!J21=1,(Comanda!E21*0.001+$BL$2)*Comanda!F21,\"\")","v":""},{"$f":"IF(Comanda!K21=1,(Comanda!E21*0.001+$BL$2)*Comanda!F21,\"\")","v":""},null,{"$f":"IF(Comanda!H21=2,(Comanda!D21*0.001+$BL$2)*Comanda!F21,\"\")","v":""},{"$f":"IF(Comanda!I21=2,(Comanda!D21*0.001+$BL$2)*Comanda!F21,\"\")","v":""},{"$f":"IF(Comanda!J21=2,(Comanda!E21*0.001+$BL$2)*Comanda!F21,\"\")","v":""},{"$f":"IF(Comanda!K21=2,(Comanda!E21*0.001+$BL$2)*Comanda!F21,\"\")","v":""},null,{"$f":"IF(Comanda!H21=3,(Comanda!D21*0.001+$BL$2)*Comanda!F21,\"\")","v":""},{"$f":"IF(Comanda!I21=3,(Comanda!D21*0.001+$BL$2)*Comanda!F21,\"\")","v":""},{"$f":"IF(Comanda!J21=3,(Comanda!E21*0.001+$BL$2)*Comanda!F21,\"\")","v":""},{"$f":"IF(Comanda!K21=3,(Comanda!E21*0.001+$BL$2)*Comanda!F21,\"\")","v":""},null,{"$f":"IF(Comanda!H21=4,(Comanda!D21*0.001+$BL$2)*Comanda!F21,\"\")","v":""},{"$f":"IF(Comanda!I21=4,(Comanda!D21*0.001+$BL$2)*Comanda!F21,\"\")","v":""},{"$f":"IF(Comanda!J21=4,(Comanda!E21*0.001+$BL$2)*Comanda!F21,\"\")","v":""},{"$f":"IF(Comanda!K21=4,(Comanda!E21*0.001+$BL$2)*Comanda!F21,\"\")","v":""}]
[3,{"$f":"IF(Comanda!B22<>0,Comanda!B22,\"\")","v":""},{"$f":"IF(Comanda!C22<>0,Comanda!C22,\"\")","v":""},{"$f":"IF(Comanda!D22<>0,Comanda!D22,\"\")","v":""},{"$f":"IF(Comanda!E22<>0,Comanda!E22,\"\")","v":""},{"$f":"IF(Comanda!F22<>0,Comanda!F22,\"\")","v":""},{"$f":"IF(Comanda!G22<>0,1,0)","v":0},{"$f":"IF(Comanda!H22=1,Comanda!$C$13,IF(Comanda!H22=2,Comanda!$C$14,IF(Comanda!$H22=3,Comanda!$C$15,IF(Comanda!$H22=4,Comanda!$C$16,0))))","v":0},{"$f":"IF(Comanda!I22=1,Comanda!$C$13,IF(Comanda!I22=2,Comanda!$C$14,IF(Comanda!$I22=3,Comanda!$C$15,IF(Comanda!$I22=4,Comanda!$C$16,0))))","v":0},{"$f":"IF(Comanda!J22=1,Comanda!$C$13,IF(Comanda!J22=2,Comanda!$C$14,IF(Comanda!$J22=3,Comanda!$C$15,IF(Comanda!$J22=4,Comanda!$C$16,0))))","v":0},{"$f":"IF(Comanda!K22=1,Comanda!$C$13,IF(Comanda!K22=2,Comanda!$C$14,IF(Comanda!$K22=3,Comanda!$C$15,IF(Comanda!$K22=4,Comanda!$C$16,0))))","v":0},{"$f":"IF(Comanda!B22<>0,Comanda!$C$2,\"\")","v":""},{"$f":"IF(Comanda!B22<>0,Comanda!$C$5,\"\")","v":""},{"$f":"IF(Comanda!B22<>0,Comanda!$G$2,\"\")","v":""},{"$f":"IF(Comanda!B22<>0,Comanda!L22,\"\")","v":""},{"$f":"IF(Comanda!D22<>0,VLOOKUP('Formula Cant'!F5,'Grafica Cant'!$G$2:$H$25,2,FALSE),\"\")","v":""},{"$nulls":8},{"$f":"IF(Comanda!B22<>0,Comanda!$C$9,\"\")","v":""},{"$f":"IF(Comanda!B22<>0,VLOOKUP(Comanda!$C$12,PRETURI!$A$2:$C$500,3,FALSE),\"\")","v":""},"",{"$f":"IF(H5<>0,VLOOKUP(H5,PRETURI!$D$2:$F$1093,3,FALSE),\"\")","v":""},{"v":0,"d":"0.00"},{"$f":"IF(I5<>0,VLOOKUP(I5,PRETURI!$D$2:$F$1093,3,FALSE),\"\")","v":""},{"v":0,"d":"0.00"},{"$f":"IF(J5<>0,VLOOKUP(J5,PRETURI!$D$2:$F$1093,3,FALSE),\"\")","v":""},{"v":0,"d":"0.00"},{"$f":"IF(K5<>0,VLOOKUP(K5,PRETURI!$D$2:$F$1093,3,FALSE),\"\")","v":""},{"v":0,"d":"0.00"},{"$nulls":6},{"$f":"(Comanda!D22*Comanda!E22*Comanda!F22)*0.000001","v":{"v":0,"d":"0.00"}},null,{"$f":"IF(Comanda!H22=1,(Comanda!D22*0.001+$BL$2)*Comanda!F22,\"\")","v":""},{"$f":"IF(Comanda!I22=1,(Comanda!D22*0.001+$BL$2)*Comanda!F22,\"\")","v":""},{"$f":"IF(Comanda!J22=1,(Comanda!E22*0.001+$BL$2)*Comanda!F22,\"\")","v":""},{"$f":"IF(Comanda!K22=1,(Comanda!E22*0.001+$BL$2)*Comanda!F22,\"\")","v":""},null,{"$f":"IF(Comanda!H22=2,(Comanda!D22*0.001+$BL$2)*Comanda!F22,\"\")","v":""},{"$f":"IF(Comanda!I22=2,(Comanda!D22*0.001+$BL$2)*Comanda!F22,\"\")","v":""},{"$f":"IF(Comanda!J22=2,(Comanda!E22*0.001+$BL$2)*Comanda!F22,\"\")","v":""},{"$f":"IF(Comanda!K22=2,(Comanda!E22*0.001+$BL$2)*Comanda!F22,\"\")","v":""},null,{"$f":"IF(Comanda!H22=3,(Comanda!D22*0.001+$BL$2)*Comanda!F22,\"\")","v":""},{"$f":"IF(Comanda!I22=3,(Comanda!D22*0.001+$BL$2)*Comanda!F22,\"\")","v":""},{"$f":"IF(Comanda!J22=3,(Comanda!E22*0.001+$BL$2)*Comanda!F22,\"\")","v":""},{"$f":"IF(Comanda!K22=3,(Comanda!E22*0.001+$BL$2)*Comanda!F22,\"\")","v":""},null,{"$f":"IF(Comanda!H22=4,(Comanda!D22*0.001+$BL$2)*Comanda!F22,\"\")","v":""},{"$f":"IF(Comanda!I22=4,(Comanda!D22*0.001+$BL$2)*Comanda!F22,\"\")","v":""},{"$f":"IF(Comanda!J22=4,(Comanda!E22*0.001+$BL$2)*Comanda!F22,\"\")","v":""},{"$f":"IF(Comanda!K22=4,(Comanda!E22*0.001+$BL$2)*Comanda!F22,\"\")","v":""}]
[4,{"$f":"IF(Comanda!B23<>0,Comanda!B23,\"\")","v":""},{"$f":"IF(Comanda!C23<>0,Comanda!C23,\"\")","v":""},{"$f":"IF(Comanda!D23<>0,Comanda!D23,\"\")","v":""},{"$f":"IF(Comanda!E23<>0,Comanda!E23,\"\")","v":""},{"$f":"IF(Comanda!F23<>0,Comanda!F23,\"\")","v":""},{"$f":"IF(Comanda!G23<>0,1,0)","v":0},{"$f":"IF(Comanda!H23=1,Comanda!$C$13,IF(Comanda!H23=2,Comanda!$C$14,IF(Comanda!$H23=3,Comanda!$C$15,IF(Comanda!$H23=4,Comanda!$C$16,0))))","v":0},{"$f":"IF(Comanda!I23=1,Comanda!$C$13,IF(Comanda!I23=2,Comanda!$C$14,IF(Comanda!$I23=3,Comanda!$C$15,IF(Comanda!$I23=4,Comanda!$C$16,0))))","v":0},{"$f":"IF(Comanda!J23=1,Comanda!$C$13,IF(Comanda!J23=2,Comanda!$C$14,IF(Comanda!$J23=3,Comanda!$C$15,IF(Comanda!$J23=4,Comanda!$C$16,0))))","v":0},{"$f":"IF(Comanda!K23=1,Comanda!$C$13,IF(Comanda!K23=2,Comanda!$C$14,IF(Comanda!$K23=3,Comanda!$C$15,IF(Comanda!$K23=4,Comanda!$C$16,0))))","v":0},{"$f":"IF(Comanda!B23<>0,Comanda!$C$2,\"\")","v":""},{"$f":"IF(Comanda!B23<>0,Comanda!$C$5,\"\")","v":""},{"$f":"IF(Comanda!B23<>0,Comanda!$G$2,\"\")","v":""},{"$f":"IF(Comanda!B23<>0,Comanda!L23,\"\")","v":""},{"$f":"IF(Comanda!D23<>0,VLOOKUP('Formula Cant'!F6,'Grafica Cant'!$G$2:$H$25,2,FALSE),\"\")","v":""},{"$nulls":8},{"$f":"IF(Comanda!B23<>0,Comanda!$C$9,\"\")","v":""},{"$f":"IF(Comanda!B23<>0,VLOOKUP(Comanda!$C$12,PRETURI!$A$2:$C$500,3,FALSE),\"\")","v":""},"",{"$f":"IF(H6<>0,VLOOKUP(H6,PRETURI!$D$2:$F$1093,3,FALSE),\"\")","v":""},{"v":0,"d":"0.00"},{"$f":"IF(I6<>0,VLOOKUP(I6,PRETURI!$D$2:$F$1093,3,FALSE),\"\")","v":""},{"v":0,"d":"0.00"},{"$f":"IF(J6<>0,VLOOKUP(J6,PRETURI!$D$2:$F$1093,3,FALSE),\"\")","v":""},{"v":0,"d":"0.00"},{"$f":"IF(K6<>0,VLOOKUP(K6,PRETURI!$D$2:$F$1093,3,FALSE),\"\")","v":""},{"v":0,"d":"0.00"},{"$nulls":6},{"$f":"(Comanda!D23*Comanda!E23*Comanda!F23)*0.000001","v":{"v":0,"d":"0.00"}},null,{"$f":"IF(Comanda!H23=1,(Comanda!D23*0.001+$BL$2)*Comanda!F23,\"\")","v":""},{"$f":"IF(Comanda!I23=1,(Comanda!D23*0.001+$BL$2)*Comanda!F23,\"\")","v":""},{"$f":"IF(Comanda!J23=1,(Comanda!E23*0.001+$BL$2)*Comanda!F23,\"\")","v":""},{"$f":"IF(Comanda!K23=1,(Comanda!E23*0.001+$BL$2)*Comanda!F23,\"\")","v":""},null,{"$f":"IF(Comanda!H23=2,(Comanda!D23*0.001+$BL$2)*Comanda!F23,\"\")","v":""},{"$f":"IF(Comanda!I23=2,(Comanda!D23*0.001+$BL$2)*Comanda!F23,\"\")","v":""},{"$f":"IF(Comanda!J23=2,(Comanda!E23*0.001+$BL$2)*Comanda!F23,\"\")","v":""},{"$f":"IF(Comanda!K23=2,(Comanda!E23*0.001+$BL$2)*Comanda!F23,\"\")","v":""},null,{"$f":"IF(Comanda!H23=3,(Comanda!D23*0.001+$BL$2)*Comanda!F23,\"\")","v":""},{"$f":"IF(Comanda!I23=3,(Comanda!D23*0.001+$BL$2)*Comanda!F23,\"\")","v":""},{"$f":"IF(Comanda!J23=3,(Comanda!E23*0.001+$BL$2)*Comanda!F23,\"\")","v":""},{"$f":"IF(Comanda!K23=3,(Comanda!E23*0.001+$BL$2)*Comanda!F23,\"\")","v":""},null,{"$f":"IF(Comanda!H23=4,(Comanda!D23*0.001+$BL$2)*Comanda!F23,\"\")","v":""},{"$f":"IF(Comanda!I23=4,(Comanda!D23*0.001+$BL$2)*Comanda!F23,\"\")","v":""},{"$f":"IF(Comanda!J23=4,(Comanda!E23*0.001+$BL$2)*Comanda!F23,\"\")","v":""},{"$f":"IF(Comanda!K23=4,(Comanda!E23*0.001+$BL$2)*Comanda!F23,\"\")","v":""}]
[5,{"$f":"IF(Comanda!B24<>0,Comanda!B24,\"\")","v":""},{"$f":"IF(Comanda!C24<>0,Comanda!C24,\"\")","v":""},{"$f":"IF(Comanda!D24<>0,Comanda!D24,\"\")","v":""},{"$f":"IF(Comanda!E24<>0,Comanda!E24,\"\")","v":""},{"$f":"IF(Comanda!F24<>0,Comanda!F24,\"\")","v":""},{"$f":"IF(Comanda!G24<>0,1,0)","v":0},{"$f":"IF(Comanda!H24=1,Comanda!$C$13,IF(Comanda!H24=2,Comanda!$C$14,IF(Comanda!$H24=3,Comanda!$C$15,IF(Comanda!$H24=4,Comanda!$C$16,0))))","v":0},{"$f":"IF(Comanda!I24=1,Comanda!$C$13,IF(Comanda!I24=2,Comanda!$C$14,IF(Comanda!$I24=3,Comanda!$C$15,IF(Comanda!$I24=4,Comanda!$C$16,0))))","v":0},{"$f":"IF(Comanda!J24=1,Comanda!$C$13,IF(Comanda!J24=2,Comanda!$C$14,IF(Comanda!$J24=3,Comanda!$C$15,IF(Comanda!$J24=4,Comanda!$C$16,0))))","v":0},{"$f":"IF(Comanda!K24=1,Comanda!$C$13,IF(Comanda!K24=2,Comanda!$C$14,IF(Comanda!$K24=3,Comanda!$C$15,IF(Comanda!$K24=4,Comanda!$C$16,0))))","v":0},{"$f":"IF(Comanda!B24<>0,Comanda!$C$2,\"\")","v":""},{"$f":"IF(Comanda!B24<>0,Comanda!$C$5,\"\")","v":""},{"$f":"IF(Comanda!B24<>0,Comanda!$G$2,\"\")","v":""},{"$f":"IF(Comanda!B24<>0,Comanda!L24,\"\")","v":""},{"$f":"IF(Comanda!D24<>0,VLOOKUP('Formula Cant'!F7,'Grafica Cant'!$G$2:$H$25,2,FALSE),\"\")","v":""},{"$nulls":8},{"$f":"IF(Comanda!B24<>0,Comanda!$C$9,\"\")","v":""},{"$f":"IF(Comanda!B24<>0,VLOOKUP(Comanda!$C$12,PRETURI!$A$2:$C$500,3,FALSE),\"\")","v":""},"",{"$f":"IF(H7<>0,VLOOKUP(H7,PRETURI!$D$2:$F$1093,3,FALSE),\"\")","v":""},{"v":0,"d":"0.00"},{"$f":"IF(I7<>0,VLOOKUP(I7,PRETURI!$D$2:$F$1093,3,FALSE),\"\")","v":""},{"v":0,"d":"0.00"},{"$f":"IF(J7<>0,VLOOKUP(J7,PRETURI!$D$2:$F$1093,3,FALSE),\"\")","v":""},{"v":0,"d":"0.00"},{"$f":"IF(K7<>0,VLOOKUP(K7,PRETURI!$D$2:$F$1093,3,FALSE),\"\")","v":""},{"v":0,"d":"0.00"},{"$nulls":6},{"$f":"(Comanda!D24*Comanda!E24*Comanda!F24)*0.000001","v":{"v":0,"d":"0.00"}},null,{"$f":"IF(Comanda!H24=1,(Comanda!D24*0.001+$BL$2)*Comanda!F24,\"\")","v":""},{"$f":"IF(Comanda!I24=1,(Comanda!D24*0.001+$BL$2)*Comanda!F24,\"\")","v":""},{"$f":"IF(Comanda!J24=1,(Comanda!E24*0.001+$BL$2)*Comanda!F24,\"\")","v":""},{"$f":"IF(Comanda!K24=1,(Comanda!E24*0.001+$BL$2)*Comanda!F24,\"\")","v":""},null,{"$f":"IF(Comanda!H24=2,(Comanda!D24*0.001+$BL$2)*Comanda!F24,\"\")","v":""},{"$f":"IF(Comanda!I24=2,(Comanda!D24*0.001+$BL$2)*Comanda!F24,\"\")","v":""},{"$f":"IF(Comanda!J24=2,(Comanda!E24*0.001+$BL$2)*Comanda!F24,\"\")","v":""},{"$f":"IF(Comanda!K24=2,(Comanda!E24*0.001+$BL$2)*Comanda!F24,\"\")","v":""},null,{"$f":"IF(Comanda!H24=3,(Comanda!D24*0.001+$BL$2)*Comanda!F24,\"\")","v":""},{"$f":"IF(Comanda!I24=3,(Comanda!D24*0.001+$BL$2)*Comanda!F24,\"\")","v":""},{"$f":"IF(Comanda!J24=3,(Comanda!E24*0.001+$BL$2)*Comanda!F24,\"\")","v":""},{"$f":"IF(Comanda!K24=3,(Comanda!E24*0.001+$BL$2)*Comanda!F24,\"\")","v":""},null,{"$f":"IF(Comanda!H24=4,(Comanda!D24*0.001+$BL$2)*Comanda!F24,\"\")","v":""},{"$f":"IF(Comanda!I24=4,(Comanda!D24*0.001+$BL$2)*Comanda!F24,\"\")","v":""},{"$f":"IF(Comanda!J24=4,(Comanda!E24*0.001+$BL$2)*Comanda!F24,\"\")","v":""},{"$f":"IF(Comanda!K24=4,(Comanda!E24*0.001+$BL$2)*Comanda!F24,\"\")","v":""}]
[6,{"$f":"IF(Comanda!B25<>0,Comanda!B25,\"\")","v":""},{"$f":"IF(Comanda!C25<>0,Comanda!C25,\"\")","v":""},{"$f":"IF(Comanda!D25<>0,Comanda!D25,\"\")","v":""},{"$f":"IF(Comanda!E25<>0,Comanda!E25,\"\")","v":""},{"$f":"IF(Comanda!F25<>0,Comanda!F25,\"\")","v":""},{"$f":"IF(Comanda!G25<>0,1,0)","v":0},{"$f":"IF(Comanda!H25=1,Comanda!$C$13,IF(Comanda!H25=2,Comanda!$C$14,IF(Comanda!$H25=3,Comanda!$C$15,IF(Comanda!$H25=4,Comanda!$C$16,0))))","v":0},{"$f":"IF(Comanda!I25=1,Comanda!$C$13,IF(Comanda!I25=2,Comanda!$C$14,IF(Comanda!$I25=3,Comanda!$C$15,IF(Comanda!$I25=4,Comanda!$C$16,0))))","v":0},{"$f":"IF(Comanda!J25=1,Comanda!$C$13,IF(Comanda!J25=2,Comanda!$C$14,IF(Comanda!$J25=3,Comanda!$C$15,IF(Comanda!$J25=4,Comanda!$C$16,0))))","v":0},{"$f":"IF(Comanda!K25=1,Comanda!$C$13,IF(Comanda!K25=2,Comanda!$C$14,IF(Comanda!$K25=3,Comanda!$C$15,IF(Comanda!$K25=4,Comanda!$C$16,0))))","v":0},{"$f":"IF(Comanda!B25<>0,Comanda!$C$2,\"\")","v":""},{"$f":"IF(Comanda!B25<>0,Comanda!$C$5,\"\")","v":""},{"$f":"IF(Comanda!B25<>0,Comanda!$G$2,\"\")","v":""},{"$f":"IF(Comanda!B25<>0,Comanda!L25,\"\")","v":""},{"$f":"IF(Comanda!D25<>0,VLOOKUP('Formula Cant'!F8,'Grafica Cant'!$G$2:$H$25,2,FALSE),\"\")","v":""},{"$nulls":8},{"$f":"IF(Comanda!B25<>0,Comanda!$C$9,\"\")","v":""},{"$f":"IF(Comanda!B25<>0,VLOOKUP(Comanda!$C$12,PRETURI!$A$2:$C$500,3,FALSE),\"\")","v":""},"",{"$f":"IF(H8<>0,VLOOKUP(H8,PRETURI!$D$2:$F$1093,3,FALSE),\"\")","v":""},{"v":0,"d":"0.00"},{"$f":"IF(I8<>0,VLOOKUP(I8,PRETURI!$D$2:$F$1093,3,FALSE),\"\")","v":""},{"v":0,"d":"0.00"},{"$f":"IF(J8<>0,VLOOKUP(J8,PRETURI!$D$2:$F$1093,3,FALSE),\"\")","v":""},{"v":0,"d":"0.00"},{"$f":"IF(K8<>0,VLOOKUP(K8,PRETURI!$D$2:$F$1093,3,FALSE),\"\")","v":""},{"v":0,"d":"0.00"},{"$nulls":6},{"$f":"(Comanda!D25*Comanda!E25*Comanda!F25)*0.000001","v":{"v":0,"d":"0.00"}},null,{"$f":"IF(Comanda!H25=1,(Comanda!D25*0.001+$BL$2)*Comanda!F25,\"\")","v":""},{"$f":"IF(Comanda!I25=1,(Comanda!D25*0.001+$BL$2)*Comanda!F25,\"\")","v":""},{"$f":"IF(Comanda!J25=1,(Comanda!E25*0.001+$BL$2)*Comanda!F25,\"\")","v":""},{"$f":"IF(Comanda!K25=1,(Comanda!E25*0.001+$BL$2)*Comanda!F25,\"\")","v":""},null,{"$f":"IF(Comanda!H25=2,(Comanda!D25*0.001+$BL$2)*Comanda!F25,\"\")","v":""},{"$f":"IF(Comanda!I25=2,(Comanda!D25*0.001+$BL$2)*Comanda!F25,\"\")","v":""},{"$f":"IF(Comanda!J25=2,(Comanda!E25*0.001+$BL$2)*Comanda!F25,\"\")","v":""},{"$f":"IF(Comanda!K25=2,(Comanda!E25*0.001+$BL$2)*Comanda!F25,\"\")","v":""},null,{"$f":"IF(Comanda!H25=3,(Comanda!D25*0.001+$BL$2)*Comanda!F25,\"\")","v":""},{"$f":"IF(Comanda!I25=3,(Comanda!D25*0.001+$BL$2)*Comanda!F25,\"\")","v":""},{"$f":"IF(Comanda!J25=3,(Comanda!E25*0.001+$BL$2)*Comanda!F25,\"\")","v":""},{"$f":"IF(Comanda!K25=3,(Comanda!E25*0.001+$BL$2)*Comanda!F25,\"\")","v":""},null,{"$f":"IF(Comanda!H25=4,(Comanda!D25*0.001+$BL$2)*Comanda!F25,\"\")","v":""},{"$f":"IF(Comanda!I25=4,(Comanda!D25*0.001+$BL$2)*Comanda!F25,\"\")","v":""},{"$f":"IF(Comanda!J25=4,(Comanda!E25*0.001+$BL$2)*Comanda!F25,\"\")","v":""},{"$f":"IF(Comanda!K25=4,(Comanda!E25*0.001+$BL$2)*Comanda!F25,\"\")","v":""}]
[7,{"$f":"IF(Comanda!B26<>0,Comanda!B26,\"\")","v":""},{"$f":"IF(Comanda!C26<>0,Comanda!C26,\"\")","v":""},{"$f":"IF(Comanda!D26<>0,Comanda!D26,\"\")","v":""},{"$f":"IF(Comanda!E26<>0,Comanda!E26,\"\")","v":""},{"$f":"IF(Comanda!F26<>0,Comanda!F26,\"\")","v":""},{"$f":"IF(Comanda!G26<>0,1,0)","v":0},{"$f":"IF(Comanda!H26=1,Comanda!$C$13,IF(Comanda!H26=2,Comanda!$C$14,IF(Comanda!$H26=3,Comanda!$C$15,IF(Comanda!$H26=4,Comanda!$C$16,0))))","v":0},{"$f":"IF(Comanda!I26=1,Comanda!$C$13,IF(Comanda!I26=2,Comanda!$C$14,IF(Comanda!$I26=3,Comanda!$C$15,IF(Comanda!$I26=4,Comanda!$C$16,0))))","v":0},{"$f":"IF(Comanda!J26=1,Comanda!$C$13,IF(Comanda!J26=2,Comanda!$C$14,IF(Comanda!$J26=3,Comanda!$C$15,IF(Comanda!$J26=4,Comanda!$C$16,0))))","v":0},{"$f":"IF(Comanda!K26=1,Comanda!$C$13,IF(Comanda!K26=2,Comanda!$C$14,IF(Comanda!$K26=3,Comanda!$C$15,IF(Comanda!$K26=4,Comanda!$C$16,0))))","v":0},{"$f":"IF(Comanda!B26<>0,Comanda!$C$2,\"\")","v":""},{"$f":"IF(Comanda!B26<>0,Comanda!$C$5,\"\")","v":""},{"$f":"IF(Comanda!B26<>0,Comanda!$G$2,\"\")","v":""},{"$f":"IF(Comanda!B26<>0,Comanda!L26,\"\")","v":""},{"$f":"IF(Comanda!D26<>0,VLOOKUP('Formula Cant'!F9,'Grafica Cant'!$G$2:$H$25,2,FALSE),\"\")","v":""},{"$nulls":8},{"$f":"IF(Comanda!B26<>0,Comanda!$C$9,\"\")","v":""},{"$f":"IF(Comanda!B26<>0,VLOOKUP(Comanda!$C$12,PRETURI!$A$2:$C$500,3,FALSE),\"\")","v":""},"",{"$f":"IF(H9<>0,VLOOKUP(H9,PRETURI!$D$2:$F$1093,3,FALSE),\"\")","v":""},{"v":0,"d":"0.00"},{"$f":"IF(I9<>0,VLOOKUP(I9,PRETURI!$D$2:$F$1093,3,FALSE),\"\")","v":""},{"v":0,"d":"0.00"},{"$f":"IF(J9<>0,VLOOKUP(J9,PRETURI!$D$2:$F$1093,3,FALSE),\"\")","v":""},{"v":0,"d":"0.00"},{"$f":"IF(K9<>0,VLOOKUP(K9,PRETURI!$D$2:$F$1093,3,FALSE),\"\")","v":""},{"v":0,"d":"0.00"},{"$nulls":6},{"$f":"(Comanda!D26*Comanda!E26*Comanda!F26)*0.000001","v":{"v":0,"d":"0.00"}},null,{"$f":"IF(Comanda!H26=1,(Comanda!D26*0.001+$BL$2)*Comanda!F26,\"\")","v":""},{"$f":"IF(Comanda!I26=1,(Comanda!D26*0.001+$BL$2)*Comanda!F26,\"\")","v":""},{"$f":"IF(Comanda!J26=1,(Comanda!E26*0.001+$BL$2)*Comanda!F26,\"\")","v":""},{"$f":"IF(Comanda!K26=1,(Comanda!E26*0.001+$BL$2)*Comanda!F26,\"\")","v":""},null,{"$f":"IF(Comanda!H26=2,(Comanda!D26*0.001+$BL$2)*Comanda!F26,\"\")","v":""},{"$f":"IF(Comanda!I26=2,(Comanda!D26*0.001+$BL$2)*Comanda!F26,\"\")","v":""},{"$f":"IF(Comanda!J26=2,(Comanda!E26*0.001+$BL$2)*Comanda!F26,\"\")","v":""},{"$f":"IF(Comanda!K26=2,(Comanda!E26*0.001+$BL$2)*Comanda!F26,\"\")","v":""},null,{"$f":"IF(Comanda!H26=3,(Comanda!D26*0.001+$BL$2)*Comanda!F26,\"\")","v":""},{"$f":"IF(Comanda!I26=3,(Comanda!D26*0.001+$BL$2)*Comanda!F26,\"\")","v":""},{"$f":"IF(Comanda!J26=3,(Comanda!E26*0.001+$BL$2)*Comanda!F26,\"\")","v":""},{"$f":"IF(Comanda!K26=3,(Comanda!E26*0.001+$BL$2)*Comanda!F26,\"\")","v":""},null,{"$f":"IF(Comanda!H26=4,(Comanda!D26*0.001+$BL$2)*Comanda!F26,\"\")","v":""},{"$f":"IF(Comanda!I26=4,(Comanda!D26*0.001+$BL$2)*Comanda!F26,\"\")","v":""},{"$f":"IF(Comanda!J26=4,(Comanda!E26*0.001+$BL$2)*Comanda!F26,\"\")","v":""},{"$f":"IF(Comanda!K26=4,(Comanda!E26*0.001+$BL$2)*Comanda!F26,\"\")","v":""}]
[8,{"$f":"IF(Comanda!B27<>0,Comanda!B27,\"\")","v":""},{"$f":"IF(Comanda!C27<>0,Comanda!C27,\"\")","v":""},{"$f":"IF(Comanda!D27<>0,Comanda!D27,\"\")","v":""},{"$f":"IF(Comanda!E27<>0,Comanda!E27,\"\")","v":""},{"$f":"IF(Comanda!F27<>0,Comanda!F27,\"\")","v":""},{"$f":"IF(Comanda!G27<>0,1,0)","v":0},{"$f":"IF(Comanda!H27=1,Comanda!$C$13,IF(Comanda!H27=2,Comanda!$C$14,IF(Comanda!$H27=3,Comanda!$C$15,IF(Comanda!$H27=4,Comanda!$C$16,0))))","v":0},{"$f":"IF(Comanda!I27=1,Comanda!$C$13,IF(Comanda!I27=2,Comanda!$C$14,IF(Comanda!$I27=3,Comanda!$C$15,IF(Comanda!$I27=4,Comanda!$C$16,0))))","v":0},{"$f":"IF(Comanda!J27=1,Comanda!$C$13,IF(Comanda!J27=2,Comanda!$C$14,IF(Comanda!$J27=3,Comanda!$C$15,IF(Comanda!$J27=4,Comanda!$C$16,0))))","v":0},{"$f":"IF(Comanda!K27=1,Comanda!$C$13,IF(Comanda!K27=2,Comanda!$C$14,IF(Comanda!$K27=3,Comanda!$C$15,IF(Comanda!$K27=4,Comanda!$C$16,0))))","v":0},{"$f":"IF(Comanda!B27<>0,Comanda!$C$2,\"\")","v":""},{"$f":"IF(Comanda!B27<>0,Comanda!$C$5,\"\")","v":""},{"$f":"IF(Comanda!B27<>0,Comanda!$G$2,\"\")","v":""},{"$f":"IF(Comanda!B27<>0,Comanda!L27,\"\")","v":""},{"$f":"IF(Comanda!D27<>0,VLOOKUP('Formula Cant'!F10,'Grafica Cant'!$G$2:$H$25,2,FALSE),\"\")","v":""},{"$nulls":8},{"$f":"IF(Comanda!B27<>0,Comanda!$C$9,\"\")","v":""},{"$f":"IF(Comanda!B27<>0,VLOOKUP(Comanda!$C$12,PRETURI!$A$2:$C$500,3,FALSE),\"\")","v":""},"",{"$f":"IF(H10<>0,VLOOKUP(H10,PRETURI!$D$2:$F$1093,3,FALSE),\"\")","v":""},{"v":0,"d":"0.00"},{"$f":"IF(I10<>0,VLOOKUP(I10,PRETURI!$D$2:$F$1093,3,FALSE),\"\")","v":""},{"v":0,"d":"0.00"},{"$f":"IF(J10<>0,VLOOKUP(J10,PRETURI!$D$2:$F$1093,3,FALSE),\"\")","v":""},{"v":0,"d":"0.00"},{"$f":"IF(K10<>0,VLOOKUP(K10,PRETURI!$D$2:$F$1093,3,FALSE),\"\")","v":""},{"v":0,"d":"0.00"},{"$nulls":6},{"$f":"(Comanda!D27*Comanda!E27*Comanda!F27)*0.000001","v":{"v":0,"d":"0.00"}},null,{"$f":"IF(Comanda!H27=1,(Comanda!D27*0.001+$BL$2)*Comanda!F27,\"\")","v":""},{"$f":"IF(Comanda!I27=1,(Comanda!D27*0.001+$BL$2)*Comanda!F27,\"\")","v":""},{"$f":"IF(Comanda!J27=1,(Comanda!E27*0.001+$BL$2)*Comanda!F27,\"\")","v":""},{"$f":"IF(Comanda!K27=1,(Comanda!E27*0.001+$BL$2)*Comanda!F27,\"\")","v":""},null,{"$f":"IF(Comanda!H27=2,(Comanda!D27*0.001+$BL$2)*Comanda!F27,\"\")","v":""},{"$f":"IF(Comanda!I27=2,(Comanda!D27*0.001+$BL$2)*Comanda!F27,\"\")","v":""},{"$f":"IF(Comanda!J27=2,(Comanda!E27*0.001+$BL$2)*Comanda!F27,\"\")","v":""},{"$f":"IF(Comanda!K27=2,(Comanda!E27*0.001+$BL$2)*Comanda!F27,\"\")","v":""},null,{"$f":"IF(Comanda!H27=3,(Comanda!D27*0.001+$BL$2)*Comanda!F27,\"\")","v":""},{"$f":"IF(Comanda!I27=3,(Comanda!D27*0.001+$BL$2)*Comanda!F27,\"\")","v":""},{"$f":"IF(Comanda!J27=3,(Comanda!E27*0.001+$BL$2)*Comanda!F27,\"\")","v":""},{"$f":"IF(Comanda!K27=3,(Comanda!E27*0.001+$BL$2)*Comanda!F27,\"\")","v":""},null,{"$f":"IF(Comanda!H27=4,(Comanda!D27*0.001+$BL$2)*Comanda!F27,\"\")","v":""},{"$f":"IF(Comanda!I27=4,(Comanda!D27*0.001+$BL$2)*Comanda!F27,\"\")","v":""},{"$f":"IF(Comanda!J27=4,(Comanda!E27*0.001+$BL$2)*Comanda!F27,\"\")","v":""},{"$f":"IF(Comanda!K27=4,(Comanda!E27*0.001+$BL$2)*Comanda!F27,\"\")","v":""}]
[9,{"$f":"IF(Comanda!B28<>0,Comanda!B28,\"\")","v":""},{"$f":"IF(Comanda!C28<>0,Comanda!C28,\"\")","v":""},{"$f":"IF(Comanda!D28<>0,Comanda!D28,\"\")","v":""},{"$f":"IF(Comanda!E28<>0,Comanda!E28,\"\")","v":""},{"$f":"IF(Comanda!F28<>0,Comanda!F28,\"\")","v":""},{"$f":"IF(Comanda!G28<>0,1,0)","v":0},{"$f":"IF(Comanda!H28=1,Comanda!$C$13,IF(Comanda!H28=2,Comanda!$C$14,IF(Comanda!$H28=3,Comanda!$C$15,IF(Comanda!$H28=4,Comanda!$C$16,0))))","v":0},{"$f":"IF(Comanda!I28=1,Comanda!$C$13,IF(Comanda!I28=2,Comanda!$C$14,IF(Comanda!$I28=3,Comanda!$C$15,IF(Comanda!$I28=4,Comanda!$C$16,0))))","v":0},{"$f":"IF(Comanda!J28=1,Comanda!$C$13,IF(Comanda!J28=2,Comanda!$C$14,IF(Comanda!$J28=3,Comanda!$C$15,IF(Comanda!$J28=4,Comanda!$C$16,0))))","v":0},{"$f":"IF(Comanda!K28=1,Comanda!$C$13,IF(Comanda!K28=2,Comanda!$C$14,IF(Comanda!$K28=3,Comanda!$C$15,IF(Comanda!$K28=4,Comanda!$C$16,0))))","v":0},{"$f":"IF(Comanda!B28<>0,Comanda!$C$2,\"\")","v":""},{"$f":"IF(Comanda!B28<>0,Comanda!$C$5,\"\")","v":""},{"$f":"IF(Comanda!B28<>0,Comanda!$G$2,\"\")","v":""},{"$f":"IF(Comanda!B28<>0,Comanda!L28,\"\")","v":""},{"$f":"IF(Comanda!D28<>0,VLOOKUP('Formula Cant'!F11,'Grafica Cant'!$G$2:$H$25,2,FALSE),\"\")","v":""},{"$nulls":8},{"$f":"IF(Comanda!B28<>0,Comanda!$C$9,\"\")","v":""},{"$f":"IF(Comanda!B28<>0,VLOOKUP(Comanda!$C$12,PRETURI!$A$2:$C$500,3,FALSE),\"\")","v":""},"",{"$f":"IF(H11<>0,VLOOKUP(H11,PRETURI!$D$2:$F$1093,3,FALSE),\"\")","v":""},{"v":0,"d":"0.00"},{"$f":"IF(I11<>0,VLOOKUP(I11,PRETURI!$D$2:$F$1093,3,FALSE),\"\")","v":""},{"v":0,"d":"0.00"},{"$f":"IF(J11<>0,VLOOKUP(J11,PRETURI!$D$2:$F$1093,3,FALSE),\"\")","v":""},{"v":0,"d":"0.00"},{"$f":"IF(K11<>0,VLOOKUP(K11,PRETURI!$D$2:$F$1093,3,FALSE),\"\")","v":""},{"v":0,"d":"0.00"},{"$nulls":6},{"$f":"(Comanda!D28*Comanda!E28*Comanda!F28)*0.000001","v":{"v":0,"d":"0.00"}},null,{"$f":"IF(Comanda!H28=1,(Comanda!D28*0.001+$BL$2)*Comanda!F28,\"\")","v":""},{"$f":"IF(Comanda!I28=1,(Comanda!D28*0.001+$BL$2)*Comanda!F28,\"\")","v":""},{"$f":"IF(Comanda!J28=1,(Comanda!E28*0.001+$BL$2)*Comanda!F28,\"\")","v":""},{"$f":"IF(Comanda!K28=1,(Comanda!E28*0.001+$BL$2)*Comanda!F28,\"\")","v":""},null,{"$f":"IF(Comanda!H28=2,(Comanda!D28*0.001+$BL$2)*Comanda!F28,\"\")","v":""},{"$f":"IF(Comanda!I28=2,(Comanda!D28*0.001+$BL$2)*Comanda!F28,\"\")","v":""},{"$f":"IF(Comanda!J28=2,(Comanda!E28*0.001+$BL$2)*Comanda!F28,\"\")","v":""},{"$f":"IF(Comanda!K28=2,(Comanda!E28*0.001+$BL$2)*Comanda!F28,\"\")","v":""},null,{"$f":"IF(Comanda!H28=3,(Comanda!D28*0.001+$BL$2)*Comanda!F28,\"\")","v":""},{"$f":"IF(Comanda!I28=3,(Comanda!D28*0.001+$BL$2)*Comanda!F28,\"\")","v":""},{"$f":"IF(Comanda!J28=3,(Comanda!E28*0.001+$BL$2)*Comanda!F28,\"\")","v":""},{"$f":"IF(Comanda!K28=3,(Comanda!E28*0.001+$BL$2)*Comanda!F28,\"\")","v":""},null,{"$f":"IF(Comanda!H28=4,(Comanda!D28*0.001+$BL$2)*Comanda!F28,\"\")","v":""},{"$f":"IF(Comanda!I28=4,(Comanda!D28*0.001+$BL$2)*Comanda!F28,\"\")","v":""},{"$f":"IF(Comanda!J28=4,(Comanda!E28*0.001+$BL$2)*Comanda!F28,\"\")","v":""},{"$f":"IF(Comanda!K28=4,(Comanda!E28*0.001+$BL$2)*Comanda!F28,\"\")","v":""}]
[10,{"$f":"IF(Comanda!B29<>0,Comanda!B29,\"\")","v":""},{"$f":"IF(Comanda!C29<>0,Comanda!C29,\"\")","v":""},{"$f":"IF(Comanda!D29<>0,Comanda!D29,\"\")","v":""},{"$f":"IF(Comanda!E29<>0,Comanda!E29,\"\")","v":""},{"$f":"IF(Comanda!F29<>0,Comanda!F29,\"\")","v":""},{"$f":"IF(Comanda!G29<>0,1,0)","v":0},{"$f":"IF(Comanda!H29=1,Comanda!$C$13,IF(Comanda!H29=2,Comanda!$C$14,IF(Comanda!$H29=3,Comanda!$C$15,IF(Comanda!$H29=4,Comanda!$C$16,0))))","v":0},{"$f":"IF(Comanda!I29=1,Comanda!$C$13,IF(Comanda!I29=2,Comanda!$C$14,IF(Comanda!$I29=3,Comanda!$C$15,IF(Comanda!$I29=4,Comanda!$C$16,0))))","v":0},{"$f":"IF(Comanda!J29=1,Comanda!$C$13,IF(Comanda!J29=2,Comanda!$C$14,IF(Comanda!$J29=3,Comanda!$C$15,IF(Comanda!$J29=4,Comanda!$C$16,0))))","v":0},{"$f":"IF(Comanda!K29=1,Comanda!$C$13,IF(Comanda!K29=2,Comanda!$C$14,IF(Comanda!$K29=3,Comanda!$C$15,IF(Comanda!$K29=4,Comanda!$C$16,0))))","v":0},{"$f":"IF(Comanda!B29<>0,Comanda!$C$2,\"\")","v":""},{"$f":"IF(Comanda!B29<>0,Comanda!$C$5,\"\")","v":""},{"$f":"IF(Comanda!B29<>0,Comanda!$G$2,\"\")","v":""},{"$f":"IF(Comanda!B29<>0,Comanda!L29,\"\")","v":""},{"$f":"IF(Comanda!D29<>0,VLOOKUP('Formula Cant'!F12,'Grafica Cant'!$G$2:$H$25,2,FALSE),\"\")","v":""},{"$nulls":8},{"$f":"IF(Comanda!B29<>0,Comanda!$C$9,\"\")","v":""},{"$f":"IF(Comanda!B29<>0,VLOOKUP(Comanda!$C$12,PRETURI!$A$2:$C$500,3,FALSE),\"\")","v":""},"",{"$f":"IF(H12<>0,VLOOKUP(H12,PRETURI!$D$2:$F$1093,3,FALSE),\"\")","v":""},{"v":0,"d":"0.00"},{"$f":"IF(I12<>0,VLOOKUP(I12,PRETURI!$D$2:$F$1093,3,FALSE),\"\")","v":""},{"v":0,"d":"0.00"},{"$f":"IF(J12<>0,VLOOKUP(J12,PRETURI!$D$2:$F$1093,3,FALSE),\"\")","v":""},{"v":0,"d":"0.00"},{"$f":"IF(K12<>0,VLOOKUP(K12,PRETURI!$D$2:$F$1093,3,FALSE),\"\")","v":""},{"v":0,"d":"0.00"},{"$nulls":6},{"$f":"(Comanda!D29*Comanda!E29*Comanda!F29)*0.000001","v":{"v":0,"d":"0.00"}},null,{"$f":"IF(Comanda!H29=1,(Comanda!D29*0.001+$BL$2)*Comanda!F29,\"\")","v":""},{"$f":"IF(Comanda!I29=1,(Comanda!D29*0.001+$BL$2)*Comanda!F29,\"\")","v":""},{"$f":"IF(Comanda!J29=1,(Comanda!E29*0.001+$BL$2)*Comanda!F29,\"\")","v":""},{"$f":"IF(Comanda!K29=1,(Comanda!E29*0.001+$BL$2)*Comanda!F29,\"\")","v":""},null,{"$f":"IF(Comanda!H29=2,(Comanda!D29*0.001+$BL$2)*Comanda!F29,\"\")","v":""},{"$f":"IF(Comanda!I29=2,(Comanda!D29*0.001+$BL$2)*Comanda!F29,\"\")","v":""},{"$f":"IF(Comanda!J29=2,(Comanda!E29*0.001+$BL$2)*Comanda!F29,\"\")","v":""},{"$f":"IF(Comanda!K29=2,(Comanda!E29*0.001+$BL$2)*Comanda!F29,\"\")","v":""},null,{"$f":"IF(Comanda!H29=3,(Comanda!D29*0.001+$BL$2)*Comanda!F29,\"\")","v":""},{"$f":"IF(Comanda!I29=3,(Comanda!D29*0.001+$BL$2)*Comanda!F29,\"\")","v":""},{"$f":"IF(Comanda!J29=3,(Comanda!E29*0.001+$BL$2)*Comanda!F29,\"\")","v":""},{"$f":"IF(Comanda!K29=3,(Comanda!E29*0.001+$BL$2)*Comanda!F29,\"\")","v":""},null,{"$f":"IF(Comanda!H29=4,(Comanda!D29*0.001+$BL$2)*Comanda!F29,\"\")","v":""},{"$f":"IF(Comanda!I29=4,(Comanda!D29*0.001+$BL$2)*Comanda!F29,\"\")","v":""},{"$f":"IF(Comanda!J29=4,(Comanda!E29*0.001+$BL$2)*Comanda!F29,\"\")","v":""},{"$f":"IF(Comanda!K29=4,(Comanda!E29*0.001+$BL$2)*Comanda!F29,\"\")","v":""}]
[11,{"$f":"IF(Comanda!B30<>0,Comanda!B30,\"\")","v":""},{"$f":"IF(Comanda!C30<>0,Comanda!C30,\"\")","v":""},{"$f":"IF(Comanda!D30<>0,Comanda!D30,\"\")","v":""},{"$f":"IF(Comanda!E30<>0,Comanda!E30,\"\")","v":""},{"$f":"IF(Comanda!F30<>0,Comanda!F30,\"\")","v":""},{"$f":"IF(Comanda!G30<>0,1,0)","v":0},{"$f":"IF(Comanda!H30=1,Comanda!$C$13,IF(Comanda!H30=2,Comanda!$C$14,IF(Comanda!$H30=3,Comanda!$C$15,IF(Comanda!$H30=4,Comanda!$C$16,0))))","v":0},{"$f":"IF(Comanda!I30=1,Comanda!$C$13,IF(Comanda!I30=2,Comanda!$C$14,IF(Comanda!$I30=3,Comanda!$C$15,IF(Comanda!$I30=4,Comanda!$C$16,0))))","v":0},{"$f":"IF(Comanda!J30=1,Comanda!$C$13,IF(Comanda!J30=2,Comanda!$C$14,IF(Comanda!$J30=3,Comanda!$C$15,IF(Comanda!$J30=4,Comanda!$C$16,0))))","v":0},{"$f":"IF(Comanda!K30=1,Comanda!$C$13,IF(Comanda!K30=2,Comanda!$C$14,IF(Comanda!$K30=3,Comanda!$C$15,IF(Comanda!$K30=4,Comanda!$C$16,0))))","v":0},{"$f":"IF(Comanda!B30<>0,Comanda!$C$2,\"\")","v":""},{"$f":"IF(Comanda!B30<>0,Comanda!$C$5,\"\")","v":""},{"$f":"IF(Comanda!B30<>0,Comanda!$G$2,\"\")","v":""},{"$f":"IF(Comanda!B30<>0,Comanda!L30,\"\")","v":""},{"$f":"IF(Comanda!D30<>0,VLOOKUP('Formula Cant'!F13,'Grafica Cant'!$G$2:$H$25,2,FALSE),\"\")","v":""},{"$nulls":8},{"$f":"IF(Comanda!B30<>0,Comanda!$C$9,\"\")","v":""},{"$f":"IF(Comanda!B30<>0,VLOOKUP(Comanda!$C$12,PRETURI!$A$2:$C$500,3,FALSE),\"\")","v":""},"",{"$f":"IF(H13<>0,VLOOKUP(H13,PRETURI!$D$2:$F$1093,3,FALSE),\"\")","v":""},{"v":0,"d":"0.00"},{"$f":"IF(I13<>0,VLOOKUP(I13,PRETURI!$D$2:$F$1093,3,FALSE),\"\")","v":""},{"v":0,"d":"0.00"},{"$f":"IF(J13<>0,VLOOKUP(J13,PRETURI!$D$2:$F$1093,3,FALSE),\"\")","v":""},{"v":0,"d":"0.00"},{"$f":"IF(K13<>0,VLOOKUP(K13,PRETURI!$D$2:$F$1093,3,FALSE),\"\")","v":""},{"v":0,"d":"0.00"},{"$nulls":6},{"$f":"(Comanda!D30*Comanda!E30*Comanda!F30)*0.000001","v":{"v":0,"d":"0.00"}},null,{"$f":"IF(Comanda!H30=1,(Comanda!D30*0.001+$BL$2)*Comanda!F30,\"\")","v":""},{"$f":"IF(Comanda!I30=1,(Comanda!D30*0.001+$BL$2)*Comanda!F30,\"\")","v":""},{"$f":"IF(Comanda!J30=1,(Comanda!E30*0.001+$BL$2)*Comanda!F30,\"\")","v":""},{"$f":"IF(Comanda!K30=1,(Comanda!E30*0.001+$BL$2)*Comanda!F30,\"\")","v":""},null,{"$f":"IF(Comanda!H30=2,(Comanda!D30*0.001+$BL$2)*Comanda!F30,\"\")","v":""},{"$f":"IF(Comanda!I30=2,(Comanda!D30*0.001+$BL$2)*Comanda!F30,\"\")","v":""},{"$f":"IF(Comanda!J30=2,(Comanda!E30*0.001+$BL$2)*Comanda!F30,\"\")","v":""},{"$f":"IF(Comanda!K30=2,(Comanda!E30*0.001+$BL$2)*Comanda!F30,\"\")","v":""},null,{"$f":"IF(Comanda!H30=3,(Comanda!D30*0.001+$BL$2)*Comanda!F30,\"\")","v":""},{"$f":"IF(Comanda!I30=3,(Comanda!D30*0.001+$BL$2)*Comanda!F30,\"\")","v":""},{"$f":"IF(Comanda!J30=3,(Comanda!E30*0.001+$BL$2)*Comanda!F30,\"\")","v":""},{"$f":"IF(Comanda!K30=3,(Comanda!E30*0.001+$BL$2)*Comanda!F30,\"\")","v":""},null,{"$f":"IF(Comanda!H30=4,(Comanda!D30*0.001+$BL$2)*Comanda!F30,\"\")","v":""},{"$f":"IF(Comanda!I30=4,(Comanda!D30*0.001+$BL$2)*Comanda!F30,\"\")","v":""},{"$f":"IF(Comanda!J30=4,(Comanda!E30*0.001+$BL$2)*Comanda!F30,\"\")","v":""},{"$f":"IF(Comanda!K30=4,(Comanda!E30*0.001+$BL$2)*Comanda!F30,\"\")","v":""}]
[12,{"$f":"IF(Comanda!B31<>0,Comanda!B31,\"\")","v":""},{"$f":"IF(Comanda!C31<>0,Comanda!C31,\"\")","v":""},{"$f":"IF(Comanda!D31<>0,Comanda!D31,\"\")","v":""},{"$f":"IF(Comanda!E31<>0,Comanda!E31,\"\")","v":""},{"$f":"IF(Comanda!F31<>0,Comanda!F31,\"\")","v":""},{"$f":"IF(Comanda!G31<>0,1,0)","v":0},{"$f":"IF(Comanda!H31=1,Comanda!$C$13,IF(Comanda!H31=2,Comanda!$C$14,IF(Comanda!$H31=3,Comanda!$C$15,IF(Comanda!$H31=4,Comanda!$C$16,0))))","v":0},{"$f":"IF(Comanda!I31=1,Comanda!$C$13,IF(Comanda!I31=2,Comanda!$C$14,IF(Comanda!$I31=3,Comanda!$C$15,IF(Comanda!$I31=4,Comanda!$C$16,0))))","v":0},{"$f":"IF(Comanda!J31=1,Comanda!$C$13,IF(Comanda!J31=2,Comanda!$C$14,IF(Comanda!$J31=3,Comanda!$C$15,IF(Comanda!$J31=4,Comanda!$C$16,0))))","v":0},{"$f":"IF(Comanda!K31=1,Comanda!$C$13,IF(Comanda!K31=2,Comanda!$C$14,IF(Comanda!$K31=3,Comanda!$C$15,IF(Comanda!$K31=4,Comanda!$C$16,0))))","v":0},{"$f":"IF(Comanda!B31<>0,Comanda!$C$2,\"\")","v":""},{"$f":"IF(Comanda!B31<>0,Comanda!$C$5,\"\")","v":""},{"$f":"IF(Comanda!B31<>0,Comanda!$G$2,\"\")","v":""},{"$f":"IF(Comanda!B31<>0,Comanda!L31,\"\")","v":""},{"$f":"IF(Comanda!D31<>0,VLOOKUP('Formula Cant'!F14,'Grafica Cant'!$G$2:$H$25,2,FALSE),\"\")","v":""},{"$nulls":8},{"$f":"IF(Comanda!B31<>0,Comanda!$C$9,\"\")","v":""},{"$f":"IF(Comanda!B31<>0,VLOOKUP(Comanda!$C$12,PRETURI!$A$2:$C$500,3,FALSE),\"\")","v":""},"",{"$f":"IF(H14<>0,VLOOKUP(H14,PRETURI!$D$2:$F$1093,3,FALSE),\"\")","v":""},{"v":0,"d":"0.00"},{"$f":"IF(I14<>0,VLOOKUP(I14,PRETURI!$D$2:$F$1093,3,FALSE),\"\")","v":""},{"v":0,"d":"0.00"},{"$f":"IF(J14<>0,VLOOKUP(J14,PRETURI!$D$2:$F$1093,3,FALSE),\"\")","v":""},{"v":0,"d":"0.00"},{"$f":"IF(K14<>0,VLOOKUP(K14,PRETURI!$D$2:$F$1093,3,FALSE),\"\")","v":""},{"v":0,"d":"0.00"},{"$nulls":6},{"$f":"(Comanda!D31*Comanda!E31*Comanda!F31)*0.000001","v":{"v":0,"d":"0.00"}},null,{"$f":"IF(Comanda!H31=1,(Comanda!D31*0.001+$BL$2)*Comanda!F31,\"\")","v":""},{"$f":"IF(Comanda!I31=1,(Comanda!D31*0.001+$BL$2)*Comanda!F31,\"\")","v":""},{"$f":"IF(Comanda!J31=1,(Comanda!E31*0.001+$BL$2)*Comanda!F31,\"\")","v":""},{"$f":"IF(Comanda!K31=1,(Comanda!E31*0.001+$BL$2)*Comanda!F31,\"\")","v":""},null,{"$f":"IF(Comanda!H31=2,(Comanda!D31*0.001+$BL$2)*Comanda!F31,\"\")","v":""},{"$f":"IF(Comanda!I31=2,(Comanda!D31*0.001+$BL$2)*Comanda!F31,\"\")","v":""},{"$f":"IF(Comanda!J31=2,(Comanda!E31*0.001+$BL$2)*Comanda!F31,\"\")","v":""},{"$f":"IF(Comanda!K31=2,(Comanda!E31*0.001+$BL$2)*Comanda!F31,\"\")","v":""},null,{"$f":"IF(Comanda!H31=3,(Comanda!D31*0.001+$BL$2)*Comanda!F31,\"\")","v":""},{"$f":"IF(Comanda!I31=3,(Comanda!D31*0.001+$BL$2)*Comanda!F31,\"\")","v":""},{"$f":"IF(Comanda!J31=3,(Comanda!E31*0.001+$BL$2)*Comanda!F31,\"\")","v":""},{"$f":"IF(Comanda!K31=3,(Comanda!E31*0.001+$BL$2)*Comanda!F31,\"\")","v":""},null,{"$f":"IF(Comanda!H31=4,(Comanda!D31*0.001+$BL$2)*Comanda!F31,\"\")","v":""},{"$f":"IF(Comanda!I31=4,(Comanda!D31*0.001+$BL$2)*Comanda!F31,\"\")","v":""},{"$f":"IF(Comanda!J31=4,(Comanda!E31*0.001+$BL$2)*Comanda!F31,\"\")","v":""},{"$f":"IF(Comanda!K31=4,(Comanda!E31*0.001+$BL$2)*Comanda!F31,\"\")","v":""}]
[13,{"$f":"IF(Comanda!B32<>0,Comanda!B32,\"\")","v":""},{"$f":"IF(Comanda!C32<>0,Comanda!C32,\"\")","v":""},{"$f":"IF(Comanda!D32<>0,Comanda!D32,\"\")","v":""},{"$f":"IF(Comanda!E32<>0,Comanda!E32,\"\")","v":""},{"$f":"IF(Comanda!F32<>0,Comanda!F32,\"\")","v":""},{"$f":"IF(Comanda!G32<>0,1,0)","v":0},{"$f":"IF(Comanda!H32=1,Comanda!$C$13,IF(Comanda!H32=2,Comanda!$C$14,IF(Comanda!$H32=3,Comanda!$C$15,IF(Comanda!$H32=4,Comanda!$C$16,0))))","v":0},{"$f":"IF(Comanda!I32=1,Comanda!$C$13,IF(Comanda!I32=2,Comanda!$C$14,IF(Comanda!$I32=3,Comanda!$C$15,IF(Comanda!$I32=4,Comanda!$C$16,0))))","v":0},{"$f":"IF(Comanda!J32=1,Comanda!$C$13,IF(Comanda!J32=2,Comanda!$C$14,IF(Comanda!$J32=3,Comanda!$C$15,IF(Comanda!$J32=4,Comanda!$C$16,0))))","v":0},{"$f":"IF(Comanda!K32=1,Comanda!$C$13,IF(Comanda!K32=2,Comanda!$C$14,IF(Comanda!$K32=3,Comanda!$C$15,IF(Comanda!$K32=4,Comanda!$C$16,0))))","v":0},{"$f":"IF(Comanda!B32<>0,Comanda!$C$2,\"\")","v":""},{"$f":"IF(Comanda!B32<>0,Comanda!$C$5,\"\")","v":""},{"$f":"IF(Comanda!B32<>0,Comanda!$G$2,\"\")","v":""},{"$f":"IF(Comanda!B32<>0,Comanda!L32,\"\")","v":""},{"$f":"IF(Comanda!D32<>0,VLOOKUP('Formula Cant'!F15,'Grafica Cant'!$G$2:$H$25,2,FALSE),\"\")","v":""},{"$nulls":8},{"$f":"IF(Comanda!B32<>0,Comanda!$C$9,\"\")","v":""},{"$f":"IF(Comanda!B32<>0,VLOOKUP(Comanda!$C$12,PRETURI!$A$2:$C$500,3,FALSE),\"\")","v":""},"",{"$f":"IF(H15<>0,VLOOKUP(H15,PRETURI!$D$2:$F$1093,3,FALSE),\"\")","v":""},{"v":0,"d":"0.00"},{"$f":"IF(I15<>0,VLOOKUP(I15,PRETURI!$D$2:$F$1093,3,FALSE),\"\")","v":""},{"v":0,"d":"0.00"},{"$f":"IF(J15<>0,VLOOKUP(J15,PRETURI!$D$2:$F$1093,3,FALSE),\"\")","v":""},{"v":0,"d":"0.00"},{"$f":"IF(K15<>0,VLOOKUP(K15,PRETURI!$D$2:$F$1093,3,FALSE),\"\")","v":""},{"v":0,"d":"0.00"},{"$nulls":6},{"$f":"(Comanda!D32*Comanda!E32*Comanda!F32)*0.000001","v":{"v":0,"d":"0.00"}},null,{"$f":"IF(Comanda!H32=1,(Comanda!D32*0.001+$BL$2)*Comanda!F32,\"\")","v":""},{"$f":"IF(Comanda!I32=1,(Comanda!D32*0.001+$BL$2)*Comanda!F32,\"\")","v":""},{"$f":"IF(Comanda!J32=1,(Comanda!E32*0.001+$BL$2)*Comanda!F32,\"\")","v":""},{"$f":"IF(Comanda!K32=1,(Comanda!E32*0.001+$BL$2)*Comanda!F32,\"\")","v":""},null,{"$f":"IF(Comanda!H32=2,(Comanda!D32*0.001+$BL$2)*Comanda!F32,\"\")","v":""},{"$f":"IF(Comanda!I32=2,(Comanda!D32*0.001+$BL$2)*Comanda!F32,\"\")","v":""},{"$f":"IF(Comanda!J32=2,(Comanda!E32*0.001+$BL$2)*Comanda!F32,\"\")","v":""},{"$f":"IF(Comanda!K32=2,(Comanda!E32*0.001+$BL$2)*Comanda!F32,\"\")","v":""},null,{"$f":"IF(Comanda!H32=3,(Comanda!D32*0.001+$BL$2)*Comanda!F32,\"\")","v":""},{"$f":"IF(Comanda!I32=3,(Comanda!D32*0.001+$BL$2)*Comanda!F32,\"\")","v":""},{"$f":"IF(Comanda!J32=3,(Comanda!E32*0.001+$BL$2)*Comanda!F32,\"\")","v":""},{"$f":"IF(Comanda!K32=3,(Comanda!E32*0.001+$BL$2)*Comanda!F32,\"\")","v":""},null,{"$f":"IF(Comanda!H32=4,(Comanda!D32*0.001+$BL$2)*Comanda!F32,\"\")","v":""},{"$f":"IF(Comanda!I32=4,(Comanda!D32*0.001+$BL$2)*Comanda!F32,\"\")","v":""},{"$f":"IF(Comanda!J32=4,(Comanda!E32*0.001+$BL$2)*Comanda!F32,\"\")","v":""},{"$f":"IF(Comanda!K32=4,(Comanda!E32*0.001+$BL$2)*Comanda!F32,\"\")","v":""}]
[14,{"$f":"IF(Comanda!B33<>0,Comanda!B33,\"\")","v":""},{"$f":"IF(Comanda!C33<>0,Comanda!C33,\"\")","v":""},{"$f":"IF(Comanda!D33<>0,Comanda!D33,\"\")","v":""},{"$f":"IF(Comanda!E33<>0,Comanda!E33,\"\")","v":""},{"$f":"IF(Comanda!F33<>0,Comanda!F33,\"\")","v":""},{"$f":"IF(Comanda!G33<>0,1,0)","v":0},{"$f":"IF(Comanda!H33=1,Comanda!$C$13,IF(Comanda!H33=2,Comanda!$C$14,IF(Comanda!$H33=3,Comanda!$C$15,IF(Comanda!$H33=4,Comanda!$C$16,0))))","v":0},{"$f":"IF(Comanda!I33=1,Comanda!$C$13,IF(Comanda!I33=2,Comanda!$C$14,IF(Comanda!$I33=3,Comanda!$C$15,IF(Comanda!$I33=4,Comanda!$C$16,0))))","v":0},{"$f":"IF(Comanda!J33=1,Comanda!$C$13,IF(Comanda!J33=2,Comanda!$C$14,IF(Comanda!$J33=3,Comanda!$C$15,IF(Comanda!$J33=4,Comanda!$C$16,0))))","v":0},{"$f":"IF(Comanda!K33=1,Comanda!$C$13,IF(Comanda!K33=2,Comanda!$C$14,IF(Comanda!$K33=3,Comanda!$C$15,IF(Comanda!$K33=4,Comanda!$C$16,0))))","v":0},{"$f":"IF(Comanda!B33<>0,Comanda!$C$2,\"\")","v":""},{"$f":"IF(Comanda!B33<>0,Comanda!$C$5,\"\")","v":""},{"$f":"IF(Comanda!B33<>0,Comanda!$G$2,\"\")","v":""},{"$f":"IF(Comanda!B33<>0,Comanda!L33,\"\")","v":""},{"$f":"IF(Comanda!D33<>0,VLOOKUP('Formula Cant'!F16,'Grafica Cant'!$G$2:$H$25,2,FALSE),\"\")","v":""},{"$nulls":8},{"$f":"IF(Comanda!B33<>0,Comanda!$C$9,\"\")","v":""},{"$f":"IF(Comanda!B33<>0,VLOOKUP(Comanda!$C$12,PRETURI!$A$2:$C$500,3,FALSE),\"\")","v":""},"",{"$f":"IF(H16<>0,VLOOKUP(H16,PRETURI!$D$2:$F$1093,3,FALSE),\"\")","v":""},{"v":0,"d":"0.00"},{"$f":"IF(I16<>0,VLOOKUP(I16,PRETURI!$D$2:$F$1093,3,FALSE),\"\")","v":""},{"v":0,"d":"0.00"},{"$f":"IF(J16<>0,VLOOKUP(J16,PRETURI!$D$2:$F$1093,3,FALSE),\"\")","v":""},{"v":0,"d":"0.00"},{"$f":"IF(K16<>0,VLOOKUP(K16,PRETURI!$D$2:$F$1093,3,FALSE),\"\")","v":""},{"v":0,"d":"0.00"},{"$nulls":6},{"$f":"(Comanda!D33*Comanda!E33*Comanda!F33)*0.000001","v":{"v":0,"d":"0.00"}},null,{"$f":"IF(Comanda!H33=1,(Comanda!D33*0.001+$BL$2)*Comanda!F33,\"\")","v":""},{"$f":"IF(Comanda!I33=1,(Comanda!D33*0.001+$BL$2)*Comanda!F33,\"\")","v":""},{"$f":"IF(Comanda!J33=1,(Comanda!E33*0.001+$BL$2)*Comanda!F33,\"\")","v":""},{"$f":"IF(Comanda!K33=1,(Comanda!E33*0.001+$BL$2)*Comanda!F33,\"\")","v":""},null,{"$f":"IF(Comanda!H33=2,(Comanda!D33*0.001+$BL$2)*Comanda!F33,\"\")","v":""},{"$f":"IF(Comanda!I33=2,(Comanda!D33*0.001+$BL$2)*Comanda!F33,\"\")","v":""},{"$f":"IF(Comanda!J33=2,(Comanda!E33*0.001+$BL$2)*Comanda!F33,\"\")","v":""},{"$f":"IF(Comanda!K33=2,(Comanda!E33*0.001+$BL$2)*Comanda!F33,\"\")","v":""},null,{"$f":"IF(Comanda!H33=3,(Comanda!D33*0.001+$BL$2)*Comanda!F33,\"\")","v":""},{"$f":"IF(Comanda!I33=3,(Comanda!D33*0.001+$BL$2)*Comanda!F33,\"\")","v":""},{"$f":"IF(Comanda!J33=3,(Comanda!E33*0.001+$BL$2)*Comanda!F33,\"\")","v":""},{"$f":"IF(Comanda!K33=3,(Comanda!E33*0.001+$BL$2)*Comanda!F33,\"\")","v":""},null,{"$f":"IF(Comanda!H33=4,(Comanda!D33*0.001+$BL$2)*Comanda!F33,\"\")","v":""},{"$f":"IF(Comanda!I33=4,(Comanda!D33*0.001+$BL$2)*Comanda!F33,\"\")","v":""},{"$f":"IF(Comanda!J33=4,(Comanda!E33*0.001+$BL$2)*Comanda!F33,\"\")","v":""},{"$f":"IF(Comanda!K33=4,(Comanda!E33*0.001+$BL$2)*Comanda!F33,\"\")","v":""}]
[15,{"$f":"IF(Comanda!B34<>0,Comanda!B34,\"\")","v":""},{"$f":"IF(Comanda!C34<>0,Comanda!C34,\"\")","v":""},{"$f":"IF(Comanda!D34<>0,Comanda!D34,\"\")","v":""},{"$f":"IF(Comanda!E34<>0,Comanda!E34,\"\")","v":""},{"$f":"IF(Comanda!F34<>0,Comanda!F34,\"\")","v":""},{"$f":"IF(Comanda!G34<>0,1,0)","v":0},{"$f":"IF(Comanda!H34=1,Comanda!$C$13,IF(Comanda!H34=2,Comanda!$C$14,IF(Comanda!$H34=3,Comanda!$C$15,IF(Comanda!$H34=4,Comanda!$C$16,0))))","v":0},{"$f":"IF(Comanda!I34=1,Comanda!$C$13,IF(Comanda!I34=2,Comanda!$C$14,IF(Comanda!$I34=3,Comanda!$C$15,IF(Comanda!$I34=4,Comanda!$C$16,0))))","v":0},{"$f":"IF(Comanda!J34=1,Comanda!$C$13,IF(Comanda!J34=2,Comanda!$C$14,IF(Comanda!$J34=3,Comanda!$C$15,IF(Comanda!$J34=4,Comanda!$C$16,0))))","v":0},{"$f":"IF(Comanda!K34=1,Comanda!$C$13,IF(Comanda!K34=2,Comanda!$C$14,IF(Comanda!$K34=3,Comanda!$C$15,IF(Comanda!$K34=4,Comanda!$C$16,0))))","v":0},{"$f":"IF(Comanda!B34<>0,Comanda!$C$2,\"\")","v":""},{"$f":"IF(Comanda!B34<>0,Comanda!$C$5,\"\")","v":""},{"$f":"IF(Comanda!B34<>0,Comanda!$G$2,\"\")","v":""},{"$f":"IF(Comanda!B34<>0,Comanda!L34,\"\")","v":""},{"$f":"IF(Comanda!D34<>0,VLOOKUP('Formula Cant'!F17,'Grafica Cant'!$G$2:$H$25,2,FALSE),\"\")","v":""},{"$nulls":8},{"$f":"IF(Comanda!B34<>0,Comanda!$C$9,\"\")","v":""},{"$f":"IF(Comanda!B34<>0,VLOOKUP(Comanda!$C$12,PRETURI!$A$2:$C$500,3,FALSE),\"\")","v":""},"",{"$f":"IF(H17<>0,VLOOKUP(H17,PRETURI!$D$2:$F$1093,3,FALSE),\"\")","v":""},{"v":0,"d":"0.00"},{"$f":"IF(I17<>0,VLOOKUP(I17,PRETURI!$D$2:$F$1093,3,FALSE),\"\")","v":""},{"v":0,"d":"0.00"},{"$f":"IF(J17<>0,VLOOKUP(J17,PRETURI!$D$2:$F$1093,3,FALSE),\"\")","v":""},{"v":0,"d":"0.00"},{"$f":"IF(K17<>0,VLOOKUP(K17,PRETURI!$D$2:$F$1093,3,FALSE),\"\")","v":""},{"v":0,"d":"0.00"},{"$nulls":6},{"$f":"(Comanda!D34*Comanda!E34*Comanda!F34)*0.000001","v":{"v":0,"d":"0.00"}},null,{"$f":"IF(Comanda!H34=1,(Comanda!D34*0.001+$BL$2)*Comanda!F34,\"\")","v":""},{"$f":"IF(Comanda!I34=1,(Comanda!D34*0.001+$BL$2)*Comanda!F34,\"\")","v":""},{"$f":"IF(Comanda!J34=1,(Comanda!E34*0.001+$BL$2)*Comanda!F34,\"\")","v":""},{"$f":"IF(Comanda!K34=1,(Comanda!E34*0.001+$BL$2)*Comanda!F34,\"\")","v":""},null,{"$f":"IF(Comanda!H34=2,(Comanda!D34*0.001+$BL$2)*Comanda!F34,\"\")","v":""},{"$f":"IF(Comanda!I34=2,(Comanda!D34*0.001+$BL$2)*Comanda!F34,\"\")","v":""},{"$f":"IF(Comanda!J34=2,(Comanda!E34*0.001+$BL$2)*Comanda!F34,\"\")","v":""},{"$f":"IF(Comanda!K34=2,(Comanda!E34*0.001+$BL$2)*Comanda!F34,\"\")","v":""},null,{"$f":"IF(Comanda!H34=3,(Comanda!D34*0.001+$BL$2)*Comanda!F34,\"\")","v":""},{"$f":"IF(Comanda!I34=3,(Comanda!D34*0.001+$BL$2)*Comanda!F34,\"\")","v":""},{"$f":"IF(Comanda!J34=3,(Comanda!E34*0.001+$BL$2)*Comanda!F34,\"\")","v":""},{"$f":"IF(Comanda!K34=3,(Comanda!E34*0.001+$BL$2)*Comanda!F34,\"\")","v":""},null,{"$f":"IF(Comanda!H34=4,(Comanda!D34*0.001+$BL$2)*Comanda!F34,\"\")","v":""},{"$f":"IF(Comanda!I34=4,(Comanda!D34*0.001+$BL$2)*Comanda!F34,\"\")","v":""},{"$f":"IF(Comanda!J34=4,(Comanda!E34*0.001+$BL$2)*Comanda!F34,\"\")","v":""},{"$f":"IF(Comanda!K34=4,(Comanda!E34*0.001+$BL$2)*Comanda!F34,\"\")","v":""}]
[16,{"$f":"IF(Comanda!B35<>0,Comanda!B35,\"\")","v":""},{"$f":"IF(Comanda!C35<>0,Comanda!C35,\"\")","v":""},{"$f":"IF(Comanda!D35<>0,Comanda!D35,\"\")","v":""},{"$f":"IF(Comanda!E35<>0,Comanda!E35,\"\")","v":""},{"$f":"IF(Comanda!F35<>0,Comanda!F35,\"\")","v":""},{"$f":"IF(Comanda!G35<>0,1,0)","v":0},{"$f":"IF(Comanda!H35=1,Comanda!$C$13,IF(Comanda!H35=2,Comanda!$C$14,IF(Comanda!$H35=3,Comanda!$C$15,IF(Comanda!$H35=4,Comanda!$C$16,0))))","v":0},{"$f":"IF(Comanda!I35=1,Comanda!$C$13,IF(Comanda!I35=2,Comanda!$C$14,IF(Comanda!$I35=3,Comanda!$C$15,IF(Comanda!$I35=4,Comanda!$C$16,0))))","v":0},{"$f":"IF(Comanda!J35=1,Comanda!$C$13,IF(Comanda!J35=2,Comanda!$C$14,IF(Comanda!$J35=3,Comanda!$C$15,IF(Comanda!$J35=4,Comanda!$C$16,0))))","v":0},{"$f":"IF(Comanda!K35=1,Comanda!$C$13,IF(Comanda!K35=2,Comanda!$C$14,IF(Comanda!$K35=3,Comanda!$C$15,IF(Comanda!$K35=4,Comanda!$C$16,0))))","v":0},{"$f":"IF(Comanda!B35<>0,Comanda!$C$2,\"\")","v":""},{"$f":"IF(Comanda!B35<>0,Comanda!$C$5,\"\")","v":""},{"$f":"IF(Comanda!B35<>0,Comanda!$G$2,\"\")","v":""},{"$f":"IF(Comanda!B35<>0,Comanda!L35,\"\")","v":""},{"$f":"IF(Comanda!D35<>0,VLOOKUP('Formula Cant'!F18,'Grafica Cant'!$G$2:$H$25,2,FALSE),\"\")","v":""},{"$nulls":8},{"$f":"IF(Comanda!B35<>0,Comanda!$C$9,\"\")","v":""},{"$f":"IF(Comanda!B35<>0,VLOOKUP(Comanda!$C$12,PRETURI!$A$2:$C$500,3,FALSE),\"\")","v":""},"",{"$f":"IF(H18<>0,VLOOKUP(H18,PRETURI!$D$2:$F$1093,3,FALSE),\"\")","v":""},{"v":0,"d":"0.00"},{"$f":"IF(I18<>0,VLOOKUP(I18,PRETURI!$D$2:$F$1093,3,FALSE),\"\")","v":""},{"v":0,"d":"0.00"},{"$f":"IF(J18<>0,VLOOKUP(J18,PRETURI!$D$2:$F$1093,3,FALSE),\"\")","v":""},{"v":0,"d":"0.00"},{"$f":"IF(K18<>0,VLOOKUP(K18,PRETURI!$D$2:$F$1093,3,FALSE),\"\")","v":""},{"v":0,"d":"0.00"},{"$nulls":6},{"$f":"(Comanda!D35*Comanda!E35*Comanda!F35)*0.000001","v":{"v":0,"d":"0.00"}},null,{"$f":"IF(Comanda!H35=1,(Comanda!D35*0.001+$BL$2)*Comanda!F35,\"\")","v":""},{"$f":"IF(Comanda!I35=1,(Comanda!D35*0.001+$BL$2)*Comanda!F35,\"\")","v":""},{"$f":"IF(Comanda!J35=1,(Comanda!E35*0.001+$BL$2)*Comanda!F35,\"\")","v":""},{"$f":"IF(Comanda!K35=1,(Comanda!E35*0.001+$BL$2)*Comanda!F35,\"\")","v":""},null,{"$f":"IF(Comanda!H35=2,(Comanda!D35*0.001+$BL$2)*Comanda!F35,\"\")","v":""},{"$f":"IF(Comanda!I35=2,(Comanda!D35*0.001+$BL$2)*Comanda!F35,\"\")","v":""},{"$f":"IF(Comanda!J35=2,(Comanda!E35*0.001+$BL$2)*Comanda!F35,\"\")","v":""},{"$f":"IF(Comanda!K35=2,(Comanda!E35*0.001+$BL$2)*Comanda!F35,\"\")","v":""},null,{"$f":"IF(Comanda!H35=3,(Comanda!D35*0.001+$BL$2)*Comanda!F35,\"\")","v":""},{"$f":"IF(Comanda!I35=3,(Comanda!D35*0.001+$BL$2)*Comanda!F35,\"\")","v":""},{"$f":"IF(Comanda!J35=3,(Comanda!E35*0.001+$BL$2)*Comanda!F35,\"\")","v":""},{"$f":"IF(Comanda!K35=3,(Comanda!E35*0.001+$BL$2)*Comanda!F35,\"\")","v":""},null,{"$f":"IF(Comanda!H35=4,(Comanda!D35*0.001+$BL$2)*Comanda!F35,\"\")","v":""},{"$f":"IF(Comanda!I35=4,(Comanda!D35*0.001+$BL$2)*Comanda!F35,\"\")","v":""},{"$f":"IF(Comanda!J35=4,(Comanda!E35*0.001+$BL$2)*Comanda!F35,\"\")","v":""},{"$f":"IF(Comanda!K35=4,(Comanda!E35*0.001+$BL$2)*Comanda!F35,\"\")","v":""}]
[17,{"$f":"IF(Comanda!B36<>0,Comanda!B36,\"\")","v":""},{"$f":"IF(Comanda!C36<>0,Comanda!C36,\"\")","v":""},{"$f":"IF(Comanda!D36<>0,Comanda!D36,\"\")","v":""},{"$f":"IF(Comanda!E36<>0,Comanda!E36,\"\")","v":""},{"$f":"IF(Comanda!F36<>0,Comanda!F36,\"\")","v":""},{"$f":"IF(Comanda!G36<>0,1,0)","v":0},{"$f":"IF(Comanda!H36=1,Comanda!$C$13,IF(Comanda!H36=2,Comanda!$C$14,IF(Comanda!$H36=3,Comanda!$C$15,IF(Comanda!$H36=4,Comanda!$C$16,0))))","v":0},{"$f":"IF(Comanda!I36=1,Comanda!$C$13,IF(Comanda!I36=2,Comanda!$C$14,IF(Comanda!$I36=3,Comanda!$C$15,IF(Comanda!$I36=4,Comanda!$C$16,0))))","v":0},{"$f":"IF(Comanda!J36=1,Comanda!$C$13,IF(Comanda!J36=2,Comanda!$C$14,IF(Comanda!$J36=3,Comanda!$C$15,IF(Comanda!$J36=4,Comanda!$C$16,0))))","v":0},{"$f":"IF(Comanda!K36=1,Comanda!$C$13,IF(Comanda!K36=2,Comanda!$C$14,IF(Comanda!$K36=3,Comanda!$C$15,IF(Comanda!$K36=4,Comanda!$C$16,0))))","v":0},{"$f":"IF(Comanda!B36<>0,Comanda!$C$2,\"\")","v":""},{"$f":"IF(Comanda!B36<>0,Comanda!$C$5,\"\")","v":""},{"$f":"IF(Comanda!B36<>0,Comanda!$G$2,\"\")","v":""},{"$f":"IF(Comanda!B36<>0,Comanda!L36,\"\")","v":""},{"$f":"IF(Comanda!D36<>0,VLOOKUP('Formula Cant'!F19,'Grafica Cant'!$G$2:$H$25,2,FALSE),\"\")","v":""},{"$nulls":8},{"$f":"IF(Comanda!B36<>0,Comanda!$C$9,\"\")","v":""},{"$f":"IF(Comanda!B36<>0,VLOOKUP(Comanda!$C$12,PRETURI!$A$2:$C$500,3,FALSE),\"\")","v":""},"",{"$f":"IF(H19<>0,VLOOKUP(H19,PRETURI!$D$2:$F$1093,3,FALSE),\"\")","v":""},{"v":0,"d":"0.00"},{"$f":"IF(I19<>0,VLOOKUP(I19,PRETURI!$D$2:$F$1093,3,FALSE),\"\")","v":""},{"v":0,"d":"0.00"},{"$f":"IF(J19<>0,VLOOKUP(J19,PRETURI!$D$2:$F$1093,3,FALSE),\"\")","v":""},{"v":0,"d":"0.00"},{"$f":"IF(K19<>0,VLOOKUP(K19,PRETURI!$D$2:$F$1093,3,FALSE),\"\")","v":""},{"v":0,"d":"0.00"},{"$nulls":6},{"$f":"(Comanda!D36*Comanda!E36*Comanda!F36)*0.000001","v":{"v":0,"d":"0.00"}},null,{"$f":"IF(Comanda!H36=1,(Comanda!D36*0.001+$BL$2)*Comanda!F36,\"\")","v":""},{"$f":"IF(Comanda!I36=1,(Comanda!D36*0.001+$BL$2)*Comanda!F36,\"\")","v":""},{"$f":"IF(Comanda!J36=1,(Comanda!E36*0.001+$BL$2)*Comanda!F36,\"\")","v":""},{"$f":"IF(Comanda!K36=1,(Comanda!E36*0.001+$BL$2)*Comanda!F36,\"\")","v":""},null,{"$f":"IF(Comanda!H36=2,(Comanda!D36*0.001+$BL$2)*Comanda!F36,\"\")","v":""},{"$f":"IF(Comanda!I36=2,(Comanda!D36*0.001+$BL$2)*Comanda!F36,\"\")","v":""},{"$f":"IF(Comanda!J36=2,(Comanda!E36*0.001+$BL$2)*Comanda!F36,\"\")","v":""},{"$f":"IF(Comanda!K36=2,(Comanda!E36*0.001+$BL$2)*Comanda!F36,\"\")","v":""},null,{"$f":"IF(Comanda!H36=3,(Comanda!D36*0.001+$BL$2)*Comanda!F36,\"\")","v":""},{"$f":"IF(Comanda!I36=3,(Comanda!D36*0.001+$BL$2)*Comanda!F36,\"\")","v":""},{"$f":"IF(Comanda!J36=3,(Comanda!E36*0.001+$BL$2)*Comanda!F36,\"\")","v":""},{"$f":"IF(Comanda!K36=3,(Comanda!E36*0.001+$BL$2)*Comanda!F36,\"\")","v":""},null,{"$f":"IF(Comanda!H36=4,(Comanda!D36*0.001+$BL$2)*Comanda!F36,\"\")","v":""},{"$f":"IF(Comanda!I36=4,(Comanda!D36*0.001+$BL$2)*Comanda!F36,\"\")","v":""},{"$f":"IF(Comanda!J36=4,(Comanda!E36*0.001+$BL$2)*Comanda!F36,\"\")","v":""},{"$f":"IF(Comanda!K36=4,(Comanda!E36*0.001+$BL$2)*Comanda!F36,\"\")","v":""}]
[18,{"$f":"IF(Comanda!B37<>0,Comanda!B37,\"\")","v":""},{"$f":"IF(Comanda!C37<>0,Comanda!C37,\"\")","v":""},{"$f":"IF(Comanda!D37<>0,Comanda!D37,\"\")","v":""},{"$f":"IF(Comanda!E37<>0,Comanda!E37,\"\")","v":""},{"$f":"IF(Comanda!F37<>0,Comanda!F37,\"\")","v":""},{"$f":"IF(Comanda!G37<>0,1,0)","v":0},{"$f":"IF(Comanda!H37=1,Comanda!$C$13,IF(Comanda!H37=2,Comanda!$C$14,IF(Comanda!$H37=3,Comanda!$C$15,IF(Comanda!$H37=4,Comanda!$C$16,0))))","v":0},{"$f":"IF(Comanda!I37=1,Comanda!$C$13,IF(Comanda!I37=2,Comanda!$C$14,IF(Comanda!$I37=3,Comanda!$C$15,IF(Comanda!$I37=4,Comanda!$C$16,0))))","v":0},{"$f":"IF(Comanda!J37=1,Comanda!$C$13,IF(Comanda!J37=2,Comanda!$C$14,IF(Comanda!$J37=3,Comanda!$C$15,IF(Comanda!$J37=4,Comanda!$C$16,0))))","v":0},{"$f":"IF(Comanda!K37=1,Comanda!$C$13,IF(Comanda!K37=2,Comanda!$C$14,IF(Comanda!$K37=3,Comanda!$C$15,IF(Comanda!$K37=4,Comanda!$C$16,0))))","v":0},{"$f":"IF(Comanda!B37<>0,Comanda!$C$2,\"\")","v":""},{"$f":"IF(Comanda!B37<>0,Comanda!$C$5,\"\")","v":""},{"$f":"IF(Comanda!B37<>0,Comanda!$G$2,\"\")","v":""},{"$f":"IF(Comanda!B37<>0,Comanda!L37,\"\")","v":""},{"$f":"IF(Comanda!D37<>0,VLOOKUP('Formula Cant'!F20,'Grafica Cant'!$G$2:$H$25,2,FALSE),\"\")","v":""},{"$nulls":8},{"$f":"IF(Comanda!B37<>0,Comanda!$C$9,\"\")","v":""},{"$f":"IF(Comanda!B37<>0,VLOOKUP(Comanda!$C$12,PRETURI!$A$2:$C$500,3,FALSE),\"\")","v":""},"",{"$f":"IF(H20<>0,VLOOKUP(H20,PRETURI!$D$2:$F$1093,3,FALSE),\"\")","v":""},{"v":0,"d":"0.00"},{"$f":"IF(I20<>0,VLOOKUP(I20,PRETURI!$D$2:$F$1093,3,FALSE),\"\")","v":""},{"v":0,"d":"0.00"},{"$f":"IF(J20<>0,VLOOKUP(J20,PRETURI!$D$2:$F$1093,3,FALSE),\"\")","v":""},{"v":0,"d":"0.00"},{"$f":"IF(K20<>0,VLOOKUP(K20,PRETURI!$D$2:$F$1093,3,FALSE),\"\")","v":""},{"v":0,"d":"0.00"},{"$nulls":6},{"$f":"(Comanda!D37*Comanda!E37*Comanda!F37)*0.000001","v":{"v":0,"d":"0.00"}},null,{"$f":"IF(Comanda!H37=1,(Comanda!D37*0.001+$BL$2)*Comanda!F37,\"\")","v":""},{"$f":"IF(Comanda!I37=1,(Comanda!D37*0.001+$BL$2)*Comanda!F37,\"\")","v":""},{"$f":"IF(Comanda!J37=1,(Comanda!E37*0.001+$BL$2)*Comanda!F37,\"\")","v":""},{"$f":"IF(Comanda!K37=1,(Comanda!E37*0.001+$BL$2)*Comanda!F37,\"\")","v":""},null,{"$f":"IF(Comanda!H37=2,(Comanda!D37*0.001+$BL$2)*Comanda!F37,\"\")","v":""},{"$f":"IF(Comanda!I37=2,(Comanda!D37*0.001+$BL$2)*Comanda!F37,\"\")","v":""},{"$f":"IF(Comanda!J37=2,(Comanda!E37*0.001+$BL$2)*Comanda!F37,\"\")","v":""},{"$f":"IF(Comanda!K37=2,(Comanda!E37*0.001+$BL$2)*Comanda!F37,\"\")","v":""},null,{"$f":"IF(Comanda!H37=3,(Comanda!D37*0.001+$BL$2)*Comanda!F37,\"\")","v":""},{"$f":"IF(Comanda!I37=3,(Comanda!D37*0.001+$BL$2)*Comanda!F37,\"\")","v":""},{"$f":"IF(Comanda!J37=3,(Comanda!E37*0.001+$BL$2)*Comanda!F37,\"\")","v":""},{"$f":"IF(Comanda!K37=3,(Comanda!E37*0.001+$BL$2)*Comanda!F37,\"\")","v":""},null,{"$f":"IF(Comanda!H37=4,(Comanda!D37*0.001+$BL$2)*Comanda!F37,\"\")","v":""},{"$f":"IF(Comanda!I37=4,(Comanda!D37*0.001+$BL$2)*Comanda!F37,\"\")","v":""},{"$f":"IF(Comanda!J37=4,(Comanda!E37*0.001+$BL$2)*Comanda!F37,\"\")","v":""},{"$f":"IF(Comanda!K37=4,(Comanda!E37*0.001+$BL$2)*Comanda!F37,\"\")","v":""}]
[19,{"$f":"IF(Comanda!B38<>0,Comanda!B38,\"\")","v":""},{"$f":"IF(Comanda!C38<>0,Comanda!C38,\"\")","v":""},{"$f":"IF(Comanda!D38<>0,Comanda!D38,\"\")","v":""},{"$f":"IF(Comanda!E38<>0,Comanda!E38,\"\")","v":""},{"$f":"IF(Comanda!F38<>0,Comanda!F38,\"\")","v":""},{"$f":"IF(Comanda!G38<>0,1,0)","v":0},{"$f":"IF(Comanda!H38=1,Comanda!$C$13,IF(Comanda!H38=2,Comanda!$C$14,IF(Comanda!$H38=3,Comanda!$C$15,IF(Comanda!$H38=4,Comanda!$C$16,0))))","v":0},{"$f":"IF(Comanda!I38=1,Comanda!$C$13,IF(Comanda!I38=2,Comanda!$C$14,IF(Comanda!$I38=3,Comanda!$C$15,IF(Comanda!$I38=4,Comanda!$C$16,0))))","v":0},{"$f":"IF(Comanda!J38=1,Comanda!$C$13,IF(Comanda!J38=2,Comanda!$C$14,IF(Comanda!$J38=3,Comanda!$C$15,IF(Comanda!$J38=4,Comanda!$C$16,0))))","v":0},{"$f":"IF(Comanda!K38=1,Comanda!$C$13,IF(Comanda!K38=2,Comanda!$C$14,IF(Comanda!$K38=3,Comanda!$C$15,IF(Comanda!$K38=4,Comanda!$C$16,0))))","v":0},{"$f":"IF(Comanda!B38<>0,Comanda!$C$2,\"\")","v":""},{"$f":"IF(Comanda!B38<>0,Comanda!$C$5,\"\")","v":""},{"$f":"IF(Comanda!B38<>0,Comanda!$G$2,\"\")","v":""},{"$f":"IF(Comanda!B38<>0,Comanda!L38,\"\")","v":""},{"$f":"IF(Comanda!D38<>0,VLOOKUP('Formula Cant'!F21,'Grafica Cant'!$G$2:$H$25,2,FALSE),\"\")","v":""},{"$nulls":8},{"$f":"IF(Comanda!B38<>0,Comanda!$C$9,\"\")","v":""},{"$f":"IF(Comanda!B38<>0,VLOOKUP(Comanda!$C$12,PRETURI!$A$2:$C$500,3,FALSE),\"\")","v":""},"",{"$f":"IF(H21<>0,VLOOKUP(H21,PRETURI!$D$2:$F$1093,3,FALSE),\"\")","v":""},{"v":0,"d":"0.00"},{"$f":"IF(I21<>0,VLOOKUP(I21,PRETURI!$D$2:$F$1093,3,FALSE),\"\")","v":""},{"v":0,"d":"0.00"},{"$f":"IF(J21<>0,VLOOKUP(J21,PRETURI!$D$2:$F$1093,3,FALSE),\"\")","v":""},{"v":0,"d":"0.00"},{"$f":"IF(K21<>0,VLOOKUP(K21,PRETURI!$D$2:$F$1093,3,FALSE),\"\")","v":""},{"v":0,"d":"0.00"},{"$nulls":6},{"$f":"(Comanda!D38*Comanda!E38*Comanda!F38)*0.000001","v":{"v":0,"d":"0.00"}},null,{"$f":"IF(Comanda!H38=1,(Comanda!D38*0.001+$BL$2)*Comanda!F38,\"\")","v":""},{"$f":"IF(Comanda!I38=1,(Comanda!D38*0.001+$BL$2)*Comanda!F38,\"\")","v":""},{"$f":"IF(Comanda!J38=1,(Comanda!E38*0.001+$BL$2)*Comanda!F38,\"\")","v":""},{"$f":"IF(Comanda!K38=1,(Comanda!E38*0.001+$BL$2)*Comanda!F38,\"\")","v":""},null,{"$f":"IF(Comanda!H38=2,(Comanda!D38*0.001+$BL$2)*Comanda!F38,\"\")","v":""},{"$f":"IF(Comanda!I38=2,(Comanda!D38*0.001+$BL$2)*Comanda!F38,\"\")","v":""},{"$f":"IF(Comanda!J38=2,(Comanda!E38*0.001+$BL$2)*Comanda!F38,\"\")","v":""},{"$f":"IF(Comanda!K38=2,(Comanda!E38*0.001+$BL$2)*Comanda!F38,\"\")","v":""},null,{"$f":"IF(Comanda!H38=3,(Comanda!D38*0.001+$BL$2)*Comanda!F38,\"\")","v":""},{"$f":"IF(Comanda!I38=3,(Comanda!D38*0.001+$BL$2)*Comanda!F38,\"\")","v":""},{"$f":"IF(Comanda!J38=3,(Comanda!E38*0.001+$BL$2)*Comanda!F38,\"\")","v":""},{"$f":"IF(Comanda!K38=3,(Comanda!E38*0.001+$BL$2)*Comanda!F38,\"\")","v":""},null,{"$f":"IF(Comanda!H38=4,(Comanda!D38*0.001+$BL$2)*Comanda!F38,\"\")","v":""},{"$f":"IF(Comanda!I38=4,(Comanda!D38*0.001+$BL$2)*Comanda!F38,\"\")","v":""},{"$f":"IF(Comanda!J38=4,(Comanda!E38*0.001+$BL$2)*Comanda!F38,\"\")","v":""},{"$f":"IF(Comanda!K38=4,(Comanda!E38*0.001+$BL$2)*Comanda!F38,\"\")","v":""}]
[20,{"$f":"IF(Comanda!B39<>0,Comanda!B39,\"\")","v":""},{"$f":"IF(Comanda!C39<>0,Comanda!C39,\"\")","v":""},{"$f":"IF(Comanda!D39<>0,Comanda!D39,\"\")","v":""},{"$f":"IF(Comanda!E39<>0,Comanda!E39,\"\")","v":""},{"$f":"IF(Comanda!F39<>0,Comanda!F39,\"\")","v":""},{"$f":"IF(Comanda!G39<>0,1,0)","v":0},{"$f":"IF(Comanda!H39=1,Comanda!$C$13,IF(Comanda!H39=2,Comanda!$C$14,IF(Comanda!$H39=3,Comanda!$C$15,IF(Comanda!$H39=4,Comanda!$C$16,0))))","v":0},{"$f":"IF(Comanda!I39=1,Comanda!$C$13,IF(Comanda!I39=2,Comanda!$C$14,IF(Comanda!$I39=3,Comanda!$C$15,IF(Comanda!$I39=4,Comanda!$C$16,0))))","v":0},{"$f":"IF(Comanda!J39=1,Comanda!$C$13,IF(Comanda!J39=2,Comanda!$C$14,IF(Comanda!$J39=3,Comanda!$C$15,IF(Comanda!$J39=4,Comanda!$C$16,0))))","v":0},{"$f":"IF(Comanda!K39=1,Comanda!$C$13,IF(Comanda!K39=2,Comanda!$C$14,IF(Comanda!$K39=3,Comanda!$C$15,IF(Comanda!$K39=4,Comanda!$C$16,0))))","v":0},{"$f":"IF(Comanda!B39<>0,Comanda!$C$2,\"\")","v":""},{"$f":"IF(Comanda!B39<>0,Comanda!$C$5,\"\")","v":""},{"$f":"IF(Comanda!B39<>0,Comanda!$G$2,\"\")","v":""},{"$f":"IF(Comanda!B39<>0,Comanda!L39,\"\")","v":""},{"$f":"IF(Comanda!D39<>0,VLOOKUP('Formula Cant'!F22,'Grafica Cant'!$G$2:$H$25,2,FALSE),\"\")","v":""},{"$nulls":8},{"$f":"IF(Comanda!B39<>0,Comanda!$C$9,\"\")","v":""},{"$f":"IF(Comanda!B39<>0,VLOOKUP(Comanda!$C$12,PRETURI!$A$2:$C$500,3,FALSE),\"\")","v":""},"",{"$f":"IF(H22<>0,VLOOKUP(H22,PRETURI!$D$2:$F$1093,3,FALSE),\"\")","v":""},{"v":0,"d":"0.00"},{"$f":"IF(I22<>0,VLOOKUP(I22,PRETURI!$D$2:$F$1093,3,FALSE),\"\")","v":""},{"v":0,"d":"0.00"},{"$f":"IF(J22<>0,VLOOKUP(J22,PRETURI!$D$2:$F$1093,3,FALSE),\"\")","v":""},{"v":0,"d":"0.00"},{"$f":"IF(K22<>0,VLOOKUP(K22,PRETURI!$D$2:$F$1093,3,FALSE),\"\")","v":""},{"v":0,"d":"0.00"},{"$nulls":6},{"$f":"(Comanda!D39*Comanda!E39*Comanda!F39)*0.000001","v":{"v":0,"d":"0.00"}},null,{"$f":"IF(Comanda!H39=1,(Comanda!D39*0.001+$BL$2)*Comanda!F39,\"\")","v":""},{"$f":"IF(Comanda!I39=1,(Comanda!D39*0.001+$BL$2)*Comanda!F39,\"\")","v":""},{"$f":"IF(Comanda!J39=1,(Comanda!E39*0.001+$BL$2)*Comanda!F39,\"\")","v":""},{"$f":"IF(Comanda!K39=1,(Comanda!E39*0.001+$BL$2)*Comanda!F39,\"\")","v":""},null,{"$f":"IF(Comanda!H39=2,(Comanda!D39*0.001+$BL$2)*Comanda!F39,\"\")","v":""},{"$f":"IF(Comanda!I39=2,(Comanda!D39*0.001+$BL$2)*Comanda!F39,\"\")","v":""},{"$f":"IF(Comanda!J39=2,(Comanda!E39*0.001+$BL$2)*Comanda!F39,\"\")","v":""},{"$f":"IF(Comanda!K39=2,(Comanda!E39*0.001+$BL$2)*Comanda!F39,\"\")","v":""},null,{"$f":"IF(Comanda!H39=3,(Comanda!D39*0.001+$BL$2)*Comanda!F39,\"\")","v":""},{"$f":"IF(Comanda!I39=3,(Comanda!D39*0.001+$BL$2)*Comanda!F39,\"\")","v":""},{"$f":"IF(Comanda!J39=3,(Comanda!E39*0.001+$BL$2)*Comanda!F39,\"\")","v":""},{"$f":"IF(Comanda!K39=3,(Comanda!E39*0.001+$BL$2)*Comanda!F39,\"\")","v":""},null,{"$f":"IF(Comanda!H39=4,(Comanda!D39*0.001+$BL$2)*Comanda!F39,\"\")","v":""},{"$f":"IF(Comanda!I39=4,(Comanda!D39*0.001+$BL$2)*Comanda!F39,\"\")","v":""},{"$f":"IF(Comanda!J39=4,(Comanda!E39*0.001+$BL$2)*Comanda!F39,\"\")","v":""},{"$f":"IF(Comanda!K39=4,(Comanda!E39*0.001+$BL$2)*Comanda!F39,\"\")","v":""}]
[21,{"$f":"IF(Comanda!B40<>0,Comanda!B40,\"\")","v":""},{"$f":"IF(Comanda!C40<>0,Comanda!C40,\"\")","v":""},{"$f":"IF(Comanda!D40<>0,Comanda!D40,\"\")","v":""},{"$f":"IF(Comanda!E40<>0,Comanda!E40,\"\")","v":""},{"$f":"IF(Comanda!F40<>0,Comanda!F40,\"\")","v":""},{"$f":"IF(Comanda!G40<>0,1,0)","v":0},{"$f":"IF(Comanda!H40=1,Comanda!$C$13,IF(Comanda!H40=2,Comanda!$C$14,IF(Comanda!$H40=3,Comanda!$C$15,IF(Comanda!$H40=4,Comanda!$C$16,0))))","v":0},{"$f":"IF(Comanda!I40=1,Comanda!$C$13,IF(Comanda!I40=2,Comanda!$C$14,IF(Comanda!$I40=3,Comanda!$C$15,IF(Comanda!$I40=4,Comanda!$C$16,0))))","v":0},{"$f":"IF(Comanda!J40=1,Comanda!$C$13,IF(Comanda!J40=2,Comanda!$C$14,IF(Comanda!$J40=3,Comanda!$C$15,IF(Comanda!$J40=4,Comanda!$C$16,0))))","v":0},{"$f":"IF(Comanda!K40=1,Comanda!$C$13,IF(Comanda!K40=2,Comanda!$C$14,IF(Comanda!$K40=3,Comanda!$C$15,IF(Comanda!$K40=4,Comanda!$C$16,0))))","v":0},{"$f":"IF(Comanda!B40<>0,Comanda!$C$2,\"\")","v":""},{"$f":"IF(Comanda!B40<>0,Comanda!$C$5,\"\")","v":""},{"$f":"IF(Comanda!B40<>0,Comanda!$G$2,\"\")","v":""},{"$f":"IF(Comanda!B40<>0,Comanda!L40,\"\")","v":""},{"$f":"IF(Comanda!D40<>0,VLOOKUP('Formula Cant'!F23,'Grafica Cant'!$G$2:$H$25,2,FALSE),\"\")","v":""},{"$nulls":8},{"$f":"IF(Comanda!B40<>0,Comanda!$C$9,\"\")","v":""},{"$f":"IF(Comanda!B40<>0,VLOOKUP(Comanda!$C$12,PRETURI!$A$2:$C$500,3,FALSE),\"\")","v":""},"",{"$f":"IF(H23<>0,VLOOKUP(H23,PRETURI!$D$2:$F$1093,3,FALSE),\"\")","v":""},{"v":0,"d":"0.00"},{"$f":"IF(I23<>0,VLOOKUP(I23,PRETURI!$D$2:$F$1093,3,FALSE),\"\")","v":""},{"v":0,"d":"0.00"},{"$f":"IF(J23<>0,VLOOKUP(J23,PRETURI!$D$2:$F$1093,3,FALSE),\"\")","v":""},{"v":0,"d":"0.00"},{"$f":"IF(K23<>0,VLOOKUP(K23,PRETURI!$D$2:$F$1093,3,FALSE),\"\")","v":""},{"v":0,"d":"0.00"},{"$nulls":6},{"$f":"(Comanda!D40*Comanda!E40*Comanda!F40)*0.000001","v":{"v":0,"d":"0.00"}},null,{"$f":"IF(Comanda!H40=1,(Comanda!D40*0.001+$BL$2)*Comanda!F40,\"\")","v":""},{"$f":"IF(Comanda!I40=1,(Comanda!D40*0.001+$BL$2)*Comanda!F40,\"\")","v":""},{"$f":"IF(Comanda!J40=1,(Comanda!E40*0.001+$BL$2)*Comanda!F40,\"\")","v":""},{"$f":"IF(Comanda!K40=1,(Comanda!E40*0.001+$BL$2)*Comanda!F40,\"\")","v":""},null,{"$f":"IF(Comanda!H40=2,(Comanda!D40*0.001+$BL$2)*Comanda!F40,\"\")","v":""},{"$f":"IF(Comanda!I40=2,(Comanda!D40*0.001+$BL$2)*Comanda!F40,\"\")","v":""},{"$f":"IF(Comanda!J40=2,(Comanda!E40*0.001+$BL$2)*Comanda!F40,\"\")","v":""},{"$f":"IF(Comanda!K40=2,(Comanda!E40*0.001+$BL$2)*Comanda!F40,\"\")","v":""},null,{"$f":"IF(Comanda!H40=3,(Comanda!D40*0.001+$BL$2)*Comanda!F40,\"\")","v":""},{"$f":"IF(Comanda!I40=3,(Comanda!D40*0.001+$BL$2)*Comanda!F40,\"\")","v":""},{"$f":"IF(Comanda!J40=3,(Comanda!E40*0.001+$BL$2)*Comanda!F40,\"\")","v":""},{"$f":"IF(Comanda!K40=3,(Comanda!E40*0.001+$BL$2)*Comanda!F40,\"\")","v":""},null,{"$f":"IF(Comanda!H40=4,(Comanda!D40*0.001+$BL$2)*Comanda!F40,\"\")","v":""},{"$f":"IF(Comanda!I40=4,(Comanda!D40*0.001+$BL$2)*Comanda!F40,\"\")","v":""},{"$f":"IF(Comanda!J40=4,(Comanda!E40*0.001+$BL$2)*Comanda!F40,\"\")","v":""},{"$f":"IF(Comanda!K40=4,(Comanda!E40*0.001+$BL$2)*Comanda!F40,\"\")","v":""}]
[22,{"$f":"IF(Comanda!B41<>0,Comanda!B41,\"\")","v":""},{"$f":"IF(Comanda!C41<>0,Comanda!C41,\"\")","v":""},{"$f":"IF(Comanda!D41<>0,Comanda!D41,\"\")","v":""},{"$f":"IF(Comanda!E41<>0,Comanda!E41,\"\")","v":""},{"$f":"IF(Comanda!F41<>0,Comanda!F41,\"\")","v":""},{"$f":"IF(Comanda!G41<>0,1,0)","v":0},{"$f":"IF(Comanda!H41=1,Comanda!$C$13,IF(Comanda!H41=2,Comanda!$C$14,IF(Comanda!$H41=3,Comanda!$C$15,IF(Comanda!$H41=4,Comanda!$C$16,0))))","v":0},{"$f":"IF(Comanda!I41=1,Comanda!$C$13,IF(Comanda!I41=2,Comanda!$C$14,IF(Comanda!$I41=3,Comanda!$C$15,IF(Comanda!$I41=4,Comanda!$C$16,0))))","v":0},{"$f":"IF(Comanda!J41=1,Comanda!$C$13,IF(Comanda!J41=2,Comanda!$C$14,IF(Comanda!$J41=3,Comanda!$C$15,IF(Comanda!$J41=4,Comanda!$C$16,0))))","v":0},{"$f":"IF(Comanda!K41=1,Comanda!$C$13,IF(Comanda!K41=2,Comanda!$C$14,IF(Comanda!$K41=3,Comanda!$C$15,IF(Comanda!$K41=4,Comanda!$C$16,0))))","v":0},{"$f":"IF(Comanda!B41<>0,Comanda!$C$2,\"\")","v":""},{"$f":"IF(Comanda!B41<>0,Comanda!$C$5,\"\")","v":""},{"$f":"IF(Comanda!B41<>0,Comanda!$G$2,\"\")","v":""},{"$f":"IF(Comanda!B41<>0,Comanda!L41,\"\")","v":""},{"$f":"IF(Comanda!D41<>0,VLOOKUP('Formula Cant'!F24,'Grafica Cant'!$G$2:$H$25,2,FALSE),\"\")","v":""},{"$nulls":8},{"$f":"IF(Comanda!B41<>0,Comanda!$C$9,\"\")","v":""},{"$f":"IF(Comanda!B41<>0,VLOOKUP(Comanda!$C$12,PRETURI!$A$2:$C$500,3,FALSE),\"\")","v":""},"",{"$f":"IF(H24<>0,VLOOKUP(H24,PRETURI!$D$2:$F$1093,3,FALSE),\"\")","v":""},{"v":0,"d":"0.00"},{"$f":"IF(I24<>0,VLOOKUP(I24,PRETURI!$D$2:$F$1093,3,FALSE),\"\")","v":""},{"v":0,"d":"0.00"},{"$f":"IF(J24<>0,VLOOKUP(J24,PRETURI!$D$2:$F$1093,3,FALSE),\"\")","v":""},{"v":0,"d":"0.00"},{"$f":"IF(K24<>0,VLOOKUP(K24,PRETURI!$D$2:$F$1093,3,FALSE),\"\")","v":""},{"v":0,"d":"0.00"},{"$nulls":6},{"$f":"(Comanda!D41*Comanda!E41*Comanda!F41)*0.000001","v":{"v":0,"d":"0.00"}},null,{"$f":"IF(Comanda!H41=1,(Comanda!D41*0.001+$BL$2)*Comanda!F41,\"\")","v":""},{"$f":"IF(Comanda!I41=1,(Comanda!D41*0.001+$BL$2)*Comanda!F41,\"\")","v":""},{"$f":"IF(Comanda!J41=1,(Comanda!E41*0.001+$BL$2)*Comanda!F41,\"\")","v":""},{"$f":"IF(Comanda!K41=1,(Comanda!E41*0.001+$BL$2)*Comanda!F41,\"\")","v":""},null,{"$f":"IF(Comanda!H41=2,(Comanda!D41*0.001+$BL$2)*Comanda!F41,\"\")","v":""},{"$f":"IF(Comanda!I41=2,(Comanda!D41*0.001+$BL$2)*Comanda!F41,\"\")","v":""},{"$f":"IF(Comanda!J41=2,(Comanda!E41*0.001+$BL$2)*Comanda!F41,\"\")","v":""},{"$f":"IF(Comanda!K41=2,(Comanda!E41*0.001+$BL$2)*Comanda!F41,\"\")","v":""},null,{"$f":"IF(Comanda!H41=3,(Comanda!D41*0.001+$BL$2)*Comanda!F41,\"\")","v":""},{"$f":"IF(Comanda!I41=3,(Comanda!D41*0.001+$BL$2)*Comanda!F41,\"\")","v":""},{"$f":"IF(Comanda!J41=3,(Comanda!E41*0.001+$BL$2)*Comanda!F41,\"\")","v":""},{"$f":"IF(Comanda!K41=3,(Comanda!E41*0.001+$BL$2)*Comanda!F41,\"\")","v":""},null,{"$f":"IF(Comanda!H41=4,(Comanda!D41*0.001+$BL$2)*Comanda!F41,\"\")","v":""},{"$f":"IF(Comanda!I41=4,(Comanda!D41*0.001+$BL$2)*Comanda!F41,\"\")","v":""},{"$f":"IF(Comanda!J41=4,(Comanda!E41*0.001+$BL$2)*Comanda!F41,\"\")","v":""},{"$f":"IF(Comanda!K41=4,(Comanda!E41*0.001+$BL$2)*Comanda!F41,\"\")","v":""}]
[23,{"$f":"IF(Comanda!B42<>0,Comanda!B42,\"\")","v":""},{"$f":"IF(Comanda!C42<>0,Comanda!C42,\"\")","v":""},{"$f":"IF(Comanda!D42<>0,Comanda!D42,\"\")","v":""},{"$f":"IF(Comanda!E42<>0,Comanda!E42,\"\")","v":""},{"$f":"IF(Comanda!F42<>0,Comanda!F42,\"\")","v":""},{"$f":"IF(Comanda!G42<>0,1,0)","v":0},{"$f":"IF(Comanda!H42=1,Comanda!$C$13,IF(Comanda!H42=2,Comanda!$C$14,IF(Comanda!$H42=3,Comanda!$C$15,IF(Comanda!$H42=4,Comanda!$C$16,0))))","v":0},{"$f":"IF(Comanda!I42=1,Comanda!$C$13,IF(Comanda!I42=2,Comanda!$C$14,IF(Comanda!$I42=3,Comanda!$C$15,IF(Comanda!$I42=4,Comanda!$C$16,0))))","v":0},{"$f":"IF(Comanda!J42=1,Comanda!$C$13,IF(Comanda!J42=2,Comanda!$C$14,IF(Comanda!$J42=3,Comanda!$C$15,IF(Comanda!$J42=4,Comanda!$C$16,0))))","v":0},{"$f":"IF(Comanda!K42=1,Comanda!$C$13,IF(Comanda!K42=2,Comanda!$C$14,IF(Comanda!$K42=3,Comanda!$C$15,IF(Comanda!$K42=4,Comanda!$C$16,0))))","v":0},{"$f":"IF(Comanda!B42<>0,Comanda!$C$2,\"\")","v":""},{"$f":"IF(Comanda!B42<>0,Comanda!$C$5,\"\")","v":""},{"$f":"IF(Comanda!B42<>0,Comanda!$G$2,\"\")","v":""},{"$f":"IF(Comanda!B42<>0,Comanda!L42,\"\")","v":""},{"$f":"IF(Comanda!D42<>0,VLOOKUP('Formula Cant'!F25,'Grafica Cant'!$G$2:$H$25,2,FALSE),\"\")","v":""},{"$nulls":8},{"$f":"IF(Comanda!B42<>0,Comanda!$C$9,\"\")","v":""},{"$f":"IF(Comanda!B42<>0,VLOOKUP(Comanda!$C$12,PRETURI!$A$2:$C$500,3,FALSE),\"\")","v":""},"",{"$f":"IF(H25<>0,VLOOKUP(H25,PRETURI!$D$2:$F$1093,3,FALSE),\"\")","v":""},{"v":0,"d":"0.00"},{"$f":"IF(I25<>0,VLOOKUP(I25,PRETURI!$D$2:$F$1093,3,FALSE),\"\")","v":""},{"v":0,"d":"0.00"},{"$f":"IF(J25<>0,VLOOKUP(J25,PRETURI!$D$2:$F$1093,3,FALSE),\"\")","v":""},{"v":0,"d":"0.00"},{"$f":"IF(K25<>0,VLOOKUP(K25,PRETURI!$D$2:$F$1093,3,FALSE),\"\")","v":""},{"v":0,"d":"0.00"},{"$nulls":6},{"$f":"(Comanda!D42*Comanda!E42*Comanda!F42)*0.000001","v":{"v":0,"d":"0.00"}},null,{"$f":"IF(Comanda!H42=1,(Comanda!D42*0.001+$BL$2)*Comanda!F42,\"\")","v":""},{"$f":"IF(Comanda!I42=1,(Comanda!D42*0.001+$BL$2)*Comanda!F42,\"\")","v":""},{"$f":"IF(Comanda!J42=1,(Comanda!E42*0.001+$BL$2)*Comanda!F42,\"\")","v":""},{"$f":"IF(Comanda!K42=1,(Comanda!E42*0.001+$BL$2)*Comanda!F42,\"\")","v":""},null,{"$f":"IF(Comanda!H42=2,(Comanda!D42*0.001+$BL$2)*Comanda!F42,\"\")","v":""},{"$f":"IF(Comanda!I42=2,(Comanda!D42*0.001+$BL$2)*Comanda!F42,\"\")","v":""},{"$f":"IF(Comanda!J42=2,(Comanda!E42*0.001+$BL$2)*Comanda!F42,\"\")","v":""},{"$f":"IF(Comanda!K42=2,(Comanda!E42*0.001+$BL$2)*Comanda!F42,\"\")","v":""},null,{"$f":"IF(Comanda!H42=3,(Comanda!D42*0.001+$BL$2)*Comanda!F42,\"\")","v":""},{"$f":"IF(Comanda!I42=3,(Comanda!D42*0.001+$BL$2)*Comanda!F42,\"\")","v":""},{"$f":"IF(Comanda!J42=3,(Comanda!E42*0.001+$BL$2)*Comanda!F42,\"\")","v":""},{"$f":"IF(Comanda!K42=3,(Comanda!E42*0.001+$BL$2)*Comanda!F42,\"\")","v":""},null,{"$f":"IF(Comanda!H42=4,(Comanda!D42*0.001+$BL$2)*Comanda!F42,\"\")","v":""},{"$f":"IF(Comanda!I42=4,(Comanda!D42*0.001+$BL$2)*Comanda!F42,\"\")","v":""},{"$f":"IF(Comanda!J42=4,(Comanda!E42*0.001+$BL$2)*Comanda!F42,\"\")","v":""},{"$f":"IF(Comanda!K42=4,(Comanda!E42*0.001+$BL$2)*Comanda!F42,\"\")","v":""}]
[24,{"$f":"IF(Comanda!B43<>0,Comanda!B43,\"\")","v":""},{"$f":"IF(Comanda!C43<>0,Comanda!C43,\"\")","v":""},{"$f":"IF(Comanda!D43<>0,Comanda!D43,\"\")","v":""},{"$f":"IF(Comanda!E43<>0,Comanda!E43,\"\")","v":""},{"$f":"IF(Comanda!F43<>0,Comanda!F43,\"\")","v":""},{"$f":"IF(Comanda!G43<>0,1,0)","v":0},{"$f":"IF(Comanda!H43=1,Comanda!$C$13,IF(Comanda!H43=2,Comanda!$C$14,IF(Comanda!$H43=3,Comanda!$C$15,IF(Comanda!$H43=4,Comanda!$C$16,0))))","v":0},{"$f":"IF(Comanda!I43=1,Comanda!$C$13,IF(Comanda!I43=2,Comanda!$C$14,IF(Comanda!$I43=3,Comanda!$C$15,IF(Comanda!$I43=4,Comanda!$C$16,0))))","v":0},{"$f":"IF(Comanda!J43=1,Comanda!$C$13,IF(Comanda!J43=2,Comanda!$C$14,IF(Comanda!$J43=3,Comanda!$C$15,IF(Comanda!$J43=4,Comanda!$C$16,0))))","v":0},{"$f":"IF(Comanda!K43=1,Comanda!$C$13,IF(Comanda!K43=2,Comanda!$C$14,IF(Comanda!$K43=3,Comanda!$C$15,IF(Comanda!$K43=4,Comanda!$C$16,0))))","v":0},{"$f":"IF(Comanda!B43<>0,Comanda!$C$2,\"\")","v":""},{"$f":"IF(Comanda!B43<>0,Comanda!$C$5,\"\")","v":""},{"$f":"IF(Comanda!B43<>0,Comanda!$G$2,\"\")","v":""},{"$f":"IF(Comanda!B43<>0,Comanda!L43,\"\")","v":""},{"$f":"IF(Comanda!D43<>0,VLOOKUP('Formula Cant'!F26,'Grafica Cant'!$G$2:$H$25,2,FALSE),\"\")","v":""},{"$nulls":8},{"$f":"IF(Comanda!B43<>0,Comanda!$C$9,\"\")","v":""},{"$f":"IF(Comanda!B43<>0,VLOOKUP(Comanda!$C$12,PRETURI!$A$2:$C$500,3,FALSE),\"\")","v":""},"",{"$f":"IF(H26<>0,VLOOKUP(H26,PRETURI!$D$2:$F$1093,3,FALSE),\"\")","v":""},{"v":0,"d":"0.00"},{"$f":"IF(I26<>0,VLOOKUP(I26,PRETURI!$D$2:$F$1093,3,FALSE),\"\")","v":""},{"v":0,"d":"0.00"},{"$f":"IF(J26<>0,VLOOKUP(J26,PRETURI!$D$2:$F$1093,3,FALSE),\"\")","v":""},{"v":0,"d":"0.00"},{"$f":"IF(K26<>0,VLOOKUP(K26,PRETURI!$D$2:$F$1093,3,FALSE),\"\")","v":""},{"v":0,"d":"0.00"},{"$nulls":6},{"$f":"(Comanda!D43*Comanda!E43*Comanda!F43)*0.000001","v":{"v":0,"d":"0.00"}},null,{"$f":"IF(Comanda!H43=1,(Comanda!D43*0.001+$BL$2)*Comanda!F43,\"\")","v":""},{"$f":"IF(Comanda!I43=1,(Comanda!D43*0.001+$BL$2)*Comanda!F43,\"\")","v":""},{"$f":"IF(Comanda!J43=1,(Comanda!E43*0.001+$BL$2)*Comanda!F43,\"\")","v":""},{"$f":"IF(Comanda!K43=1,(Comanda!E43*0.001+$BL$2)*Comanda!F43,\"\")","v":""},null,{"$f":"IF(Comanda!H43=2,(Comanda!D43*0.001+$BL$2)*Comanda!F43,\"\")","v":""},{"$f":"IF(Comanda!I43=2,(Comanda!D43*0.001+$BL$2)*Comanda!F43,\"\")","v":""},{"$f":"IF(Comanda!J43=2,(Comanda!E43*0.001+$BL$2)*Comanda!F43,\"\")","v":""},{"$f":"IF(Comanda!K43=2,(Comanda!E43*0.001+$BL$2)*Comanda!F43,\"\")","v":""},null,{"$f":"IF(Comanda!H43=3,(Comanda!D43*0.001+$BL$2)*Comanda!F43,\"\")","v":""},{"$f":"IF(Comanda!I43=3,(Comanda!D43*0.001+$BL$2)*Comanda!F43,\"\")","v":""},{"$f":"IF(Comanda!J43=3,(Comanda!E43*0.001+$BL$2)*Comanda!F43,\"\")","v":""},{"$f":"IF(Comanda!K43=3,(Comanda!E43*0.001+$BL$2)*Comanda!F43,\"\")","v":""},null,{"$f":"IF(Comanda!H43=4,(Comanda!D43*0.001+$BL$2)*Comanda!F43,\"\")","v":""},{"$f":"IF(Comanda!I43=4,(Comanda!D43*0.001+$BL$2)*Comanda!F43,\"\")","v":""},{"$f":"IF(Comanda!J43=4,(Comanda!E43*0.001+$BL$2)*Comanda!F43,\"\")","v":""},{"$f":"IF(Comanda!K43=4,(Comanda!E43*0.001+$BL$2)*Comanda!F43,\"\")","v":""}]
[25,{"$f":"IF(Comanda!B44<>0,Comanda!B44,\"\")","v":""},{"$f":"IF(Comanda!C44<>0,Comanda!C44,\"\")","v":""},{"$f":"IF(Comanda!D44<>0,Comanda!D44,\"\")","v":""},{"$f":"IF(Comanda!E44<>0,Comanda!E44,\"\")","v":""},{"$f":"IF(Comanda!F44<>0,Comanda!F44,\"\")","v":""},{"$f":"IF(Comanda!G44<>0,1,0)","v":0},{"$f":"IF(Comanda!H44=1,Comanda!$C$13,IF(Comanda!H44=2,Comanda!$C$14,IF(Comanda!$H44=3,Comanda!$C$15,IF(Comanda!$H44=4,Comanda!$C$16,0))))","v":0},{"$f":"IF(Comanda!I44=1,Comanda!$C$13,IF(Comanda!I44=2,Comanda!$C$14,IF(Comanda!$I44=3,Comanda!$C$15,IF(Comanda!$I44=4,Comanda!$C$16,0))))","v":0},{"$f":"IF(Comanda!J44=1,Comanda!$C$13,IF(Comanda!J44=2,Comanda!$C$14,IF(Comanda!$J44=3,Comanda!$C$15,IF(Comanda!$J44=4,Comanda!$C$16,0))))","v":0},{"$f":"IF(Comanda!K44=1,Comanda!$C$13,IF(Comanda!K44=2,Comanda!$C$14,IF(Comanda!$K44=3,Comanda!$C$15,IF(Comanda!$K44=4,Comanda!$C$16,0))))","v":0},{"$f":"IF(Comanda!B44<>0,Comanda!$C$2,\"\")","v":""},{"$f":"IF(Comanda!B44<>0,Comanda!$C$5,\"\")","v":""},{"$f":"IF(Comanda!B44<>0,Comanda!$G$2,\"\")","v":""},{"$f":"IF(Comanda!B44<>0,Comanda!L44,\"\")","v":""},{"$f":"IF(Comanda!D44<>0,VLOOKUP('Formula Cant'!F27,'Grafica Cant'!$G$2:$H$25,2,FALSE),\"\")","v":""},{"$nulls":8},{"$f":"IF(Comanda!B44<>0,Comanda!$C$9,\"\")","v":""},{"$f":"IF(Comanda!B44<>0,VLOOKUP(Comanda!$C$12,PRETURI!$A$2:$C$500,3,FALSE),\"\")","v":""},"",{"$f":"IF(H27<>0,VLOOKUP(H27,PRETURI!$D$2:$F$1093,3,FALSE),\"\")","v":""},{"v":0,"d":"0.00"},{"$f":"IF(I27<>0,VLOOKUP(I27,PRETURI!$D$2:$F$1093,3,FALSE),\"\")","v":""},{"v":0,"d":"0.00"},{"$f":"IF(J27<>0,VLOOKUP(J27,PRETURI!$D$2:$F$1093,3,FALSE),\"\")","v":""},{"v":0,"d":"0.00"},{"$f":"IF(K27<>0,VLOOKUP(K27,PRETURI!$D$2:$F$1093,3,FALSE),\"\")","v":""},{"v":0,"d":"0.00"},{"$nulls":6},{"$f":"(Comanda!D44*Comanda!E44*Comanda!F44)*0.000001","v":{"v":0,"d":"0.00"}},null,{"$f":"IF(Comanda!H44=1,(Comanda!D44*0.001+$BL$2)*Comanda!F44,\"\")","v":""},{"$f":"IF(Comanda!I44=1,(Comanda!D44*0.001+$BL$2)*Comanda!F44,\"\")","v":""},{"$f":"IF(Comanda!J44=1,(Comanda!E44*0.001+$BL$2)*Comanda!F44,\"\")","v":""},{"$f":"IF(Comanda!K44=1,(Comanda!E44*0.001+$BL$2)*Comanda!F44,\"\")","v":""},null,{"$f":"IF(Comanda!H44=2,(Comanda!D44*0.001+$BL$2)*Comanda!F44,\"\")","v":""},{"$f":"IF(Comanda!I44=2,(Comanda!D44*0.001+$BL$2)*Comanda!F44,\"\")","v":""},{"$f":"IF(Comanda!J44=2,(Comanda!E44*0.001+$BL$2)*Comanda!F44,\"\")","v":""},{"$f":"IF(Comanda!K44=2,(Comanda!E44*0.001+$BL$2)*Comanda!F44,\"\")","v":""},null,{"$f":"IF(Comanda!H44=3,(Comanda!D44*0.001+$BL$2)*Comanda!F44,\"\")","v":""},{"$f":"IF(Comanda!I44=3,(Comanda!D44*0.001+$BL$2)*Comanda!F44,\"\")","v":""},{"$f":"IF(Comanda!J44=3,(Comanda!E44*0.001+$BL$2)*Comanda!F44,\"\")","v":""},{"$f":"IF(Comanda!K44=3,(Comanda!E44*0.001+$BL$2)*Comanda!F44,\"\")","v":""},null,{"$f":"IF(Comanda!H44=4,(Comanda!D44*0.001+$BL$2)*Comanda!F44,\"\")","v":""},{"$f":"IF(Comanda!I44=4,(Comanda!D44*0.001+$BL$2)*Comanda!F44,\"\")","v":""},{"$f":"IF(Comanda!J44=4,(Comanda!E44*0.001+$BL$2)*Comanda!F44,\"\")","v":""},{"$f":"IF(Comanda!K44=4,(Comanda!E44*0.001+$BL$2)*Comanda!F44,\"\")","v":""}]
[26,{"$f":"IF(Comanda!B45<>0,Comanda!B45,\"\")","v":""},{"$f":"IF(Comanda!C45<>0,Comanda!C45,\"\")","v":""},{"$f":"IF(Comanda!D45<>0,Comanda!D45,\"\")","v":""},{"$f":"IF(Comanda!E45<>0,Comanda!E45,\"\")","v":""},{"$f":"IF(Comanda!F45<>0,Comanda!F45,\"\")","v":""},{"$f":"IF(Comanda!G45<>0,1,0)","v":0},{"$f":"IF(Comanda!H45=1,Comanda!$C$13,IF(Comanda!H45=2,Comanda!$C$14,IF(Comanda!$H45=3,Comanda!$C$15,IF(Comanda!$H45=4,Comanda!$C$16,0))))","v":0},{"$f":"IF(Comanda!I45=1,Comanda!$C$13,IF(Comanda!I45=2,Comanda!$C$14,IF(Comanda!$I45=3,Comanda!$C$15,IF(Comanda!$I45=4,Comanda!$C$16,0))))","v":0},{"$f":"IF(Comanda!J45=1,Comanda!$C$13,IF(Comanda!J45=2,Comanda!$C$14,IF(Comanda!$J45=3,Comanda!$C$15,IF(Comanda!$J45=4,Comanda!$C$16,0))))","v":0},{"$f":"IF(Comanda!K45=1,Comanda!$C$13,IF(Comanda!K45=2,Comanda!$C$14,IF(Comanda!$K45=3,Comanda!$C$15,IF(Comanda!$K45=4,Comanda!$C$16,0))))","v":0},{"$f":"IF(Comanda!B45<>0,Comanda!$C$2,\"\")","v":""},{"$f":"IF(Comanda!B45<>0,Comanda!$C$5,\"\")","v":""},{"$f":"IF(Comanda!B45<>0,Comanda!$G$2,\"\")","v":""},{"$f":"IF(Comanda!B45<>0,Comanda!L45,\"\")","v":""},{"$f":"IF(Comanda!D45<>0,VLOOKUP('Formula Cant'!F28,'Grafica Cant'!$G$2:$H$25,2,FALSE),\"\")","v":""},{"$nulls":8},{"$f":"IF(Comanda!B45<>0,Comanda!$C$9,\"\")","v":""},{"$f":"IF(Comanda!B45<>0,VLOOKUP(Comanda!$C$12,PRETURI!$A$2:$C$500,3,FALSE),\"\")","v":""},"",{"$f":"IF(H28<>0,VLOOKUP(H28,PRETURI!$D$2:$F$1093,3,FALSE),\"\")","v":""},{"v":0,"d":"0.00"},{"$f":"IF(I28<>0,VLOOKUP(I28,PRETURI!$D$2:$F$1093,3,FALSE),\"\")","v":""},{"v":0,"d":"0.00"},{"$f":"IF(J28<>0,VLOOKUP(J28,PRETURI!$D$2:$F$1093,3,FALSE),\"\")","v":""},{"v":0,"d":"0.00"},{"$f":"IF(K28<>0,VLOOKUP(K28,PRETURI!$D$2:$F$1093,3,FALSE),\"\")","v":""},{"v":0,"d":"0.00"},{"$nulls":6},{"$f":"(Comanda!D45*Comanda!E45*Comanda!F45)*0.000001","v":{"v":0,"d":"0.00"}},null,{"$f":"IF(Comanda!H45=1,(Comanda!D45*0.001+$BL$2)*Comanda!F45,\"\")","v":""},{"$f":"IF(Comanda!I45=1,(Comanda!D45*0.001+$BL$2)*Comanda!F45,\"\")","v":""},{"$f":"IF(Comanda!J45=1,(Comanda!E45*0.001+$BL$2)*Comanda!F45,\"\")","v":""},{"$f":"IF(Comanda!K45=1,(Comanda!E45*0.001+$BL$2)*Comanda!F45,\"\")","v":""},null,{"$f":"IF(Comanda!H45=2,(Comanda!D45*0.001+$BL$2)*Comanda!F45,\"\")","v":""},{"$f":"IF(Comanda!I45=2,(Comanda!D45*0.001+$BL$2)*Comanda!F45,\"\")","v":""},{"$f":"IF(Comanda!J45=2,(Comanda!E45*0.001+$BL$2)*Comanda!F45,\"\")","v":""},{"$f":"IF(Comanda!K45=2,(Comanda!E45*0.001+$BL$2)*Comanda!F45,\"\")","v":""},null,{"$f":"IF(Comanda!H45=3,(Comanda!D45*0.001+$BL$2)*Comanda!F45,\"\")","v":""},{"$f":"IF(Comanda!I45=3,(Comanda!D45*0.001+$BL$2)*Comanda!F45,\"\")","v":""},{"$f":"IF(Comanda!J45=3,(Comanda!E45*0.001+$BL$2)*Comanda!F45,\"\")","v":""},{"$f":"IF(Comanda!K45=3,(Comanda!E45*0.001+$BL$2)*Comanda!F45,\"\")","v":""},null,{"$f":"IF(Comanda!H45=4,(Comanda!D45*0.001+$BL$2)*Comanda!F45,\"\")","v":""},{"$f":"IF(Comanda!I45=4,(Comanda!D45*0.001+$BL$2)*Comanda!F45,\"\")","v":""},{"$f":"IF(Comanda!J45=4,(Comanda!E45*0.001+$BL$2)*Comanda!F45,\"\")","v":""},{"$f":"IF(Comanda!K45=4,(Comanda!E45*0.001+$BL$2)*Comanda!F45,\"\")","v":""}]
[27,{"$f":"IF(Comanda!B46<>0,Comanda!B46,\"\")","v":""},{"$f":"IF(Comanda!C46<>0,Comanda!C46,\"\")","v":""},{"$f":"IF(Comanda!D46<>0,Comanda!D46,\"\")","v":""},{"$f":"IF(Comanda!E46<>0,Comanda!E46,\"\")","v":""},{"$f":"IF(Comanda!F46<>0,Comanda!F46,\"\")","v":""},{"$f":"IF(Comanda!G46<>0,1,0)","v":0},{"$f":"IF(Comanda!H46=1,Comanda!$C$13,IF(Comanda!H46=2,Comanda!$C$14,IF(Comanda!$H46=3,Comanda!$C$15,IF(Comanda!$H46=4,Comanda!$C$16,0))))","v":0},{"$f":"IF(Comanda!I46=1,Comanda!$C$13,IF(Comanda!I46=2,Comanda!$C$14,IF(Comanda!$I46=3,Comanda!$C$15,IF(Comanda!$I46=4,Comanda!$C$16,0))))","v":0},{"$f":"IF(Comanda!J46=1,Comanda!$C$13,IF(Comanda!J46=2,Comanda!$C$14,IF(Comanda!$J46=3,Comanda!$C$15,IF(Comanda!$J46=4,Comanda!$C$16,0))))","v":0},{"$f":"IF(Comanda!K46=1,Comanda!$C$13,IF(Comanda!K46=2,Comanda!$C$14,IF(Comanda!$K46=3,Comanda!$C$15,IF(Comanda!$K46=4,Comanda!$C$16,0))))","v":0},{"$f":"IF(Comanda!B46<>0,Comanda!$C$2,\"\")","v":""},{"$f":"IF(Comanda!B46<>0,Comanda!$C$5,\"\")","v":""},{"$f":"IF(Comanda!B46<>0,Comanda!$G$2,\"\")","v":""},{"$f":"IF(Comanda!B46<>0,Comanda!L46,\"\")","v":""},{"$f":"IF(Comanda!D46<>0,VLOOKUP('Formula Cant'!F29,'Grafica Cant'!$G$2:$H$25,2,FALSE),\"\")","v":""},{"$nulls":8},{"$f":"IF(Comanda!B46<>0,Comanda!$C$9,\"\")","v":""},{"$f":"IF(Comanda!B46<>0,VLOOKUP(Comanda!$C$12,PRETURI!$A$2:$C$500,3,FALSE),\"\")","v":""},"",{"$f":"IF(H29<>0,VLOOKUP(H29,PRETURI!$D$2:$F$1093,3,FALSE),\"\")","v":""},{"v":0,"d":"0.00"},{"$f":"IF(I29<>0,VLOOKUP(I29,PRETURI!$D$2:$F$1093,3,FALSE),\"\")","v":""},{"v":0,"d":"0.00"},{"$f":"IF(J29<>0,VLOOKUP(J29,PRETURI!$D$2:$F$1093,3,FALSE),\"\")","v":""},{"v":0,"d":"0.00"},{"$f":"IF(K29<>0,VLOOKUP(K29,PRETURI!$D$2:$F$1093,3,FALSE),\"\")","v":""},{"v":0,"d":"0.00"},{"$nulls":6},{"$f":"(Comanda!D46*Comanda!E46*Comanda!F46)*0.000001","v":{"v":0,"d":"0.00"}},null,{"$f":"IF(Comanda!H46=1,(Comanda!D46*0.001+$BL$2)*Comanda!F46,\"\")","v":""},{"$f":"IF(Comanda!I46=1,(Comanda!D46*0.001+$BL$2)*Comanda!F46,\"\")","v":""},{"$f":"IF(Comanda!J46=1,(Comanda!E46*0.001+$BL$2)*Comanda!F46,\"\")","v":""},{"$f":"IF(Comanda!K46=1,(Comanda!E46*0.001+$BL$2)*Comanda!F46,\"\")","v":""},null,{"$f":"IF(Comanda!H46=2,(Comanda!D46*0.001+$BL$2)*Comanda!F46,\"\")","v":""},{"$f":"IF(Comanda!I46=2,(Comanda!D46*0.001+$BL$2)*Comanda!F46,\"\")","v":""},{"$f":"IF(Comanda!J46=2,(Comanda!E46*0.001+$BL$2)*Comanda!F46,\"\")","v":""},{"$f":"IF(Comanda!K46=2,(Comanda!E46*0.001+$BL$2)*Comanda!F46,\"\")","v":""},null,{"$f":"IF(Comanda!H46=3,(Comanda!D46*0.001+$BL$2)*Comanda!F46,\"\")","v":""},{"$f":"IF(Comanda!I46=3,(Comanda!D46*0.001+$BL$2)*Comanda!F46,\"\")","v":""},{"$f":"IF(Comanda!J46=3,(Comanda!E46*0.001+$BL$2)*Comanda!F46,\"\")","v":""},{"$f":"IF(Comanda!K46=3,(Comanda!E46*0.001+$BL$2)*Comanda!F46,\"\")","v":""},null,{"$f":"IF(Comanda!H46=4,(Comanda!D46*0.001+$BL$2)*Comanda!F46,\"\")","v":""},{"$f":"IF(Comanda!I46=4,(Comanda!D46*0.001+$BL$2)*Comanda!F46,\"\")","v":""},{"$f":"IF(Comanda!J46=4,(Comanda!E46*0.001+$BL$2)*Comanda!F46,\"\")","v":""},{"$f":"IF(Comanda!K46=4,(Comanda!E46*0.001+$BL$2)*Comanda!F46,\"\")","v":""}]
[28,{"$f":"IF(Comanda!B47<>0,Comanda!B47,\"\")","v":""},{"$f":"IF(Comanda!C47<>0,Comanda!C47,\"\")","v":""},{"$f":"IF(Comanda!D47<>0,Comanda!D47,\"\")","v":""},{"$f":"IF(Comanda!E47<>0,Comanda!E47,\"\")","v":""},{"$f":"IF(Comanda!F47<>0,Comanda!F47,\"\")","v":""},{"$f":"IF(Comanda!G47<>0,1,0)","v":0},{"$f":"IF(Comanda!H47=1,Comanda!$C$13,IF(Comanda!H47=2,Comanda!$C$14,IF(Comanda!$H47=3,Comanda!$C$15,IF(Comanda!$H47=4,Comanda!$C$16,0))))","v":0},{"$f":"IF(Comanda!I47=1,Comanda!$C$13,IF(Comanda!I47=2,Comanda!$C$14,IF(Comanda!$I47=3,Comanda!$C$15,IF(Comanda!$I47=4,Comanda!$C$16,0))))","v":0},{"$f":"IF(Comanda!J47=1,Comanda!$C$13,IF(Comanda!J47=2,Comanda!$C$14,IF(Comanda!$J47=3,Comanda!$C$15,IF(Comanda!$J47=4,Comanda!$C$16,0))))","v":0},{"$f":"IF(Comanda!K47=1,Comanda!$C$13,IF(Comanda!K47=2,Comanda!$C$14,IF(Comanda!$K47=3,Comanda!$C$15,IF(Comanda!$K47=4,Comanda!$C$16,0))))","v":0},{"$f":"IF(Comanda!B47<>0,Comanda!$C$2,\"\")","v":""},{"$f":"IF(Comanda!B47<>0,Comanda!$C$5,\"\")","v":""},{"$f":"IF(Comanda!B47<>0,Comanda!$G$2,\"\")","v":""},{"$f":"IF(Comanda!B47<>0,Comanda!L47,\"\")","v":""},{"$f":"IF(Comanda!D47<>0,VLOOKUP('Formula Cant'!F30,'Grafica Cant'!$G$2:$H$25,2,FALSE),\"\")","v":""},{"$nulls":8},{"$f":"IF(Comanda!B47<>0,Comanda!$C$9,\"\")","v":""},{"$f":"IF(Comanda!B47<>0,VLOOKUP(Comanda!$C$12,PRETURI!$A$2:$C$500,3,FALSE),\"\")","v":""},"",{"$f":"IF(H30<>0,VLOOKUP(H30,PRETURI!$D$2:$F$1093,3,FALSE),\"\")","v":""},{"v":0,"d":"0.00"},{"$f":"IF(I30<>0,VLOOKUP(I30,PRETURI!$D$2:$F$1093,3,FALSE),\"\")","v":""},{"v":0,"d":"0.00"},{"$f":"IF(J30<>0,VLOOKUP(J30,PRETURI!$D$2:$F$1093,3,FALSE),\"\")","v":""},{"v":0,"d":"0.00"},{"$f":"IF(K30<>0,VLOOKUP(K30,PRETURI!$D$2:$F$1093,3,FALSE),\"\")","v":""},{"v":0,"d":"0.00"},{"$nulls":6},{"$f":"(Comanda!D47*Comanda!E47*Comanda!F47)*0.000001","v":{"v":0,"d":"0.00"}},null,{"$f":"IF(Comanda!H47=1,(Comanda!D47*0.001+$BL$2)*Comanda!F47,\"\")","v":""},{"$f":"IF(Comanda!I47=1,(Comanda!D47*0.001+$BL$2)*Comanda!F47,\"\")","v":""},{"$f":"IF(Comanda!J47=1,(Comanda!E47*0.001+$BL$2)*Comanda!F47,\"\")","v":""},{"$f":"IF(Comanda!K47=1,(Comanda!E47*0.001+$BL$2)*Comanda!F47,\"\")","v":""},null,{"$f":"IF(Comanda!H47=2,(Comanda!D47*0.001+$BL$2)*Comanda!F47,\"\")","v":""},{"$f":"IF(Comanda!I47=2,(Comanda!D47*0.001+$BL$2)*Comanda!F47,\"\")","v":""},{"$f":"IF(Comanda!J47=2,(Comanda!E47*0.001+$BL$2)*Comanda!F47,\"\")","v":""},{"$f":"IF(Comanda!K47=2,(Comanda!E47*0.001+$BL$2)*Comanda!F47,\"\")","v":""},null,{"$f":"IF(Comanda!H47=3,(Comanda!D47*0.001+$BL$2)*Comanda!F47,\"\")","v":""},{"$f":"IF(Comanda!I47=3,(Comanda!D47*0.001+$BL$2)*Comanda!F47,\"\")","v":""},{"$f":"IF(Comanda!J47=3,(Comanda!E47*0.001+$BL$2)*Comanda!F47,\"\")","v":""},{"$f":"IF(Comanda!K47=3,(Comanda!E47*0.001+$BL$2)*Comanda!F47,\"\")","v":""},null,{"$f":"IF(Comanda!H47=4,(Comanda!D47*0.001+$BL$2)*Comanda!F47,\"\")","v":""},{"$f":"IF(Comanda!I47=4,(Comanda!D47*0.001+$BL$2)*Comanda!F47,\"\")","v":""},{"$f":"IF(Comanda!J47=4,(Comanda!E47*0.001+$BL$2)*Comanda!F47,\"\")","v":""},{"$f":"IF(Comanda!K47=4,(Comanda!E47*0.001+$BL$2)*Comanda!F47,\"\")","v":""}]
[29,{"$f":"IF(Comanda!B48<>0,Comanda!B48,\"\")","v":""},{"$f":"IF(Comanda!C48<>0,Comanda!C48,\"\")","v":""},{"$f":"IF(Comanda!D48<>0,Comanda!D48,\"\")","v":""},{"$f":"IF(Comanda!E48<>0,Comanda!E48,\"\")","v":""},{"$f":"IF(Comanda!F48<>0,Comanda!F48,\"\")","v":""},{"$f":"IF(Comanda!G48<>0,1,0)","v":0},{"$f":"IF(Comanda!H48=1,Comanda!$C$13,IF(Comanda!H48=2,Comanda!$C$14,IF(Comanda!$H48=3,Comanda!$C$15,IF(Comanda!$H48=4,Comanda!$C$16,0))))","v":0},{"$f":"IF(Comanda!I48=1,Comanda!$C$13,IF(Comanda!I48=2,Comanda!$C$14,IF(Comanda!$I48=3,Comanda!$C$15,IF(Comanda!$I48=4,Comanda!$C$16,0))))","v":0},{"$f":"IF(Comanda!J48=1,Comanda!$C$13,IF(Comanda!J48=2,Comanda!$C$14,IF(Comanda!$J48=3,Comanda!$C$15,IF(Comanda!$J48=4,Comanda!$C$16,0))))","v":0},{"$f":"IF(Comanda!K48=1,Comanda!$C$13,IF(Comanda!K48=2,Comanda!$C$14,IF(Comanda!$K48=3,Comanda!$C$15,IF(Comanda!$K48=4,Comanda!$C$16,0))))","v":0},{"$f":"IF(Comanda!B48<>0,Comanda!$C$2,\"\")","v":""},{"$f":"IF(Comanda!B48<>0,Comanda!$C$5,\"\")","v":""},{"$f":"IF(Comanda!B48<>0,Comanda!$G$2,\"\")","v":""},{"$f":"IF(Comanda!B48<>0,Comanda!L48,\"\")","v":""},{"$f":"IF(Comanda!D48<>0,VLOOKUP('Formula Cant'!F31,'Grafica Cant'!$G$2:$H$25,2,FALSE),\"\")","v":""},{"$nulls":8},{"$f":"IF(Comanda!B48<>0,Comanda!$C$9,\"\")","v":""},{"$f":"IF(Comanda!B48<>0,VLOOKUP(Comanda!$C$12,PRETURI!$A$2:$C$500,3,FALSE),\"\")","v":""},"",{"$f":"IF(H31<>0,VLOOKUP(H31,PRETURI!$D$2:$F$1093,3,FALSE),\"\")","v":""},{"v":0,"d":"0.00"},{"$f":"IF(I31<>0,VLOOKUP(I31,PRETURI!$D$2:$F$1093,3,FALSE),\"\")","v":""},{"v":0,"d":"0.00"},{"$f":"IF(J31<>0,VLOOKUP(J31,PRETURI!$D$2:$F$1093,3,FALSE),\"\")","v":""},{"v":0,"d":"0.00"},{"$f":"IF(K31<>0,VLOOKUP(K31,PRETURI!$D$2:$F$1093,3,FALSE),\"\")","v":""},{"v":0,"d":"0.00"},{"$nulls":6},{"$f":"(Comanda!D48*Comanda!E48*Comanda!F48)*0.000001","v":{"v":0,"d":"0.00"}},null,{"$f":"IF(Comanda!H48=1,(Comanda!D48*0.001+$BL$2)*Comanda!F48,\"\")","v":""},{"$f":"IF(Comanda!I48=1,(Comanda!D48*0.001+$BL$2)*Comanda!F48,\"\")","v":""},{"$f":"IF(Comanda!J48=1,(Comanda!E48*0.001+$BL$2)*Comanda!F48,\"\")","v":""},{"$f":"IF(Comanda!K48=1,(Comanda!E48*0.001+$BL$2)*Comanda!F48,\"\")","v":""},null,{"$f":"IF(Comanda!H48=2,(Comanda!D48*0.001+$BL$2)*Comanda!F48,\"\")","v":""},{"$f":"IF(Comanda!I48=2,(Comanda!D48*0.001+$BL$2)*Comanda!F48,\"\")","v":""},{"$f":"IF(Comanda!J48=2,(Comanda!E48*0.001+$BL$2)*Comanda!F48,\"\")","v":""},{"$f":"IF(Comanda!K48=2,(Comanda!E48*0.001+$BL$2)*Comanda!F48,\"\")","v":""},null,{"$f":"IF(Comanda!H48=3,(Comanda!D48*0.001+$BL$2)*Comanda!F48,\"\")","v":""},{"$f":"IF(Comanda!I48=3,(Comanda!D48*0.001+$BL$2)*Comanda!F48,\"\")","v":""},{"$f":"IF(Comanda!J48=3,(Comanda!E48*0.001+$BL$2)*Comanda!F48,\"\")","v":""},{"$f":"IF(Comanda!K48=3,(Comanda!E48*0.001+$BL$2)*Comanda!F48,\"\")","v":""},null,{"$f":"IF(Comanda!H48=4,(Comanda!D48*0.001+$BL$2)*Comanda!F48,\"\")","v":""},{"$f":"IF(Comanda!I48=4,(Comanda!D48*0.001+$BL$2)*Comanda!F48,\"\")","v":""},{"$f":"IF(Comanda!J48=4,(Comanda!E48*0.001+$BL$2)*Comanda!F48,\"\")","v":""},{"$f":"IF(Comanda!K48=4,(Comanda!E48*0.001+$BL$2)*Comanda!F48,\"\")","v":""}]
[30,{"$f":"IF(Comanda!B49<>0,Comanda!B49,\"\")","v":""},{"$f":"IF(Comanda!C49<>0,Comanda!C49,\"\")","v":""},{"$f":"IF(Comanda!D49<>0,Comanda!D49,\"\")","v":""},{"$f":"IF(Comanda!E49<>0,Comanda!E49,\"\")","v":""},{"$f":"IF(Comanda!F49<>0,Comanda!F49,\"\")","v":""},{"$f":"IF(Comanda!G49<>0,1,0)","v":0},{"$f":"IF(Comanda!H49=1,Comanda!$C$13,IF(Comanda!H49=2,Comanda!$C$14,IF(Comanda!$H49=3,Comanda!$C$15,IF(Comanda!$H49=4,Comanda!$C$16,0))))","v":0},{"$f":"IF(Comanda!I49=1,Comanda!$C$13,IF(Comanda!I49=2,Comanda!$C$14,IF(Comanda!$I49=3,Comanda!$C$15,IF(Comanda!$I49=4,Comanda!$C$16,0))))","v":0},{"$f":"IF(Comanda!J49=1,Comanda!$C$13,IF(Comanda!J49=2,Comanda!$C$14,IF(Comanda!$J49=3,Comanda!$C$15,IF(Comanda!$J49=4,Comanda!$C$16,0))))","v":0},{"$f":"IF(Comanda!K49=1,Comanda!$C$13,IF(Comanda!K49=2,Comanda!$C$14,IF(Comanda!$K49=3,Comanda!$C$15,IF(Comanda!$K49=4,Comanda!$C$16,0))))","v":0},{"$f":"IF(Comanda!B49<>0,Comanda!$C$2,\"\")","v":""},{"$f":"IF(Comanda!B49<>0,Comanda!$C$5,\"\")","v":""},{"$f":"IF(Comanda!B49<>0,Comanda!$G$2,\"\")","v":""},{"$f":"IF(Comanda!B49<>0,Comanda!L49,\"\")","v":""},{"$f":"IF(Comanda!D49<>0,VLOOKUP('Formula Cant'!F32,'Grafica Cant'!$G$2:$H$25,2,FALSE),\"\")","v":""},{"$nulls":8},{"$f":"IF(Comanda!B49<>0,Comanda!$C$9,\"\")","v":""},{"$f":"IF(Comanda!B49<>0,VLOOKUP(Comanda!$C$12,PRETURI!$A$2:$C$500,3,FALSE),\"\")","v":""},"",{"$f":"IF(H32<>0,VLOOKUP(H32,PRETURI!$D$2:$F$1093,3,FALSE),\"\")","v":""},{"v":0,"d":"0.00"},{"$f":"IF(I32<>0,VLOOKUP(I32,PRETURI!$D$2:$F$1093,3,FALSE),\"\")","v":""},{"v":0,"d":"0.00"},{"$f":"IF(J32<>0,VLOOKUP(J32,PRETURI!$D$2:$F$1093,3,FALSE),\"\")","v":""},{"v":0,"d":"0.00"},{"$f":"IF(K32<>0,VLOOKUP(K32,PRETURI!$D$2:$F$1093,3,FALSE),\"\")","v":""},{"v":0,"d":"0.00"},{"$nulls":6},{"$f":"(Comanda!D49*Comanda!E49*Comanda!F49)*0.000001","v":{"v":0,"d":"0.00"}},null,{"$f":"IF(Comanda!H49=1,(Comanda!D49*0.001+$BL$2)*Comanda!F49,\"\")","v":""},{"$f":"IF(Comanda!I49=1,(Comanda!D49*0.001+$BL$2)*Comanda!F49,\"\")","v":""},{"$f":"IF(Comanda!J49=1,(Comanda!E49*0.001+$BL$2)*Comanda!F49,\"\")","v":""},{"$f":"IF(Comanda!K49=1,(Comanda!E49*0.001+$BL$2)*Comanda!F49,\"\")","v":""},null,{"$f":"IF(Comanda!H49=2,(Comanda!D49*0.001+$BL$2)*Comanda!F49,\"\")","v":""},{"$f":"IF(Comanda!I49=2,(Comanda!D49*0.001+$BL$2)*Comanda!F49,\"\")","v":""},{"$f":"IF(Comanda!J49=2,(Comanda!E49*0.001+$BL$2)*Comanda!F49,\"\")","v":""},{"$f":"IF(Comanda!K49=2,(Comanda!E49*0.001+$BL$2)*Comanda!F49,\"\")","v":""},null,{"$f":"IF(Comanda!H49=3,(Comanda!D49*0.001+$BL$2)*Comanda!F49,\"\")","v":""},{"$f":"IF(Comanda!I49=3,(Comanda!D49*0.001+$BL$2)*Comanda!F49,\"\")","v":""},{"$f":"IF(Comanda!J49=3,(Comanda!E49*0.001+$BL$2)*Comanda!F49,\"\")","v":""},{"$f":"IF(Comanda!K49=3,(Comanda!E49*0.001+$BL$2)*Comanda!F49,\"\")","v":""},null,{"$f":"IF(Comanda!H49=4,(Comanda!D49*0.001+$BL$2)*Comanda!F49,\"\")","v":""},{"$f":"IF(Comanda!I49=4,(Comanda!D49*0.001+$BL$2)*Comanda!F49,\"\")","v":""},{"$f":"IF(Comanda!J49=4,(Comanda!E49*0.001+$BL$2)*Comanda!F49,\"\")","v":""},{"$f":"IF(Comanda!K49=4,(Comanda!E49*0.001+$BL$2)*Comanda!F49,\"\")","v":""}]
[31,{"$f":"IF(Comanda!B50<>0,Comanda!B50,\"\")","v":""},{"$f":"IF(Comanda!C50<>0,Comanda!C50,\"\")","v":""},{"$f":"IF(Comanda!D50<>0,Comanda!D50,\"\")","v":""},{"$f":"IF(Comanda!E50<>0,Comanda!E50,\"\")","v":""},{"$f":"IF(Comanda!F50<>0,Comanda!F50,\"\")","v":""},{"$f":"IF(Comanda!G50<>0,1,0)","v":0},{"$f":"IF(Comanda!H50=1,Comanda!$C$13,IF(Comanda!H50=2,Comanda!$C$14,IF(Comanda!$H50=3,Comanda!$C$15,IF(Comanda!$H50=4,Comanda!$C$16,0))))","v":0},{"$f":"IF(Comanda!I50=1,Comanda!$C$13,IF(Comanda!I50=2,Comanda!$C$14,IF(Comanda!$I50=3,Comanda!$C$15,IF(Comanda!$I50=4,Comanda!$C$16,0))))","v":0},{"$f":"IF(Comanda!J50=1,Comanda!$C$13,IF(Comanda!J50=2,Comanda!$C$14,IF(Comanda!$J50=3,Comanda!$C$15,IF(Comanda!$J50=4,Comanda!$C$16,0))))","v":0},{"$f":"IF(Comanda!K50=1,Comanda!$C$13,IF(Comanda!K50=2,Comanda!$C$14,IF(Comanda!$K50=3,Comanda!$C$15,IF(Comanda!$K50=4,Comanda!$C$16,0))))","v":0},{"$f":"IF(Comanda!B50<>0,Comanda!$C$2,\"\")","v":""},{"$f":"IF(Comanda!B50<>0,Comanda!$C$5,\"\")","v":""},{"$f":"IF(Comanda!B50<>0,Comanda!$G$2,\"\")","v":""},{"$f":"IF(Comanda!B50<>0,Comanda!L50,\"\")","v":""},{"$f":"IF(Comanda!D50<>0,VLOOKUP('Formula Cant'!F33,'Grafica Cant'!$G$2:$H$25,2,FALSE),\"\")","v":""},{"$nulls":8},{"$f":"IF(Comanda!B50<>0,Comanda!$C$9,\"\")","v":""},{"$f":"IF(Comanda!B50<>0,VLOOKUP(Comanda!$C$12,PRETURI!$A$2:$C$500,3,FALSE),\"\")","v":""},"",{"$f":"IF(H33<>0,VLOOKUP(H33,PRETURI!$D$2:$F$1093,3,FALSE),\"\")","v":""},{"v":0,"d":"0.00"},{"$f":"IF(I33<>0,VLOOKUP(I33,PRETURI!$D$2:$F$1093,3,FALSE),\"\")","v":""},{"v":0,"d":"0.00"},{"$f":"IF(J33<>0,VLOOKUP(J33,PRETURI!$D$2:$F$1093,3,FALSE),\"\")","v":""},{"v":0,"d":"0.00"},{"$f":"IF(K33<>0,VLOOKUP(K33,PRETURI!$D$2:$F$1093,3,FALSE),\"\")","v":""},{"v":0,"d":"0.00"},{"$nulls":6},{"$f":"(Comanda!D50*Comanda!E50*Comanda!F50)*0.000001","v":{"v":0,"d":"0.00"}},null,{"$f":"IF(Comanda!H50=1,(Comanda!D50*0.001+$BL$2)*Comanda!F50,\"\")","v":""},{"$f":"IF(Comanda!I50=1,(Comanda!D50*0.001+$BL$2)*Comanda!F50,\"\")","v":""},{"$f":"IF(Comanda!J50=1,(Comanda!E50*0.001+$BL$2)*Comanda!F50,\"\")","v":""},{"$f":"IF(Comanda!K50=1,(Comanda!E50*0.001+$BL$2)*Comanda!F50,\"\")","v":""},null,{"$f":"IF(Comanda!H50=2,(Comanda!D50*0.001+$BL$2)*Comanda!F50,\"\")","v":""},{"$f":"IF(Comanda!I50=2,(Comanda!D50*0.001+$BL$2)*Comanda!F50,\"\")","v":""},{"$f":"IF(Comanda!J50=2,(Comanda!E50*0.001+$BL$2)*Comanda!F50,\"\")","v":""},{"$f":"IF(Comanda!K50=2,(Comanda!E50*0.001+$BL$2)*Comanda!F50,\"\")","v":""},null,{"$f":"IF(Comanda!H50=3,(Comanda!D50*0.001+$BL$2)*Comanda!F50,\"\")","v":""},{"$f":"IF(Comanda!I50=3,(Comanda!D50*0.001+$BL$2)*Comanda!F50,\"\")","v":""},{"$f":"IF(Comanda!J50=3,(Comanda!E50*0.001+$BL$2)*Comanda!F50,\"\")","v":""},{"$f":"IF(Comanda!K50=3,(Comanda!E50*0.001+$BL$2)*Comanda!F50,\"\")","v":""},null,{"$f":"IF(Comanda!H50=4,(Comanda!D50*0.001+$BL$2)*Comanda!F50,\"\")","v":""},{"$f":"IF(Comanda!I50=4,(Comanda!D50*0.001+$BL$2)*Comanda!F50,\"\")","v":""},{"$f":"IF(Comanda!J50=4,(Comanda!E50*0.001+$BL$2)*Comanda!F50,\"\")","v":""},{"$f":"IF(Comanda!K50=4,(Comanda!E50*0.001+$BL$2)*Comanda!F50,\"\")","v":""}]
[32,{"$f":"IF(Comanda!B51<>0,Comanda!B51,\"\")","v":""},{"$f":"IF(Comanda!C51<>0,Comanda!C51,\"\")","v":""},{"$f":"IF(Comanda!D51<>0,Comanda!D51,\"\")","v":""},{"$f":"IF(Comanda!E51<>0,Comanda!E51,\"\")","v":""},{"$f":"IF(Comanda!F51<>0,Comanda!F51,\"\")","v":""},{"$f":"IF(Comanda!G51<>0,1,0)","v":0},{"$f":"IF(Comanda!H51=1,Comanda!$C$13,IF(Comanda!H51=2,Comanda!$C$14,IF(Comanda!$H51=3,Comanda!$C$15,IF(Comanda!$H51=4,Comanda!$C$16,0))))","v":0},{"$f":"IF(Comanda!I51=1,Comanda!$C$13,IF(Comanda!I51=2,Comanda!$C$14,IF(Comanda!$I51=3,Comanda!$C$15,IF(Comanda!$I51=4,Comanda!$C$16,0))))","v":0},{"$f":"IF(Comanda!J51=1,Comanda!$C$13,IF(Comanda!J51=2,Comanda!$C$14,IF(Comanda!$J51=3,Comanda!$C$15,IF(Comanda!$J51=4,Comanda!$C$16,0))))","v":0},{"$f":"IF(Comanda!K51=1,Comanda!$C$13,IF(Comanda!K51=2,Comanda!$C$14,IF(Comanda!$K51=3,Comanda!$C$15,IF(Comanda!$K51=4,Comanda!$C$16,0))))","v":0},{"$f":"IF(Comanda!B51<>0,Comanda!$C$2,\"\")","v":""},{"$f":"IF(Comanda!B51<>0,Comanda!$C$5,\"\")","v":""},{"$f":"IF(Comanda!B51<>0,Comanda!$G$2,\"\")","v":""},{"$f":"IF(Comanda!B51<>0,Comanda!L51,\"\")","v":""},{"$f":"IF(Comanda!D51<>0,VLOOKUP('Formula Cant'!F34,'Grafica Cant'!$G$2:$H$25,2,FALSE),\"\")","v":""},{"$nulls":8},{"$f":"IF(Comanda!B51<>0,Comanda!$C$9,\"\")","v":""},{"$f":"IF(Comanda!B51<>0,VLOOKUP(Comanda!$C$12,PRETURI!$A$2:$C$500,3,FALSE),\"\")","v":""},"",{"$f":"IF(H34<>0,VLOOKUP(H34,PRETURI!$D$2:$F$1093,3,FALSE),\"\")","v":""},{"v":0,"d":"0.00"},{"$f":"IF(I34<>0,VLOOKUP(I34,PRETURI!$D$2:$F$1093,3,FALSE),\"\")","v":""},{"v":0,"d":"0.00"},{"$f":"IF(J34<>0,VLOOKUP(J34,PRETURI!$D$2:$F$1093,3,FALSE),\"\")","v":""},{"v":0,"d":"0.00"},{"$f":"IF(K34<>0,VLOOKUP(K34,PRETURI!$D$2:$F$1093,3,FALSE),\"\")","v":""},{"v":0,"d":"0.00"},{"$nulls":6},{"$f":"(Comanda!D51*Comanda!E51*Comanda!F51)*0.000001","v":{"v":0,"d":"0.00"}},null,{"$f":"IF(Comanda!H51=1,(Comanda!D51*0.001+$BL$2)*Comanda!F51,\"\")","v":""},{"$f":"IF(Comanda!I51=1,(Comanda!D51*0.001+$BL$2)*Comanda!F51,\"\")","v":""},{"$f":"IF(Comanda!J51=1,(Comanda!E51*0.001+$BL$2)*Comanda!F51,\"\")","v":""},{"$f":"IF(Comanda!K51=1,(Comanda!E51*0.001+$BL$2)*Comanda!F51,\"\")","v":""},null,{"$f":"IF(Comanda!H51=2,(Comanda!D51*0.001+$BL$2)*Comanda!F51,\"\")","v":""},{"$f":"IF(Comanda!I51=2,(Comanda!D51*0.001+$BL$2)*Comanda!F51,\"\")","v":""},{"$f":"IF(Comanda!J51=2,(Comanda!E51*0.001+$BL$2)*Comanda!F51,\"\")","v":""},{"$f":"IF(Comanda!K51=2,(Comanda!E51*0.001+$BL$2)*Comanda!F51,\"\")","v":""},null,{"$f":"IF(Comanda!H51=3,(Comanda!D51*0.001+$BL$2)*Comanda!F51,\"\")","v":""},{"$f":"IF(Comanda!I51=3,(Comanda!D51*0.001+$BL$2)*Comanda!F51,\"\")","v":""},{"$f":"IF(Comanda!J51=3,(Comanda!E51*0.001+$BL$2)*Comanda!F51,\"\")","v":""},{"$f":"IF(Comanda!K51=3,(Comanda!E51*0.001+$BL$2)*Comanda!F51,\"\")","v":""},null,{"$f":"IF(Comanda!H51=4,(Comanda!D51*0.001+$BL$2)*Comanda!F51,\"\")","v":""},{"$f":"IF(Comanda!I51=4,(Comanda!D51*0.001+$BL$2)*Comanda!F51,\"\")","v":""},{"$f":"IF(Comanda!J51=4,(Comanda!E51*0.001+$BL$2)*Comanda!F51,\"\")","v":""},{"$f":"IF(Comanda!K51=4,(Comanda!E51*0.001+$BL$2)*Comanda!F51,\"\")","v":""}]
[33,{"$f":"IF(Comanda!B52<>0,Comanda!B52,\"\")","v":""},{"$f":"IF(Comanda!C52<>0,Comanda!C52,\"\")","v":""},{"$f":"IF(Comanda!D52<>0,Comanda!D52,\"\")","v":""},{"$f":"IF(Comanda!E52<>0,Comanda!E52,\"\")","v":""},{"$f":"IF(Comanda!F52<>0,Comanda!F52,\"\")","v":""},{"$f":"IF(Comanda!G52<>0,1,0)","v":0},{"$f":"IF(Comanda!H52=1,Comanda!$C$13,IF(Comanda!H52=2,Comanda!$C$14,IF(Comanda!$H52=3,Comanda!$C$15,IF(Comanda!$H52=4,Comanda!$C$16,0))))","v":0},{"$f":"IF(Comanda!I52=1,Comanda!$C$13,IF(Comanda!I52=2,Comanda!$C$14,IF(Comanda!$I52=3,Comanda!$C$15,IF(Comanda!$I52=4,Comanda!$C$16,0))))","v":0},{"$f":"IF(Comanda!J52=1,Comanda!$C$13,IF(Comanda!J52=2,Comanda!$C$14,IF(Comanda!$J52=3,Comanda!$C$15,IF(Comanda!$J52=4,Comanda!$C$16,0))))","v":0},{"$f":"IF(Comanda!K52=1,Comanda!$C$13,IF(Comanda!K52=2,Comanda!$C$14,IF(Comanda!$K52=3,Comanda!$C$15,IF(Comanda!$K52=4,Comanda!$C$16,0))))","v":0},{"$f":"IF(Comanda!B52<>0,Comanda!$C$2,\"\")","v":""},{"$f":"IF(Comanda!B52<>0,Comanda!$C$5,\"\")","v":""},{"$f":"IF(Comanda!B52<>0,Comanda!$G$2,\"\")","v":""},{"$f":"IF(Comanda!B52<>0,Comanda!L52,\"\")","v":""},{"$f":"IF(Comanda!D52<>0,VLOOKUP('Formula Cant'!F35,'Grafica Cant'!$G$2:$H$25,2,FALSE),\"\")","v":""},{"$nulls":8},{"$f":"IF(Comanda!B52<>0,Comanda!$C$9,\"\")","v":""},{"$f":"IF(Comanda!B52<>0,VLOOKUP(Comanda!$C$12,PRETURI!$A$2:$C$500,3,FALSE),\"\")","v":""},"",{"$f":"IF(H35<>0,VLOOKUP(H35,PRETURI!$D$2:$F$1093,3,FALSE),\"\")","v":""},{"v":0,"d":"0.00"},{"$f":"IF(I35<>0,VLOOKUP(I35,PRETURI!$D$2:$F$1093,3,FALSE),\"\")","v":""},{"v":0,"d":"0.00"},{"$f":"IF(J35<>0,VLOOKUP(J35,PRETURI!$D$2:$F$1093,3,FALSE),\"\")","v":""},{"v":0,"d":"0.00"},{"$f":"IF(K35<>0,VLOOKUP(K35,PRETURI!$D$2:$F$1093,3,FALSE),\"\")","v":""},{"v":0,"d":"0.00"},{"$nulls":6},{"$f":"(Comanda!D52*Comanda!E52*Comanda!F52)*0.000001","v":{"v":0,"d":"0.00"}},null,{"$f":"IF(Comanda!H52=1,(Comanda!D52*0.001+$BL$2)*Comanda!F52,\"\")","v":""},{"$f":"IF(Comanda!I52=1,(Comanda!D52*0.001+$BL$2)*Comanda!F52,\"\")","v":""},{"$f":"IF(Comanda!J52=1,(Comanda!E52*0.001+$BL$2)*Comanda!F52,\"\")","v":""},{"$f":"IF(Comanda!K52=1,(Comanda!E52*0.001+$BL$2)*Comanda!F52,\"\")","v":""},null,{"$f":"IF(Comanda!H52=2,(Comanda!D52*0.001+$BL$2)*Comanda!F52,\"\")","v":""},{"$f":"IF(Comanda!I52=2,(Comanda!D52*0.001+$BL$2)*Comanda!F52,\"\")","v":""},{"$f":"IF(Comanda!J52=2,(Comanda!E52*0.001+$BL$2)*Comanda!F52,\"\")","v":""},{"$f":"IF(Comanda!K52=2,(Comanda!E52*0.001+$BL$2)*Comanda!F52,\"\")","v":""},null,{"$f":"IF(Comanda!H52=3,(Comanda!D52*0.001+$BL$2)*Comanda!F52,\"\")","v":""},{"$f":"IF(Comanda!I52=3,(Comanda!D52*0.001+$BL$2)*Comanda!F52,\"\")","v":""},{"$f":"IF(Comanda!J52=3,(Comanda!E52*0.001+$BL$2)*Comanda!F52,\"\")","v":""},{"$f":"IF(Comanda!K52=3,(Comanda!E52*0.001+$BL$2)*Comanda!F52,\"\")","v":""},null,{"$f":"IF(Comanda!H52=4,(Comanda!D52*0.001+$BL$2)*Comanda!F52,\"\")","v":""},{"$f":"IF(Comanda!I52=4,(Comanda!D52*0.001+$BL$2)*Comanda!F52,\"\")","v":""},{"$f":"IF(Comanda!J52=4,(Comanda!E52*0.001+$BL$2)*Comanda!F52,\"\")","v":""},{"$f":"IF(Comanda!K52=4,(Comanda!E52*0.001+$BL$2)*Comanda!F52,\"\")","v":""}]
[34,{"$f":"IF(Comanda!B53<>0,Comanda!B53,\"\")","v":""},{"$f":"IF(Comanda!C53<>0,Comanda!C53,\"\")","v":""},{"$f":"IF(Comanda!D53<>0,Comanda!D53,\"\")","v":""},{"$f":"IF(Comanda!E53<>0,Comanda!E53,\"\")","v":""},{"$f":"IF(Comanda!F53<>0,Comanda!F53,\"\")","v":""},{"$f":"IF(Comanda!G53<>0,1,0)","v":0},{"$f":"IF(Comanda!H53=1,Comanda!$C$13,IF(Comanda!H53=2,Comanda!$C$14,IF(Comanda!$H53=3,Comanda!$C$15,IF(Comanda!$H53=4,Comanda!$C$16,0))))","v":0},{"$f":"IF(Comanda!I53=1,Comanda!$C$13,IF(Comanda!I53=2,Comanda!$C$14,IF(Comanda!$I53=3,Comanda!$C$15,IF(Comanda!$I53=4,Comanda!$C$16,0))))","v":0},{"$f":"IF(Comanda!J53=1,Comanda!$C$13,IF(Comanda!J53=2,Comanda!$C$14,IF(Comanda!$J53=3,Comanda!$C$15,IF(Comanda!$J53=4,Comanda!$C$16,0))))","v":0},{"$f":"IF(Comanda!K53=1,Comanda!$C$13,IF(Comanda!K53=2,Comanda!$C$14,IF(Comanda!$K53=3,Comanda!$C$15,IF(Comanda!$K53=4,Comanda!$C$16,0))))","v":0},{"$f":"IF(Comanda!B53<>0,Comanda!$C$2,\"\")","v":""},{"$f":"IF(Comanda!B53<>0,Comanda!$C$5,\"\")","v":""},{"$f":"IF(Comanda!B53<>0,Comanda!$G$2,\"\")","v":""},{"$f":"IF(Comanda!B53<>0,Comanda!L53,\"\")","v":""},{"$f":"IF(Comanda!D53<>0,VLOOKUP('Formula Cant'!F36,'Grafica Cant'!$G$2:$H$25,2,FALSE),\"\")","v":""},{"$nulls":8},{"$f":"IF(Comanda!B53<>0,Comanda!$C$9,\"\")","v":""},{"$f":"IF(Comanda!B53<>0,VLOOKUP(Comanda!$C$12,PRETURI!$A$2:$C$500,3,FALSE),\"\")","v":""},"",{"$f":"IF(H36<>0,VLOOKUP(H36,PRETURI!$D$2:$F$1093,3,FALSE),\"\")","v":""},{"v":0,"d":"0.00"},{"$f":"IF(I36<>0,VLOOKUP(I36,PRETURI!$D$2:$F$1093,3,FALSE),\"\")","v":""},{"v":0,"d":"0.00"},{"$f":"IF(J36<>0,VLOOKUP(J36,PRETURI!$D$2:$F$1093,3,FALSE),\"\")","v":""},{"v":0,"d":"0.00"},{"$f":"IF(K36<>0,VLOOKUP(K36,PRETURI!$D$2:$F$1093,3,FALSE),\"\")","v":""},{"v":0,"d":"0.00"},{"$nulls":6},{"$f":"(Comanda!D53*Comanda!E53*Comanda!F53)*0.000001","v":{"v":0,"d":"0.00"}},null,{"$f":"IF(Comanda!H53=1,(Comanda!D53*0.001+$BL$2)*Comanda!F53,\"\")","v":""},{"$f":"IF(Comanda!I53=1,(Comanda!D53*0.001+$BL$2)*Comanda!F53,\"\")","v":""},{"$f":"IF(Comanda!J53=1,(Comanda!E53*0.001+$BL$2)*Comanda!F53,\"\")","v":""},{"$f":"IF(Comanda!K53=1,(Comanda!E53*0.001+$BL$2)*Comanda!F53,\"\")","v":""},null,{"$f":"IF(Comanda!H53=2,(Comanda!D53*0.001+$BL$2)*Comanda!F53,\"\")","v":""},{"$f":"IF(Comanda!I53=2,(Comanda!D53*0.001+$BL$2)*Comanda!F53,\"\")","v":""},{"$f":"IF(Comanda!J53=2,(Comanda!E53*0.001+$BL$2)*Comanda!F53,\"\")","v":""},{"$f":"IF(Comanda!K53=2,(Comanda!E53*0.001+$BL$2)*Comanda!F53,\"\")","v":""},null,{"$f":"IF(Comanda!H53=3,(Comanda!D53*0.001+$BL$2)*Comanda!F53,\"\")","v":""},{"$f":"IF(Comanda!I53=3,(Comanda!D53*0.001+$BL$2)*Comanda!F53,\"\")","v":""},{"$f":"IF(Comanda!J53=3,(Comanda!E53*0.001+$BL$2)*Comanda!F53,\"\")","v":""},{"$f":"IF(Comanda!K53=3,(Comanda!E53*0.001+$BL$2)*Comanda!F53,\"\")","v":""},null,{"$f":"IF(Comanda!H53=4,(Comanda!D53*0.001+$BL$2)*Comanda!F53,\"\")","v":""},{"$f":"IF(Comanda!I53=4,(Comanda!D53*0.001+$BL$2)*Comanda!F53,\"\")","v":""},{"$f":"IF(Comanda!J53=4,(Comanda!E53*0.001+$BL$2)*Comanda!F53,\"\")","v":""},{"$f":"IF(Comanda!K53=4,(Comanda!E53*0.001+$BL$2)*Comanda!F53,\"\")","v":""}]
[35,{"$f":"IF(Comanda!B54<>0,Comanda!B54,\"\")","v":""},{"$f":"IF(Comanda!C54<>0,Comanda!C54,\"\")","v":""},{"$f":"IF(Comanda!D54<>0,Comanda!D54,\"\")","v":""},{"$f":"IF(Comanda!E54<>0,Comanda!E54,\"\")","v":""},{"$f":"IF(Comanda!F54<>0,Comanda!F54,\"\")","v":""},{"$f":"IF(Comanda!G54<>0,1,0)","v":0},{"$f":"IF(Comanda!H54=1,Comanda!$C$13,IF(Comanda!H54=2,Comanda!$C$14,IF(Comanda!$H54=3,Comanda!$C$15,IF(Comanda!$H54=4,Comanda!$C$16,0))))","v":0},{"$f":"IF(Comanda!I54=1,Comanda!$C$13,IF(Comanda!I54=2,Comanda!$C$14,IF(Comanda!$I54=3,Comanda!$C$15,IF(Comanda!$I54=4,Comanda!$C$16,0))))","v":0},{"$f":"IF(Comanda!J54=1,Comanda!$C$13,IF(Comanda!J54=2,Comanda!$C$14,IF(Comanda!$J54=3,Comanda!$C$15,IF(Comanda!$J54=4,Comanda!$C$16,0))))","v":0},{"$f":"IF(Comanda!K54=1,Comanda!$C$13,IF(Comanda!K54=2,Comanda!$C$14,IF(Comanda!$K54=3,Comanda!$C$15,IF(Comanda!$K54=4,Comanda!$C$16,0))))","v":0},{"$f":"IF(Comanda!B54<>0,Comanda!$C$2,\"\")","v":""},{"$f":"IF(Comanda!B54<>0,Comanda!$C$5,\"\")","v":""},{"$f":"IF(Comanda!B54<>0,Comanda!$G$2,\"\")","v":""},{"$f":"IF(Comanda!B54<>0,Comanda!L54,\"\")","v":""},{"$f":"IF(Comanda!D54<>0,VLOOKUP('Formula Cant'!F37,'Grafica Cant'!$G$2:$H$25,2,FALSE),\"\")","v":""},{"$nulls":8},{"$f":"IF(Comanda!B54<>0,Comanda!$C$9,\"\")","v":""},{"$f":"IF(Comanda!B54<>0,VLOOKUP(Comanda!$C$12,PRETURI!$A$2:$C$500,3,FALSE),\"\")","v":""},"",{"$f":"IF(H37<>0,VLOOKUP(H37,PRETURI!$D$2:$F$1093,3,FALSE),\"\")","v":""},{"v":0,"d":"0.00"},{"$f":"IF(I37<>0,VLOOKUP(I37,PRETURI!$D$2:$F$1093,3,FALSE),\"\")","v":""},{"v":0,"d":"0.00"},{"$f":"IF(J37<>0,VLOOKUP(J37,PRETURI!$D$2:$F$1093,3,FALSE),\"\")","v":""},{"v":0,"d":"0.00"},{"$f":"IF(K37<>0,VLOOKUP(K37,PRETURI!$D$2:$F$1093,3,FALSE),\"\")","v":""},{"v":0,"d":"0.00"},{"$nulls":6},{"$f":"(Comanda!D54*Comanda!E54*Comanda!F54)*0.000001","v":{"v":0,"d":"0.00"}},null,{"$f":"IF(Comanda!H54=1,(Comanda!D54*0.001+$BL$2)*Comanda!F54,\"\")","v":""},{"$f":"IF(Comanda!I54=1,(Comanda!D54*0.001+$BL$2)*Comanda!F54,\"\")","v":""},{"$f":"IF(Comanda!J54=1,(Comanda!E54*0.001+$BL$2)*Comanda!F54,\"\")","v":""},{"$f":"IF(Comanda!K54=1,(Comanda!E54*0.001+$BL$2)*Comanda!F54,\"\")","v":""},null,{"$f":"IF(Comanda!H54=2,(Comanda!D54*0.001+$BL$2)*Comanda!F54,\"\")","v":""},{"$f":"IF(Comanda!I54=2,(Comanda!D54*0.001+$BL$2)*Comanda!F54,\"\")","v":""},{"$f":"IF(Comanda!J54=2,(Comanda!E54*0.001+$BL$2)*Comanda!F54,\"\")","v":""},{"$f":"IF(Comanda!K54=2,(Comanda!E54*0.001+$BL$2)*Comanda!F54,\"\")","v":""},null,{"$f":"IF(Comanda!H54=3,(Comanda!D54*0.001+$BL$2)*Comanda!F54,\"\")","v":""},{"$f":"IF(Comanda!I54=3,(Comanda!D54*0.001+$BL$2)*Comanda!F54,\"\")","v":""},{"$f":"IF(Comanda!J54=3,(Comanda!E54*0.001+$BL$2)*Comanda!F54,\"\")","v":""},{"$f":"IF(Comanda!K54=3,(Comanda!E54*0.001+$BL$2)*Comanda!F54,\"\")","v":""},null,{"$f":"IF(Comanda!H54=4,(Comanda!D54*0.001+$BL$2)*Comanda!F54,\"\")","v":""},{"$f":"IF(Comanda!I54=4,(Comanda!D54*0.001+$BL$2)*Comanda!F54,\"\")","v":""},{"$f":"IF(Comanda!J54=4,(Comanda!E54*0.001+$BL$2)*Comanda!F54,\"\")","v":""},{"$f":"IF(Comanda!K54=4,(Comanda!E54*0.001+$BL$2)*Comanda!F54,\"\")","v":""}]
[36,{"$f":"IF(Comanda!B55<>0,Comanda!B55,\"\")","v":""},{"$f":"IF(Comanda!C55<>0,Comanda!C55,\"\")","v":""},{"$f":"IF(Comanda!D55<>0,Comanda!D55,\"\")","v":""},{"$f":"IF(Comanda!E55<>0,Comanda!E55,\"\")","v":""},{"$f":"IF(Comanda!F55<>0,Comanda!F55,\"\")","v":""},{"$f":"IF(Comanda!G55<>0,1,0)","v":0},{"$f":"IF(Comanda!H55=1,Comanda!$C$13,IF(Comanda!H55=2,Comanda!$C$14,IF(Comanda!$H55=3,Comanda!$C$15,IF(Comanda!$H55=4,Comanda!$C$16,0))))","v":0},{"$f":"IF(Comanda!I55=1,Comanda!$C$13,IF(Comanda!I55=2,Comanda!$C$14,IF(Comanda!$I55=3,Comanda!$C$15,IF(Comanda!$I55=4,Comanda!$C$16,0))))","v":0},{"$f":"IF(Comanda!J55=1,Comanda!$C$13,IF(Comanda!J55=2,Comanda!$C$14,IF(Comanda!$J55=3,Comanda!$C$15,IF(Comanda!$J55=4,Comanda!$C$16,0))))","v":0},{"$f":"IF(Comanda!K55=1,Comanda!$C$13,IF(Comanda!K55=2,Comanda!$C$14,IF(Comanda!$K55=3,Comanda!$C$15,IF(Comanda!$K55=4,Comanda!$C$16,0))))","v":0},{"$f":"IF(Comanda!B55<>0,Comanda!$C$2,\"\")","v":""},{"$f":"IF(Comanda!B55<>0,Comanda!$C$5,\"\")","v":""},{"$f":"IF(Comanda!B55<>0,Comanda!$G$2,\"\")","v":""},{"$f":"IF(Comanda!B55<>0,Comanda!L55,\"\")","v":""},{"$f":"IF(Comanda!D55<>0,VLOOKUP('Formula Cant'!F38,'Grafica Cant'!$G$2:$H$25,2,FALSE),\"\")","v":""},{"$nulls":8},{"$f":"IF(Comanda!B55<>0,Comanda!$C$9,\"\")","v":""},{"$f":"IF(Comanda!B55<>0,VLOOKUP(Comanda!$C$12,PRETURI!$A$2:$C$500,3,FALSE),\"\")","v":""},"",{"$f":"IF(H38<>0,VLOOKUP(H38,PRETURI!$D$2:$F$1093,3,FALSE),\"\")","v":""},{"v":0,"d":"0.00"},{"$f":"IF(I38<>0,VLOOKUP(I38,PRETURI!$D$2:$F$1093,3,FALSE),\"\")","v":""},{"v":0,"d":"0.00"},{"$f":"IF(J38<>0,VLOOKUP(J38,PRETURI!$D$2:$F$1093,3,FALSE),\"\")","v":""},{"v":0,"d":"0.00"},{"$f":"IF(K38<>0,VLOOKUP(K38,PRETURI!$D$2:$F$1093,3,FALSE),\"\")","v":""},{"v":0,"d":"0.00"},{"$nulls":6},{"$f":"(Comanda!D55*Comanda!E55*Comanda!F55)*0.000001","v":{"v":0,"d":"0.00"}},null,{"$f":"IF(Comanda!H55=1,(Comanda!D55*0.001+$BL$2)*Comanda!F55,\"\")","v":""},{"$f":"IF(Comanda!I55=1,(Comanda!D55*0.001+$BL$2)*Comanda!F55,\"\")","v":""},{"$f":"IF(Comanda!J55=1,(Comanda!E55*0.001+$BL$2)*Comanda!F55,\"\")","v":""},{"$f":"IF(Comanda!K55=1,(Comanda!E55*0.001+$BL$2)*Comanda!F55,\"\")","v":""},null,{"$f":"IF(Comanda!H55=2,(Comanda!D55*0.001+$BL$2)*Comanda!F55,\"\")","v":""},{"$f":"IF(Comanda!I55=2,(Comanda!D55*0.001+$BL$2)*Comanda!F55,\"\")","v":""},{"$f":"IF(Comanda!J55=2,(Comanda!E55*0.001+$BL$2)*Comanda!F55,\"\")","v":""},{"$f":"IF(Comanda!K55=2,(Comanda!E55*0.001+$BL$2)*Comanda!F55,\"\")","v":""},null,{"$f":"IF(Comanda!H55=3,(Comanda!D55*0.001+$BL$2)*Comanda!F55,\"\")","v":""},{"$f":"IF(Comanda!I55=3,(Comanda!D55*0.001+$BL$2)*Comanda!F55,\"\")","v":""},{"$f":"IF(Comanda!J55=3,(Comanda!E55*0.001+$BL$2)*Comanda!F55,\"\")","v":""},{"$f":"IF(Comanda!K55=3,(Comanda!E55*0.001+$BL$2)*Comanda!F55,\"\")","v":""},null,{"$f":"IF(Comanda!H55=4,(Comanda!D55*0.001+$BL$2)*Comanda!F55,\"\")","v":""},{"$f":"IF(Comanda!I55=4,(Comanda!D55*0.001+$BL$2)*Comanda!F55,\"\")","v":""},{"$f":"IF(Comanda!J55=4,(Comanda!E55*0.001+$BL$2)*Comanda!F55,\"\")","v":""},{"$f":"IF(Comanda!K55=4,(Comanda!E55*0.001+$BL$2)*Comanda!F55,\"\")","v":""}]
[37,{"$f":"IF(Comanda!B56<>0,Comanda!B56,\"\")","v":""},{"$f":"IF(Comanda!C56<>0,Comanda!C56,\"\")","v":""},{"$f":"IF(Comanda!D56<>0,Comanda!D56,\"\")","v":""},{"$f":"IF(Comanda!E56<>0,Comanda!E56,\"\")","v":""},{"$f":"IF(Comanda!F56<>0,Comanda!F56,\"\")","v":""},{"$f":"IF(Comanda!G56<>0,1,0)","v":0},{"$f":"IF(Comanda!H56=1,Comanda!$C$13,IF(Comanda!H56=2,Comanda!$C$14,IF(Comanda!$H56=3,Comanda!$C$15,IF(Comanda!$H56=4,Comanda!$C$16,0))))","v":0},{"$f":"IF(Comanda!I56=1,Comanda!$C$13,IF(Comanda!I56=2,Comanda!$C$14,IF(Comanda!$I56=3,Comanda!$C$15,IF(Comanda!$I56=4,Comanda!$C$16,0))))","v":0},{"$f":"IF(Comanda!J56=1,Comanda!$C$13,IF(Comanda!J56=2,Comanda!$C$14,IF(Comanda!$J56=3,Comanda!$C$15,IF(Comanda!$J56=4,Comanda!$C$16,0))))","v":0},{"$f":"IF(Comanda!K56=1,Comanda!$C$13,IF(Comanda!K56=2,Comanda!$C$14,IF(Comanda!$K56=3,Comanda!$C$15,IF(Comanda!$K56=4,Comanda!$C$16,0))))","v":0},{"$f":"IF(Comanda!B56<>0,Comanda!$C$2,\"\")","v":""},{"$f":"IF(Comanda!B56<>0,Comanda!$C$5,\"\")","v":""},{"$f":"IF(Comanda!B56<>0,Comanda!$G$2,\"\")","v":""},{"$f":"IF(Comanda!B56<>0,Comanda!L56,\"\")","v":""},{"$f":"IF(Comanda!D56<>0,VLOOKUP('Formula Cant'!F39,'Grafica Cant'!$G$2:$H$25,2,FALSE),\"\")","v":""},{"$nulls":8},{"$f":"IF(Comanda!B56<>0,Comanda!$C$9,\"\")","v":""},{"$f":"IF(Comanda!B56<>0,VLOOKUP(Comanda!$C$12,PRETURI!$A$2:$C$500,3,FALSE),\"\")","v":""},"",{"$f":"IF(H39<>0,VLOOKUP(H39,PRETURI!$D$2:$F$1093,3,FALSE),\"\")","v":""},{"v":0,"d":"0.00"},{"$f":"IF(I39<>0,VLOOKUP(I39,PRETURI!$D$2:$F$1093,3,FALSE),\"\")","v":""},{"v":0,"d":"0.00"},{"$f":"IF(J39<>0,VLOOKUP(J39,PRETURI!$D$2:$F$1093,3,FALSE),\"\")","v":""},{"v":0,"d":"0.00"},{"$f":"IF(K39<>0,VLOOKUP(K39,PRETURI!$D$2:$F$1093,3,FALSE),\"\")","v":""},{"v":0,"d":"0.00"},{"$nulls":6},{"$f":"(Comanda!D56*Comanda!E56*Comanda!F56)*0.000001","v":{"v":0,"d":"0.00"}},null,{"$f":"IF(Comanda!H56=1,(Comanda!D56*0.001+$BL$2)*Comanda!F56,\"\")","v":""},{"$f":"IF(Comanda!I56=1,(Comanda!D56*0.001+$BL$2)*Comanda!F56,\"\")","v":""},{"$f":"IF(Comanda!J56=1,(Comanda!E56*0.001+$BL$2)*Comanda!F56,\"\")","v":""},{"$f":"IF(Comanda!K56=1,(Comanda!E56*0.001+$BL$2)*Comanda!F56,\"\")","v":""},null,{"$f":"IF(Comanda!H56=2,(Comanda!D56*0.001+$BL$2)*Comanda!F56,\"\")","v":""},{"$f":"IF(Comanda!I56=2,(Comanda!D56*0.001+$BL$2)*Comanda!F56,\"\")","v":""},{"$f":"IF(Comanda!J56=2,(Comanda!E56*0.001+$BL$2)*Comanda!F56,\"\")","v":""},{"$f":"IF(Comanda!K56=2,(Comanda!E56*0.001+$BL$2)*Comanda!F56,\"\")","v":""},null,{"$f":"IF(Comanda!H56=3,(Comanda!D56*0.001+$BL$2)*Comanda!F56,\"\")","v":""},{"$f":"IF(Comanda!I56=3,(Comanda!D56*0.001+$BL$2)*Comanda!F56,\"\")","v":""},{"$f":"IF(Comanda!J56=3,(Comanda!E56*0.001+$BL$2)*Comanda!F56,\"\")","v":""},{"$f":"IF(Comanda!K56=3,(Comanda!E56*0.001+$BL$2)*Comanda!F56,\"\")","v":""},null,{"$f":"IF(Comanda!H56=4,(Comanda!D56*0.001+$BL$2)*Comanda!F56,\"\")","v":""},{"$f":"IF(Comanda!I56=4,(Comanda!D56*0.001+$BL$2)*Comanda!F56,\"\")","v":""},{"$f":"IF(Comanda!J56=4,(Comanda!E56*0.001+$BL$2)*Comanda!F56,\"\")","v":""},{"$f":"IF(Comanda!K56=4,(Comanda!E56*0.001+$BL$2)*Comanda!F56,\"\")","v":""}]
[38,{"$f":"IF(Comanda!B57<>0,Comanda!B57,\"\")","v":""},{"$f":"IF(Comanda!C57<>0,Comanda!C57,\"\")","v":""},{"$f":"IF(Comanda!D57<>0,Comanda!D57,\"\")","v":""},{"$f":"IF(Comanda!E57<>0,Comanda!E57,\"\")","v":""},{"$f":"IF(Comanda!F57<>0,Comanda!F57,\"\")","v":""},{"$f":"IF(Comanda!G57<>0,1,0)","v":0},{"$f":"IF(Comanda!H57=1,Comanda!$C$13,IF(Comanda!H57=2,Comanda!$C$14,IF(Comanda!$H57=3,Comanda!$C$15,IF(Comanda!$H57=4,Comanda!$C$16,0))))","v":0},{"$f":"IF(Comanda!I57=1,Comanda!$C$13,IF(Comanda!I57=2,Comanda!$C$14,IF(Comanda!$I57=3,Comanda!$C$15,IF(Comanda!$I57=4,Comanda!$C$16,0))))","v":0},{"$f":"IF(Comanda!J57=1,Comanda!$C$13,IF(Comanda!J57=2,Comanda!$C$14,IF(Comanda!$J57=3,Comanda!$C$15,IF(Comanda!$J57=4,Comanda!$C$16,0))))","v":0},{"$f":"IF(Comanda!K57=1,Comanda!$C$13,IF(Comanda!K57=2,Comanda!$C$14,IF(Comanda!$K57=3,Comanda!$C$15,IF(Comanda!$K57=4,Comanda!$C$16,0))))","v":0},{"$f":"IF(Comanda!B57<>0,Comanda!$C$2,\"\")","v":""},{"$f":"IF(Comanda!B57<>0,Comanda!$C$5,\"\")","v":""},{"$f":"IF(Comanda!B57<>0,Comanda!$G$2,\"\")","v":""},{"$f":"IF(Comanda!B57<>0,Comanda!L57,\"\")","v":""},{"$f":"IF(Comanda!D57<>0,VLOOKUP('Formula Cant'!F40,'Grafica Cant'!$G$2:$H$25,2,FALSE),\"\")","v":""},{"$nulls":8},{"$f":"IF(Comanda!B57<>0,Comanda!$C$9,\"\")","v":""},{"$f":"IF(Comanda!B57<>0,VLOOKUP(Comanda!$C$12,PRETURI!$A$2:$C$500,3,FALSE),\"\")","v":""},"",{"$f":"IF(H40<>0,VLOOKUP(H40,PRETURI!$D$2:$F$1093,3,FALSE),\"\")","v":""},{"v":0,"d":"0.00"},{"$f":"IF(I40<>0,VLOOKUP(I40,PRETURI!$D$2:$F$1093,3,FALSE),\"\")","v":""},{"v":0,"d":"0.00"},{"$f":"IF(J40<>0,VLOOKUP(J40,PRETURI!$D$2:$F$1093,3,FALSE),\"\")","v":""},{"v":0,"d":"0.00"},{"$f":"IF(K40<>0,VLOOKUP(K40,PRETURI!$D$2:$F$1093,3,FALSE),\"\")","v":""},{"v":0,"d":"0.00"},{"$nulls":6},{"$f":"(Comanda!D57*Comanda!E57*Comanda!F57)*0.000001","v":{"v":0,"d":"0.00"}},null,{"$f":"IF(Comanda!H57=1,(Comanda!D57*0.001+$BL$2)*Comanda!F57,\"\")","v":""},{"$f":"IF(Comanda!I57=1,(Comanda!D57*0.001+$BL$2)*Comanda!F57,\"\")","v":""},{"$f":"IF(Comanda!J57=1,(Comanda!E57*0.001+$BL$2)*Comanda!F57,\"\")","v":""},{"$f":"IF(Comanda!K57=1,(Comanda!E57*0.001+$BL$2)*Comanda!F57,\"\")","v":""},null,{"$f":"IF(Comanda!H57=2,(Comanda!D57*0.001+$BL$2)*Comanda!F57,\"\")","v":""},{"$f":"IF(Comanda!I57=2,(Comanda!D57*0.001+$BL$2)*Comanda!F57,\"\")","v":""},{"$f":"IF(Comanda!J57=2,(Comanda!E57*0.001+$BL$2)*Comanda!F57,\"\")","v":""},{"$f":"IF(Comanda!K57=2,(Comanda!E57*0.001+$BL$2)*Comanda!F57,\"\")","v":""},null,{"$f":"IF(Comanda!H57=3,(Comanda!D57*0.001+$BL$2)*Comanda!F57,\"\")","v":""},{"$f":"IF(Comanda!I57=3,(Comanda!D57*0.001+$BL$2)*Comanda!F57,\"\")","v":""},{"$f":"IF(Comanda!J57=3,(Comanda!E57*0.001+$BL$2)*Comanda!F57,\"\")","v":""},{"$f":"IF(Comanda!K57=3,(Comanda!E57*0.001+$BL$2)*Comanda!F57,\"\")","v":""},null,{"$f":"IF(Comanda!H57=4,(Comanda!D57*0.001+$BL$2)*Comanda!F57,\"\")","v":""},{"$f":"IF(Comanda!I57=4,(Comanda!D57*0.001+$BL$2)*Comanda!F57,\"\")","v":""},{"$f":"IF(Comanda!J57=4,(Comanda!E57*0.001+$BL$2)*Comanda!F57,\"\")","v":""},{"$f":"IF(Comanda!K57=4,(Comanda!E57*0.001+$BL$2)*Comanda!F57,\"\")","v":""}]
[39,{"$f":"IF(Comanda!B58<>0,Comanda!B58,\"\")","v":""},{"$f":"IF(Comanda!C58<>0,Comanda!C58,\"\")","v":""},{"$f":"IF(Comanda!D58<>0,Comanda!D58,\"\")","v":""},{"$f":"IF(Comanda!E58<>0,Comanda!E58,\"\")","v":""},{"$f":"IF(Comanda!F58<>0,Comanda!F58,\"\")","v":""},{"$f":"IF(Comanda!G58<>0,1,0)","v":0},{"$f":"IF(Comanda!H58=1,Comanda!$C$13,IF(Comanda!H58=2,Comanda!$C$14,IF(Comanda!$H58=3,Comanda!$C$15,IF(Comanda!$H58=4,Comanda!$C$16,0))))","v":0},{"$f":"IF(Comanda!I58=1,Comanda!$C$13,IF(Comanda!I58=2,Comanda!$C$14,IF(Comanda!$I58=3,Comanda!$C$15,IF(Comanda!$I58=4,Comanda!$C$16,0))))","v":0},{"$f":"IF(Comanda!J58=1,Comanda!$C$13,IF(Comanda!J58=2,Comanda!$C$14,IF(Comanda!$J58=3,Comanda!$C$15,IF(Comanda!$J58=4,Comanda!$C$16,0))))","v":0},{"$f":"IF(Comanda!K58=1,Comanda!$C$13,IF(Comanda!K58=2,Comanda!$C$14,IF(Comanda!$K58=3,Comanda!$C$15,IF(Comanda!$K58=4,Comanda!$C$16,0))))","v":0},{"$f":"IF(Comanda!B58<>0,Comanda!$C$2,\"\")","v":""},{"$f":"IF(Comanda!B58<>0,Comanda!$C$5,\"\")","v":""},{"$f":"IF(Comanda!B58<>0,Comanda!$G$2,\"\")","v":""},{"$f":"IF(Comanda!B58<>0,Comanda!L58,\"\")","v":""},{"$f":"IF(Comanda!D58<>0,VLOOKUP('Formula Cant'!F41,'Grafica Cant'!$G$2:$H$25,2,FALSE),\"\")","v":""},{"$nulls":8},{"$f":"IF(Comanda!B58<>0,Comanda!$C$9,\"\")","v":""},{"$f":"IF(Comanda!B58<>0,VLOOKUP(Comanda!$C$12,PRETURI!$A$2:$C$500,3,FALSE),\"\")","v":""},"",{"$f":"IF(H41<>0,VLOOKUP(H41,PRETURI!$D$2:$F$1093,3,FALSE),\"\")","v":""},{"v":0,"d":"0.00"},{"$f":"IF(I41<>0,VLOOKUP(I41,PRETURI!$D$2:$F$1093,3,FALSE),\"\")","v":""},{"v":0,"d":"0.00"},{"$f":"IF(J41<>0,VLOOKUP(J41,PRETURI!$D$2:$F$1093,3,FALSE),\"\")","v":""},{"v":0,"d":"0.00"},{"$f":"IF(K41<>0,VLOOKUP(K41,PRETURI!$D$2:$F$1093,3,FALSE),\"\")","v":""},{"v":0,"d":"0.00"},{"$nulls":6},{"$f":"(Comanda!D58*Comanda!E58*Comanda!F58)*0.000001","v":{"v":0,"d":"0.00"}},null,{"$f":"IF(Comanda!H58=1,(Comanda!D58*0.001+$BL$2)*Comanda!F58,\"\")","v":""},{"$f":"IF(Comanda!I58=1,(Comanda!D58*0.001+$BL$2)*Comanda!F58,\"\")","v":""},{"$f":"IF(Comanda!J58=1,(Comanda!E58*0.001+$BL$2)*Comanda!F58,\"\")","v":""},{"$f":"IF(Comanda!K58=1,(Comanda!E58*0.001+$BL$2)*Comanda!F58,\"\")","v":""},null,{"$f":"IF(Comanda!H58=2,(Comanda!D58*0.001+$BL$2)*Comanda!F58,\"\")","v":""},{"$f":"IF(Comanda!I58=2,(Comanda!D58*0.001+$BL$2)*Comanda!F58,\"\")","v":""},{"$f":"IF(Comanda!J58=2,(Comanda!E58*0.001+$BL$2)*Comanda!F58,\"\")","v":""},{"$f":"IF(Comanda!K58=2,(Comanda!E58*0.001+$BL$2)*Comanda!F58,\"\")","v":""},null,{"$f":"IF(Comanda!H58=3,(Comanda!D58*0.001+$BL$2)*Comanda!F58,\"\")","v":""},{"$f":"IF(Comanda!I58=3,(Comanda!D58*0.001+$BL$2)*Comanda!F58,\"\")","v":""},{"$f":"IF(Comanda!J58=3,(Comanda!E58*0.001+$BL$2)*Comanda!F58,\"\")","v":""},{"$f":"IF(Comanda!K58=3,(Comanda!E58*0.001+$BL$2)*Comanda!F58,\"\")","v":""},null,{"$f":"IF(Comanda!H58=4,(Comanda!D58*0.001+$BL$2)*Comanda!F58,\"\")","v":""},{"$f":"IF(Comanda!I58=4,(Comanda!D58*0.001+$BL$2)*Comanda!F58,\"\")","v":""},{"$f":"IF(Comanda!J58=4,(Comanda!E58*0.001+$BL$2)*Comanda!F58,\"\")","v":""},{"$f":"IF(Comanda!K58=4,(Comanda!E58*0.001+$BL$2)*Comanda!F58,\"\")","v":""}]
[40,{"$f":"IF(Comanda!B59<>0,Comanda!B59,\"\")","v":""},{"$f":"IF(Comanda!C59<>0,Comanda!C59,\"\")","v":""},{"$f":"IF(Comanda!D59<>0,Comanda!D59,\"\")","v":""},{"$f":"IF(Comanda!E59<>0,Comanda!E59,\"\")","v":""},{"$f":"IF(Comanda!F59<>0,Comanda!F59,\"\")","v":""},{"$f":"IF(Comanda!G59<>0,1,0)","v":0},{"$f":"IF(Comanda!H59=1,Comanda!$C$13,IF(Comanda!H59=2,Comanda!$C$14,IF(Comanda!$H59=3,Comanda!$C$15,IF(Comanda!$H59=4,Comanda!$C$16,0))))","v":0},{"$f":"IF(Comanda!I59=1,Comanda!$C$13,IF(Comanda!I59=2,Comanda!$C$14,IF(Comanda!$I59=3,Comanda!$C$15,IF(Comanda!$I59=4,Comanda!$C$16,0))))","v":0},{"$f":"IF(Comanda!J59=1,Comanda!$C$13,IF(Comanda!J59=2,Comanda!$C$14,IF(Comanda!$J59=3,Comanda!$C$15,IF(Comanda!$J59=4,Comanda!$C$16,0))))","v":0},{"$f":"IF(Comanda!K59=1,Comanda!$C$13,IF(Comanda!K59=2,Comanda!$C$14,IF(Comanda!$K59=3,Comanda!$C$15,IF(Comanda!$K59=4,Comanda!$C$16,0))))","v":0},{"$f":"IF(Comanda!B59<>0,Comanda!$C$2,\"\")","v":""},{"$f":"IF(Comanda!B59<>0,Comanda!$C$5,\"\")","v":""},{"$f":"IF(Comanda!B59<>0,Comanda!$G$2,\"\")","v":""},{"$f":"IF(Comanda!B59<>0,Comanda!L59,\"\")","v":""},{"$f":"IF(Comanda!D59<>0,VLOOKUP('Formula Cant'!F42,'Grafica Cant'!$G$2:$H$25,2,FALSE),\"\")","v":""},{"$nulls":8},{"$f":"IF(Comanda!B59<>0,Comanda!$C$9,\"\")","v":""},{"$f":"IF(Comanda!B59<>0,VLOOKUP(Comanda!$C$12,PRETURI!$A$2:$C$500,3,FALSE),\"\")","v":""},"",{"$f":"IF(H42<>0,VLOOKUP(H42,PRETURI!$D$2:$F$1093,3,FALSE),\"\")","v":""},{"v":0,"d":"0.00"},{"$f":"IF(I42<>0,VLOOKUP(I42,PRETURI!$D$2:$F$1093,3,FALSE),\"\")","v":""},{"v":0,"d":"0.00"},{"$f":"IF(J42<>0,VLOOKUP(J42,PRETURI!$D$2:$F$1093,3,FALSE),\"\")","v":""},{"v":0,"d":"0.00"},{"$f":"IF(K42<>0,VLOOKUP(K42,PRETURI!$D$2:$F$1093,3,FALSE),\"\")","v":""},{"v":0,"d":"0.00"},{"$nulls":6},{"$f":"(Comanda!D59*Comanda!E59*Comanda!F59)*0.000001","v":{"v":0,"d":"0.00"}},null,{"$f":"IF(Comanda!H59=1,(Comanda!D59*0.001+$BL$2)*Comanda!F59,\"\")","v":""},{"$f":"IF(Comanda!I59=1,(Comanda!D59*0.001+$BL$2)*Comanda!F59,\"\")","v":""},{"$f":"IF(Comanda!J59=1,(Comanda!E59*0.001+$BL$2)*Comanda!F59,\"\")","v":""},{"$f":"IF(Comanda!K59=1,(Comanda!E59*0.001+$BL$2)*Comanda!F59,\"\")","v":""},null,{"$f":"IF(Comanda!H59=2,(Comanda!D59*0.001+$BL$2)*Comanda!F59,\"\")","v":""},{"$f":"IF(Comanda!I59=2,(Comanda!D59*0.001+$BL$2)*Comanda!F59,\"\")","v":""},{"$f":"IF(Comanda!J59=2,(Comanda!E59*0.001+$BL$2)*Comanda!F59,\"\")","v":""},{"$f":"IF(Comanda!K59=2,(Comanda!E59*0.001+$BL$2)*Comanda!F59,\"\")","v":""},null,{"$f":"IF(Comanda!H59=3,(Comanda!D59*0.001+$BL$2)*Comanda!F59,\"\")","v":""},{"$f":"IF(Comanda!I59=3,(Comanda!D59*0.001+$BL$2)*Comanda!F59,\"\")","v":""},{"$f":"IF(Comanda!J59=3,(Comanda!E59*0.001+$BL$2)*Comanda!F59,\"\")","v":""},{"$f":"IF(Comanda!K59=3,(Comanda!E59*0.001+$BL$2)*Comanda!F59,\"\")","v":""},null,{"$f":"IF(Comanda!H59=4,(Comanda!D59*0.001+$BL$2)*Comanda!F59,\"\")","v":""},{"$f":"IF(Comanda!I59=4,(Comanda!D59*0.001+$BL$2)*Comanda!F59,\"\")","v":""},{"$f":"IF(Comanda!J59=4,(Comanda!E59*0.001+$BL$2)*Comanda!F59,\"\")","v":""},{"$f":"IF(Comanda!K59=4,(Comanda!E59*0.001+$BL$2)*Comanda!F59,\"\")","v":""}]
[41,{"$f":"IF(Comanda!B60<>0,Comanda!B60,\"\")","v":""},{"$f":"IF(Comanda!C60<>0,Comanda!C60,\"\")","v":""},{"$f":"IF(Comanda!D60<>0,Comanda!D60,\"\")","v":""},{"$f":"IF(Comanda!E60<>0,Comanda!E60,\"\")","v":""},{"$f":"IF(Comanda!F60<>0,Comanda!F60,\"\")","v":""},{"$f":"IF(Comanda!G60<>0,1,0)","v":0},{"$f":"IF(Comanda!H60=1,Comanda!$C$13,IF(Comanda!H60=2,Comanda!$C$14,IF(Comanda!$H60=3,Comanda!$C$15,IF(Comanda!$H60=4,Comanda!$C$16,0))))","v":0},{"$f":"IF(Comanda!I60=1,Comanda!$C$13,IF(Comanda!I60=2,Comanda!$C$14,IF(Comanda!$I60=3,Comanda!$C$15,IF(Comanda!$I60=4,Comanda!$C$16,0))))","v":0},{"$f":"IF(Comanda!J60=1,Comanda!$C$13,IF(Comanda!J60=2,Comanda!$C$14,IF(Comanda!$J60=3,Comanda!$C$15,IF(Comanda!$J60=4,Comanda!$C$16,0))))","v":0},{"$f":"IF(Comanda!K60=1,Comanda!$C$13,IF(Comanda!K60=2,Comanda!$C$14,IF(Comanda!$K60=3,Comanda!$C$15,IF(Comanda!$K60=4,Comanda!$C$16,0))))","v":0},{"$f":"IF(Comanda!B60<>0,Comanda!$C$2,\"\")","v":""},{"$f":"IF(Comanda!B60<>0,Comanda!$C$5,\"\")","v":""},{"$f":"IF(Comanda!B60<>0,Comanda!$G$2,\"\")","v":""},{"$f":"IF(Comanda!B60<>0,Comanda!L60,\"\")","v":""},{"$f":"IF(Comanda!D60<>0,VLOOKUP('Formula Cant'!F43,'Grafica Cant'!$G$2:$H$25,2,FALSE),\"\")","v":""},{"$nulls":8},{"$f":"IF(Comanda!B60<>0,Comanda!$C$9,\"\")","v":""},{"$f":"IF(Comanda!B60<>0,VLOOKUP(Comanda!$C$12,PRETURI!$A$2:$C$500,3,FALSE),\"\")","v":""},"",{"$f":"IF(H43<>0,VLOOKUP(H43,PRETURI!$D$2:$F$1093,3,FALSE),\"\")","v":""},{"v":0,"d":"0.00"},{"$f":"IF(I43<>0,VLOOKUP(I43,PRETURI!$D$2:$F$1093,3,FALSE),\"\")","v":""},{"v":0,"d":"0.00"},{"$f":"IF(J43<>0,VLOOKUP(J43,PRETURI!$D$2:$F$1093,3,FALSE),\"\")","v":""},{"v":0,"d":"0.00"},{"$f":"IF(K43<>0,VLOOKUP(K43,PRETURI!$D$2:$F$1093,3,FALSE),\"\")","v":""},{"v":0,"d":"0.00"},{"$nulls":6},{"$f":"(Comanda!D60*Comanda!E60*Comanda!F60)*0.000001","v":{"v":0,"d":"0.00"}},null,{"$f":"IF(Comanda!H60=1,(Comanda!D60*0.001+$BL$2)*Comanda!F60,\"\")","v":""},{"$f":"IF(Comanda!I60=1,(Comanda!D60*0.001+$BL$2)*Comanda!F60,\"\")","v":""},{"$f":"IF(Comanda!J60=1,(Comanda!E60*0.001+$BL$2)*Comanda!F60,\"\")","v":""},{"$f":"IF(Comanda!K60=1,(Comanda!E60*0.001+$BL$2)*Comanda!F60,\"\")","v":""},null,{"$f":"IF(Comanda!H60=2,(Comanda!D60*0.001+$BL$2)*Comanda!F60,\"\")","v":""},{"$f":"IF(Comanda!I60=2,(Comanda!D60*0.001+$BL$2)*Comanda!F60,\"\")","v":""},{"$f":"IF(Comanda!J60=2,(Comanda!E60*0.001+$BL$2)*Comanda!F60,\"\")","v":""},{"$f":"IF(Comanda!K60=2,(Comanda!E60*0.001+$BL$2)*Comanda!F60,\"\")","v":""},null,{"$f":"IF(Comanda!H60=3,(Comanda!D60*0.001+$BL$2)*Comanda!F60,\"\")","v":""},{"$f":"IF(Comanda!I60=3,(Comanda!D60*0.001+$BL$2)*Comanda!F60,\"\")","v":""},{"$f":"IF(Comanda!J60=3,(Comanda!E60*0.001+$BL$2)*Comanda!F60,\"\")","v":""},{"$f":"IF(Comanda!K60=3,(Comanda!E60*0.001+$BL$2)*Comanda!F60,\"\")","v":""},null,{"$f":"IF(Comanda!H60=4,(Comanda!D60*0.001+$BL$2)*Comanda!F60,\"\")","v":""},{"$f":"IF(Comanda!I60=4,(Comanda!D60*0.001+$BL$2)*Comanda!F60,\"\")","v":""},{"$f":"IF(Comanda!J60=4,(Comanda!E60*0.001+$BL$2)*Comanda!F60,\"\")","v":""},{"$f":"IF(Comanda!K60=4,(Comanda!E60*0.001+$BL$2)*Comanda!F60,\"\")","v":""}]
[42,{"$f":"IF(Comanda!B61<>0,Comanda!B61,\"\")","v":""},{"$f":"IF(Comanda!C61<>0,Comanda!C61,\"\")","v":""},{"$f":"IF(Comanda!D61<>0,Comanda!D61,\"\")","v":""},{"$f":"IF(Comanda!E61<>0,Comanda!E61,\"\")","v":""},{"$f":"IF(Comanda!F61<>0,Comanda!F61,\"\")","v":""},{"$f":"IF(Comanda!G61<>0,1,0)","v":0},{"$f":"IF(Comanda!H61=1,Comanda!$C$13,IF(Comanda!H61=2,Comanda!$C$14,IF(Comanda!$H61=3,Comanda!$C$15,IF(Comanda!$H61=4,Comanda!$C$16,0))))","v":0},{"$f":"IF(Comanda!I61=1,Comanda!$C$13,IF(Comanda!I61=2,Comanda!$C$14,IF(Comanda!$I61=3,Comanda!$C$15,IF(Comanda!$I61=4,Comanda!$C$16,0))))","v":0},{"$f":"IF(Comanda!J61=1,Comanda!$C$13,IF(Comanda!J61=2,Comanda!$C$14,IF(Comanda!$J61=3,Comanda!$C$15,IF(Comanda!$J61=4,Comanda!$C$16,0))))","v":0},{"$f":"IF(Comanda!K61=1,Comanda!$C$13,IF(Comanda!K61=2,Comanda!$C$14,IF(Comanda!$K61=3,Comanda!$C$15,IF(Comanda!$K61=4,Comanda!$C$16,0))))","v":0},{"$f":"IF(Comanda!B61<>0,Comanda!$C$2,\"\")","v":""},{"$f":"IF(Comanda!B61<>0,Comanda!$C$5,\"\")","v":""},{"$f":"IF(Comanda!B61<>0,Comanda!$G$2,\"\")","v":""},{"$f":"IF(Comanda!B61<>0,Comanda!L61,\"\")","v":""},{"$f":"IF(Comanda!D61<>0,VLOOKUP('Formula Cant'!F44,'Grafica Cant'!$G$2:$H$25,2,FALSE),\"\")","v":""},{"$nulls":8},{"$f":"IF(Comanda!B61<>0,Comanda!$C$9,\"\")","v":""},{"$f":"IF(Comanda!B61<>0,VLOOKUP(Comanda!$C$12,PRETURI!$A$2:$C$500,3,FALSE),\"\")","v":""},"",{"$f":"IF(H44<>0,VLOOKUP(H44,PRETURI!$D$2:$F$1093,3,FALSE),\"\")","v":""},{"v":0,"d":"0.00"},{"$f":"IF(I44<>0,VLOOKUP(I44,PRETURI!$D$2:$F$1093,3,FALSE),\"\")","v":""},{"v":0,"d":"0.00"},{"$f":"IF(J44<>0,VLOOKUP(J44,PRETURI!$D$2:$F$1093,3,FALSE),\"\")","v":""},{"v":0,"d":"0.00"},{"$f":"IF(K44<>0,VLOOKUP(K44,PRETURI!$D$2:$F$1093,3,FALSE),\"\")","v":""},{"v":0,"d":"0.00"},{"$nulls":6},{"$f":"(Comanda!D61*Comanda!E61*Comanda!F61)*0.000001","v":{"v":0,"d":"0.00"}},null,{"$f":"IF(Comanda!H61=1,(Comanda!D61*0.001+$BL$2)*Comanda!F61,\"\")","v":""},{"$f":"IF(Comanda!I61=1,(Comanda!D61*0.001+$BL$2)*Comanda!F61,\"\")","v":""},{"$f":"IF(Comanda!J61=1,(Comanda!E61*0.001+$BL$2)*Comanda!F61,\"\")","v":""},{"$f":"IF(Comanda!K61=1,(Comanda!E61*0.001+$BL$2)*Comanda!F61,\"\")","v":""},null,{"$f":"IF(Comanda!H61=2,(Comanda!D61*0.001+$BL$2)*Comanda!F61,\"\")","v":""},{"$f":"IF(Comanda!I61=2,(Comanda!D61*0.001+$BL$2)*Comanda!F61,\"\")","v":""},{"$f":"IF(Comanda!J61=2,(Comanda!E61*0.001+$BL$2)*Comanda!F61,\"\")","v":""},{"$f":"IF(Comanda!K61=2,(Comanda!E61*0.001+$BL$2)*Comanda!F61,\"\")","v":""},null,{"$f":"IF(Comanda!H61=3,(Comanda!D61*0.001+$BL$2)*Comanda!F61,\"\")","v":""},{"$f":"IF(Comanda!I61=3,(Comanda!D61*0.001+$BL$2)*Comanda!F61,\"\")","v":""},{"$f":"IF(Comanda!J61=3,(Comanda!E61*0.001+$BL$2)*Comanda!F61,\"\")","v":""},{"$f":"IF(Comanda!K61=3,(Comanda!E61*0.001+$BL$2)*Comanda!F61,\"\")","v":""},null,{"$f":"IF(Comanda!H61=4,(Comanda!D61*0.001+$BL$2)*Comanda!F61,\"\")","v":""},{"$f":"IF(Comanda!I61=4,(Comanda!D61*0.001+$BL$2)*Comanda!F61,\"\")","v":""},{"$f":"IF(Comanda!J61=4,(Comanda!E61*0.001+$BL$2)*Comanda!F61,\"\")","v":""},{"$f":"IF(Comanda!K61=4,(Comanda!E61*0.001+$BL$2)*Comanda!F61,\"\")","v":""}]
[43,{"$f":"IF(Comanda!B62<>0,Comanda!B62,\"\")","v":""},{"$f":"IF(Comanda!C62<>0,Comanda!C62,\"\")","v":""},{"$f":"IF(Comanda!D62<>0,Comanda!D62,\"\")","v":""},{"$f":"IF(Comanda!E62<>0,Comanda!E62,\"\")","v":""},{"$f":"IF(Comanda!F62<>0,Comanda!F62,\"\")","v":""},{"$f":"IF(Comanda!G62<>0,1,0)","v":0},{"$f":"IF(Comanda!H62=1,Comanda!$C$13,IF(Comanda!H62=2,Comanda!$C$14,IF(Comanda!$H62=3,Comanda!$C$15,IF(Comanda!$H62=4,Comanda!$C$16,0))))","v":0},{"$f":"IF(Comanda!I62=1,Comanda!$C$13,IF(Comanda!I62=2,Comanda!$C$14,IF(Comanda!$I62=3,Comanda!$C$15,IF(Comanda!$I62=4,Comanda!$C$16,0))))","v":0},{"$f":"IF(Comanda!J62=1,Comanda!$C$13,IF(Comanda!J62=2,Comanda!$C$14,IF(Comanda!$J62=3,Comanda!$C$15,IF(Comanda!$J62=4,Comanda!$C$16,0))))","v":0},{"$f":"IF(Comanda!K62=1,Comanda!$C$13,IF(Comanda!K62=2,Comanda!$C$14,IF(Comanda!$K62=3,Comanda!$C$15,IF(Comanda!$K62=4,Comanda!$C$16,0))))","v":0},{"$f":"IF(Comanda!B62<>0,Comanda!$C$2,\"\")","v":""},{"$f":"IF(Comanda!B62<>0,Comanda!$C$5,\"\")","v":""},{"$f":"IF(Comanda!B62<>0,Comanda!$G$2,\"\")","v":""},{"$f":"IF(Comanda!B62<>0,Comanda!L62,\"\")","v":""},{"$f":"IF(Comanda!D62<>0,VLOOKUP('Formula Cant'!F45,'Grafica Cant'!$G$2:$H$25,2,FALSE),\"\")","v":""},{"$nulls":8},{"$f":"IF(Comanda!B62<>0,Comanda!$C$9,\"\")","v":""},{"$f":"IF(Comanda!B62<>0,VLOOKUP(Comanda!$C$12,PRETURI!$A$2:$C$500,3,FALSE),\"\")","v":""},"",{"$f":"IF(H45<>0,VLOOKUP(H45,PRETURI!$D$2:$F$1093,3,FALSE),\"\")","v":""},{"v":0,"d":"0.00"},{"$f":"IF(I45<>0,VLOOKUP(I45,PRETURI!$D$2:$F$1093,3,FALSE),\"\")","v":""},{"v":0,"d":"0.00"},{"$f":"IF(J45<>0,VLOOKUP(J45,PRETURI!$D$2:$F$1093,3,FALSE),\"\")","v":""},{"v":0,"d":"0.00"},{"$f":"IF(K45<>0,VLOOKUP(K45,PRETURI!$D$2:$F$1093,3,FALSE),\"\")","v":""},{"v":0,"d":"0.00"},{"$nulls":6},{"$f":"(Comanda!D62*Comanda!E62*Comanda!F62)*0.000001","v":{"v":0,"d":"0.00"}},null,{"$f":"IF(Comanda!H62=1,(Comanda!D62*0.001+$BL$2)*Comanda!F62,\"\")","v":""},{"$f":"IF(Comanda!I62=1,(Comanda!D62*0.001+$BL$2)*Comanda!F62,\"\")","v":""},{"$f":"IF(Comanda!J62=1,(Comanda!E62*0.001+$BL$2)*Comanda!F62,\"\")","v":""},{"$f":"IF(Comanda!K62=1,(Comanda!E62*0.001+$BL$2)*Comanda!F62,\"\")","v":""},null,{"$f":"IF(Comanda!H62=2,(Comanda!D62*0.001+$BL$2)*Comanda!F62,\"\")","v":""},{"$f":"IF(Comanda!I62=2,(Comanda!D62*0.001+$BL$2)*Comanda!F62,\"\")","v":""},{"$f":"IF(Comanda!J62=2,(Comanda!E62*0.001+$BL$2)*Comanda!F62,\"\")","v":""},{"$f":"IF(Comanda!K62=2,(Comanda!E62*0.001+$BL$2)*Comanda!F62,\"\")","v":""},null,{"$f":"IF(Comanda!H62=3,(Comanda!D62*0.001+$BL$2)*Comanda!F62,\"\")","v":""},{"$f":"IF(Comanda!I62=3,(Comanda!D62*0.001+$BL$2)*Comanda!F62,\"\")","v":""},{"$f":"IF(Comanda!J62=3,(Comanda!E62*0.001+$BL$2)*Comanda!F62,\"\")","v":""},{"$f":"IF(Comanda!K62=3,(Comanda!E62*0.001+$BL$2)*Comanda!F62,\"\")","v":""},null,{"$f":"IF(Comanda!H62=4,(Comanda!D62*0.001+$BL$2)*Comanda!F62,\"\")","v":""},{"$f":"IF(Comanda!I62=4,(Comanda!D62*0.001+$BL$2)*Comanda!F62,\"\")","v":""},{"$f":"IF(Comanda!J62=4,(Comanda!E62*0.001+$BL$2)*Comanda!F62,\"\")","v":""},{"$f":"IF(Comanda!K62=4,(Comanda!E62*0.001+$BL$2)*Comanda!F62,\"\")","v":""}]
[44,{"$f":"IF(Comanda!B63<>0,Comanda!B63,\"\")","v":""},{"$f":"IF(Comanda!C63<>0,Comanda!C63,\"\")","v":""},{"$f":"IF(Comanda!D63<>0,Comanda!D63,\"\")","v":""},{"$f":"IF(Comanda!E63<>0,Comanda!E63,\"\")","v":""},{"$f":"IF(Comanda!F63<>0,Comanda!F63,\"\")","v":""},{"$f":"IF(Comanda!G63<>0,1,0)","v":0},{"$f":"IF(Comanda!H63=1,Comanda!$C$13,IF(Comanda!H63=2,Comanda!$C$14,IF(Comanda!$H63=3,Comanda!$C$15,IF(Comanda!$H63=4,Comanda!$C$16,0))))","v":0},{"$f":"IF(Comanda!I63=1,Comanda!$C$13,IF(Comanda!I63=2,Comanda!$C$14,IF(Comanda!$I63=3,Comanda!$C$15,IF(Comanda!$I63=4,Comanda!$C$16,0))))","v":0},{"$f":"IF(Comanda!J63=1,Comanda!$C$13,IF(Comanda!J63=2,Comanda!$C$14,IF(Comanda!$J63=3,Comanda!$C$15,IF(Comanda!$J63=4,Comanda!$C$16,0))))","v":0},{"$f":"IF(Comanda!K63=1,Comanda!$C$13,IF(Comanda!K63=2,Comanda!$C$14,IF(Comanda!$K63=3,Comanda!$C$15,IF(Comanda!$K63=4,Comanda!$C$16,0))))","v":0},{"$f":"IF(Comanda!B63<>0,Comanda!$C$2,\"\")","v":""},{"$f":"IF(Comanda!B63<>0,Comanda!$C$5,\"\")","v":""},{"$f":"IF(Comanda!B63<>0,Comanda!$G$2,\"\")","v":""},{"$f":"IF(Comanda!B63<>0,Comanda!L63,\"\")","v":""},{"$f":"IF(Comanda!D63<>0,VLOOKUP('Formula Cant'!F46,'Grafica Cant'!$G$2:$H$25,2,FALSE),\"\")","v":""},{"$nulls":8},{"$f":"IF(Comanda!B63<>0,Comanda!$C$9,\"\")","v":""},{"$f":"IF(Comanda!B63<>0,VLOOKUP(Comanda!$C$12,PRETURI!$A$2:$C$500,3,FALSE),\"\")","v":""},"",{"$f":"IF(H46<>0,VLOOKUP(H46,PRETURI!$D$2:$F$1093,3,FALSE),\"\")","v":""},{"v":0,"d":"0.00"},{"$f":"IF(I46<>0,VLOOKUP(I46,PRETURI!$D$2:$F$1093,3,FALSE),\"\")","v":""},{"v":0,"d":"0.00"},{"$f":"IF(J46<>0,VLOOKUP(J46,PRETURI!$D$2:$F$1093,3,FALSE),\"\")","v":""},{"v":0,"d":"0.00"},{"$f":"IF(K46<>0,VLOOKUP(K46,PRETURI!$D$2:$F$1093,3,FALSE),\"\")","v":""},{"v":0,"d":"0.00"},{"$nulls":6},{"$f":"(Comanda!D63*Comanda!E63*Comanda!F63)*0.000001","v":{"v":0,"d":"0.00"}},null,{"$f":"IF(Comanda!H63=1,(Comanda!D63*0.001+$BL$2)*Comanda!F63,\"\")","v":""},{"$f":"IF(Comanda!I63=1,(Comanda!D63*0.001+$BL$2)*Comanda!F63,\"\")","v":""},{"$f":"IF(Comanda!J63=1,(Comanda!E63*0.001+$BL$2)*Comanda!F63,\"\")","v":""},{"$f":"IF(Comanda!K63=1,(Comanda!E63*0.001+$BL$2)*Comanda!F63,\"\")","v":""},null,{"$f":"IF(Comanda!H63=2,(Comanda!D63*0.001+$BL$2)*Comanda!F63,\"\")","v":""},{"$f":"IF(Comanda!I63=2,(Comanda!D63*0.001+$BL$2)*Comanda!F63,\"\")","v":""},{"$f":"IF(Comanda!J63=2,(Comanda!E63*0.001+$BL$2)*Comanda!F63,\"\")","v":""},{"$f":"IF(Comanda!K63=2,(Comanda!E63*0.001+$BL$2)*Comanda!F63,\"\")","v":""},null,{"$f":"IF(Comanda!H63=3,(Comanda!D63*0.001+$BL$2)*Comanda!F63,\"\")","v":""},{"$f":"IF(Comanda!I63=3,(Comanda!D63*0.001+$BL$2)*Comanda!F63,\"\")","v":""},{"$f":"IF(Comanda!J63=3,(Comanda!E63*0.001+$BL$2)*Comanda!F63,\"\")","v":""},{"$f":"IF(Comanda!K63=3,(Comanda!E63*0.001+$BL$2)*Comanda!F63,\"\")","v":""},null,{"$f":"IF(Comanda!H63=4,(Comanda!D63*0.001+$BL$2)*Comanda!F63,\"\")","v":""},{"$f":"IF(Comanda!I63=4,(Comanda!D63*0.001+$BL$2)*Comanda!F63,\"\")","v":""},{"$f":"IF(Comanda!J63=4,(Comanda!E63*0.001+$BL$2)*Comanda!F63,\"\")","v":""},{"$f":"IF(Comanda!K63=4,(Comanda!E63*0.001+$BL$2)*Comanda!F63,\"\")","v":""}]
[45,{"$f":"IF(Comanda!B64<>0,Comanda!B64,\"\")","v":""},{"$f":"IF(Comanda!C64<>0,Comanda!C64,\"\")","v":""},{"$f":"IF(Comanda!D64<>0,Comanda!D64,\"\")","v":""},{"$f":"IF(Comanda!E64<>0,Comanda!E64,\"\")","v":""},{"$f":"IF(Comanda!F64<>0,Comanda!F64,\"\")","v":""},{"$f":"IF(Comanda!G64<>0,1,0)","v":0},{"$f":"IF(Comanda!H64=1,Comanda!$C$13,IF(Comanda!H64=2,Comanda!$C$14,IF(Comanda!$H64=3,Comanda!$C$15,IF(Comanda!$H64=4,Comanda!$C$16,0))))","v":0},{"$f":"IF(Comanda!I64=1,Comanda!$C$13,IF(Comanda!I64=2,Comanda!$C$14,IF(Comanda!$I64=3,Comanda!$C$15,IF(Comanda!$I64=4,Comanda!$C$16,0))))","v":0},{"$f":"IF(Comanda!J64=1,Comanda!$C$13,IF(Comanda!J64=2,Comanda!$C$14,IF(Comanda!$J64=3,Comanda!$C$15,IF(Comanda!$J64=4,Comanda!$C$16,0))))","v":0},{"$f":"IF(Comanda!K64=1,Comanda!$C$13,IF(Comanda!K64=2,Comanda!$C$14,IF(Comanda!$K64=3,Comanda!$C$15,IF(Comanda!$K64=4,Comanda!$C$16,0))))","v":0},{"$f":"IF(Comanda!B64<>0,Comanda!$C$2,\"\")","v":""},{"$f":"IF(Comanda!B64<>0,Comanda!$C$5,\"\")","v":""},{"$f":"IF(Comanda!B64<>0,Comanda!$G$2,\"\")","v":""},{"$f":"IF(Comanda!B64<>0,Comanda!L64,\"\")","v":""},{"$f":"IF(Comanda!D64<>0,VLOOKUP('Formula Cant'!F47,'Grafica Cant'!$G$2:$H$25,2,FALSE),\"\")","v":""},{"$nulls":8},{"$f":"IF(Comanda!B64<>0,Comanda!$C$9,\"\")","v":""},{"$f":"IF(Comanda!B64<>0,VLOOKUP(Comanda!$C$12,PRETURI!$A$2:$C$500,3,FALSE),\"\")","v":""},"",{"$f":"IF(H47<>0,VLOOKUP(H47,PRETURI!$D$2:$F$1093,3,FALSE),\"\")","v":""},{"v":0,"d":"0.00"},{"$f":"IF(I47<>0,VLOOKUP(I47,PRETURI!$D$2:$F$1093,3,FALSE),\"\")","v":""},{"v":0,"d":"0.00"},{"$f":"IF(J47<>0,VLOOKUP(J47,PRETURI!$D$2:$F$1093,3,FALSE),\"\")","v":""},{"v":0,"d":"0.00"},{"$f":"IF(K47<>0,VLOOKUP(K47,PRETURI!$D$2:$F$1093,3,FALSE),\"\")","v":""},{"v":0,"d":"0.00"},{"$nulls":6},{"$f":"(Comanda!D64*Comanda!E64*Comanda!F64)*0.000001","v":{"v":0,"d":"0.00"}},null,{"$f":"IF(Comanda!H64=1,(Comanda!D64*0.001+$BL$2)*Comanda!F64,\"\")","v":""},{"$f":"IF(Comanda!I64=1,(Comanda!D64*0.001+$BL$2)*Comanda!F64,\"\")","v":""},{"$f":"IF(Comanda!J64=1,(Comanda!E64*0.001+$BL$2)*Comanda!F64,\"\")","v":""},{"$f":"IF(Comanda!K64=1,(Comanda!E64*0.001+$BL$2)*Comanda!F64,\"\")","v":""},null,{"$f":"IF(Comanda!H64=2,(Comanda!D64*0.001+$BL$2)*Comanda!F64,\"\")","v":""},{"$f":"IF(Comanda!I64=2,(Comanda!D64*0.001+$BL$2)*Comanda!F64,\"\")","v":""},{"$f":"IF(Comanda!J64=2,(Comanda!E64*0.001+$BL$2)*Comanda!F64,\"\")","v":""},{"$f":"IF(Comanda!K64=2,(Comanda!E64*0.001+$BL$2)*Comanda!F64,\"\")","v":""},null,{"$f":"IF(Comanda!H64=3,(Comanda!D64*0.001+$BL$2)*Comanda!F64,\"\")","v":""},{"$f":"IF(Comanda!I64=3,(Comanda!D64*0.001+$BL$2)*Comanda!F64,\"\")","v":""},{"$f":"IF(Comanda!J64=3,(Comanda!E64*0.001+$BL$2)*Comanda!F64,\"\")","v":""},{"$f":"IF(Comanda!K64=3,(Comanda!E64*0.001+$BL$2)*Comanda!F64,\"\")","v":""},null,{"$f":"IF(Comanda!H64=4,(Comanda!D64*0.001+$BL$2)*Comanda!F64,\"\")","v":""},{"$f":"IF(Comanda!I64=4,(Comanda!D64*0.001+$BL$2)*Comanda!F64,\"\")","v":""},{"$f":"IF(Comanda!J64=4,(Comanda!E64*0.001+$BL$2)*Comanda!F64,\"\")","v":""},{"$f":"IF(Comanda!K64=4,(Comanda!E64*0.001+$BL$2)*Comanda!F64,\"\")","v":""}]
[46,{"$f":"IF(Comanda!B65<>0,Comanda!B65,\"\")","v":""},{"$f":"IF(Comanda!C65<>0,Comanda!C65,\"\")","v":""},{"$f":"IF(Comanda!D65<>0,Comanda!D65,\"\")","v":""},{"$f":"IF(Comanda!E65<>0,Comanda!E65,\"\")","v":""},{"$f":"IF(Comanda!F65<>0,Comanda!F65,\"\")","v":""},{"$f":"IF(Comanda!G65<>0,1,0)","v":0},{"$f":"IF(Comanda!H65=1,Comanda!$C$13,IF(Comanda!H65=2,Comanda!$C$14,IF(Comanda!$H65=3,Comanda!$C$15,IF(Comanda!$H65=4,Comanda!$C$16,0))))","v":0},{"$f":"IF(Comanda!I65=1,Comanda!$C$13,IF(Comanda!I65=2,Comanda!$C$14,IF(Comanda!$I65=3,Comanda!$C$15,IF(Comanda!$I65=4,Comanda!$C$16,0))))","v":0},{"$f":"IF(Comanda!J65=1,Comanda!$C$13,IF(Comanda!J65=2,Comanda!$C$14,IF(Comanda!$J65=3,Comanda!$C$15,IF(Comanda!$J65=4,Comanda!$C$16,0))))","v":0},{"$f":"IF(Comanda!K65=1,Comanda!$C$13,IF(Comanda!K65=2,Comanda!$C$14,IF(Comanda!$K65=3,Comanda!$C$15,IF(Comanda!$K65=4,Comanda!$C$16,0))))","v":0},{"$f":"IF(Comanda!B65<>0,Comanda!$C$2,\"\")","v":""},{"$f":"IF(Comanda!B65<>0,Comanda!$C$5,\"\")","v":""},{"$f":"IF(Comanda!B65<>0,Comanda!$G$2,\"\")","v":""},{"$f":"IF(Comanda!B65<>0,Comanda!L65,\"\")","v":""},{"$f":"IF(Comanda!D65<>0,VLOOKUP('Formula Cant'!F48,'Grafica Cant'!$G$2:$H$25,2,FALSE),\"\")","v":""},{"$nulls":8},{"$f":"IF(Comanda!B65<>0,Comanda!$C$9,\"\")","v":""},{"$f":"IF(Comanda!B65<>0,VLOOKUP(Comanda!$C$12,PRETURI!$A$2:$C$500,3,FALSE),\"\")","v":""},"",{"$f":"IF(H48<>0,VLOOKUP(H48,PRETURI!$D$2:$F$1093,3,FALSE),\"\")","v":""},{"v":0,"d":"0.00"},{"$f":"IF(I48<>0,VLOOKUP(I48,PRETURI!$D$2:$F$1093,3,FALSE),\"\")","v":""},{"v":0,"d":"0.00"},{"$f":"IF(J48<>0,VLOOKUP(J48,PRETURI!$D$2:$F$1093,3,FALSE),\"\")","v":""},{"v":0,"d":"0.00"},{"$f":"IF(K48<>0,VLOOKUP(K48,PRETURI!$D$2:$F$1093,3,FALSE),\"\")","v":""},{"v":0,"d":"0.00"},{"$nulls":6},{"$f":"(Comanda!D65*Comanda!E65*Comanda!F65)*0.000001","v":{"v":0,"d":"0.00"}},null,{"$f":"IF(Comanda!H65=1,(Comanda!D65*0.001+$BL$2)*Comanda!F65,\"\")","v":""},{"$f":"IF(Comanda!I65=1,(Comanda!D65*0.001+$BL$2)*Comanda!F65,\"\")","v":""},{"$f":"IF(Comanda!J65=1,(Comanda!E65*0.001+$BL$2)*Comanda!F65,\"\")","v":""},{"$f":"IF(Comanda!K65=1,(Comanda!E65*0.001+$BL$2)*Comanda!F65,\"\")","v":""},null,{"$f":"IF(Comanda!H65=2,(Comanda!D65*0.001+$BL$2)*Comanda!F65,\"\")","v":""},{"$f":"IF(Comanda!I65=2,(Comanda!D65*0.001+$BL$2)*Comanda!F65,\"\")","v":""},{"$f":"IF(Comanda!J65=2,(Comanda!E65*0.001+$BL$2)*Comanda!F65,\"\")","v":""},{"$f":"IF(Comanda!K65=2,(Comanda!E65*0.001+$BL$2)*Comanda!F65,\"\")","v":""},null,{"$f":"IF(Comanda!H65=3,(Comanda!D65*0.001+$BL$2)*Comanda!F65,\"\")","v":""},{"$f":"IF(Comanda!I65=3,(Comanda!D65*0.001+$BL$2)*Comanda!F65,\"\")","v":""},{"$f":"IF(Comanda!J65=3,(Comanda!E65*0.001+$BL$2)*Comanda!F65,\"\")","v":""},{"$f":"IF(Comanda!K65=3,(Comanda!E65*0.001+$BL$2)*Comanda!F65,\"\")","v":""},null,{"$f":"IF(Comanda!H65=4,(Comanda!D65*0.001+$BL$2)*Comanda!F65,\"\")","v":""},{"$f":"IF(Comanda!I65=4,(Comanda!D65*0.001+$BL$2)*Comanda!F65,\"\")","v":""},{"$f":"IF(Comanda!J65=4,(Comanda!E65*0.001+$BL$2)*Comanda!F65,\"\")","v":""},{"$f":"IF(Comanda!K65=4,(Comanda!E65*0.001+$BL$2)*Comanda!F65,\"\")","v":""}]
[47,{"$f":"IF(Comanda!B66<>0,Comanda!B66,\"\")","v":""},{"$f":"IF(Comanda!C66<>0,Comanda!C66,\"\")","v":""},{"$f":"IF(Comanda!D66<>0,Comanda!D66,\"\")","v":""},{"$f":"IF(Comanda!E66<>0,Comanda!E66,\"\")","v":""},{"$f":"IF(Comanda!F66<>0,Comanda!F66,\"\")","v":""},{"$f":"IF(Comanda!G66<>0,1,0)","v":0},{"$f":"IF(Comanda!H66=1,Comanda!$C$13,IF(Comanda!H66=2,Comanda!$C$14,IF(Comanda!$H66=3,Comanda!$C$15,IF(Comanda!$H66=4,Comanda!$C$16,0))))","v":0},{"$f":"IF(Comanda!I66=1,Comanda!$C$13,IF(Comanda!I66=2,Comanda!$C$14,IF(Comanda!$I66=3,Comanda!$C$15,IF(Comanda!$I66=4,Comanda!$C$16,0))))","v":0},{"$f":"IF(Comanda!J66=1,Comanda!$C$13,IF(Comanda!J66=2,Comanda!$C$14,IF(Comanda!$J66=3,Comanda!$C$15,IF(Comanda!$J66=4,Comanda!$C$16,0))))","v":0},{"$f":"IF(Comanda!K66=1,Comanda!$C$13,IF(Comanda!K66=2,Comanda!$C$14,IF(Comanda!$K66=3,Comanda!$C$15,IF(Comanda!$K66=4,Comanda!$C$16,0))))","v":0},{"$f":"IF(Comanda!B66<>0,Comanda!$C$2,\"\")","v":""},{"$f":"IF(Comanda!B66<>0,Comanda!$C$5,\"\")","v":""},{"$f":"IF(Comanda!B66<>0,Comanda!$G$2,\"\")","v":""},{"$f":"IF(Comanda!B66<>0,Comanda!L66,\"\")","v":""},{"$f":"IF(Comanda!D66<>0,VLOOKUP('Formula Cant'!F49,'Grafica Cant'!$G$2:$H$25,2,FALSE),\"\")","v":""},{"$nulls":8},{"$f":"IF(Comanda!B66<>0,Comanda!$C$9,\"\")","v":""},{"$f":"IF(Comanda!B66<>0,VLOOKUP(Comanda!$C$12,PRETURI!$A$2:$C$500,3,FALSE),\"\")","v":""},"",{"$f":"IF(H49<>0,VLOOKUP(H49,PRETURI!$D$2:$F$1093,3,FALSE),\"\")","v":""},{"v":0,"d":"0.00"},{"$f":"IF(I49<>0,VLOOKUP(I49,PRETURI!$D$2:$F$1093,3,FALSE),\"\")","v":""},{"v":0,"d":"0.00"},{"$f":"IF(J49<>0,VLOOKUP(J49,PRETURI!$D$2:$F$1093,3,FALSE),\"\")","v":""},{"v":0,"d":"0.00"},{"$f":"IF(K49<>0,VLOOKUP(K49,PRETURI!$D$2:$F$1093,3,FALSE),\"\")","v":""},{"v":0,"d":"0.00"},{"$nulls":6},{"$f":"(Comanda!D66*Comanda!E66*Comanda!F66)*0.000001","v":{"v":0,"d":"0.00"}},null,{"$f":"IF(Comanda!H66=1,(Comanda!D66*0.001+$BL$2)*Comanda!F66,\"\")","v":""},{"$f":"IF(Comanda!I66=1,(Comanda!D66*0.001+$BL$2)*Comanda!F66,\"\")","v":""},{"$f":"IF(Comanda!J66=1,(Comanda!E66*0.001+$BL$2)*Comanda!F66,\"\")","v":""},{"$f":"IF(Comanda!K66=1,(Comanda!E66*0.001+$BL$2)*Comanda!F66,\"\")","v":""},null,{"$f":"IF(Comanda!H66=2,(Comanda!D66*0.001+$BL$2)*Comanda!F66,\"\")","v":""},{"$f":"IF(Comanda!I66=2,(Comanda!D66*0.001+$BL$2)*Comanda!F66,\"\")","v":""},{"$f":"IF(Comanda!J66=2,(Comanda!E66*0.001+$BL$2)*Comanda!F66,\"\")","v":""},{"$f":"IF(Comanda!K66=2,(Comanda!E66*0.001+$BL$2)*Comanda!F66,\"\")","v":""},null,{"$f":"IF(Comanda!H66=3,(Comanda!D66*0.001+$BL$2)*Comanda!F66,\"\")","v":""},{"$f":"IF(Comanda!I66=3,(Comanda!D66*0.001+$BL$2)*Comanda!F66,\"\")","v":""},{"$f":"IF(Comanda!J66=3,(Comanda!E66*0.001+$BL$2)*Comanda!F66,\"\")","v":""},{"$f":"IF(Comanda!K66=3,(Comanda!E66*0.001+$BL$2)*Comanda!F66,\"\")","v":""},null,{"$f":"IF(Comanda!H66=4,(Comanda!D66*0.001+$BL$2)*Comanda!F66,\"\")","v":""},{"$f":"IF(Comanda!I66=4,(Comanda!D66*0.001+$BL$2)*Comanda!F66,\"\")","v":""},{"$f":"IF(Comanda!J66=4,(Comanda!E66*0.001+$BL$2)*Comanda!F66,\"\")","v":""},{"$f":"IF(Comanda!K66=4,(Comanda!E66*0.001+$BL$2)*Comanda!F66,\"\")","v":""}]
[48,{"$f":"IF(Comanda!B67<>0,Comanda!B67,\"\")","v":""},{"$f":"IF(Comanda!C67<>0,Comanda!C67,\"\")","v":""},{"$f":"IF(Comanda!D67<>0,Comanda!D67,\"\")","v":""},{"$f":"IF(Comanda!E67<>0,Comanda!E67,\"\")","v":""},{"$f":"IF(Comanda!F67<>0,Comanda!F67,\"\")","v":""},{"$f":"IF(Comanda!G67<>0,1,0)","v":0},{"$f":"IF(Comanda!H67=1,Comanda!$C$13,IF(Comanda!H67=2,Comanda!$C$14,IF(Comanda!$H67=3,Comanda!$C$15,IF(Comanda!$H67=4,Comanda!$C$16,0))))","v":0},{"$f":"IF(Comanda!I67=1,Comanda!$C$13,IF(Comanda!I67=2,Comanda!$C$14,IF(Comanda!$I67=3,Comanda!$C$15,IF(Comanda!$I67=4,Comanda!$C$16,0))))","v":0},{"$f":"IF(Comanda!J67=1,Comanda!$C$13,IF(Comanda!J67=2,Comanda!$C$14,IF(Comanda!$J67=3,Comanda!$C$15,IF(Comanda!$J67=4,Comanda!$C$16,0))))","v":0},{"$f":"IF(Comanda!K67=1,Comanda!$C$13,IF(Comanda!K67=2,Comanda!$C$14,IF(Comanda!$K67=3,Comanda!$C$15,IF(Comanda!$K67=4,Comanda!$C$16,0))))","v":0},{"$f":"IF(Comanda!B67<>0,Comanda!$C$2,\"\")","v":""},{"$f":"IF(Comanda!B67<>0,Comanda!$C$5,\"\")","v":""},{"$f":"IF(Comanda!B67<>0,Comanda!$G$2,\"\")","v":""},{"$f":"IF(Comanda!B67<>0,Comanda!L67,\"\")","v":""},{"$f":"IF(Comanda!D67<>0,VLOOKUP('Formula Cant'!F50,'Grafica Cant'!$G$2:$H$25,2,FALSE),\"\")","v":""},{"$nulls":8},{"$f":"IF(Comanda!B67<>0,Comanda!$C$9,\"\")","v":""},{"$f":"IF(Comanda!B67<>0,VLOOKUP(Comanda!$C$12,PRETURI!$A$2:$C$500,3,FALSE),\"\")","v":""},"",{"$f":"IF(H50<>0,VLOOKUP(H50,PRETURI!$D$2:$F$1093,3,FALSE),\"\")","v":""},{"v":0,"d":"0.00"},{"$f":"IF(I50<>0,VLOOKUP(I50,PRETURI!$D$2:$F$1093,3,FALSE),\"\")","v":""},{"v":0,"d":"0.00"},{"$f":"IF(J50<>0,VLOOKUP(J50,PRETURI!$D$2:$F$1093,3,FALSE),\"\")","v":""},{"v":0,"d":"0.00"},{"$f":"IF(K50<>0,VLOOKUP(K50,PRETURI!$D$2:$F$1093,3,FALSE),\"\")","v":""},{"v":0,"d":"0.00"},{"$nulls":6},{"$f":"(Comanda!D67*Comanda!E67*Comanda!F67)*0.000001","v":{"v":0,"d":"0.00"}},null,{"$f":"IF(Comanda!H67=1,(Comanda!D67*0.001+$BL$2)*Comanda!F67,\"\")","v":""},{"$f":"IF(Comanda!I67=1,(Comanda!D67*0.001+$BL$2)*Comanda!F67,\"\")","v":""},{"$f":"IF(Comanda!J67=1,(Comanda!E67*0.001+$BL$2)*Comanda!F67,\"\")","v":""},{"$f":"IF(Comanda!K67=1,(Comanda!E67*0.001+$BL$2)*Comanda!F67,\"\")","v":""},null,{"$f":"IF(Comanda!H67=2,(Comanda!D67*0.001+$BL$2)*Comanda!F67,\"\")","v":""},{"$f":"IF(Comanda!I67=2,(Comanda!D67*0.001+$BL$2)*Comanda!F67,\"\")","v":""},{"$f":"IF(Comanda!J67=2,(Comanda!E67*0.001+$BL$2)*Comanda!F67,\"\")","v":""},{"$f":"IF(Comanda!K67=2,(Comanda!E67*0.001+$BL$2)*Comanda!F67,\"\")","v":""},null,{"$f":"IF(Comanda!H67=3,(Comanda!D67*0.001+$BL$2)*Comanda!F67,\"\")","v":""},{"$f":"IF(Comanda!I67=3,(Comanda!D67*0.001+$BL$2)*Comanda!F67,\"\")","v":""},{"$f":"IF(Comanda!J67=3,(Comanda!E67*0.001+$BL$2)*Comanda!F67,\"\")","v":""},{"$f":"IF(Comanda!K67=3,(Comanda!E67*0.001+$BL$2)*Comanda!F67,\"\")","v":""},null,{"$f":"IF(Comanda!H67=4,(Comanda!D67*0.001+$BL$2)*Comanda!F67,\"\")","v":""},{"$f":"IF(Comanda!I67=4,(Comanda!D67*0.001+$BL$2)*Comanda!F67,\"\")","v":""},{"$f":"IF(Comanda!J67=4,(Comanda!E67*0.001+$BL$2)*Comanda!F67,\"\")","v":""},{"$f":"IF(Comanda!K67=4,(Comanda!E67*0.001+$BL$2)*Comanda!F67,\"\")","v":""}]
[49,{"$f":"IF(Comanda!B68<>0,Comanda!B68,\"\")","v":""},{"$f":"IF(Comanda!C68<>0,Comanda!C68,\"\")","v":""},{"$f":"IF(Comanda!D68<>0,Comanda!D68,\"\")","v":""},{"$f":"IF(Comanda!E68<>0,Comanda!E68,\"\")","v":""},{"$f":"IF(Comanda!F68<>0,Comanda!F68,\"\")","v":""},{"$f":"IF(Comanda!G68<>0,1,0)","v":0},{"$f":"IF(Comanda!H68=1,Comanda!$C$13,IF(Comanda!H68=2,Comanda!$C$14,IF(Comanda!$H68=3,Comanda!$C$15,IF(Comanda!$H68=4,Comanda!$C$16,0))))","v":0},{"$f":"IF(Comanda!I68=1,Comanda!$C$13,IF(Comanda!I68=2,Comanda!$C$14,IF(Comanda!$I68=3,Comanda!$C$15,IF(Comanda!$I68=4,Comanda!$C$16,0))))","v":0},{"$f":"IF(Comanda!J68=1,Comanda!$C$13,IF(Comanda!J68=2,Comanda!$C$14,IF(Comanda!$J68=3,Comanda!$C$15,IF(Comanda!$J68=4,Comanda!$C$16,0))))","v":0},{"$f":"IF(Comanda!K68=1,Comanda!$C$13,IF(Comanda!K68=2,Comanda!$C$14,IF(Comanda!$K68=3,Comanda!$C$15,IF(Comanda!$K68=4,Comanda!$C$16,0))))","v":0},{"$f":"IF(Comanda!B68<>0,Comanda!$C$2,\"\")","v":""},{"$f":"IF(Comanda!B68<>0,Comanda!$C$5,\"\")","v":""},{"$f":"IF(Comanda!B68<>0,Comanda!$G$2,\"\")","v":""},{"$f":"IF(Comanda!B68<>0,Comanda!L68,\"\")","v":""},{"$f":"IF(Comanda!D68<>0,VLOOKUP('Formula Cant'!F51,'Grafica Cant'!$G$2:$H$25,2,FALSE),\"\")","v":""},{"$nulls":8},{"$f":"IF(Comanda!B68<>0,Comanda!$C$9,\"\")","v":""},{"$f":"IF(Comanda!B68<>0,VLOOKUP(Comanda!$C$12,PRETURI!$A$2:$C$500,3,FALSE),\"\")","v":""},"",{"$f":"IF(H51<>0,VLOOKUP(H51,PRETURI!$D$2:$F$1093,3,FALSE),\"\")","v":""},{"v":0,"d":"0.00"},{"$f":"IF(I51<>0,VLOOKUP(I51,PRETURI!$D$2:$F$1093,3,FALSE),\"\")","v":""},{"v":0,"d":"0.00"},{"$f":"IF(J51<>0,VLOOKUP(J51,PRETURI!$D$2:$F$1093,3,FALSE),\"\")","v":""},{"v":0,"d":"0.00"},{"$f":"IF(K51<>0,VLOOKUP(K51,PRETURI!$D$2:$F$1093,3,FALSE),\"\")","v":""},{"v":0,"d":"0.00"},{"$nulls":6},{"$f":"(Comanda!D68*Comanda!E68*Comanda!F68)*0.000001","v":{"v":0,"d":"0.00"}},null,{"$f":"IF(Comanda!H68=1,(Comanda!D68*0.001+$BL$2)*Comanda!F68,\"\")","v":""},{"$f":"IF(Comanda!I68=1,(Comanda!D68*0.001+$BL$2)*Comanda!F68,\"\")","v":""},{"$f":"IF(Comanda!J68=1,(Comanda!E68*0.001+$BL$2)*Comanda!F68,\"\")","v":""},{"$f":"IF(Comanda!K68=1,(Comanda!E68*0.001+$BL$2)*Comanda!F68,\"\")","v":""},null,{"$f":"IF(Comanda!H68=2,(Comanda!D68*0.001+$BL$2)*Comanda!F68,\"\")","v":""},{"$f":"IF(Comanda!I68=2,(Comanda!D68*0.001+$BL$2)*Comanda!F68,\"\")","v":""},{"$f":"IF(Comanda!J68=2,(Comanda!E68*0.001+$BL$2)*Comanda!F68,\"\")","v":""},{"$f":"IF(Comanda!K68=2,(Comanda!E68*0.001+$BL$2)*Comanda!F68,\"\")","v":""},null,{"$f":"IF(Comanda!H68=3,(Comanda!D68*0.001+$BL$2)*Comanda!F68,\"\")","v":""},{"$f":"IF(Comanda!I68=3,(Comanda!D68*0.001+$BL$2)*Comanda!F68,\"\")","v":""},{"$f":"IF(Comanda!J68=3,(Comanda!E68*0.001+$BL$2)*Comanda!F68,\"\")","v":""},{"$f":"IF(Comanda!K68=3,(Comanda!E68*0.001+$BL$2)*Comanda!F68,\"\")","v":""},null,{"$f":"IF(Comanda!H68=4,(Comanda!D68*0.001+$BL$2)*Comanda!F68,\"\")","v":""},{"$f":"IF(Comanda!I68=4,(Comanda!D68*0.001+$BL$2)*Comanda!F68,\"\")","v":""},{"$f":"IF(Comanda!J68=4,(Comanda!E68*0.001+$BL$2)*Comanda!F68,\"\")","v":""},{"$f":"IF(Comanda!K68=4,(Comanda!E68*0.001+$BL$2)*Comanda!F68,\"\")","v":""}]
[50,{"$f":"IF(Comanda!B69<>0,Comanda!B69,\"\")","v":""},{"$f":"IF(Comanda!C69<>0,Comanda!C69,\"\")","v":""},{"$f":"IF(Comanda!D69<>0,Comanda!D69,\"\")","v":""},{"$f":"IF(Comanda!E69<>0,Comanda!E69,\"\")","v":""},{"$f":"IF(Comanda!F69<>0,Comanda!F69,\"\")","v":""},{"$f":"IF(Comanda!G69<>0,1,0)","v":0},{"$f":"IF(Comanda!H69=1,Comanda!$C$13,IF(Comanda!H69=2,Comanda!$C$14,IF(Comanda!$H69=3,Comanda!$C$15,IF(Comanda!$H69=4,Comanda!$C$16,0))))","v":0},{"$f":"IF(Comanda!I69=1,Comanda!$C$13,IF(Comanda!I69=2,Comanda!$C$14,IF(Comanda!$I69=3,Comanda!$C$15,IF(Comanda!$I69=4,Comanda!$C$16,0))))","v":0},{"$f":"IF(Comanda!J69=1,Comanda!$C$13,IF(Comanda!J69=2,Comanda!$C$14,IF(Comanda!$J69=3,Comanda!$C$15,IF(Comanda!$J69=4,Comanda!$C$16,0))))","v":0},{"$f":"IF(Comanda!K69=1,Comanda!$C$13,IF(Comanda!K69=2,Comanda!$C$14,IF(Comanda!$K69=3,Comanda!$C$15,IF(Comanda!$K69=4,Comanda!$C$16,0))))","v":0},{"$f":"IF(Comanda!B69<>0,Comanda!$C$2,\"\")","v":""},{"$f":"IF(Comanda!B69<>0,Comanda!$C$5,\"\")","v":""},{"$f":"IF(Comanda!B69<>0,Comanda!$G$2,\"\")","v":""},{"$f":"IF(Comanda!B69<>0,Comanda!L69,\"\")","v":""},{"$f":"IF(Comanda!D69<>0,VLOOKUP('Formula Cant'!F52,'Grafica Cant'!$G$2:$H$25,2,FALSE),\"\")","v":""},{"$nulls":8},{"$f":"IF(Comanda!B69<>0,Comanda!$C$9,\"\")","v":""},{"$f":"IF(Comanda!B69<>0,VLOOKUP(Comanda!$C$12,PRETURI!$A$2:$C$500,3,FALSE),\"\")","v":""},"",{"$f":"IF(H52<>0,VLOOKUP(H52,PRETURI!$D$2:$F$1093,3,FALSE),\"\")","v":""},{"v":0,"d":"0.00"},{"$f":"IF(I52<>0,VLOOKUP(I52,PRETURI!$D$2:$F$1093,3,FALSE),\"\")","v":""},{"v":0,"d":"0.00"},{"$f":"IF(J52<>0,VLOOKUP(J52,PRETURI!$D$2:$F$1093,3,FALSE),\"\")","v":""},{"v":0,"d":"0.00"},{"$f":"IF(K52<>0,VLOOKUP(K52,PRETURI!$D$2:$F$1093,3,FALSE),\"\")","v":""},{"v":0,"d":"0.00"},{"$nulls":6},{"$f":"(Comanda!D69*Comanda!E69*Comanda!F69)*0.000001","v":{"v":0,"d":"0.00"}},null,{"$f":"IF(Comanda!H69=1,(Comanda!D69*0.001+$BL$2)*Comanda!F69,\"\")","v":""},{"$f":"IF(Comanda!I69=1,(Comanda!D69*0.001+$BL$2)*Comanda!F69,\"\")","v":""},{"$f":"IF(Comanda!J69=1,(Comanda!E69*0.001+$BL$2)*Comanda!F69,\"\")","v":""},{"$f":"IF(Comanda!K69=1,(Comanda!E69*0.001+$BL$2)*Comanda!F69,\"\")","v":""},null,{"$f":"IF(Comanda!H69=2,(Comanda!D69*0.001+$BL$2)*Comanda!F69,\"\")","v":""},{"$f":"IF(Comanda!I69=2,(Comanda!D69*0.001+$BL$2)*Comanda!F69,\"\")","v":""},{"$f":"IF(Comanda!J69=2,(Comanda!E69*0.001+$BL$2)*Comanda!F69,\"\")","v":""},{"$f":"IF(Comanda!K69=2,(Comanda!E69*0.001+$BL$2)*Comanda!F69,\"\")","v":""},null,{"$f":"IF(Comanda!H69=3,(Comanda!D69*0.001+$BL$2)*Comanda!F69,\"\")","v":""},{"$f":"IF(Comanda!I69=3,(Comanda!D69*0.001+$BL$2)*Comanda!F69,\"\")","v":""},{"$f":"IF(Comanda!J69=3,(Comanda!E69*0.001+$BL$2)*Comanda!F69,\"\")","v":""},{"$f":"IF(Comanda!K69=3,(Comanda!E69*0.001+$BL$2)*Comanda!F69,\"\")","v":""},null,{"$f":"IF(Comanda!H69=4,(Comanda!D69*0.001+$BL$2)*Comanda!F69,\"\")","v":""},{"$f":"IF(Comanda!I69=4,(Comanda!D69*0.001+$BL$2)*Comanda!F69,\"\")","v":""},{"$f":"IF(Comanda!J69=4,(Comanda!E69*0.001+$BL$2)*Comanda!F69,\"\")","v":""},{"$f":"IF(Comanda!K69=4,(Comanda!E69*0.001+$BL$2)*Comanda!F69,\"\")","v":""}]
[51,{"$f":"IF(Comanda!B70<>0,Comanda!B70,\"\")","v":""},{"$f":"IF(Comanda!C70<>0,Comanda!C70,\"\")","v":""},{"$f":"IF(Comanda!D70<>0,Comanda!D70,\"\")","v":""},{"$f":"IF(Comanda!E70<>0,Comanda!E70,\"\")","v":""},{"$f":"IF(Comanda!F70<>0,Comanda!F70,\"\")","v":""},{"$f":"IF(Comanda!G70<>0,1,0)","v":0},{"$f":"IF(Comanda!H70=1,Comanda!$C$13,IF(Comanda!H70=2,Comanda!$C$14,IF(Comanda!$H70=3,Comanda!$C$15,IF(Comanda!$H70=4,Comanda!$C$16,0))))","v":0},{"$f":"IF(Comanda!I70=1,Comanda!$C$13,IF(Comanda!I70=2,Comanda!$C$14,IF(Comanda!$I70=3,Comanda!$C$15,IF(Comanda!$I70=4,Comanda!$C$16,0))))","v":0},{"$f":"IF(Comanda!J70=1,Comanda!$C$13,IF(Comanda!J70=2,Comanda!$C$14,IF(Comanda!$J70=3,Comanda!$C$15,IF(Comanda!$J70=4,Comanda!$C$16,0))))","v":0},{"$f":"IF(Comanda!K70=1,Comanda!$C$13,IF(Comanda!K70=2,Comanda!$C$14,IF(Comanda!$K70=3,Comanda!$C$15,IF(Comanda!$K70=4,Comanda!$C$16,0))))","v":0},{"$f":"IF(Comanda!B70<>0,Comanda!$C$2,\"\")","v":""},{"$f":"IF(Comanda!B70<>0,Comanda!$C$5,\"\")","v":""},{"$f":"IF(Comanda!B70<>0,Comanda!$G$2,\"\")","v":""},{"$f":"IF(Comanda!B70<>0,Comanda!L70,\"\")","v":""},{"$f":"IF(Comanda!D70<>0,VLOOKUP('Formula Cant'!F53,'Grafica Cant'!$G$2:$H$25,2,FALSE),\"\")","v":""},{"$nulls":8},{"$f":"IF(Comanda!B70<>0,Comanda!$C$9,\"\")","v":""},{"$f":"IF(Comanda!B70<>0,VLOOKUP(Comanda!$C$12,PRETURI!$A$2:$C$500,3,FALSE),\"\")","v":""},"",{"$f":"IF(H53<>0,VLOOKUP(H53,PRETURI!$D$2:$F$1093,3,FALSE),\"\")","v":""},{"v":0,"d":"0.00"},{"$f":"IF(I53<>0,VLOOKUP(I53,PRETURI!$D$2:$F$1093,3,FALSE),\"\")","v":""},{"v":0,"d":"0.00"},{"$f":"IF(J53<>0,VLOOKUP(J53,PRETURI!$D$2:$F$1093,3,FALSE),\"\")","v":""},{"v":0,"d":"0.00"},{"$f":"IF(K53<>0,VLOOKUP(K53,PRETURI!$D$2:$F$1093,3,FALSE),\"\")","v":""},{"v":0,"d":"0.00"},{"$nulls":6},{"$f":"(Comanda!D70*Comanda!E70*Comanda!F70)*0.000001","v":{"v":0,"d":"0.00"}},null,{"$f":"IF(Comanda!H70=1,(Comanda!D70*0.001+$BL$2)*Comanda!F70,\"\")","v":""},{"$f":"IF(Comanda!I70=1,(Comanda!D70*0.001+$BL$2)*Comanda!F70,\"\")","v":""},{"$f":"IF(Comanda!J70=1,(Comanda!E70*0.001+$BL$2)*Comanda!F70,\"\")","v":""},{"$f":"IF(Comanda!K70=1,(Comanda!E70*0.001+$BL$2)*Comanda!F70,\"\")","v":""},null,{"$f":"IF(Comanda!H70=2,(Comanda!D70*0.001+$BL$2)*Comanda!F70,\"\")","v":""},{"$f":"IF(Comanda!I70=2,(Comanda!D70*0.001+$BL$2)*Comanda!F70,\"\")","v":""},{"$f":"IF(Comanda!J70=2,(Comanda!E70*0.001+$BL$2)*Comanda!F70,\"\")","v":""},{"$f":"IF(Comanda!K70=2,(Comanda!E70*0.001+$BL$2)*Comanda!F70,\"\")","v":""},null,{"$f":"IF(Comanda!H70=3,(Comanda!D70*0.001+$BL$2)*Comanda!F70,\"\")","v":""},{"$f":"IF(Comanda!I70=3,(Comanda!D70*0.001+$BL$2)*Comanda!F70,\"\")","v":""},{"$f":"IF(Comanda!J70=3,(Comanda!E70*0.001+$BL$2)*Comanda!F70,\"\")","v":""},{"$f":"IF(Comanda!K70=3,(Comanda!E70*0.001+$BL$2)*Comanda!F70,\"\")","v":""},null,{"$f":"IF(Comanda!H70=4,(Comanda!D70*0.001+$BL$2)*Comanda!F70,\"\")","v":""},{"$f":"IF(Comanda!I70=4,(Comanda!D70*0.001+$BL$2)*Comanda!F70,\"\")","v":""},{"$f":"IF(Comanda!J70=4,(Comanda!E70*0.001+$BL$2)*Comanda!F70,\"\")","v":""},{"$f":"IF(Comanda!K70=4,(Comanda!E70*0.001+$BL$2)*Comanda!F70,\"\")","v":""}]
[52,{"$f":"IF(Comanda!B71<>0,Comanda!B71,\"\")","v":""},{"$f":"IF(Comanda!C71<>0,Comanda!C71,\"\")","v":""},{"$f":"IF(Comanda!D71<>0,Comanda!D71,\"\")","v":""},{"$f":"IF(Comanda!E71<>0,Comanda!E71,\"\")","v":""},{"$f":"IF(Comanda!F71<>0,Comanda!F71,\"\")","v":""},{"$f":"IF(Comanda!G71<>0,1,0)","v":0},{"$f":"IF(Comanda!H71=1,Comanda!$C$13,IF(Comanda!H71=2,Comanda!$C$14,IF(Comanda!$H71=3,Comanda!$C$15,IF(Comanda!$H71=4,Comanda!$C$16,0))))","v":0},{"$f":"IF(Comanda!I71=1,Comanda!$C$13,IF(Comanda!I71=2,Comanda!$C$14,IF(Comanda!$I71=3,Comanda!$C$15,IF(Comanda!$I71=4,Comanda!$C$16,0))))","v":0},{"$f":"IF(Comanda!J71=1,Comanda!$C$13,IF(Comanda!J71=2,Comanda!$C$14,IF(Comanda!$J71=3,Comanda!$C$15,IF(Comanda!$J71=4,Comanda!$C$16,0))))","v":0},{"$f":"IF(Comanda!K71=1,Comanda!$C$13,IF(Comanda!K71=2,Comanda!$C$14,IF(Comanda!$K71=3,Comanda!$C$15,IF(Comanda!$K71=4,Comanda!$C$16,0))))","v":0},{"$f":"IF(Comanda!B71<>0,Comanda!$C$2,\"\")","v":""},{"$f":"IF(Comanda!B71<>0,Comanda!$C$5,\"\")","v":""},{"$f":"IF(Comanda!B71<>0,Comanda!$G$2,\"\")","v":""},{"$f":"IF(Comanda!B71<>0,Comanda!L71,\"\")","v":""},{"$f":"IF(Comanda!D71<>0,VLOOKUP('Formula Cant'!F54,'Grafica Cant'!$G$2:$H$25,2,FALSE),\"\")","v":""},{"$nulls":8},{"$f":"IF(Comanda!B71<>0,Comanda!$C$9,\"\")","v":""},{"$f":"IF(Comanda!B71<>0,VLOOKUP(Comanda!$C$12,PRETURI!$A$2:$C$500,3,FALSE),\"\")","v":""},"",{"$f":"IF(H54<>0,VLOOKUP(H54,PRETURI!$D$2:$F$1093,3,FALSE),\"\")","v":""},{"v":0,"d":"0.00"},{"$f":"IF(I54<>0,VLOOKUP(I54,PRETURI!$D$2:$F$1093,3,FALSE),\"\")","v":""},{"v":0,"d":"0.00"},{"$f":"IF(J54<>0,VLOOKUP(J54,PRETURI!$D$2:$F$1093,3,FALSE),\"\")","v":""},{"v":0,"d":"0.00"},{"$f":"IF(K54<>0,VLOOKUP(K54,PRETURI!$D$2:$F$1093,3,FALSE),\"\")","v":""},{"v":0,"d":"0.00"},{"$nulls":6},{"$f":"(Comanda!D71*Comanda!E71*Comanda!F71)*0.000001","v":{"v":0,"d":"0.00"}},null,{"$f":"IF(Comanda!H71=1,(Comanda!D71*0.001+$BL$2)*Comanda!F71,\"\")","v":""},{"$f":"IF(Comanda!I71=1,(Comanda!D71*0.001+$BL$2)*Comanda!F71,\"\")","v":""},{"$f":"IF(Comanda!J71=1,(Comanda!E71*0.001+$BL$2)*Comanda!F71,\"\")","v":""},{"$f":"IF(Comanda!K71=1,(Comanda!E71*0.001+$BL$2)*Comanda!F71,\"\")","v":""},null,{"$f":"IF(Comanda!H71=2,(Comanda!D71*0.001+$BL$2)*Comanda!F71,\"\")","v":""},{"$f":"IF(Comanda!I71=2,(Comanda!D71*0.001+$BL$2)*Comanda!F71,\"\")","v":""},{"$f":"IF(Comanda!J71=2,(Comanda!E71*0.001+$BL$2)*Comanda!F71,\"\")","v":""},{"$f":"IF(Comanda!K71=2,(Comanda!E71*0.001+$BL$2)*Comanda!F71,\"\")","v":""},null,{"$f":"IF(Comanda!H71=3,(Comanda!D71*0.001+$BL$2)*Comanda!F71,\"\")","v":""},{"$f":"IF(Comanda!I71=3,(Comanda!D71*0.001+$BL$2)*Comanda!F71,\"\")","v":""},{"$f":"IF(Comanda!J71=3,(Comanda!E71*0.001+$BL$2)*Comanda!F71,\"\")","v":""},{"$f":"IF(Comanda!K71=3,(Comanda!E71*0.001+$BL$2)*Comanda!F71,\"\")","v":""},null,{"$f":"IF(Comanda!H71=4,(Comanda!D71*0.001+$BL$2)*Comanda!F71,\"\")","v":""},{"$f":"IF(Comanda!I71=4,(Comanda!D71*0.001+$BL$2)*Comanda!F71,\"\")","v":""},{"$f":"IF(Comanda!J71=4,(Comanda!E71*0.001+$BL$2)*Comanda!F71,\"\")","v":""},{"$f":"IF(Comanda!K71=4,(Comanda!E71*0.001+$BL$2)*Comanda!F71,\"\")","v":""}]
[53,{"$f":"IF(Comanda!B72<>0,Comanda!B72,\"\")","v":""},{"$f":"IF(Comanda!C72<>0,Comanda!C72,\"\")","v":""},{"$f":"IF(Comanda!D72<>0,Comanda!D72,\"\")","v":""},{"$f":"IF(Comanda!E72<>0,Comanda!E72,\"\")","v":""},{"$f":"IF(Comanda!F72<>0,Comanda!F72,\"\")","v":""},{"$f":"IF(Comanda!G72<>0,1,0)","v":0},{"$f":"IF(Comanda!H72=1,Comanda!$C$13,IF(Comanda!H72=2,Comanda!$C$14,IF(Comanda!$H72=3,Comanda!$C$15,IF(Comanda!$H72=4,Comanda!$C$16,0))))","v":0},{"$f":"IF(Comanda!I72=1,Comanda!$C$13,IF(Comanda!I72=2,Comanda!$C$14,IF(Comanda!$I72=3,Comanda!$C$15,IF(Comanda!$I72=4,Comanda!$C$16,0))))","v":0},{"$f":"IF(Comanda!J72=1,Comanda!$C$13,IF(Comanda!J72=2,Comanda!$C$14,IF(Comanda!$J72=3,Comanda!$C$15,IF(Comanda!$J72=4,Comanda!$C$16,0))))","v":0},{"$f":"IF(Comanda!K72=1,Comanda!$C$13,IF(Comanda!K72=2,Comanda!$C$14,IF(Comanda!$K72=3,Comanda!$C$15,IF(Comanda!$K72=4,Comanda!$C$16,0))))","v":0},{"$f":"IF(Comanda!B72<>0,Comanda!$C$2,\"\")","v":""},{"$f":"IF(Comanda!B72<>0,Comanda!$C$5,\"\")","v":""},{"$f":"IF(Comanda!B72<>0,Comanda!$G$2,\"\")","v":""},{"$f":"IF(Comanda!B72<>0,Comanda!L72,\"\")","v":""},{"$f":"IF(Comanda!D72<>0,VLOOKUP('Formula Cant'!F55,'Grafica Cant'!$G$2:$H$25,2,FALSE),\"\")","v":""},{"$nulls":8},{"$f":"IF(Comanda!B72<>0,Comanda!$C$9,\"\")","v":""},{"$f":"IF(Comanda!B72<>0,VLOOKUP(Comanda!$C$12,PRETURI!$A$2:$C$500,3,FALSE),\"\")","v":""},"",{"$f":"IF(H55<>0,VLOOKUP(H55,PRETURI!$D$2:$F$1093,3,FALSE),\"\")","v":""},{"v":0,"d":"0.00"},{"$f":"IF(I55<>0,VLOOKUP(I55,PRETURI!$D$2:$F$1093,3,FALSE),\"\")","v":""},{"v":0,"d":"0.00"},{"$f":"IF(J55<>0,VLOOKUP(J55,PRETURI!$D$2:$F$1093,3,FALSE),\"\")","v":""},{"v":0,"d":"0.00"},{"$f":"IF(K55<>0,VLOOKUP(K55,PRETURI!$D$2:$F$1093,3,FALSE),\"\")","v":""},{"v":0,"d":"0.00"},{"$nulls":6},{"$f":"(Comanda!D72*Comanda!E72*Comanda!F72)*0.000001","v":{"v":0,"d":"0.00"}},null,{"$f":"IF(Comanda!H72=1,(Comanda!D72*0.001+$BL$2)*Comanda!F72,\"\")","v":""},{"$f":"IF(Comanda!I72=1,(Comanda!D72*0.001+$BL$2)*Comanda!F72,\"\")","v":""},{"$f":"IF(Comanda!J72=1,(Comanda!E72*0.001+$BL$2)*Comanda!F72,\"\")","v":""},{"$f":"IF(Comanda!K72=1,(Comanda!E72*0.001+$BL$2)*Comanda!F72,\"\")","v":""},null,{"$f":"IF(Comanda!H72=2,(Comanda!D72*0.001+$BL$2)*Comanda!F72,\"\")","v":""},{"$f":"IF(Comanda!I72=2,(Comanda!D72*0.001+$BL$2)*Comanda!F72,\"\")","v":""},{"$f":"IF(Comanda!J72=2,(Comanda!E72*0.001+$BL$2)*Comanda!F72,\"\")","v":""},{"$f":"IF(Comanda!K72=2,(Comanda!E72*0.001+$BL$2)*Comanda!F72,\"\")","v":""},null,{"$f":"IF(Comanda!H72=3,(Comanda!D72*0.001+$BL$2)*Comanda!F72,\"\")","v":""},{"$f":"IF(Comanda!I72=3,(Comanda!D72*0.001+$BL$2)*Comanda!F72,\"\")","v":""},{"$f":"IF(Comanda!J72=3,(Comanda!E72*0.001+$BL$2)*Comanda!F72,\"\")","v":""},{"$f":"IF(Comanda!K72=3,(Comanda!E72*0.001+$BL$2)*Comanda!F72,\"\")","v":""},null,{"$f":"IF(Comanda!H72=4,(Comanda!D72*0.001+$BL$2)*Comanda!F72,\"\")","v":""},{"$f":"IF(Comanda!I72=4,(Comanda!D72*0.001+$BL$2)*Comanda!F72,\"\")","v":""},{"$f":"IF(Comanda!J72=4,(Comanda!E72*0.001+$BL$2)*Comanda!F72,\"\")","v":""},{"$f":"IF(Comanda!K72=4,(Comanda!E72*0.001+$BL$2)*Comanda!F72,\"\")","v":""}]
[54,{"$f":"IF(Comanda!B73<>0,Comanda!B73,\"\")","v":""},{"$f":"IF(Comanda!C73<>0,Comanda!C73,\"\")","v":""},{"$f":"IF(Comanda!D73<>0,Comanda!D73,\"\")","v":""},{"$f":"IF(Comanda!E73<>0,Comanda!E73,\"\")","v":""},{"$f":"IF(Comanda!F73<>0,Comanda!F73,\"\")","v":""},{"$f":"IF(Comanda!G73<>0,1,0)","v":0},{"$f":"IF(Comanda!H73=1,Comanda!$C$13,IF(Comanda!H73=2,Comanda!$C$14,IF(Comanda!$H73=3,Comanda!$C$15,IF(Comanda!$H73=4,Comanda!$C$16,0))))","v":0},{"$f":"IF(Comanda!I73=1,Comanda!$C$13,IF(Comanda!I73=2,Comanda!$C$14,IF(Comanda!$I73=3,Comanda!$C$15,IF(Comanda!$I73=4,Comanda!$C$16,0))))","v":0},{"$f":"IF(Comanda!J73=1,Comanda!$C$13,IF(Comanda!J73=2,Comanda!$C$14,IF(Comanda!$J73=3,Comanda!$C$15,IF(Comanda!$J73=4,Comanda!$C$16,0))))","v":0},{"$f":"IF(Comanda!K73=1,Comanda!$C$13,IF(Comanda!K73=2,Comanda!$C$14,IF(Comanda!$K73=3,Comanda!$C$15,IF(Comanda!$K73=4,Comanda!$C$16,0))))","v":0},{"$f":"IF(Comanda!B73<>0,Comanda!$C$2,\"\")","v":""},{"$f":"IF(Comanda!B73<>0,Comanda!$C$5,\"\")","v":""},{"$f":"IF(Comanda!B73<>0,Comanda!$G$2,\"\")","v":""},{"$f":"IF(Comanda!B73<>0,Comanda!L73,\"\")","v":""},{"$f":"IF(Comanda!D73<>0,VLOOKUP('Formula Cant'!F56,'Grafica Cant'!$G$2:$H$25,2,FALSE),\"\")","v":""},{"$nulls":8},{"$f":"IF(Comanda!B73<>0,Comanda!$C$9,\"\")","v":""},{"$f":"IF(Comanda!B73<>0,VLOOKUP(Comanda!$C$12,PRETURI!$A$2:$C$500,3,FALSE),\"\")","v":""},"",{"$f":"IF(H56<>0,VLOOKUP(H56,PRETURI!$D$2:$F$1093,3,FALSE),\"\")","v":""},{"v":0,"d":"0.00"},{"$f":"IF(I56<>0,VLOOKUP(I56,PRETURI!$D$2:$F$1093,3,FALSE),\"\")","v":""},{"v":0,"d":"0.00"},{"$f":"IF(J56<>0,VLOOKUP(J56,PRETURI!$D$2:$F$1093,3,FALSE),\"\")","v":""},{"v":0,"d":"0.00"},{"$f":"IF(K56<>0,VLOOKUP(K56,PRETURI!$D$2:$F$1093,3,FALSE),\"\")","v":""},{"v":0,"d":"0.00"},{"$nulls":6},{"$f":"(Comanda!D73*Comanda!E73*Comanda!F73)*0.000001","v":{"v":0,"d":"0.00"}},null,{"$f":"IF(Comanda!H73=1,(Comanda!D73*0.001+$BL$2)*Comanda!F73,\"\")","v":""},{"$f":"IF(Comanda!I73=1,(Comanda!D73*0.001+$BL$2)*Comanda!F73,\"\")","v":""},{"$f":"IF(Comanda!J73=1,(Comanda!E73*0.001+$BL$2)*Comanda!F73,\"\")","v":""},{"$f":"IF(Comanda!K73=1,(Comanda!E73*0.001+$BL$2)*Comanda!F73,\"\")","v":""},null,{"$f":"IF(Comanda!H73=2,(Comanda!D73*0.001+$BL$2)*Comanda!F73,\"\")","v":""},{"$f":"IF(Comanda!I73=2,(Comanda!D73*0.001+$BL$2)*Comanda!F73,\"\")","v":""},{"$f":"IF(Comanda!J73=2,(Comanda!E73*0.001+$BL$2)*Comanda!F73,\"\")","v":""},{"$f":"IF(Comanda!K73=2,(Comanda!E73*0.001+$BL$2)*Comanda!F73,\"\")","v":""},null,{"$f":"IF(Comanda!H73=3,(Comanda!D73*0.001+$BL$2)*Comanda!F73,\"\")","v":""},{"$f":"IF(Comanda!I73=3,(Comanda!D73*0.001+$BL$2)*Comanda!F73,\"\")","v":""},{"$f":"IF(Comanda!J73=3,(Comanda!E73*0.001+$BL$2)*Comanda!F73,\"\")","v":""},{"$f":"IF(Comanda!K73=3,(Comanda!E73*0.001+$BL$2)*Comanda!F73,\"\")","v":""},null,{"$f":"IF(Comanda!H73=4,(Comanda!D73*0.001+$BL$2)*Comanda!F73,\"\")","v":""},{"$f":"IF(Comanda!I73=4,(Comanda!D73*0.001+$BL$2)*Comanda!F73,\"\")","v":""},{"$f":"IF(Comanda!J73=4,(Comanda!E73*0.001+$BL$2)*Comanda!F73,\"\")","v":""},{"$f":"IF(Comanda!K73=4,(Comanda!E73*0.001+$BL$2)*Comanda!F73,\"\")","v":""}]
[55,{"$f":"IF(Comanda!B74<>0,Comanda!B74,\"\")","v":""},{"$f":"IF(Comanda!C74<>0,Comanda!C74,\"\")","v":""},{"$f":"IF(Comanda!D74<>0,Comanda!D74,\"\")","v":""},{"$f":"IF(Comanda!E74<>0,Comanda!E74,\"\")","v":""},{"$f":"IF(Comanda!F74<>0,Comanda!F74,\"\")","v":""},{"$f":"IF(Comanda!G74<>0,1,0)","v":0},{"$f":"IF(Comanda!H74=1,Comanda!$C$13,IF(Comanda!H74=2,Comanda!$C$14,IF(Comanda!$H74=3,Comanda!$C$15,IF(Comanda!$H74=4,Comanda!$C$16,0))))","v":0},{"$f":"IF(Comanda!I74=1,Comanda!$C$13,IF(Comanda!I74=2,Comanda!$C$14,IF(Comanda!$I74=3,Comanda!$C$15,IF(Comanda!$I74=4,Comanda!$C$16,0))))","v":0},{"$f":"IF(Comanda!J74=1,Comanda!$C$13,IF(Comanda!J74=2,Comanda!$C$14,IF(Comanda!$J74=3,Comanda!$C$15,IF(Comanda!$J74=4,Comanda!$C$16,0))))","v":0},{"$f":"IF(Comanda!K74=1,Comanda!$C$13,IF(Comanda!K74=2,Comanda!$C$14,IF(Comanda!$K74=3,Comanda!$C$15,IF(Comanda!$K74=4,Comanda!$C$16,0))))","v":0},{"$f":"IF(Comanda!B74<>0,Comanda!$C$2,\"\")","v":""},{"$f":"IF(Comanda!B74<>0,Comanda!$C$5,\"\")","v":""},{"$f":"IF(Comanda!B74<>0,Comanda!$G$2,\"\")","v":""},{"$f":"IF(Comanda!B74<>0,Comanda!L74,\"\")","v":""},{"$f":"IF(Comanda!D74<>0,VLOOKUP('Formula Cant'!F57,'Grafica Cant'!$G$2:$H$25,2,FALSE),\"\")","v":""},{"$nulls":8},{"$f":"IF(Comanda!B74<>0,Comanda!$C$9,\"\")","v":""},{"$f":"IF(Comanda!B74<>0,VLOOKUP(Comanda!$C$12,PRETURI!$A$2:$C$500,3,FALSE),\"\")","v":""},"",{"$f":"IF(H57<>0,VLOOKUP(H57,PRETURI!$D$2:$F$1093,3,FALSE),\"\")","v":""},{"v":0,"d":"0.00"},{"$f":"IF(I57<>0,VLOOKUP(I57,PRETURI!$D$2:$F$1093,3,FALSE),\"\")","v":""},{"v":0,"d":"0.00"},{"$f":"IF(J57<>0,VLOOKUP(J57,PRETURI!$D$2:$F$1093,3,FALSE),\"\")","v":""},{"v":0,"d":"0.00"},{"$f":"IF(K57<>0,VLOOKUP(K57,PRETURI!$D$2:$F$1093,3,FALSE),\"\")","v":""},{"v":0,"d":"0.00"},{"$nulls":6},{"$f":"(Comanda!D74*Comanda!E74*Comanda!F74)*0.000001","v":{"v":0,"d":"0.00"}},null,{"$f":"IF(Comanda!H74=1,(Comanda!D74*0.001+$BL$2)*Comanda!F74,\"\")","v":""},{"$f":"IF(Comanda!I74=1,(Comanda!D74*0.001+$BL$2)*Comanda!F74,\"\")","v":""},{"$f":"IF(Comanda!J74=1,(Comanda!E74*0.001+$BL$2)*Comanda!F74,\"\")","v":""},{"$f":"IF(Comanda!K74=1,(Comanda!E74*0.001+$BL$2)*Comanda!F74,\"\")","v":""},null,{"$f":"IF(Comanda!H74=2,(Comanda!D74*0.001+$BL$2)*Comanda!F74,\"\")","v":""},{"$f":"IF(Comanda!I74=2,(Comanda!D74*0.001+$BL$2)*Comanda!F74,\"\")","v":""},{"$f":"IF(Comanda!J74=2,(Comanda!E74*0.001+$BL$2)*Comanda!F74,\"\")","v":""},{"$f":"IF(Comanda!K74=2,(Comanda!E74*0.001+$BL$2)*Comanda!F74,\"\")","v":""},null,{"$f":"IF(Comanda!H74=3,(Comanda!D74*0.001+$BL$2)*Comanda!F74,\"\")","v":""},{"$f":"IF(Comanda!I74=3,(Comanda!D74*0.001+$BL$2)*Comanda!F74,\"\")","v":""},{"$f":"IF(Comanda!J74=3,(Comanda!E74*0.001+$BL$2)*Comanda!F74,\"\")","v":""},{"$f":"IF(Comanda!K74=3,(Comanda!E74*0.001+$BL$2)*Comanda!F74,\"\")","v":""},null,{"$f":"IF(Comanda!H74=4,(Comanda!D74*0.001+$BL$2)*Comanda!F74,\"\")","v":""},{"$f":"IF(Comanda!I74=4,(Comanda!D74*0.001+$BL$2)*Comanda!F74,\"\")","v":""},{"$f":"IF(Comanda!J74=4,(Comanda!E74*0.001+$BL$2)*Comanda!F74,\"\")","v":""},{"$f":"IF(Comanda!K74=4,(Comanda!E74*0.001+$BL$2)*Comanda!F74,\"\")","v":""}]
[56,{"$f":"IF(Comanda!B75<>0,Comanda!B75,\"\")","v":""},{"$f":"IF(Comanda!C75<>0,Comanda!C75,\"\")","v":""},{"$f":"IF(Comanda!D75<>0,Comanda!D75,\"\")","v":""},{"$f":"IF(Comanda!E75<>0,Comanda!E75,\"\")","v":""},{"$f":"IF(Comanda!F75<>0,Comanda!F75,\"\")","v":""},{"$f":"IF(Comanda!G75<>0,1,0)","v":0},{"$f":"IF(Comanda!H75=1,Comanda!$C$13,IF(Comanda!H75=2,Comanda!$C$14,IF(Comanda!$H75=3,Comanda!$C$15,IF(Comanda!$H75=4,Comanda!$C$16,0))))","v":0},{"$f":"IF(Comanda!I75=1,Comanda!$C$13,IF(Comanda!I75=2,Comanda!$C$14,IF(Comanda!$I75=3,Comanda!$C$15,IF(Comanda!$I75=4,Comanda!$C$16,0))))","v":0},{"$f":"IF(Comanda!J75=1,Comanda!$C$13,IF(Comanda!J75=2,Comanda!$C$14,IF(Comanda!$J75=3,Comanda!$C$15,IF(Comanda!$J75=4,Comanda!$C$16,0))))","v":0},{"$f":"IF(Comanda!K75=1,Comanda!$C$13,IF(Comanda!K75=2,Comanda!$C$14,IF(Comanda!$K75=3,Comanda!$C$15,IF(Comanda!$K75=4,Comanda!$C$16,0))))","v":0},{"$f":"IF(Comanda!B75<>0,Comanda!$C$2,\"\")","v":""},{"$f":"IF(Comanda!B75<>0,Comanda!$C$5,\"\")","v":""},{"$f":"IF(Comanda!B75<>0,Comanda!$G$2,\"\")","v":""},{"$f":"IF(Comanda!B75<>0,Comanda!L75,\"\")","v":""},{"$f":"IF(Comanda!D75<>0,VLOOKUP('Formula Cant'!F58,'Grafica Cant'!$G$2:$H$25,2,FALSE),\"\")","v":""},{"$nulls":8},{"$f":"IF(Comanda!B75<>0,Comanda!$C$9,\"\")","v":""},{"$f":"IF(Comanda!B75<>0,VLOOKUP(Comanda!$C$12,PRETURI!$A$2:$C$500,3,FALSE),\"\")","v":""},"",{"$f":"IF(H58<>0,VLOOKUP(H58,PRETURI!$D$2:$F$1093,3,FALSE),\"\")","v":""},{"v":0,"d":"0.00"},{"$f":"IF(I58<>0,VLOOKUP(I58,PRETURI!$D$2:$F$1093,3,FALSE),\"\")","v":""},{"v":0,"d":"0.00"},{"$f":"IF(J58<>0,VLOOKUP(J58,PRETURI!$D$2:$F$1093,3,FALSE),\"\")","v":""},{"v":0,"d":"0.00"},{"$f":"IF(K58<>0,VLOOKUP(K58,PRETURI!$D$2:$F$1093,3,FALSE),\"\")","v":""},{"v":0,"d":"0.00"},{"$nulls":6},{"$f":"(Comanda!D75*Comanda!E75*Comanda!F75)*0.000001","v":{"v":0,"d":"0.00"}},null,{"$f":"IF(Comanda!H75=1,(Comanda!D75*0.001+$BL$2)*Comanda!F75,\"\")","v":""},{"$f":"IF(Comanda!I75=1,(Comanda!D75*0.001+$BL$2)*Comanda!F75,\"\")","v":""},{"$f":"IF(Comanda!J75=1,(Comanda!E75*0.001+$BL$2)*Comanda!F75,\"\")","v":""},{"$f":"IF(Comanda!K75=1,(Comanda!E75*0.001+$BL$2)*Comanda!F75,\"\")","v":""},null,{"$f":"IF(Comanda!H75=2,(Comanda!D75*0.001+$BL$2)*Comanda!F75,\"\")","v":""},{"$f":"IF(Comanda!I75=2,(Comanda!D75*0.001+$BL$2)*Comanda!F75,\"\")","v":""},{"$f":"IF(Comanda!J75=2,(Comanda!E75*0.001+$BL$2)*Comanda!F75,\"\")","v":""},{"$f":"IF(Comanda!K75=2,(Comanda!E75*0.001+$BL$2)*Comanda!F75,\"\")","v":""},null,{"$f":"IF(Comanda!H75=3,(Comanda!D75*0.001+$BL$2)*Comanda!F75,\"\")","v":""},{"$f":"IF(Comanda!I75=3,(Comanda!D75*0.001+$BL$2)*Comanda!F75,\"\")","v":""},{"$f":"IF(Comanda!J75=3,(Comanda!E75*0.001+$BL$2)*Comanda!F75,\"\")","v":""},{"$f":"IF(Comanda!K75=3,(Comanda!E75*0.001+$BL$2)*Comanda!F75,\"\")","v":""},null,{"$f":"IF(Comanda!H75=4,(Comanda!D75*0.001+$BL$2)*Comanda!F75,\"\")","v":""},{"$f":"IF(Comanda!I75=4,(Comanda!D75*0.001+$BL$2)*Comanda!F75,\"\")","v":""},{"$f":"IF(Comanda!J75=4,(Comanda!E75*0.001+$BL$2)*Comanda!F75,\"\")","v":""},{"$f":"IF(Comanda!K75=4,(Comanda!E75*0.001+$BL$2)*Comanda!F75,\"\")","v":""}]
[57,{"$f":"IF(Comanda!B76<>0,Comanda!B76,\"\")","v":""},{"$f":"IF(Comanda!C76<>0,Comanda!C76,\"\")","v":""},{"$f":"IF(Comanda!D76<>0,Comanda!D76,\"\")","v":""},{"$f":"IF(Comanda!E76<>0,Comanda!E76,\"\")","v":""},{"$f":"IF(Comanda!F76<>0,Comanda!F76,\"\")","v":""},{"$f":"IF(Comanda!G76<>0,1,0)","v":0},{"$f":"IF(Comanda!H76=1,Comanda!$C$13,IF(Comanda!H76=2,Comanda!$C$14,IF(Comanda!$H76=3,Comanda!$C$15,IF(Comanda!$H76=4,Comanda!$C$16,0))))","v":0},{"$f":"IF(Comanda!I76=1,Comanda!$C$13,IF(Comanda!I76=2,Comanda!$C$14,IF(Comanda!$I76=3,Comanda!$C$15,IF(Comanda!$I76=4,Comanda!$C$16,0))))","v":0},{"$f":"IF(Comanda!J76=1,Comanda!$C$13,IF(Comanda!J76=2,Comanda!$C$14,IF(Comanda!$J76=3,Comanda!$C$15,IF(Comanda!$J76=4,Comanda!$C$16,0))))","v":0},{"$f":"IF(Comanda!K76=1,Comanda!$C$13,IF(Comanda!K76=2,Comanda!$C$14,IF(Comanda!$K76=3,Comanda!$C$15,IF(Comanda!$K76=4,Comanda!$C$16,0))))","v":0},{"$f":"IF(Comanda!B76<>0,Comanda!$C$2,\"\")","v":""},{"$f":"IF(Comanda!B76<>0,Comanda!$C$5,\"\")","v":""},{"$f":"IF(Comanda!B76<>0,Comanda!$G$2,\"\")","v":""},{"$f":"IF(Comanda!B76<>0,Comanda!L76,\"\")","v":""},{"$f":"IF(Comanda!D76<>0,VLOOKUP('Formula Cant'!F59,'Grafica Cant'!$G$2:$H$25,2,FALSE),\"\")","v":""},{"$nulls":8},{"$f":"IF(Comanda!B76<>0,Comanda!$C$9,\"\")","v":""},{"$f":"IF(Comanda!B76<>0,VLOOKUP(Comanda!$C$12,PRETURI!$A$2:$C$500,3,FALSE),\"\")","v":""},"",{"$f":"IF(H59<>0,VLOOKUP(H59,PRETURI!$D$2:$F$1093,3,FALSE),\"\")","v":""},{"v":0,"d":"0.00"},{"$f":"IF(I59<>0,VLOOKUP(I59,PRETURI!$D$2:$F$1093,3,FALSE),\"\")","v":""},{"v":0,"d":"0.00"},{"$f":"IF(J59<>0,VLOOKUP(J59,PRETURI!$D$2:$F$1093,3,FALSE),\"\")","v":""},{"v":0,"d":"0.00"},{"$f":"IF(K59<>0,VLOOKUP(K59,PRETURI!$D$2:$F$1093,3,FALSE),\"\")","v":""},{"v":0,"d":"0.00"},{"$nulls":6},{"$f":"(Comanda!D76*Comanda!E76*Comanda!F76)*0.000001","v":{"v":0,"d":"0.00"}},null,{"$f":"IF(Comanda!H76=1,(Comanda!D76*0.001+$BL$2)*Comanda!F76,\"\")","v":""},{"$f":"IF(Comanda!I76=1,(Comanda!D76*0.001+$BL$2)*Comanda!F76,\"\")","v":""},{"$f":"IF(Comanda!J76=1,(Comanda!E76*0.001+$BL$2)*Comanda!F76,\"\")","v":""},{"$f":"IF(Comanda!K76=1,(Comanda!E76*0.001+$BL$2)*Comanda!F76,\"\")","v":""},null,{"$f":"IF(Comanda!H76=2,(Comanda!D76*0.001+$BL$2)*Comanda!F76,\"\")","v":""},{"$f":"IF(Comanda!I76=2,(Comanda!D76*0.001+$BL$2)*Comanda!F76,\"\")","v":""},{"$f":"IF(Comanda!J76=2,(Comanda!E76*0.001+$BL$2)*Comanda!F76,\"\")","v":""},{"$f":"IF(Comanda!K76=2,(Comanda!E76*0.001+$BL$2)*Comanda!F76,\"\")","v":""},null,{"$f":"IF(Comanda!H76=3,(Comanda!D76*0.001+$BL$2)*Comanda!F76,\"\")","v":""},{"$f":"IF(Comanda!I76=3,(Comanda!D76*0.001+$BL$2)*Comanda!F76,\"\")","v":""},{"$f":"IF(Comanda!J76=3,(Comanda!E76*0.001+$BL$2)*Comanda!F76,\"\")","v":""},{"$f":"IF(Comanda!K76=3,(Comanda!E76*0.001+$BL$2)*Comanda!F76,\"\")","v":""},null,{"$f":"IF(Comanda!H76=4,(Comanda!D76*0.001+$BL$2)*Comanda!F76,\"\")","v":""},{"$f":"IF(Comanda!I76=4,(Comanda!D76*0.001+$BL$2)*Comanda!F76,\"\")","v":""},{"$f":"IF(Comanda!J76=4,(Comanda!E76*0.001+$BL$2)*Comanda!F76,\"\")","v":""},{"$f":"IF(Comanda!K76=4,(Comanda!E76*0.001+$BL$2)*Comanda!F76,\"\")","v":""}]
[58,{"$f":"IF(Comanda!B77<>0,Comanda!B77,\"\")","v":""},{"$f":"IF(Comanda!C77<>0,Comanda!C77,\"\")","v":""},{"$f":"IF(Comanda!D77<>0,Comanda!D77,\"\")","v":""},{"$f":"IF(Comanda!E77<>0,Comanda!E77,\"\")","v":""},{"$f":"IF(Comanda!F77<>0,Comanda!F77,\"\")","v":""},{"$f":"IF(Comanda!G77<>0,1,0)","v":0},{"$f":"IF(Comanda!H77=1,Comanda!$C$13,IF(Comanda!H77=2,Comanda!$C$14,IF(Comanda!$H77=3,Comanda!$C$15,IF(Comanda!$H77=4,Comanda!$C$16,0))))","v":0},{"$f":"IF(Comanda!I77=1,Comanda!$C$13,IF(Comanda!I77=2,Comanda!$C$14,IF(Comanda!$I77=3,Comanda!$C$15,IF(Comanda!$I77=4,Comanda!$C$16,0))))","v":0},{"$f":"IF(Comanda!J77=1,Comanda!$C$13,IF(Comanda!J77=2,Comanda!$C$14,IF(Comanda!$J77=3,Comanda!$C$15,IF(Comanda!$J77=4,Comanda!$C$16,0))))","v":0},{"$f":"IF(Comanda!K77=1,Comanda!$C$13,IF(Comanda!K77=2,Comanda!$C$14,IF(Comanda!$K77=3,Comanda!$C$15,IF(Comanda!$K77=4,Comanda!$C$16,0))))","v":0},{"$f":"IF(Comanda!B77<>0,Comanda!$C$2,\"\")","v":""},{"$f":"IF(Comanda!B77<>0,Comanda!$C$5,\"\")","v":""},{"$f":"IF(Comanda!B77<>0,Comanda!$G$2,\"\")","v":""},{"$f":"IF(Comanda!B77<>0,Comanda!L77,\"\")","v":""},{"$f":"IF(Comanda!D77<>0,VLOOKUP('Formula Cant'!F60,'Grafica Cant'!$G$2:$H$25,2,FALSE),\"\")","v":""},{"$nulls":8},{"$f":"IF(Comanda!B77<>0,Comanda!$C$9,\"\")","v":""},{"$f":"IF(Comanda!B77<>0,VLOOKUP(Comanda!$C$12,PRETURI!$A$2:$C$500,3,FALSE),\"\")","v":""},"",{"$f":"IF(H60<>0,VLOOKUP(H60,PRETURI!$D$2:$F$1093,3,FALSE),\"\")","v":""},{"v":0,"d":"0.00"},{"$f":"IF(I60<>0,VLOOKUP(I60,PRETURI!$D$2:$F$1093,3,FALSE),\"\")","v":""},{"v":0,"d":"0.00"},{"$f":"IF(J60<>0,VLOOKUP(J60,PRETURI!$D$2:$F$1093,3,FALSE),\"\")","v":""},{"v":0,"d":"0.00"},{"$f":"IF(K60<>0,VLOOKUP(K60,PRETURI!$D$2:$F$1093,3,FALSE),\"\")","v":""},{"v":0,"d":"0.00"},{"$nulls":6},{"$f":"(Comanda!D77*Comanda!E77*Comanda!F77)*0.000001","v":{"v":0,"d":"0.00"}},null,{"$f":"IF(Comanda!H77=1,(Comanda!D77*0.001+$BL$2)*Comanda!F77,\"\")","v":""},{"$f":"IF(Comanda!I77=1,(Comanda!D77*0.001+$BL$2)*Comanda!F77,\"\")","v":""},{"$f":"IF(Comanda!J77=1,(Comanda!E77*0.001+$BL$2)*Comanda!F77,\"\")","v":""},{"$f":"IF(Comanda!K77=1,(Comanda!E77*0.001+$BL$2)*Comanda!F77,\"\")","v":""},null,{"$f":"IF(Comanda!H77=2,(Comanda!D77*0.001+$BL$2)*Comanda!F77,\"\")","v":""},{"$f":"IF(Comanda!I77=2,(Comanda!D77*0.001+$BL$2)*Comanda!F77,\"\")","v":""},{"$f":"IF(Comanda!J77=2,(Comanda!E77*0.001+$BL$2)*Comanda!F77,\"\")","v":""},{"$f":"IF(Comanda!K77=2,(Comanda!E77*0.001+$BL$2)*Comanda!F77,\"\")","v":""},null,{"$f":"IF(Comanda!H77=3,(Comanda!D77*0.001+$BL$2)*Comanda!F77,\"\")","v":""},{"$f":"IF(Comanda!I77=3,(Comanda!D77*0.001+$BL$2)*Comanda!F77,\"\")","v":""},{"$f":"IF(Comanda!J77=3,(Comanda!E77*0.001+$BL$2)*Comanda!F77,\"\")","v":""},{"$f":"IF(Comanda!K77=3,(Comanda!E77*0.001+$BL$2)*Comanda!F77,\"\")","v":""},null,{"$f":"IF(Comanda!H77=4,(Comanda!D77*0.001+$BL$2)*Comanda!F77,\"\")","v":""},{"$f":"IF(Comanda!I77=4,(Comanda!D77*0.001+$BL$2)*Comanda!F77,\"\")","v":""},{"$f":"IF(Comanda!J77=4,(Comanda!E77*0.001+$BL$2)*Comanda!F77,\"\")","v":""},{"$f":"IF(Comanda!K77=4,(Comanda!E77*0.001+$BL$2)*Comanda!F77,\"\")","v":""}]
[59,{"$f":"IF(Comanda!B78<>0,Comanda!B78,\"\")","v":""},{"$f":"IF(Comanda!C78<>0,Comanda!C78,\"\")","v":""},{"$f":"IF(Comanda!D78<>0,Comanda!D78,\"\")","v":""},{"$f":"IF(Comanda!E78<>0,Comanda!E78,\"\")","v":""},{"$f":"IF(Comanda!F78<>0,Comanda!F78,\"\")","v":""},{"$f":"IF(Comanda!G78<>0,1,0)","v":0},{"$f":"IF(Comanda!H78=1,Comanda!$C$13,IF(Comanda!H78=2,Comanda!$C$14,IF(Comanda!$H78=3,Comanda!$C$15,IF(Comanda!$H78=4,Comanda!$C$16,0))))","v":0},{"$f":"IF(Comanda!I78=1,Comanda!$C$13,IF(Comanda!I78=2,Comanda!$C$14,IF(Comanda!$I78=3,Comanda!$C$15,IF(Comanda!$I78=4,Comanda!$C$16,0))))","v":0},{"$f":"IF(Comanda!J78=1,Comanda!$C$13,IF(Comanda!J78=2,Comanda!$C$14,IF(Comanda!$J78=3,Comanda!$C$15,IF(Comanda!$J78=4,Comanda!$C$16,0))))","v":0},{"$f":"IF(Comanda!K78=1,Comanda!$C$13,IF(Comanda!K78=2,Comanda!$C$14,IF(Comanda!$K78=3,Comanda!$C$15,IF(Comanda!$K78=4,Comanda!$C$16,0))))","v":0},{"$f":"IF(Comanda!B78<>0,Comanda!$C$2,\"\")","v":""},{"$f":"IF(Comanda!B78<>0,Comanda!$C$5,\"\")","v":""},{"$f":"IF(Comanda!B78<>0,Comanda!$G$2,\"\")","v":""},{"$f":"IF(Comanda!B78<>0,Comanda!L78,\"\")","v":""},{"$f":"IF(Comanda!D78<>0,VLOOKUP('Formula Cant'!F61,'Grafica Cant'!$G$2:$H$25,2,FALSE),\"\")","v":""},{"$nulls":8},{"$f":"IF(Comanda!B78<>0,Comanda!$C$9,\"\")","v":""},{"$f":"IF(Comanda!B78<>0,VLOOKUP(Comanda!$C$12,PRETURI!$A$2:$C$500,3,FALSE),\"\")","v":""},"",{"$f":"IF(H61<>0,VLOOKUP(H61,PRETURI!$D$2:$F$1093,3,FALSE),\"\")","v":""},{"v":0,"d":"0.00"},{"$f":"IF(I61<>0,VLOOKUP(I61,PRETURI!$D$2:$F$1093,3,FALSE),\"\")","v":""},{"v":0,"d":"0.00"},{"$f":"IF(J61<>0,VLOOKUP(J61,PRETURI!$D$2:$F$1093,3,FALSE),\"\")","v":""},{"v":0,"d":"0.00"},{"$f":"IF(K61<>0,VLOOKUP(K61,PRETURI!$D$2:$F$1093,3,FALSE),\"\")","v":""},{"v":0,"d":"0.00"},{"$nulls":6},{"$f":"(Comanda!D78*Comanda!E78*Comanda!F78)*0.000001","v":{"v":0,"d":"0.00"}},null,{"$f":"IF(Comanda!H78=1,(Comanda!D78*0.001+$BL$2)*Comanda!F78,\"\")","v":""},{"$f":"IF(Comanda!I78=1,(Comanda!D78*0.001+$BL$2)*Comanda!F78,\"\")","v":""},{"$f":"IF(Comanda!J78=1,(Comanda!E78*0.001+$BL$2)*Comanda!F78,\"\")","v":""},{"$f":"IF(Comanda!K78=1,(Comanda!E78*0.001+$BL$2)*Comanda!F78,\"\")","v":""},null,{"$f":"IF(Comanda!H78=2,(Comanda!D78*0.001+$BL$2)*Comanda!F78,\"\")","v":""},{"$f":"IF(Comanda!I78=2,(Comanda!D78*0.001+$BL$2)*Comanda!F78,\"\")","v":""},{"$f":"IF(Comanda!J78=2,(Comanda!E78*0.001+$BL$2)*Comanda!F78,\"\")","v":""},{"$f":"IF(Comanda!K78=2,(Comanda!E78*0.001+$BL$2)*Comanda!F78,\"\")","v":""},null,{"$f":"IF(Comanda!H78=3,(Comanda!D78*0.001+$BL$2)*Comanda!F78,\"\")","v":""},{"$f":"IF(Comanda!I78=3,(Comanda!D78*0.001+$BL$2)*Comanda!F78,\"\")","v":""},{"$f":"IF(Comanda!J78=3,(Comanda!E78*0.001+$BL$2)*Comanda!F78,\"\")","v":""},{"$f":"IF(Comanda!K78=3,(Comanda!E78*0.001+$BL$2)*Comanda!F78,\"\")","v":""},null,{"$f":"IF(Comanda!H78=4,(Comanda!D78*0.001+$BL$2)*Comanda!F78,\"\")","v":""},{"$f":"IF(Comanda!I78=4,(Comanda!D78*0.001+$BL$2)*Comanda!F78,\"\")","v":""},{"$f":"IF(Comanda!J78=4,(Comanda!E78*0.001+$BL$2)*Comanda!F78,\"\")","v":""},{"$f":"IF(Comanda!K78=4,(Comanda!E78*0.001+$BL$2)*Comanda!F78,\"\")","v":""}]
[60,{"$f":"IF(Comanda!B79<>0,Comanda!B79,\"\")","v":""},{"$f":"IF(Comanda!C79<>0,Comanda!C79,\"\")","v":""},{"$f":"IF(Comanda!D79<>0,Comanda!D79,\"\")","v":""},{"$f":"IF(Comanda!E79<>0,Comanda!E79,\"\")","v":""},{"$f":"IF(Comanda!F79<>0,Comanda!F79,\"\")","v":""},{"$f":"IF(Comanda!G79<>0,1,0)","v":0},{"$f":"IF(Comanda!H79=1,Comanda!$C$13,IF(Comanda!H79=2,Comanda!$C$14,IF(Comanda!$H79=3,Comanda!$C$15,IF(Comanda!$H79=4,Comanda!$C$16,0))))","v":0},{"$f":"IF(Comanda!I79=1,Comanda!$C$13,IF(Comanda!I79=2,Comanda!$C$14,IF(Comanda!$I79=3,Comanda!$C$15,IF(Comanda!$I79=4,Comanda!$C$16,0))))","v":0},{"$f":"IF(Comanda!J79=1,Comanda!$C$13,IF(Comanda!J79=2,Comanda!$C$14,IF(Comanda!$J79=3,Comanda!$C$15,IF(Comanda!$J79=4,Comanda!$C$16,0))))","v":0},{"$f":"IF(Comanda!K79=1,Comanda!$C$13,IF(Comanda!K79=2,Comanda!$C$14,IF(Comanda!$K79=3,Comanda!$C$15,IF(Comanda!$K79=4,Comanda!$C$16,0))))","v":0},{"$f":"IF(Comanda!B79<>0,Comanda!$C$2,\"\")","v":""},{"$f":"IF(Comanda!B79<>0,Comanda!$C$5,\"\")","v":""},{"$f":"IF(Comanda!B79<>0,Comanda!$G$2,\"\")","v":""},{"$f":"IF(Comanda!B79<>0,Comanda!L79,\"\")","v":""},{"$f":"IF(Comanda!D79<>0,VLOOKUP('Formula Cant'!F62,'Grafica Cant'!$G$2:$H$25,2,FALSE),\"\")","v":""},{"$nulls":8},{"$f":"IF(Comanda!B79<>0,Comanda!$C$9,\"\")","v":""},{"$f":"IF(Comanda!B79<>0,VLOOKUP(Comanda!$C$12,PRETURI!$A$2:$C$500,3,FALSE),\"\")","v":""},"",{"$f":"IF(H62<>0,VLOOKUP(H62,PRETURI!$D$2:$F$1093,3,FALSE),\"\")","v":""},{"v":0,"d":"0.00"},{"$f":"IF(I62<>0,VLOOKUP(I62,PRETURI!$D$2:$F$1093,3,FALSE),\"\")","v":""},{"v":0,"d":"0.00"},{"$f":"IF(J62<>0,VLOOKUP(J62,PRETURI!$D$2:$F$1093,3,FALSE),\"\")","v":""},{"v":0,"d":"0.00"},{"$f":"IF(K62<>0,VLOOKUP(K62,PRETURI!$D$2:$F$1093,3,FALSE),\"\")","v":""},{"v":0,"d":"0.00"},{"$nulls":6},{"$f":"(Comanda!D79*Comanda!E79*Comanda!F79)*0.000001","v":{"v":0,"d":"0.00"}},null,{"$f":"IF(Comanda!H79=1,(Comanda!D79*0.001+$BL$2)*Comanda!F79,\"\")","v":""},{"$f":"IF(Comanda!I79=1,(Comanda!D79*0.001+$BL$2)*Comanda!F79,\"\")","v":""},{"$f":"IF(Comanda!J79=1,(Comanda!E79*0.001+$BL$2)*Comanda!F79,\"\")","v":""},{"$f":"IF(Comanda!K79=1,(Comanda!E79*0.001+$BL$2)*Comanda!F79,\"\")","v":""},null,{"$f":"IF(Comanda!H79=2,(Comanda!D79*0.001+$BL$2)*Comanda!F79,\"\")","v":""},{"$f":"IF(Comanda!I79=2,(Comanda!D79*0.001+$BL$2)*Comanda!F79,\"\")","v":""},{"$f":"IF(Comanda!J79=2,(Comanda!E79*0.001+$BL$2)*Comanda!F79,\"\")","v":""},{"$f":"IF(Comanda!K79=2,(Comanda!E79*0.001+$BL$2)*Comanda!F79,\"\")","v":""},null,{"$f":"IF(Comanda!H79=3,(Comanda!D79*0.001+$BL$2)*Comanda!F79,\"\")","v":""},{"$f":"IF(Comanda!I79=3,(Comanda!D79*0.001+$BL$2)*Comanda!F79,\"\")","v":""},{"$f":"IF(Comanda!J79=3,(Comanda!E79*0.001+$BL$2)*Comanda!F79,\"\")","v":""},{"$f":"IF(Comanda!K79=3,(Comanda!E79*0.001+$BL$2)*Comanda!F79,\"\")","v":""},null,{"$f":"IF(Comanda!H79=4,(Comanda!D79*0.001+$BL$2)*Comanda!F79,\"\")","v":""},{"$f":"IF(Comanda!I79=4,(Comanda!D79*0.001+$BL$2)*Comanda!F79,\"\")","v":""},{"$f":"IF(Comanda!J79=4,(Comanda!E79*0.001+$BL$2)*Comanda!F79,\"\")","v":""},{"$f":"IF(Comanda!K79=4,(Comanda!E79*0.001+$BL$2)*Comanda!F79,\"\")","v":""}]
[61,{"$f":"IF(Comanda!B80<>0,Comanda!B80,\"\")","v":""},{"$f":"IF(Comanda!C80<>0,Comanda!C80,\"\")","v":""},{"$f":"IF(Comanda!D80<>0,Comanda!D80,\"\")","v":""},{"$f":"IF(Comanda!E80<>0,Comanda!E80,\"\")","v":""},{"$f":"IF(Comanda!F80<>0,Comanda!F80,\"\")","v":""},{"$f":"IF(Comanda!G80<>0,1,0)","v":0},{"$f":"IF(Comanda!H80=1,Comanda!$C$13,IF(Comanda!H80=2,Comanda!$C$14,IF(Comanda!$H80=3,Comanda!$C$15,IF(Comanda!$H80=4,Comanda!$C$16,0))))","v":0},{"$f":"IF(Comanda!I80=1,Comanda!$C$13,IF(Comanda!I80=2,Comanda!$C$14,IF(Comanda!$I80=3,Comanda!$C$15,IF(Comanda!$I80=4,Comanda!$C$16,0))))","v":0},{"$f":"IF(Comanda!J80=1,Comanda!$C$13,IF(Comanda!J80=2,Comanda!$C$14,IF(Comanda!$J80=3,Comanda!$C$15,IF(Comanda!$J80=4,Comanda!$C$16,0))))","v":0},{"$f":"IF(Comanda!K80=1,Comanda!$C$13,IF(Comanda!K80=2,Comanda!$C$14,IF(Comanda!$K80=3,Comanda!$C$15,IF(Comanda!$K80=4,Comanda!$C$16,0))))","v":0},{"$f":"IF(Comanda!B80<>0,Comanda!$C$2,\"\")","v":""},{"$f":"IF(Comanda!B80<>0,Comanda!$C$5,\"\")","v":""},{"$f":"IF(Comanda!B80<>0,Comanda!$G$2,\"\")","v":""},{"$f":"IF(Comanda!B80<>0,Comanda!L80,\"\")","v":""},{"$f":"IF(Comanda!D80<>0,VLOOKUP('Formula Cant'!F63,'Grafica Cant'!$G$2:$H$25,2,FALSE),\"\")","v":""},{"$nulls":8},{"$f":"IF(Comanda!B80<>0,Comanda!$C$9,\"\")","v":""},{"$f":"IF(Comanda!B80<>0,VLOOKUP(Comanda!$C$12,PRETURI!$A$2:$C$500,3,FALSE),\"\")","v":""},"",{"$f":"IF(H63<>0,VLOOKUP(H63,PRETURI!$D$2:$F$1093,3,FALSE),\"\")","v":""},{"v":0,"d":"0.00"},{"$f":"IF(I63<>0,VLOOKUP(I63,PRETURI!$D$2:$F$1093,3,FALSE),\"\")","v":""},{"v":0,"d":"0.00"},{"$f":"IF(J63<>0,VLOOKUP(J63,PRETURI!$D$2:$F$1093,3,FALSE),\"\")","v":""},{"v":0,"d":"0.00"},{"$f":"IF(K63<>0,VLOOKUP(K63,PRETURI!$D$2:$F$1093,3,FALSE),\"\")","v":""},{"v":0,"d":"0.00"},{"$nulls":6},{"$f":"(Comanda!D80*Comanda!E80*Comanda!F80)*0.000001","v":{"v":0,"d":"0.00"}},null,{"$f":"IF(Comanda!H80=1,(Comanda!D80*0.001+$BL$2)*Comanda!F80,\"\")","v":""},{"$f":"IF(Comanda!I80=1,(Comanda!D80*0.001+$BL$2)*Comanda!F80,\"\")","v":""},{"$f":"IF(Comanda!J80=1,(Comanda!E80*0.001+$BL$2)*Comanda!F80,\"\")","v":""},{"$f":"IF(Comanda!K80=1,(Comanda!E80*0.001+$BL$2)*Comanda!F80,\"\")","v":""},null,{"$f":"IF(Comanda!H80=2,(Comanda!D80*0.001+$BL$2)*Comanda!F80,\"\")","v":""},{"$f":"IF(Comanda!I80=2,(Comanda!D80*0.001+$BL$2)*Comanda!F80,\"\")","v":""},{"$f":"IF(Comanda!J80=2,(Comanda!E80*0.001+$BL$2)*Comanda!F80,\"\")","v":""},{"$f":"IF(Comanda!K80=2,(Comanda!E80*0.001+$BL$2)*Comanda!F80,\"\")","v":""},null,{"$f":"IF(Comanda!H80=3,(Comanda!D80*0.001+$BL$2)*Comanda!F80,\"\")","v":""},{"$f":"IF(Comanda!I80=3,(Comanda!D80*0.001+$BL$2)*Comanda!F80,\"\")","v":""},{"$f":"IF(Comanda!J80=3,(Comanda!E80*0.001+$BL$2)*Comanda!F80,\"\")","v":""},{"$f":"IF(Comanda!K80=3,(Comanda!E80*0.001+$BL$2)*Comanda!F80,\"\")","v":""},null,{"$f":"IF(Comanda!H80=4,(Comanda!D80*0.001+$BL$2)*Comanda!F80,\"\")","v":""},{"$f":"IF(Comanda!I80=4,(Comanda!D80*0.001+$BL$2)*Comanda!F80,\"\")","v":""},{"$f":"IF(Comanda!J80=4,(Comanda!E80*0.001+$BL$2)*Comanda!F80,\"\")","v":""},{"$f":"IF(Comanda!K80=4,(Comanda!E80*0.001+$BL$2)*Comanda!F80,\"\")","v":""}]
[62,{"$f":"IF(Comanda!B81<>0,Comanda!B81,\"\")","v":""},{"$f":"IF(Comanda!C81<>0,Comanda!C81,\"\")","v":""},{"$f":"IF(Comanda!D81<>0,Comanda!D81,\"\")","v":""},{"$f":"IF(Comanda!E81<>0,Comanda!E81,\"\")","v":""},{"$f":"IF(Comanda!F81<>0,Comanda!F81,\"\")","v":""},{"$f":"IF(Comanda!G81<>0,1,0)","v":0},{"$f":"IF(Comanda!H81=1,Comanda!$C$13,IF(Comanda!H81=2,Comanda!$C$14,IF(Comanda!$H81=3,Comanda!$C$15,IF(Comanda!$H81=4,Comanda!$C$16,0))))","v":0},{"$f":"IF(Comanda!I81=1,Comanda!$C$13,IF(Comanda!I81=2,Comanda!$C$14,IF(Comanda!$I81=3,Comanda!$C$15,IF(Comanda!$I81=4,Comanda!$C$16,0))))","v":0},{"$f":"IF(Comanda!J81=1,Comanda!$C$13,IF(Comanda!J81=2,Comanda!$C$14,IF(Comanda!$J81=3,Comanda!$C$15,IF(Comanda!$J81=4,Comanda!$C$16,0))))","v":0},{"$f":"IF(Comanda!K81=1,Comanda!$C$13,IF(Comanda!K81=2,Comanda!$C$14,IF(Comanda!$K81=3,Comanda!$C$15,IF(Comanda!$K81=4,Comanda!$C$16,0))))","v":0},{"$f":"IF(Comanda!B81<>0,Comanda!$C$2,\"\")","v":""},{"$f":"IF(Comanda!B81<>0,Comanda!$C$5,\"\")","v":""},{"$f":"IF(Comanda!B81<>0,Comanda!$G$2,\"\")","v":""},{"$f":"IF(Comanda!B81<>0,Comanda!L81,\"\")","v":""},{"$f":"IF(Comanda!D81<>0,VLOOKUP('Formula Cant'!F64,'Grafica Cant'!$G$2:$H$25,2,FALSE),\"\")","v":""},{"$nulls":8},{"$f":"IF(Comanda!B81<>0,Comanda!$C$9,\"\")","v":""},{"$f":"IF(Comanda!B81<>0,VLOOKUP(Comanda!$C$12,PRETURI!$A$2:$C$500,3,FALSE),\"\")","v":""},"",{"$f":"IF(H64<>0,VLOOKUP(H64,PRETURI!$D$2:$F$1093,3,FALSE),\"\")","v":""},{"v":0,"d":"0.00"},{"$f":"IF(I64<>0,VLOOKUP(I64,PRETURI!$D$2:$F$1093,3,FALSE),\"\")","v":""},{"v":0,"d":"0.00"},{"$f":"IF(J64<>0,VLOOKUP(J64,PRETURI!$D$2:$F$1093,3,FALSE),\"\")","v":""},{"v":0,"d":"0.00"},{"$f":"IF(K64<>0,VLOOKUP(K64,PRETURI!$D$2:$F$1093,3,FALSE),\"\")","v":""},{"v":0,"d":"0.00"},{"$nulls":6},{"$f":"(Comanda!D81*Comanda!E81*Comanda!F81)*0.000001","v":{"v":0,"d":"0.00"}},null,{"$f":"IF(Comanda!H81=1,(Comanda!D81*0.001+$BL$2)*Comanda!F81,\"\")","v":""},{"$f":"IF(Comanda!I81=1,(Comanda!D81*0.001+$BL$2)*Comanda!F81,\"\")","v":""},{"$f":"IF(Comanda!J81=1,(Comanda!E81*0.001+$BL$2)*Comanda!F81,\"\")","v":""},{"$f":"IF(Comanda!K81=1,(Comanda!E81*0.001+$BL$2)*Comanda!F81,\"\")","v":""},null,{"$f":"IF(Comanda!H81=2,(Comanda!D81*0.001+$BL$2)*Comanda!F81,\"\")","v":""},{"$f":"IF(Comanda!I81=2,(Comanda!D81*0.001+$BL$2)*Comanda!F81,\"\")","v":""},{"$f":"IF(Comanda!J81=2,(Comanda!E81*0.001+$BL$2)*Comanda!F81,\"\")","v":""},{"$f":"IF(Comanda!K81=2,(Comanda!E81*0.001+$BL$2)*Comanda!F81,\"\")","v":""},null,{"$f":"IF(Comanda!H81=3,(Comanda!D81*0.001+$BL$2)*Comanda!F81,\"\")","v":""},{"$f":"IF(Comanda!I81=3,(Comanda!D81*0.001+$BL$2)*Comanda!F81,\"\")","v":""},{"$f":"IF(Comanda!J81=3,(Comanda!E81*0.001+$BL$2)*Comanda!F81,\"\")","v":""},{"$f":"IF(Comanda!K81=3,(Comanda!E81*0.001+$BL$2)*Comanda!F81,\"\")","v":""},null,{"$f":"IF(Comanda!H81=4,(Comanda!D81*0.001+$BL$2)*Comanda!F81,\"\")","v":""},{"$f":"IF(Comanda!I81=4,(Comanda!D81*0.001+$BL$2)*Comanda!F81,\"\")","v":""},{"$f":"IF(Comanda!J81=4,(Comanda!E81*0.001+$BL$2)*Comanda!F81,\"\")","v":""},{"$f":"IF(Comanda!K81=4,(Comanda!E81*0.001+$BL$2)*Comanda!F81,\"\")","v":""}]
[63,{"$f":"IF(Comanda!B82<>0,Comanda!B82,\"\")","v":""},{"$f":"IF(Comanda!C82<>0,Comanda!C82,\"\")","v":""},{"$f":"IF(Comanda!D82<>0,Comanda!D82,\"\")","v":""},{"$f":"IF(Comanda!E82<>0,Comanda!E82,\"\")","v":""},{"$f":"IF(Comanda!F82<>0,Comanda!F82,\"\")","v":""},{"$f":"IF(Comanda!G82<>0,1,0)","v":0},{"$f":"IF(Comanda!H82=1,Comanda!$C$13,IF(Comanda!H82=2,Comanda!$C$14,IF(Comanda!$H82=3,Comanda!$C$15,IF(Comanda!$H82=4,Comanda!$C$16,0))))","v":0},{"$f":"IF(Comanda!I82=1,Comanda!$C$13,IF(Comanda!I82=2,Comanda!$C$14,IF(Comanda!$I82=3,Comanda!$C$15,IF(Comanda!$I82=4,Comanda!$C$16,0))))","v":0},{"$f":"IF(Comanda!J82=1,Comanda!$C$13,IF(Comanda!J82=2,Comanda!$C$14,IF(Comanda!$J82=3,Comanda!$C$15,IF(Comanda!$J82=4,Comanda!$C$16,0))))","v":0},{"$f":"IF(Comanda!K82=1,Comanda!$C$13,IF(Comanda!K82=2,Comanda!$C$14,IF(Comanda!$K82=3,Comanda!$C$15,IF(Comanda!$K82=4,Comanda!$C$16,0))))","v":0},{"$f":"IF(Comanda!B82<>0,Comanda!$C$2,\"\")","v":""},{"$f":"IF(Comanda!B82<>0,Comanda!$C$5,\"\")","v":""},{"$f":"IF(Comanda!B82<>0,Comanda!$G$2,\"\")","v":""},{"$f":"IF(Comanda!B82<>0,Comanda!L82,\"\")","v":""},{"$f":"IF(Comanda!D82<>0,VLOOKUP('Formula Cant'!F65,'Grafica Cant'!$G$2:$H$25,2,FALSE),\"\")","v":""},{"$nulls":8},{"$f":"IF(Comanda!B82<>0,Comanda!$C$9,\"\")","v":""},{"$f":"IF(Comanda!B82<>0,VLOOKUP(Comanda!$C$12,PRETURI!$A$2:$C$500,3,FALSE),\"\")","v":""},"",{"$f":"IF(H65<>0,VLOOKUP(H65,PRETURI!$D$2:$F$1093,3,FALSE),\"\")","v":""},{"v":0,"d":"0.00"},{"$f":"IF(I65<>0,VLOOKUP(I65,PRETURI!$D$2:$F$1093,3,FALSE),\"\")","v":""},{"v":0,"d":"0.00"},{"$f":"IF(J65<>0,VLOOKUP(J65,PRETURI!$D$2:$F$1093,3,FALSE),\"\")","v":""},{"v":0,"d":"0.00"},{"$f":"IF(K65<>0,VLOOKUP(K65,PRETURI!$D$2:$F$1093,3,FALSE),\"\")","v":""},{"v":0,"d":"0.00"},{"$nulls":6},{"$f":"(Comanda!D82*Comanda!E82*Comanda!F82)*0.000001","v":{"v":0,"d":"0.00"}},null,{"$f":"IF(Comanda!H82=1,(Comanda!D82*0.001+$BL$2)*Comanda!F82,\"\")","v":""},{"$f":"IF(Comanda!I82=1,(Comanda!D82*0.001+$BL$2)*Comanda!F82,\"\")","v":""},{"$f":"IF(Comanda!J82=1,(Comanda!E82*0.001+$BL$2)*Comanda!F82,\"\")","v":""},{"$f":"IF(Comanda!K82=1,(Comanda!E82*0.001+$BL$2)*Comanda!F82,\"\")","v":""},null,{"$f":"IF(Comanda!H82=2,(Comanda!D82*0.001+$BL$2)*Comanda!F82,\"\")","v":""},{"$f":"IF(Comanda!I82=2,(Comanda!D82*0.001+$BL$2)*Comanda!F82,\"\")","v":""},{"$f":"IF(Comanda!J82=2,(Comanda!E82*0.001+$BL$2)*Comanda!F82,\"\")","v":""},{"$f":"IF(Comanda!K82=2,(Comanda!E82*0.001+$BL$2)*Comanda!F82,\"\")","v":""},null,{"$f":"IF(Comanda!H82=3,(Comanda!D82*0.001+$BL$2)*Comanda!F82,\"\")","v":""},{"$f":"IF(Comanda!I82=3,(Comanda!D82*0.001+$BL$2)*Comanda!F82,\"\")","v":""},{"$f":"IF(Comanda!J82=3,(Comanda!E82*0.001+$BL$2)*Comanda!F82,\"\")","v":""},{"$f":"IF(Comanda!K82=3,(Comanda!E82*0.001+$BL$2)*Comanda!F82,\"\")","v":""},null,{"$f":"IF(Comanda!H82=4,(Comanda!D82*0.001+$BL$2)*Comanda!F82,\"\")","v":""},{"$f":"IF(Comanda!I82=4,(Comanda!D82*0.001+$BL$2)*Comanda!F82,\"\")","v":""},{"$f":"IF(Comanda!J82=4,(Comanda!E82*0.001+$BL$2)*Comanda!F82,\"\")","v":""},{"$f":"IF(Comanda!K82=4,(Comanda!E82*0.001+$BL$2)*Comanda!F82,\"\")","v":""}]
[64,{"$f":"IF(Comanda!B83<>0,Comanda!B83,\"\")","v":""},{"$f":"IF(Comanda!C83<>0,Comanda!C83,\"\")","v":""},{"$f":"IF(Comanda!D83<>0,Comanda!D83,\"\")","v":""},{"$f":"IF(Comanda!E83<>0,Comanda!E83,\"\")","v":""},{"$f":"IF(Comanda!F83<>0,Comanda!F83,\"\")","v":""},{"$f":"IF(Comanda!G83<>0,1,0)","v":0},{"$f":"IF(Comanda!H83=1,Comanda!$C$13,IF(Comanda!H83=2,Comanda!$C$14,IF(Comanda!$H83=3,Comanda!$C$15,IF(Comanda!$H83=4,Comanda!$C$16,0))))","v":0},{"$f":"IF(Comanda!I83=1,Comanda!$C$13,IF(Comanda!I83=2,Comanda!$C$14,IF(Comanda!$I83=3,Comanda!$C$15,IF(Comanda!$I83=4,Comanda!$C$16,0))))","v":0},{"$f":"IF(Comanda!J83=1,Comanda!$C$13,IF(Comanda!J83=2,Comanda!$C$14,IF(Comanda!$J83=3,Comanda!$C$15,IF(Comanda!$J83=4,Comanda!$C$16,0))))","v":0},{"$f":"IF(Comanda!K83=1,Comanda!$C$13,IF(Comanda!K83=2,Comanda!$C$14,IF(Comanda!$K83=3,Comanda!$C$15,IF(Comanda!$K83=4,Comanda!$C$16,0))))","v":0},{"$f":"IF(Comanda!B83<>0,Comanda!$C$2,\"\")","v":""},{"$f":"IF(Comanda!B83<>0,Comanda!$C$5,\"\")","v":""},{"$f":"IF(Comanda!B83<>0,Comanda!$G$2,\"\")","v":""},{"$f":"IF(Comanda!B83<>0,Comanda!L83,\"\")","v":""},{"$f":"IF(Comanda!D83<>0,VLOOKUP('Formula Cant'!F66,'Grafica Cant'!$G$2:$H$25,2,FALSE),\"\")","v":""},{"$nulls":8},{"$f":"IF(Comanda!B83<>0,Comanda!$C$9,\"\")","v":""},{"$f":"IF(Comanda!B83<>0,VLOOKUP(Comanda!$C$12,PRETURI!$A$2:$C$500,3,FALSE),\"\")","v":""},"",{"$f":"IF(H66<>0,VLOOKUP(H66,PRETURI!$D$2:$F$1093,3,FALSE),\"\")","v":""},{"v":0,"d":"0.00"},{"$f":"IF(I66<>0,VLOOKUP(I66,PRETURI!$D$2:$F$1093,3,FALSE),\"\")","v":""},{"v":0,"d":"0.00"},{"$f":"IF(J66<>0,VLOOKUP(J66,PRETURI!$D$2:$F$1093,3,FALSE),\"\")","v":""},{"v":0,"d":"0.00"},{"$f":"IF(K66<>0,VLOOKUP(K66,PRETURI!$D$2:$F$1093,3,FALSE),\"\")","v":""},{"v":0,"d":"0.00"},{"$nulls":6},{"$f":"(Comanda!D83*Comanda!E83*Comanda!F83)*0.000001","v":{"v":0,"d":"0.00"}},null,{"$f":"IF(Comanda!H83=1,(Comanda!D83*0.001+$BL$2)*Comanda!F83,\"\")","v":""},{"$f":"IF(Comanda!I83=1,(Comanda!D83*0.001+$BL$2)*Comanda!F83,\"\")","v":""},{"$f":"IF(Comanda!J83=1,(Comanda!E83*0.001+$BL$2)*Comanda!F83,\"\")","v":""},{"$f":"IF(Comanda!K83=1,(Comanda!E83*0.001+$BL$2)*Comanda!F83,\"\")","v":""},null,{"$f":"IF(Comanda!H83=2,(Comanda!D83*0.001+$BL$2)*Comanda!F83,\"\")","v":""},{"$f":"IF(Comanda!I83=2,(Comanda!D83*0.001+$BL$2)*Comanda!F83,\"\")","v":""},{"$f":"IF(Comanda!J83=2,(Comanda!E83*0.001+$BL$2)*Comanda!F83,\"\")","v":""},{"$f":"IF(Comanda!K83=2,(Comanda!E83*0.001+$BL$2)*Comanda!F83,\"\")","v":""},null,{"$f":"IF(Comanda!H83=3,(Comanda!D83*0.001+$BL$2)*Comanda!F83,\"\")","v":""},{"$f":"IF(Comanda!I83=3,(Comanda!D83*0.001+$BL$2)*Comanda!F83,\"\")","v":""},{"$f":"IF(Comanda!J83=3,(Comanda!E83*0.001+$BL$2)*Comanda!F83,\"\")","v":""},{"$f":"IF(Comanda!K83=3,(Comanda!E83*0.001+$BL$2)*Comanda!F83,\"\")","v":""},null,{"$f":"IF(Comanda!H83=4,(Comanda!D83*0.001+$BL$2)*Comanda!F83,\"\")","v":""},{"$f":"IF(Comanda!I83=4,(Comanda!D83*0.001+$BL$2)*Comanda!F83,\"\")","v":""},{"$f":"IF(Comanda!J83=4,(Comanda!E83*0.001+$BL$2)*Comanda!F83,\"\")","v":""},{"$f":"IF(Comanda!K83=4,(Comanda!E83*0.001+$BL$2)*Comanda!F83,\"\")","v":""}]
[65,{"$f":"IF(Comanda!B84<>0,Comanda!B84,\"\")","v":""},{"$f":"IF(Comanda!C84<>0,Comanda!C84,\"\")","v":""},{"$f":"IF(Comanda!D84<>0,Comanda!D84,\"\")","v":""},{"$f":"IF(Comanda!E84<>0,Comanda!E84,\"\")","v":""},{"$f":"IF(Comanda!F84<>0,Comanda!F84,\"\")","v":""},{"$f":"IF(Comanda!G84<>0,1,0)","v":0},{"$f":"IF(Comanda!H84=1,Comanda!$C$13,IF(Comanda!H84=2,Comanda!$C$14,IF(Comanda!$H84=3,Comanda!$C$15,IF(Comanda!$H84=4,Comanda!$C$16,0))))","v":0},{"$f":"IF(Comanda!I84=1,Comanda!$C$13,IF(Comanda!I84=2,Comanda!$C$14,IF(Comanda!$I84=3,Comanda!$C$15,IF(Comanda!$I84=4,Comanda!$C$16,0))))","v":0},{"$f":"IF(Comanda!J84=1,Comanda!$C$13,IF(Comanda!J84=2,Comanda!$C$14,IF(Comanda!$J84=3,Comanda!$C$15,IF(Comanda!$J84=4,Comanda!$C$16,0))))","v":0},{"$f":"IF(Comanda!K84=1,Comanda!$C$13,IF(Comanda!K84=2,Comanda!$C$14,IF(Comanda!$K84=3,Comanda!$C$15,IF(Comanda!$K84=4,Comanda!$C$16,0))))","v":0},{"$f":"IF(Comanda!B84<>0,Comanda!$C$2,\"\")","v":""},{"$f":"IF(Comanda!B84<>0,Comanda!$C$5,\"\")","v":""},{"$f":"IF(Comanda!B84<>0,Comanda!$G$2,\"\")","v":""},{"$f":"IF(Comanda!B84<>0,Comanda!L84,\"\")","v":""},{"$f":"IF(Comanda!D84<>0,VLOOKUP('Formula Cant'!F67,'Grafica Cant'!$G$2:$H$25,2,FALSE),\"\")","v":""},{"$nulls":8},{"$f":"IF(Comanda!B84<>0,Comanda!$C$9,\"\")","v":""},{"$f":"IF(Comanda!B84<>0,VLOOKUP(Comanda!$C$12,PRETURI!$A$2:$C$500,3,FALSE),\"\")","v":""},"",{"$f":"IF(H67<>0,VLOOKUP(H67,PRETURI!$D$2:$F$1093,3,FALSE),\"\")","v":""},{"v":0,"d":"0.00"},{"$f":"IF(I67<>0,VLOOKUP(I67,PRETURI!$D$2:$F$1093,3,FALSE),\"\")","v":""},{"v":0,"d":"0.00"},{"$f":"IF(J67<>0,VLOOKUP(J67,PRETURI!$D$2:$F$1093,3,FALSE),\"\")","v":""},{"v":0,"d":"0.00"},{"$f":"IF(K67<>0,VLOOKUP(K67,PRETURI!$D$2:$F$1093,3,FALSE),\"\")","v":""},{"v":0,"d":"0.00"},{"$nulls":6},{"$f":"(Comanda!D84*Comanda!E84*Comanda!F84)*0.000001","v":{"v":0,"d":"0.00"}},null,{"$f":"IF(Comanda!H84=1,(Comanda!D84*0.001+$BL$2)*Comanda!F84,\"\")","v":""},{"$f":"IF(Comanda!I84=1,(Comanda!D84*0.001+$BL$2)*Comanda!F84,\"\")","v":""},{"$f":"IF(Comanda!J84=1,(Comanda!E84*0.001+$BL$2)*Comanda!F84,\"\")","v":""},{"$f":"IF(Comanda!K84=1,(Comanda!E84*0.001+$BL$2)*Comanda!F84,\"\")","v":""},null,{"$f":"IF(Comanda!H84=2,(Comanda!D84*0.001+$BL$2)*Comanda!F84,\"\")","v":""},{"$f":"IF(Comanda!I84=2,(Comanda!D84*0.001+$BL$2)*Comanda!F84,\"\")","v":""},{"$f":"IF(Comanda!J84=2,(Comanda!E84*0.001+$BL$2)*Comanda!F84,\"\")","v":""},{"$f":"IF(Comanda!K84=2,(Comanda!E84*0.001+$BL$2)*Comanda!F84,\"\")","v":""},null,{"$f":"IF(Comanda!H84=3,(Comanda!D84*0.001+$BL$2)*Comanda!F84,\"\")","v":""},{"$f":"IF(Comanda!I84=3,(Comanda!D84*0.001+$BL$2)*Comanda!F84,\"\")","v":""},{"$f":"IF(Comanda!J84=3,(Comanda!E84*0.001+$BL$2)*Comanda!F84,\"\")","v":""},{"$f":"IF(Comanda!K84=3,(Comanda!E84*0.001+$BL$2)*Comanda!F84,\"\")","v":""},null,{"$f":"IF(Comanda!H84=4,(Comanda!D84*0.001+$BL$2)*Comanda!F84,\"\")","v":""},{"$f":"IF(Comanda!I84=4,(Comanda!D84*0.001+$BL$2)*Comanda!F84,\"\")","v":""},{"$f":"IF(Comanda!J84=4,(Comanda!E84*0.001+$BL$2)*Comanda!F84,\"\")","v":""},{"$f":"IF(Comanda!K84=4,(Comanda!E84*0.001+$BL$2)*Comanda!F84,\"\")","v":""}]
[66,{"$f":"IF(Comanda!B85<>0,Comanda!B85,\"\")","v":""},{"$f":"IF(Comanda!C85<>0,Comanda!C85,\"\")","v":""},{"$f":"IF(Comanda!D85<>0,Comanda!D85,\"\")","v":""},{"$f":"IF(Comanda!E85<>0,Comanda!E85,\"\")","v":""},{"$f":"IF(Comanda!F85<>0,Comanda!F85,\"\")","v":""},{"$f":"IF(Comanda!G85<>0,1,0)","v":0},{"$f":"IF(Comanda!H85=1,Comanda!$C$13,IF(Comanda!H85=2,Comanda!$C$14,IF(Comanda!$H85=3,Comanda!$C$15,IF(Comanda!$H85=4,Comanda!$C$16,0))))","v":0},{"$f":"IF(Comanda!I85=1,Comanda!$C$13,IF(Comanda!I85=2,Comanda!$C$14,IF(Comanda!$I85=3,Comanda!$C$15,IF(Comanda!$I85=4,Comanda!$C$16,0))))","v":0},{"$f":"IF(Comanda!J85=1,Comanda!$C$13,IF(Comanda!J85=2,Comanda!$C$14,IF(Comanda!$J85=3,Comanda!$C$15,IF(Comanda!$J85=4,Comanda!$C$16,0))))","v":0},{"$f":"IF(Comanda!K85=1,Comanda!$C$13,IF(Comanda!K85=2,Comanda!$C$14,IF(Comanda!$K85=3,Comanda!$C$15,IF(Comanda!$K85=4,Comanda!$C$16,0))))","v":0},{"$f":"IF(Comanda!B85<>0,Comanda!$C$2,\"\")","v":""},{"$f":"IF(Comanda!B85<>0,Comanda!$C$5,\"\")","v":""},{"$f":"IF(Comanda!B85<>0,Comanda!$G$2,\"\")","v":""},{"$f":"IF(Comanda!B85<>0,Comanda!L85,\"\")","v":""},{"$f":"IF(Comanda!D85<>0,VLOOKUP('Formula Cant'!F68,'Grafica Cant'!$G$2:$H$25,2,FALSE),\"\")","v":""},{"$nulls":8},{"$f":"IF(Comanda!B85<>0,Comanda!$C$9,\"\")","v":""},{"$f":"IF(Comanda!B85<>0,VLOOKUP(Comanda!$C$12,PRETURI!$A$2:$C$500,3,FALSE),\"\")","v":""},{"$f":"IFERROR(D68*E68*F68*0.000001,\"\")","v":""},{"$f":"IF(H68<>0,VLOOKUP(H68,PRETURI!$D$2:$F$1093,3,FALSE),\"\")","v":""},{"$f":"SUM(AR68:AU68)","v":{"v":0,"d":"0.00"}},{"$f":"IF(I68<>0,VLOOKUP(I68,PRETURI!$D$2:$F$1093,3,FALSE),\"\")","v":""},{"$f":"SUM(AW68:AZ68)","v":{"v":0,"d":"0.00"}},{"$f":"IF(J68<>0,VLOOKUP(J68,PRETURI!$D$2:$F$1093,3,FALSE),\"\")","v":""},{"$f":"SUM(BB68:BE68)","v":{"v":0,"d":"0.00"}},{"$f":"IF(K68<>0,VLOOKUP(K68,PRETURI!$D$2:$F$1093,3,FALSE),\"\")","v":""},{"$f":"SUM(BG68:BJ68)","v":{"v":0,"d":"0.00"}},{"$nulls":6},{"$f":"(Comanda!D85*Comanda!E85*Comanda!F85)*0.000001","v":{"v":0,"d":"0.00"}},null,{"$f":"IF(Comanda!H85=1,(Comanda!D85*0.001+$BL$2)*Comanda!F85,\"\")","v":""},{"$f":"IF(Comanda!I85=1,(Comanda!D85*0.001+$BL$2)*Comanda!F85,\"\")","v":""},{"$f":"IF(Comanda!J85=1,(Comanda!E85*0.001+$BL$2)*Comanda!F85,\"\")","v":""},{"$f":"IF(Comanda!K85=1,(Comanda!E85*0.001+$BL$2)*Comanda!F85,\"\")","v":""},null,{"$f":"IF(Comanda!H85=2,(Comanda!D85*0.001+$BL$2)*Comanda!F85,\"\")","v":""},{"$f":"IF(Comanda!I85=2,(Comanda!D85*0.001+$BL$2)*Comanda!F85,\"\")","v":""},{"$f":"IF(Comanda!J85=2,(Comanda!E85*0.001+$BL$2)*Comanda!F85,\"\")","v":""},{"$f":"IF(Comanda!K85=2,(Comanda!E85*0.001+$BL$2)*Comanda!F85,\"\")","v":""},null,{"$f":"IF(Comanda!H85=3,(Comanda!D85*0.001+$BL$2)*Comanda!F85,\"\")","v":""},{"$f":"IF(Comanda!I85=3,(Comanda!D85*0.001+$BL$2)*Comanda!F85,\"\")","v":""},{"$f":"IF(Comanda!J85=3,(Comanda!E85*0.001+$BL$2)*Comanda!F85,\"\")","v":""},{"$f":"IF(Comanda!K85=3,(Comanda!E85*0.001+$BL$2)*Comanda!F85,\"\")","v":""},null,{"$f":"IF(Comanda!H85=4,(Comanda!D85*0.001+$BL$2)*Comanda!F85,\"\")","v":""},{"$f":"IF(Comanda!I85=4,(Comanda!D85*0.001+$BL$2)*Comanda!F85,\"\")","v":""},{"$f":"IF(Comanda!J85=4,(Comanda!E85*0.001+$BL$2)*Comanda!F85,\"\")","v":""},{"$f":"IF(Comanda!K85=4,(Comanda!E85*0.001+$BL$2)*Comanda!F85,\"\")","v":""}]
[67,{"$f":"IF(Comanda!B86<>0,Comanda!B86,\"\")","v":""},{"$f":"IF(Comanda!C86<>0,Comanda!C86,\"\")","v":""},{"$f":"IF(Comanda!D86<>0,Comanda!D86,\"\")","v":""},{"$f":"IF(Comanda!E86<>0,Comanda!E86,\"\")","v":""},{"$f":"IF(Comanda!F86<>0,Comanda!F86,\"\")","v":""},{"$f":"IF(Comanda!G86<>0,1,0)","v":0},{"$f":"IF(Comanda!H86=1,Comanda!$C$13,IF(Comanda!H86=2,Comanda!$C$14,IF(Comanda!$H86=3,Comanda!$C$15,IF(Comanda!$H86=4,Comanda!$C$16,0))))","v":0},{"$f":"IF(Comanda!I86=1,Comanda!$C$13,IF(Comanda!I86=2,Comanda!$C$14,IF(Comanda!$I86=3,Comanda!$C$15,IF(Comanda!$I86=4,Comanda!$C$16,0))))","v":0},{"$f":"IF(Comanda!J86=1,Comanda!$C$13,IF(Comanda!J86=2,Comanda!$C$14,IF(Comanda!$J86=3,Comanda!$C$15,IF(Comanda!$J86=4,Comanda!$C$16,0))))","v":0},{"$f":"IF(Comanda!K86=1,Comanda!$C$13,IF(Comanda!K86=2,Comanda!$C$14,IF(Comanda!$K86=3,Comanda!$C$15,IF(Comanda!$K86=4,Comanda!$C$16,0))))","v":0},{"$f":"IF(Comanda!B86<>0,Comanda!$C$2,\"\")","v":""},{"$f":"IF(Comanda!B86<>0,Comanda!$C$5,\"\")","v":""},{"$f":"IF(Comanda!B86<>0,Comanda!$G$2,\"\")","v":""},{"$f":"IF(Comanda!B86<>0,Comanda!L86,\"\")","v":""},{"$f":"IF(Comanda!D86<>0,VLOOKUP('Formula Cant'!F69,'Grafica Cant'!$G$2:$H$25,2,FALSE),\"\")","v":""},{"$nulls":8},{"$f":"IF(Comanda!B86<>0,Comanda!$C$9,\"\")","v":""},{"$f":"IF(Comanda!B86<>0,VLOOKUP(Comanda!$C$12,PRETURI!$A$2:$C$500,3,FALSE),\"\")","v":""},"",{"$f":"IF(H69<>0,VLOOKUP(H69,PRETURI!$D$2:$F$1093,3,FALSE),\"\")","v":""},{"v":0,"d":"0.00"},{"$f":"IF(I69<>0,VLOOKUP(I69,PRETURI!$D$2:$F$1093,3,FALSE),\"\")","v":""},{"v":0,"d":"0.00"},{"$f":"IF(J69<>0,VLOOKUP(J69,PRETURI!$D$2:$F$1093,3,FALSE),\"\")","v":""},{"v":0,"d":"0.00"},{"$f":"IF(K69<>0,VLOOKUP(K69,PRETURI!$D$2:$F$1093,3,FALSE),\"\")","v":""},{"v":0,"d":"0.00"},{"$nulls":6},{"$f":"(Comanda!D86*Comanda!E86*Comanda!F86)*0.000001","v":{"v":0,"d":"0.00"}},null,{"$f":"IF(Comanda!H86=1,(Comanda!D86*0.001+$BL$2)*Comanda!F86,\"\")","v":""},{"$f":"IF(Comanda!I86=1,(Comanda!D86*0.001+$BL$2)*Comanda!F86,\"\")","v":""},{"$f":"IF(Comanda!J86=1,(Comanda!E86*0.001+$BL$2)*Comanda!F86,\"\")","v":""},{"$f":"IF(Comanda!K86=1,(Comanda!E86*0.001+$BL$2)*Comanda!F86,\"\")","v":""},null,{"$f":"IF(Comanda!H86=2,(Comanda!D86*0.001+$BL$2)*Comanda!F86,\"\")","v":""},{"$f":"IF(Comanda!I86=2,(Comanda!D86*0.001+$BL$2)*Comanda!F86,\"\")","v":""},{"$f":"IF(Comanda!J86=2,(Comanda!E86*0.001+$BL$2)*Comanda!F86,\"\")","v":""},{"$f":"IF(Comanda!K86=2,(Comanda!E86*0.001+$BL$2)*Comanda!F86,\"\")","v":""},null,{"$f":"IF(Comanda!H86=3,(Comanda!D86*0.001+$BL$2)*Comanda!F86,\"\")","v":""},{"$f":"IF(Comanda!I86=3,(Comanda!D86*0.001+$BL$2)*Comanda!F86,\"\")","v":""},{"$f":"IF(Comanda!J86=3,(Comanda!E86*0.001+$BL$2)*Comanda!F86,\"\")","v":""},{"$f":"IF(Comanda!K86=3,(Comanda!E86*0.001+$BL$2)*Comanda!F86,\"\")","v":""},null,{"$f":"IF(Comanda!H86=4,(Comanda!D86*0.001+$BL$2)*Comanda!F86,\"\")","v":""},{"$f":"IF(Comanda!I86=4,(Comanda!D86*0.001+$BL$2)*Comanda!F86,\"\")","v":""},{"$f":"IF(Comanda!J86=4,(Comanda!E86*0.001+$BL$2)*Comanda!F86,\"\")","v":""},{"$f":"IF(Comanda!K86=4,(Comanda!E86*0.001+$BL$2)*Comanda!F86,\"\")","v":""}]
[68,{"$f":"IF(Comanda!B87<>0,Comanda!B87,\"\")","v":""},{"$f":"IF(Comanda!C87<>0,Comanda!C87,\"\")","v":""},{"$f":"IF(Comanda!D87<>0,Comanda!D87,\"\")","v":""},{"$f":"IF(Comanda!E87<>0,Comanda!E87,\"\")","v":""},{"$f":"IF(Comanda!F87<>0,Comanda!F87,\"\")","v":""},{"$f":"IF(Comanda!G87<>0,1,0)","v":0},{"$f":"IF(Comanda!H87=1,Comanda!$C$13,IF(Comanda!H87=2,Comanda!$C$14,IF(Comanda!$H87=3,Comanda!$C$15,IF(Comanda!$H87=4,Comanda!$C$16,0))))","v":0},{"$f":"IF(Comanda!I87=1,Comanda!$C$13,IF(Comanda!I87=2,Comanda!$C$14,IF(Comanda!$I87=3,Comanda!$C$15,IF(Comanda!$I87=4,Comanda!$C$16,0))))","v":0},{"$f":"IF(Comanda!J87=1,Comanda!$C$13,IF(Comanda!J87=2,Comanda!$C$14,IF(Comanda!$J87=3,Comanda!$C$15,IF(Comanda!$J87=4,Comanda!$C$16,0))))","v":0},{"$f":"IF(Comanda!K87=1,Comanda!$C$13,IF(Comanda!K87=2,Comanda!$C$14,IF(Comanda!$K87=3,Comanda!$C$15,IF(Comanda!$K87=4,Comanda!$C$16,0))))","v":0},{"$f":"IF(Comanda!B87<>0,Comanda!$C$2,\"\")","v":""},{"$f":"IF(Comanda!B87<>0,Comanda!$C$5,\"\")","v":""},{"$f":"IF(Comanda!B87<>0,Comanda!$G$2,\"\")","v":""},{"$f":"IF(Comanda!B87<>0,Comanda!L87,\"\")","v":""},{"$f":"IF(Comanda!D87<>0,VLOOKUP('Formula Cant'!F70,'Grafica Cant'!$G$2:$H$25,2,FALSE),\"\")","v":""},{"$nulls":8},{"$f":"IF(Comanda!B87<>0,Comanda!$C$9,\"\")","v":""},{"$f":"IF(Comanda!B87<>0,VLOOKUP(Comanda!$C$12,PRETURI!$A$2:$C$500,3,FALSE),\"\")","v":""},"",{"$f":"IF(H70<>0,VLOOKUP(H70,PRETURI!$D$2:$F$1093,3,FALSE),\"\")","v":""},{"v":0,"d":"0.00"},{"$f":"IF(I70<>0,VLOOKUP(I70,PRETURI!$D$2:$F$1093,3,FALSE),\"\")","v":""},{"v":0,"d":"0.00"},{"$f":"IF(J70<>0,VLOOKUP(J70,PRETURI!$D$2:$F$1093,3,FALSE),\"\")","v":""},{"v":0,"d":"0.00"},{"$f":"IF(K70<>0,VLOOKUP(K70,PRETURI!$D$2:$F$1093,3,FALSE),\"\")","v":""},{"v":0,"d":"0.00"},{"$nulls":6},{"$f":"(Comanda!D87*Comanda!E87*Comanda!F87)*0.000001","v":{"v":0,"d":"0.00"}},null,{"$f":"IF(Comanda!H87=1,(Comanda!D87*0.001+$BL$2)*Comanda!F87,\"\")","v":""},{"$f":"IF(Comanda!I87=1,(Comanda!D87*0.001+$BL$2)*Comanda!F87,\"\")","v":""},{"$f":"IF(Comanda!J87=1,(Comanda!E87*0.001+$BL$2)*Comanda!F87,\"\")","v":""},{"$f":"IF(Comanda!K87=1,(Comanda!E87*0.001+$BL$2)*Comanda!F87,\"\")","v":""},null,{"$f":"IF(Comanda!H87=2,(Comanda!D87*0.001+$BL$2)*Comanda!F87,\"\")","v":""},{"$f":"IF(Comanda!I87=2,(Comanda!D87*0.001+$BL$2)*Comanda!F87,\"\")","v":""},{"$f":"IF(Comanda!J87=2,(Comanda!E87*0.001+$BL$2)*Comanda!F87,\"\")","v":""},{"$f":"IF(Comanda!K87=2,(Comanda!E87*0.001+$BL$2)*Comanda!F87,\"\")","v":""},null,{"$f":"IF(Comanda!H87=3,(Comanda!D87*0.001+$BL$2)*Comanda!F87,\"\")","v":""},{"$f":"IF(Comanda!I87=3,(Comanda!D87*0.001+$BL$2)*Comanda!F87,\"\")","v":""},{"$f":"IF(Comanda!J87=3,(Comanda!E87*0.001+$BL$2)*Comanda!F87,\"\")","v":""},{"$f":"IF(Comanda!K87=3,(Comanda!E87*0.001+$BL$2)*Comanda!F87,\"\")","v":""},null,{"$f":"IF(Comanda!H87=4,(Comanda!D87*0.001+$BL$2)*Comanda!F87,\"\")","v":""},{"$f":"IF(Comanda!I87=4,(Comanda!D87*0.001+$BL$2)*Comanda!F87,\"\")","v":""},{"$f":"IF(Comanda!J87=4,(Comanda!E87*0.001+$BL$2)*Comanda!F87,\"\")","v":""},{"$f":"IF(Comanda!K87=4,(Comanda!E87*0.001+$BL$2)*Comanda!F87,\"\")","v":""}]
[69,{"$f":"IF(Comanda!B88<>0,Comanda!B88,\"\")","v":""},{"$f":"IF(Comanda!C88<>0,Comanda!C88,\"\")","v":""},{"$f":"IF(Comanda!D88<>0,Comanda!D88,\"\")","v":""},{"$f":"IF(Comanda!E88<>0,Comanda!E88,\"\")","v":""},{"$f":"IF(Comanda!F88<>0,Comanda!F88,\"\")","v":""},{"$f":"IF(Comanda!G88<>0,1,0)","v":0},{"$f":"IF(Comanda!H88=1,Comanda!$C$13,IF(Comanda!H88=2,Comanda!$C$14,IF(Comanda!$H88=3,Comanda!$C$15,IF(Comanda!$H88=4,Comanda!$C$16,0))))","v":0},{"$f":"IF(Comanda!I88=1,Comanda!$C$13,IF(Comanda!I88=2,Comanda!$C$14,IF(Comanda!$I88=3,Comanda!$C$15,IF(Comanda!$I88=4,Comanda!$C$16,0))))","v":0},{"$f":"IF(Comanda!J88=1,Comanda!$C$13,IF(Comanda!J88=2,Comanda!$C$14,IF(Comanda!$J88=3,Comanda!$C$15,IF(Comanda!$J88=4,Comanda!$C$16,0))))","v":0},{"$f":"IF(Comanda!K88=1,Comanda!$C$13,IF(Comanda!K88=2,Comanda!$C$14,IF(Comanda!$K88=3,Comanda!$C$15,IF(Comanda!$K88=4,Comanda!$C$16,0))))","v":0},{"$f":"IF(Comanda!B88<>0,Comanda!$C$2,\"\")","v":""},{"$f":"IF(Comanda!B88<>0,Comanda!$C$5,\"\")","v":""},{"$f":"IF(Comanda!B88<>0,Comanda!$G$2,\"\")","v":""},{"$f":"IF(Comanda!B88<>0,Comanda!L88,\"\")","v":""},{"$f":"IF(Comanda!D88<>0,VLOOKUP('Formula Cant'!F71,'Grafica Cant'!$G$2:$H$25,2,FALSE),\"\")","v":""},{"$nulls":8},{"$f":"IF(Comanda!B88<>0,Comanda!$C$9,\"\")","v":""},{"$f":"IF(Comanda!B88<>0,VLOOKUP(Comanda!$C$12,PRETURI!$A$2:$C$500,3,FALSE),\"\")","v":""},"",{"$f":"IF(H71<>0,VLOOKUP(H71,PRETURI!$D$2:$F$1093,3,FALSE),\"\")","v":""},{"v":0,"d":"0.00"},{"$f":"IF(I71<>0,VLOOKUP(I71,PRETURI!$D$2:$F$1093,3,FALSE),\"\")","v":""},{"v":0,"d":"0.00"},{"$f":"IF(J71<>0,VLOOKUP(J71,PRETURI!$D$2:$F$1093,3,FALSE),\"\")","v":""},{"v":0,"d":"0.00"},{"$f":"IF(K71<>0,VLOOKUP(K71,PRETURI!$D$2:$F$1093,3,FALSE),\"\")","v":""},{"v":0,"d":"0.00"},{"$nulls":6},{"$f":"(Comanda!D88*Comanda!E88*Comanda!F88)*0.000001","v":{"v":0,"d":"0.00"}},null,{"$f":"IF(Comanda!H88=1,(Comanda!D88*0.001+$BL$2)*Comanda!F88,\"\")","v":""},{"$f":"IF(Comanda!I88=1,(Comanda!D88*0.001+$BL$2)*Comanda!F88,\"\")","v":""},{"$f":"IF(Comanda!J88=1,(Comanda!E88*0.001+$BL$2)*Comanda!F88,\"\")","v":""},{"$f":"IF(Comanda!K88=1,(Comanda!E88*0.001+$BL$2)*Comanda!F88,\"\")","v":""},null,{"$f":"IF(Comanda!H88=2,(Comanda!D88*0.001+$BL$2)*Comanda!F88,\"\")","v":""},{"$f":"IF(Comanda!I88=2,(Comanda!D88*0.001+$BL$2)*Comanda!F88,\"\")","v":""},{"$f":"IF(Comanda!J88=2,(Comanda!E88*0.001+$BL$2)*Comanda!F88,\"\")","v":""},{"$f":"IF(Comanda!K88=2,(Comanda!E88*0.001+$BL$2)*Comanda!F88,\"\")","v":""},null,{"$f":"IF(Comanda!H88=3,(Comanda!D88*0.001+$BL$2)*Comanda!F88,\"\")","v":""},{"$f":"IF(Comanda!I88=3,(Comanda!D88*0.001+$BL$2)*Comanda!F88,\"\")","v":""},{"$f":"IF(Comanda!J88=3,(Comanda!E88*0.001+$BL$2)*Comanda!F88,\"\")","v":""},{"$f":"IF(Comanda!K88=3,(Comanda!E88*0.001+$BL$2)*Comanda!F88,\"\")","v":""},null,{"$f":"IF(Comanda!H88=4,(Comanda!D88*0.001+$BL$2)*Comanda!F88,\"\")","v":""},{"$f":"IF(Comanda!I88=4,(Comanda!D88*0.001+$BL$2)*Comanda!F88,\"\")","v":""},{"$f":"IF(Comanda!J88=4,(Comanda!E88*0.001+$BL$2)*Comanda!F88,\"\")","v":""},{"$f":"IF(Comanda!K88=4,(Comanda!E88*0.001+$BL$2)*Comanda!F88,\"\")","v":""}]
[70,{"$f":"IF(Comanda!B89<>0,Comanda!B89,\"\")","v":""},{"$f":"IF(Comanda!C89<>0,Comanda!C89,\"\")","v":""},{"$f":"IF(Comanda!D89<>0,Comanda!D89,\"\")","v":""},{"$f":"IF(Comanda!E89<>0,Comanda!E89,\"\")","v":""},{"$f":"IF(Comanda!F89<>0,Comanda!F89,\"\")","v":""},{"$f":"IF(Comanda!G89<>0,1,0)","v":0},{"$f":"IF(Comanda!H89=1,Comanda!$C$13,IF(Comanda!H89=2,Comanda!$C$14,IF(Comanda!$H89=3,Comanda!$C$15,IF(Comanda!$H89=4,Comanda!$C$16,0))))","v":0},{"$f":"IF(Comanda!I89=1,Comanda!$C$13,IF(Comanda!I89=2,Comanda!$C$14,IF(Comanda!$I89=3,Comanda!$C$15,IF(Comanda!$I89=4,Comanda!$C$16,0))))","v":0},{"$f":"IF(Comanda!J89=1,Comanda!$C$13,IF(Comanda!J89=2,Comanda!$C$14,IF(Comanda!$J89=3,Comanda!$C$15,IF(Comanda!$J89=4,Comanda!$C$16,0))))","v":0},{"$f":"IF(Comanda!K89=1,Comanda!$C$13,IF(Comanda!K89=2,Comanda!$C$14,IF(Comanda!$K89=3,Comanda!$C$15,IF(Comanda!$K89=4,Comanda!$C$16,0))))","v":0},{"$f":"IF(Comanda!B89<>0,Comanda!$C$2,\"\")","v":""},{"$f":"IF(Comanda!B89<>0,Comanda!$C$5,\"\")","v":""},{"$f":"IF(Comanda!B89<>0,Comanda!$G$2,\"\")","v":""},{"$f":"IF(Comanda!B89<>0,Comanda!L89,\"\")","v":""},{"$f":"IF(Comanda!D89<>0,VLOOKUP('Formula Cant'!F72,'Grafica Cant'!$G$2:$H$25,2,FALSE),\"\")","v":""},{"$nulls":8},{"$f":"IF(Comanda!B89<>0,Comanda!$C$9,\"\")","v":""},{"$f":"IF(Comanda!B89<>0,VLOOKUP(Comanda!$C$12,PRETURI!$A$2:$C$500,3,FALSE),\"\")","v":""},"",{"$f":"IF(H72<>0,VLOOKUP(H72,PRETURI!$D$2:$F$1093,3,FALSE),\"\")","v":""},{"v":0,"d":"0.00"},{"$f":"IF(I72<>0,VLOOKUP(I72,PRETURI!$D$2:$F$1093,3,FALSE),\"\")","v":""},{"v":0,"d":"0.00"},{"$f":"IF(J72<>0,VLOOKUP(J72,PRETURI!$D$2:$F$1093,3,FALSE),\"\")","v":""},{"v":0,"d":"0.00"},{"$f":"IF(K72<>0,VLOOKUP(K72,PRETURI!$D$2:$F$1093,3,FALSE),\"\")","v":""},{"v":0,"d":"0.00"},{"$nulls":6},{"$f":"(Comanda!D89*Comanda!E89*Comanda!F89)*0.000001","v":{"v":0,"d":"0.00"}},null,{"$f":"IF(Comanda!H89=1,(Comanda!D89*0.001+$BL$2)*Comanda!F89,\"\")","v":""},{"$f":"IF(Comanda!I89=1,(Comanda!D89*0.001+$BL$2)*Comanda!F89,\"\")","v":""},{"$f":"IF(Comanda!J89=1,(Comanda!E89*0.001+$BL$2)*Comanda!F89,\"\")","v":""},{"$f":"IF(Comanda!K89=1,(Comanda!E89*0.001+$BL$2)*Comanda!F89,\"\")","v":""},null,{"$f":"IF(Comanda!H89=2,(Comanda!D89*0.001+$BL$2)*Comanda!F89,\"\")","v":""},{"$f":"IF(Comanda!I89=2,(Comanda!D89*0.001+$BL$2)*Comanda!F89,\"\")","v":""},{"$f":"IF(Comanda!J89=2,(Comanda!E89*0.001+$BL$2)*Comanda!F89,\"\")","v":""},{"$f":"IF(Comanda!K89=2,(Comanda!E89*0.001+$BL$2)*Comanda!F89,\"\")","v":""},null,{"$f":"IF(Comanda!H89=3,(Comanda!D89*0.001+$BL$2)*Comanda!F89,\"\")","v":""},{"$f":"IF(Comanda!I89=3,(Comanda!D89*0.001+$BL$2)*Comanda!F89,\"\")","v":""},{"$f":"IF(Comanda!J89=3,(Comanda!E89*0.001+$BL$2)*Comanda!F89,\"\")","v":""},{"$f":"IF(Comanda!K89=3,(Comanda!E89*0.001+$BL$2)*Comanda!F89,\"\")","v":""},null,{"$f":"IF(Comanda!H89=4,(Comanda!D89*0.001+$BL$2)*Comanda!F89,\"\")","v":""},{"$f":"IF(Comanda!I89=4,(Comanda!D89*0.001+$BL$2)*Comanda!F89,\"\")","v":""},{"$f":"IF(Comanda!J89=4,(Comanda!E89*0.001+$BL$2)*Comanda!F89,\"\")","v":""},{"$f":"IF(Comanda!K89=4,(Comanda!E89*0.001+$BL$2)*Comanda!F89,\"\")","v":""}]
[71,{"$f":"IF(Comanda!B90<>0,Comanda!B90,\"\")","v":""},{"$f":"IF(Comanda!C90<>0,Comanda!C90,\"\")","v":""},{"$f":"IF(Comanda!D90<>0,Comanda!D90,\"\")","v":""},{"$f":"IF(Comanda!E90<>0,Comanda!E90,\"\")","v":""},{"$f":"IF(Comanda!F90<>0,Comanda!F90,\"\")","v":""},{"$f":"IF(Comanda!G90<>0,1,0)","v":0},{"$f":"IF(Comanda!H90=1,Comanda!$C$13,IF(Comanda!H90=2,Comanda!$C$14,IF(Comanda!$H90=3,Comanda!$C$15,IF(Comanda!$H90=4,Comanda!$C$16,0))))","v":0},{"$f":"IF(Comanda!I90=1,Comanda!$C$13,IF(Comanda!I90=2,Comanda!$C$14,IF(Comanda!$I90=3,Comanda!$C$15,IF(Comanda!$I90=4,Comanda!$C$16,0))))","v":0},{"$f":"IF(Comanda!J90=1,Comanda!$C$13,IF(Comanda!J90=2,Comanda!$C$14,IF(Comanda!$J90=3,Comanda!$C$15,IF(Comanda!$J90=4,Comanda!$C$16,0))))","v":0},{"$f":"IF(Comanda!K90=1,Comanda!$C$13,IF(Comanda!K90=2,Comanda!$C$14,IF(Comanda!$K90=3,Comanda!$C$15,IF(Comanda!$K90=4,Comanda!$C$16,0))))","v":0},{"$f":"IF(Comanda!B90<>0,Comanda!$C$2,\"\")","v":""},{"$f":"IF(Comanda!B90<>0,Comanda!$C$5,\"\")","v":""},{"$f":"IF(Comanda!B90<>0,Comanda!$G$2,\"\")","v":""},{"$f":"IF(Comanda!B90<>0,Comanda!L90,\"\")","v":""},{"$f":"IF(Comanda!D90<>0,VLOOKUP('Formula Cant'!F73,'Grafica Cant'!$G$2:$H$25,2,FALSE),\"\")","v":""},{"$nulls":8},{"$f":"IF(Comanda!B90<>0,Comanda!$C$9,\"\")","v":""},{"$f":"IF(Comanda!B90<>0,VLOOKUP(Comanda!$C$12,PRETURI!$A$2:$C$500,3,FALSE),\"\")","v":""},"",{"$f":"IF(H73<>0,VLOOKUP(H73,PRETURI!$D$2:$F$1093,3,FALSE),\"\")","v":""},{"v":0,"d":"0.00"},{"$f":"IF(I73<>0,VLOOKUP(I73,PRETURI!$D$2:$F$1093,3,FALSE),\"\")","v":""},{"v":0,"d":"0.00"},{"$f":"IF(J73<>0,VLOOKUP(J73,PRETURI!$D$2:$F$1093,3,FALSE),\"\")","v":""},{"v":0,"d":"0.00"},{"$f":"IF(K73<>0,VLOOKUP(K73,PRETURI!$D$2:$F$1093,3,FALSE),\"\")","v":""},{"v":0,"d":"0.00"},{"$nulls":6},{"$f":"(Comanda!D90*Comanda!E90*Comanda!F90)*0.000001","v":{"v":0,"d":"0.00"}},null,{"$f":"IF(Comanda!H90=1,(Comanda!D90*0.001+$BL$2)*Comanda!F90,\"\")","v":""},{"$f":"IF(Comanda!I90=1,(Comanda!D90*0.001+$BL$2)*Comanda!F90,\"\")","v":""},{"$f":"IF(Comanda!J90=1,(Comanda!E90*0.001+$BL$2)*Comanda!F90,\"\")","v":""},{"$f":"IF(Comanda!K90=1,(Comanda!E90*0.001+$BL$2)*Comanda!F90,\"\")","v":""},null,{"$f":"IF(Comanda!H90=2,(Comanda!D90*0.001+$BL$2)*Comanda!F90,\"\")","v":""},{"$f":"IF(Comanda!I90=2,(Comanda!D90*0.001+$BL$2)*Comanda!F90,\"\")","v":""},{"$f":"IF(Comanda!J90=2,(Comanda!E90*0.001+$BL$2)*Comanda!F90,\"\")","v":""},{"$f":"IF(Comanda!K90=2,(Comanda!E90*0.001+$BL$2)*Comanda!F90,\"\")","v":""},null,{"$f":"IF(Comanda!H90=3,(Comanda!D90*0.001+$BL$2)*Comanda!F90,\"\")","v":""},{"$f":"IF(Comanda!I90=3,(Comanda!D90*0.001+$BL$2)*Comanda!F90,\"\")","v":""},{"$f":"IF(Comanda!J90=3,(Comanda!E90*0.001+$BL$2)*Comanda!F90,\"\")","v":""},{"$f":"IF(Comanda!K90=3,(Comanda!E90*0.001+$BL$2)*Comanda!F90,\"\")","v":""},null,{"$f":"IF(Comanda!H90=4,(Comanda!D90*0.001+$BL$2)*Comanda!F90,\"\")","v":""},{"$f":"IF(Comanda!I90=4,(Comanda!D90*0.001+$BL$2)*Comanda!F90,\"\")","v":""},{"$f":"IF(Comanda!J90=4,(Comanda!E90*0.001+$BL$2)*Comanda!F90,\"\")","v":""},{"$f":"IF(Comanda!K90=4,(Comanda!E90*0.001+$BL$2)*Comanda!F90,\"\")","v":""}]
[72,{"$f":"IF(Comanda!B91<>0,Comanda!B91,\"\")","v":""},{"$f":"IF(Comanda!C91<>0,Comanda!C91,\"\")","v":""},{"$f":"IF(Comanda!D91<>0,Comanda!D91,\"\")","v":""},{"$f":"IF(Comanda!E91<>0,Comanda!E91,\"\")","v":""},{"$f":"IF(Comanda!F91<>0,Comanda!F91,\"\")","v":""},{"$f":"IF(Comanda!G91<>0,1,0)","v":0},{"$f":"IF(Comanda!H91=1,Comanda!$C$13,IF(Comanda!H91=2,Comanda!$C$14,IF(Comanda!$H91=3,Comanda!$C$15,IF(Comanda!$H91=4,Comanda!$C$16,0))))","v":0},{"$f":"IF(Comanda!I91=1,Comanda!$C$13,IF(Comanda!I91=2,Comanda!$C$14,IF(Comanda!$I91=3,Comanda!$C$15,IF(Comanda!$I91=4,Comanda!$C$16,0))))","v":0},{"$f":"IF(Comanda!J91=1,Comanda!$C$13,IF(Comanda!J91=2,Comanda!$C$14,IF(Comanda!$J91=3,Comanda!$C$15,IF(Comanda!$J91=4,Comanda!$C$16,0))))","v":0},{"$f":"IF(Comanda!K91=1,Comanda!$C$13,IF(Comanda!K91=2,Comanda!$C$14,IF(Comanda!$K91=3,Comanda!$C$15,IF(Comanda!$K91=4,Comanda!$C$16,0))))","v":0},{"$f":"IF(Comanda!B91<>0,Comanda!$C$2,\"\")","v":""},{"$f":"IF(Comanda!B91<>0,Comanda!$C$5,\"\")","v":""},{"$f":"IF(Comanda!B91<>0,Comanda!$G$2,\"\")","v":""},{"$f":"IF(Comanda!B91<>0,Comanda!L91,\"\")","v":""},{"$f":"IF(Comanda!D91<>0,VLOOKUP('Formula Cant'!F74,'Grafica Cant'!$G$2:$H$25,2,FALSE),\"\")","v":""},{"$nulls":8},{"$f":"IF(Comanda!B91<>0,Comanda!$C$9,\"\")","v":""},{"$f":"IF(Comanda!B91<>0,VLOOKUP(Comanda!$C$12,PRETURI!$A$2:$C$500,3,FALSE),\"\")","v":""},"",{"$f":"IF(H74<>0,VLOOKUP(H74,PRETURI!$D$2:$F$1093,3,FALSE),\"\")","v":""},{"v":0,"d":"0.00"},{"$f":"IF(I74<>0,VLOOKUP(I74,PRETURI!$D$2:$F$1093,3,FALSE),\"\")","v":""},{"v":0,"d":"0.00"},{"$f":"IF(J74<>0,VLOOKUP(J74,PRETURI!$D$2:$F$1093,3,FALSE),\"\")","v":""},{"v":0,"d":"0.00"},{"$f":"IF(K74<>0,VLOOKUP(K74,PRETURI!$D$2:$F$1093,3,FALSE),\"\")","v":""},{"v":0,"d":"0.00"},{"$nulls":6},{"$f":"(Comanda!D91*Comanda!E91*Comanda!F91)*0.000001","v":{"v":0,"d":"0.00"}},null,{"$f":"IF(Comanda!H91=1,(Comanda!D91*0.001+$BL$2)*Comanda!F91,\"\")","v":""},{"$f":"IF(Comanda!I91=1,(Comanda!D91*0.001+$BL$2)*Comanda!F91,\"\")","v":""},{"$f":"IF(Comanda!J91=1,(Comanda!E91*0.001+$BL$2)*Comanda!F91,\"\")","v":""},{"$f":"IF(Comanda!K91=1,(Comanda!E91*0.001+$BL$2)*Comanda!F91,\"\")","v":""},null,{"$f":"IF(Comanda!H91=2,(Comanda!D91*0.001+$BL$2)*Comanda!F91,\"\")","v":""},{"$f":"IF(Comanda!I91=2,(Comanda!D91*0.001+$BL$2)*Comanda!F91,\"\")","v":""},{"$f":"IF(Comanda!J91=2,(Comanda!E91*0.001+$BL$2)*Comanda!F91,\"\")","v":""},{"$f":"IF(Comanda!K91=2,(Comanda!E91*0.001+$BL$2)*Comanda!F91,\"\")","v":""},null,{"$f":"IF(Comanda!H91=3,(Comanda!D91*0.001+$BL$2)*Comanda!F91,\"\")","v":""},{"$f":"IF(Comanda!I91=3,(Comanda!D91*0.001+$BL$2)*Comanda!F91,\"\")","v":""},{"$f":"IF(Comanda!J91=3,(Comanda!E91*0.001+$BL$2)*Comanda!F91,\"\")","v":""},{"$f":"IF(Comanda!K91=3,(Comanda!E91*0.001+$BL$2)*Comanda!F91,\"\")","v":""},null,{"$f":"IF(Comanda!H91=4,(Comanda!D91*0.001+$BL$2)*Comanda!F91,\"\")","v":""},{"$f":"IF(Comanda!I91=4,(Comanda!D91*0.001+$BL$2)*Comanda!F91,\"\")","v":""},{"$f":"IF(Comanda!J91=4,(Comanda!E91*0.001+$BL$2)*Comanda!F91,\"\")","v":""},{"$f":"IF(Comanda!K91=4,(Comanda!E91*0.001+$BL$2)*Comanda!F91,\"\")","v":""}]
[73,{"$f":"IF(Comanda!B92<>0,Comanda!B92,\"\")","v":""},{"$f":"IF(Comanda!C92<>0,Comanda!C92,\"\")","v":""},{"$f":"IF(Comanda!D92<>0,Comanda!D92,\"\")","v":""},{"$f":"IF(Comanda!E92<>0,Comanda!E92,\"\")","v":""},{"$f":"IF(Comanda!F92<>0,Comanda!F92,\"\")","v":""},{"$f":"IF(Comanda!G92<>0,1,0)","v":0},{"$f":"IF(Comanda!H92=1,Comanda!$C$13,IF(Comanda!H92=2,Comanda!$C$14,IF(Comanda!$H92=3,Comanda!$C$15,IF(Comanda!$H92=4,Comanda!$C$16,0))))","v":0},{"$f":"IF(Comanda!I92=1,Comanda!$C$13,IF(Comanda!I92=2,Comanda!$C$14,IF(Comanda!$I92=3,Comanda!$C$15,IF(Comanda!$I92=4,Comanda!$C$16,0))))","v":0},{"$f":"IF(Comanda!J92=1,Comanda!$C$13,IF(Comanda!J92=2,Comanda!$C$14,IF(Comanda!$J92=3,Comanda!$C$15,IF(Comanda!$J92=4,Comanda!$C$16,0))))","v":0},{"$f":"IF(Comanda!K92=1,Comanda!$C$13,IF(Comanda!K92=2,Comanda!$C$14,IF(Comanda!$K92=3,Comanda!$C$15,IF(Comanda!$K92=4,Comanda!$C$16,0))))","v":0},{"$f":"IF(Comanda!B92<>0,Comanda!$C$2,\"\")","v":""},{"$f":"IF(Comanda!B92<>0,Comanda!$C$5,\"\")","v":""},{"$f":"IF(Comanda!B92<>0,Comanda!$G$2,\"\")","v":""},{"$f":"IF(Comanda!B92<>0,Comanda!L92,\"\")","v":""},{"$f":"IF(Comanda!D92<>0,VLOOKUP('Formula Cant'!F75,'Grafica Cant'!$G$2:$H$25,2,FALSE),\"\")","v":""},{"$nulls":8},{"$f":"IF(Comanda!B92<>0,Comanda!$C$9,\"\")","v":""},{"$f":"IF(Comanda!B92<>0,VLOOKUP(Comanda!$C$12,PRETURI!$A$2:$C$500,3,FALSE),\"\")","v":""},"",{"$f":"IF(H75<>0,VLOOKUP(H75,PRETURI!$D$2:$F$1093,3,FALSE),\"\")","v":""},{"v":0,"d":"0.00"},{"$f":"IF(I75<>0,VLOOKUP(I75,PRETURI!$D$2:$F$1093,3,FALSE),\"\")","v":""},{"v":0,"d":"0.00"},{"$f":"IF(J75<>0,VLOOKUP(J75,PRETURI!$D$2:$F$1093,3,FALSE),\"\")","v":""},{"v":0,"d":"0.00"},{"$f":"IF(K75<>0,VLOOKUP(K75,PRETURI!$D$2:$F$1093,3,FALSE),\"\")","v":""},{"v":0,"d":"0.00"},{"$nulls":6},{"$f":"(Comanda!D92*Comanda!E92*Comanda!F92)*0.000001","v":{"v":0,"d":"0.00"}},null,{"$f":"IF(Comanda!H92=1,(Comanda!D92*0.001+$BL$2)*Comanda!F92,\"\")","v":""},{"$f":"IF(Comanda!I92=1,(Comanda!D92*0.001+$BL$2)*Comanda!F92,\"\")","v":""},{"$f":"IF(Comanda!J92=1,(Comanda!E92*0.001+$BL$2)*Comanda!F92,\"\")","v":""},{"$f":"IF(Comanda!K92=1,(Comanda!E92*0.001+$BL$2)*Comanda!F92,\"\")","v":""},null,{"$f":"IF(Comanda!H92=2,(Comanda!D92*0.001+$BL$2)*Comanda!F92,\"\")","v":""},{"$f":"IF(Comanda!I92=2,(Comanda!D92*0.001+$BL$2)*Comanda!F92,\"\")","v":""},{"$f":"IF(Comanda!J92=2,(Comanda!E92*0.001+$BL$2)*Comanda!F92,\"\")","v":""},{"$f":"IF(Comanda!K92=2,(Comanda!E92*0.001+$BL$2)*Comanda!F92,\"\")","v":""},null,{"$f":"IF(Comanda!H92=3,(Comanda!D92*0.001+$BL$2)*Comanda!F92,\"\")","v":""},{"$f":"IF(Comanda!I92=3,(Comanda!D92*0.001+$BL$2)*Comanda!F92,\"\")","v":""},{"$f":"IF(Comanda!J92=3,(Comanda!E92*0.001+$BL$2)*Comanda!F92,\"\")","v":""},{"$f":"IF(Comanda!K92=3,(Comanda!E92*0.001+$BL$2)*Comanda!F92,\"\")","v":""},null,{"$f":"IF(Comanda!H92=4,(Comanda!D92*0.001+$BL$2)*Comanda!F92,\"\")","v":""},{"$f":"IF(Comanda!I92=4,(Comanda!D92*0.001+$BL$2)*Comanda!F92,\"\")","v":""},{"$f":"IF(Comanda!J92=4,(Comanda!E92*0.001+$BL$2)*Comanda!F92,\"\")","v":""},{"$f":"IF(Comanda!K92=4,(Comanda!E92*0.001+$BL$2)*Comanda!F92,\"\")","v":""}]
[74,{"$f":"IF(Comanda!B93<>0,Comanda!B93,\"\")","v":""},{"$f":"IF(Comanda!C93<>0,Comanda!C93,\"\")","v":""},{"$f":"IF(Comanda!D93<>0,Comanda!D93,\"\")","v":""},{"$f":"IF(Comanda!E93<>0,Comanda!E93,\"\")","v":""},{"$f":"IF(Comanda!F93<>0,Comanda!F93,\"\")","v":""},{"$f":"IF(Comanda!G93<>0,1,0)","v":0},{"$f":"IF(Comanda!H93=1,Comanda!$C$13,IF(Comanda!H93=2,Comanda!$C$14,IF(Comanda!$H93=3,Comanda!$C$15,IF(Comanda!$H93=4,Comanda!$C$16,0))))","v":0},{"$f":"IF(Comanda!I93=1,Comanda!$C$13,IF(Comanda!I93=2,Comanda!$C$14,IF(Comanda!$I93=3,Comanda!$C$15,IF(Comanda!$I93=4,Comanda!$C$16,0))))","v":0},{"$f":"IF(Comanda!J93=1,Comanda!$C$13,IF(Comanda!J93=2,Comanda!$C$14,IF(Comanda!$J93=3,Comanda!$C$15,IF(Comanda!$J93=4,Comanda!$C$16,0))))","v":0},{"$f":"IF(Comanda!K93=1,Comanda!$C$13,IF(Comanda!K93=2,Comanda!$C$14,IF(Comanda!$K93=3,Comanda!$C$15,IF(Comanda!$K93=4,Comanda!$C$16,0))))","v":0},{"$f":"IF(Comanda!B93<>0,Comanda!$C$2,\"\")","v":""},{"$f":"IF(Comanda!B93<>0,Comanda!$C$5,\"\")","v":""},{"$f":"IF(Comanda!B93<>0,Comanda!$G$2,\"\")","v":""},{"$f":"IF(Comanda!B93<>0,Comanda!L93,\"\")","v":""},{"$f":"IF(Comanda!D93<>0,VLOOKUP('Formula Cant'!F76,'Grafica Cant'!$G$2:$H$25,2,FALSE),\"\")","v":""},{"$nulls":8},{"$f":"IF(Comanda!B93<>0,Comanda!$C$9,\"\")","v":""},{"$f":"IF(Comanda!B93<>0,VLOOKUP(Comanda!$C$12,PRETURI!$A$2:$C$500,3,FALSE),\"\")","v":""},"",{"$f":"IF(H76<>0,VLOOKUP(H76,PRETURI!$D$2:$F$1093,3,FALSE),\"\")","v":""},{"v":0,"d":"0.00"},{"$f":"IF(I76<>0,VLOOKUP(I76,PRETURI!$D$2:$F$1093,3,FALSE),\"\")","v":""},{"v":0,"d":"0.00"},{"$f":"IF(J76<>0,VLOOKUP(J76,PRETURI!$D$2:$F$1093,3,FALSE),\"\")","v":""},{"v":0,"d":"0.00"},{"$f":"IF(K76<>0,VLOOKUP(K76,PRETURI!$D$2:$F$1093,3,FALSE),\"\")","v":""},{"v":0,"d":"0.00"},{"$nulls":6},{"$f":"(Comanda!D93*Comanda!E93*Comanda!F93)*0.000001","v":{"v":0,"d":"0.00"}},null,{"$f":"IF(Comanda!H93=1,(Comanda!D93*0.001+$BL$2)*Comanda!F93,\"\")","v":""},{"$f":"IF(Comanda!I93=1,(Comanda!D93*0.001+$BL$2)*Comanda!F93,\"\")","v":""},{"$f":"IF(Comanda!J93=1,(Comanda!E93*0.001+$BL$2)*Comanda!F93,\"\")","v":""},{"$f":"IF(Comanda!K93=1,(Comanda!E93*0.001+$BL$2)*Comanda!F93,\"\")","v":""},null,{"$f":"IF(Comanda!H93=2,(Comanda!D93*0.001+$BL$2)*Comanda!F93,\"\")","v":""},{"$f":"IF(Comanda!I93=2,(Comanda!D93*0.001+$BL$2)*Comanda!F93,\"\")","v":""},{"$f":"IF(Comanda!J93=2,(Comanda!E93*0.001+$BL$2)*Comanda!F93,\"\")","v":""},{"$f":"IF(Comanda!K93=2,(Comanda!E93*0.001+$BL$2)*Comanda!F93,\"\")","v":""},null,{"$f":"IF(Comanda!H93=3,(Comanda!D93*0.001+$BL$2)*Comanda!F93,\"\")","v":""},{"$f":"IF(Comanda!I93=3,(Comanda!D93*0.001+$BL$2)*Comanda!F93,\"\")","v":""},{"$f":"IF(Comanda!J93=3,(Comanda!E93*0.001+$BL$2)*Comanda!F93,\"\")","v":""},{"$f":"IF(Comanda!K93=3,(Comanda!E93*0.001+$BL$2)*Comanda!F93,\"\")","v":""},null,{"$f":"IF(Comanda!H93=4,(Comanda!D93*0.001+$BL$2)*Comanda!F93,\"\")","v":""},{"$f":"IF(Comanda!I93=4,(Comanda!D93*0.001+$BL$2)*Comanda!F93,\"\")","v":""},{"$f":"IF(Comanda!J93=4,(Comanda!E93*0.001+$BL$2)*Comanda!F93,\"\")","v":""},{"$f":"IF(Comanda!K93=4,(Comanda!E93*0.001+$BL$2)*Comanda!F93,\"\")","v":""}]
[75,{"$f":"IF(Comanda!B94<>0,Comanda!B94,\"\")","v":""},{"$f":"IF(Comanda!C94<>0,Comanda!C94,\"\")","v":""},{"$f":"IF(Comanda!D94<>0,Comanda!D94,\"\")","v":""},{"$f":"IF(Comanda!E94<>0,Comanda!E94,\"\")","v":""},{"$f":"IF(Comanda!F94<>0,Comanda!F94,\"\")","v":""},{"$f":"IF(Comanda!G94<>0,1,0)","v":0},{"$f":"IF(Comanda!H94=1,Comanda!$C$13,IF(Comanda!H94=2,Comanda!$C$14,IF(Comanda!$H94=3,Comanda!$C$15,IF(Comanda!$H94=4,Comanda!$C$16,0))))","v":0},{"$f":"IF(Comanda!I94=1,Comanda!$C$13,IF(Comanda!I94=2,Comanda!$C$14,IF(Comanda!$I94=3,Comanda!$C$15,IF(Comanda!$I94=4,Comanda!$C$16,0))))","v":0},{"$f":"IF(Comanda!J94=1,Comanda!$C$13,IF(Comanda!J94=2,Comanda!$C$14,IF(Comanda!$J94=3,Comanda!$C$15,IF(Comanda!$J94=4,Comanda!$C$16,0))))","v":0},{"$f":"IF(Comanda!K94=1,Comanda!$C$13,IF(Comanda!K94=2,Comanda!$C$14,IF(Comanda!$K94=3,Comanda!$C$15,IF(Comanda!$K94=4,Comanda!$C$16,0))))","v":0},{"$f":"IF(Comanda!B94<>0,Comanda!$C$2,\"\")","v":""},{"$f":"IF(Comanda!B94<>0,Comanda!$C$5,\"\")","v":""},{"$f":"IF(Comanda!B94<>0,Comanda!$G$2,\"\")","v":""},{"$f":"IF(Comanda!B94<>0,Comanda!L94,\"\")","v":""},{"$f":"IF(Comanda!D94<>0,VLOOKUP('Formula Cant'!F77,'Grafica Cant'!$G$2:$H$25,2,FALSE),\"\")","v":""},{"$nulls":8},{"$f":"IF(Comanda!B94<>0,Comanda!$C$9,\"\")","v":""},{"$f":"IF(Comanda!B94<>0,VLOOKUP(Comanda!$C$12,PRETURI!$A$2:$C$500,3,FALSE),\"\")","v":""},"",{"$f":"IF(H77<>0,VLOOKUP(H77,PRETURI!$D$2:$F$1093,3,FALSE),\"\")","v":""},{"v":0,"d":"0.00"},{"$f":"IF(I77<>0,VLOOKUP(I77,PRETURI!$D$2:$F$1093,3,FALSE),\"\")","v":""},{"v":0,"d":"0.00"},{"$f":"IF(J77<>0,VLOOKUP(J77,PRETURI!$D$2:$F$1093,3,FALSE),\"\")","v":""},{"v":0,"d":"0.00"},{"$f":"IF(K77<>0,VLOOKUP(K77,PRETURI!$D$2:$F$1093,3,FALSE),\"\")","v":""},{"v":0,"d":"0.00"},{"$nulls":6},{"$f":"(Comanda!D94*Comanda!E94*Comanda!F94)*0.000001","v":{"v":0,"d":"0.00"}},null,{"$f":"IF(Comanda!H94=1,(Comanda!D94*0.001+$BL$2)*Comanda!F94,\"\")","v":""},{"$f":"IF(Comanda!I94=1,(Comanda!D94*0.001+$BL$2)*Comanda!F94,\"\")","v":""},{"$f":"IF(Comanda!J94=1,(Comanda!E94*0.001+$BL$2)*Comanda!F94,\"\")","v":""},{"$f":"IF(Comanda!K94=1,(Comanda!E94*0.001+$BL$2)*Comanda!F94,\"\")","v":""},null,{"$f":"IF(Comanda!H94=2,(Comanda!D94*0.001+$BL$2)*Comanda!F94,\"\")","v":""},{"$f":"IF(Comanda!I94=2,(Comanda!D94*0.001+$BL$2)*Comanda!F94,\"\")","v":""},{"$f":"IF(Comanda!J94=2,(Comanda!E94*0.001+$BL$2)*Comanda!F94,\"\")","v":""},{"$f":"IF(Comanda!K94=2,(Comanda!E94*0.001+$BL$2)*Comanda!F94,\"\")","v":""},null,{"$f":"IF(Comanda!H94=3,(Comanda!D94*0.001+$BL$2)*Comanda!F94,\"\")","v":""},{"$f":"IF(Comanda!I94=3,(Comanda!D94*0.001+$BL$2)*Comanda!F94,\"\")","v":""},{"$f":"IF(Comanda!J94=3,(Comanda!E94*0.001+$BL$2)*Comanda!F94,\"\")","v":""},{"$f":"IF(Comanda!K94=3,(Comanda!E94*0.001+$BL$2)*Comanda!F94,\"\")","v":""},null,{"$f":"IF(Comanda!H94=4,(Comanda!D94*0.001+$BL$2)*Comanda!F94,\"\")","v":""},{"$f":"IF(Comanda!I94=4,(Comanda!D94*0.001+$BL$2)*Comanda!F94,\"\")","v":""},{"$f":"IF(Comanda!J94=4,(Comanda!E94*0.001+$BL$2)*Comanda!F94,\"\")","v":""},{"$f":"IF(Comanda!K94=4,(Comanda!E94*0.001+$BL$2)*Comanda!F94,\"\")","v":""}]
[76,{"$f":"IF(Comanda!B95<>0,Comanda!B95,\"\")","v":""},{"$f":"IF(Comanda!C95<>0,Comanda!C95,\"\")","v":""},{"$f":"IF(Comanda!D95<>0,Comanda!D95,\"\")","v":""},{"$f":"IF(Comanda!E95<>0,Comanda!E95,\"\")","v":""},{"$f":"IF(Comanda!F95<>0,Comanda!F95,\"\")","v":""},{"$f":"IF(Comanda!G95<>0,1,0)","v":0},{"$f":"IF(Comanda!H95=1,Comanda!$C$13,IF(Comanda!H95=2,Comanda!$C$14,IF(Comanda!$H95=3,Comanda!$C$15,IF(Comanda!$H95=4,Comanda!$C$16,0))))","v":0},{"$f":"IF(Comanda!I95=1,Comanda!$C$13,IF(Comanda!I95=2,Comanda!$C$14,IF(Comanda!$I95=3,Comanda!$C$15,IF(Comanda!$I95=4,Comanda!$C$16,0))))","v":0},{"$f":"IF(Comanda!J95=1,Comanda!$C$13,IF(Comanda!J95=2,Comanda!$C$14,IF(Comanda!$J95=3,Comanda!$C$15,IF(Comanda!$J95=4,Comanda!$C$16,0))))","v":0},{"$f":"IF(Comanda!K95=1,Comanda!$C$13,IF(Comanda!K95=2,Comanda!$C$14,IF(Comanda!$K95=3,Comanda!$C$15,IF(Comanda!$K95=4,Comanda!$C$16,0))))","v":0},{"$f":"IF(Comanda!B95<>0,Comanda!$C$2,\"\")","v":""},{"$f":"IF(Comanda!B95<>0,Comanda!$C$5,\"\")","v":""},{"$f":"IF(Comanda!B95<>0,Comanda!$G$2,\"\")","v":""},{"$f":"IF(Comanda!B95<>0,Comanda!L95,\"\")","v":""},{"$f":"IF(Comanda!D95<>0,VLOOKUP('Formula Cant'!F78,'Grafica Cant'!$G$2:$H$25,2,FALSE),\"\")","v":""},{"$nulls":8},{"$f":"IF(Comanda!B95<>0,Comanda!$C$9,\"\")","v":""},{"$f":"IF(Comanda!B95<>0,VLOOKUP(Comanda!$C$12,PRETURI!$A$2:$C$500,3,FALSE),\"\")","v":""},"",{"$f":"IF(H78<>0,VLOOKUP(H78,PRETURI!$D$2:$F$1093,3,FALSE),\"\")","v":""},{"v":0,"d":"0.00"},{"$f":"IF(I78<>0,VLOOKUP(I78,PRETURI!$D$2:$F$1093,3,FALSE),\"\")","v":""},{"v":0,"d":"0.00"},{"$f":"IF(J78<>0,VLOOKUP(J78,PRETURI!$D$2:$F$1093,3,FALSE),\"\")","v":""},{"v":0,"d":"0.00"},{"$f":"IF(K78<>0,VLOOKUP(K78,PRETURI!$D$2:$F$1093,3,FALSE),\"\")","v":""},{"v":0,"d":"0.00"},{"$nulls":6},{"$f":"(Comanda!D95*Comanda!E95*Comanda!F95)*0.000001","v":{"v":0,"d":"0.00"}},null,{"$f":"IF(Comanda!H95=1,(Comanda!D95*0.001+$BL$2)*Comanda!F95,\"\")","v":""},{"$f":"IF(Comanda!I95=1,(Comanda!D95*0.001+$BL$2)*Comanda!F95,\"\")","v":""},{"$f":"IF(Comanda!J95=1,(Comanda!E95*0.001+$BL$2)*Comanda!F95,\"\")","v":""},{"$f":"IF(Comanda!K95=1,(Comanda!E95*0.001+$BL$2)*Comanda!F95,\"\")","v":""},null,{"$f":"IF(Comanda!H95=2,(Comanda!D95*0.001+$BL$2)*Comanda!F95,\"\")","v":""},{"$f":"IF(Comanda!I95=2,(Comanda!D95*0.001+$BL$2)*Comanda!F95,\"\")","v":""},{"$f":"IF(Comanda!J95=2,(Comanda!E95*0.001+$BL$2)*Comanda!F95,\"\")","v":""},{"$f":"IF(Comanda!K95=2,(Comanda!E95*0.001+$BL$2)*Comanda!F95,\"\")","v":""},null,{"$f":"IF(Comanda!H95=3,(Comanda!D95*0.001+$BL$2)*Comanda!F95,\"\")","v":""},{"$f":"IF(Comanda!I95=3,(Comanda!D95*0.001+$BL$2)*Comanda!F95,\"\")","v":""},{"$f":"IF(Comanda!J95=3,(Comanda!E95*0.001+$BL$2)*Comanda!F95,\"\")","v":""},{"$f":"IF(Comanda!K95=3,(Comanda!E95*0.001+$BL$2)*Comanda!F95,\"\")","v":""},null,{"$f":"IF(Comanda!H95=4,(Comanda!D95*0.001+$BL$2)*Comanda!F95,\"\")","v":""},{"$f":"IF(Comanda!I95=4,(Comanda!D95*0.001+$BL$2)*Comanda!F95,\"\")","v":""},{"$f":"IF(Comanda!J95=4,(Comanda!E95*0.001+$BL$2)*Comanda!F95,\"\")","v":""},{"$f":"IF(Comanda!K95=4,(Comanda!E95*0.001+$BL$2)*Comanda!F95,\"\")","v":""}]
[77,{"$f":"IF(Comanda!B96<>0,Comanda!B96,\"\")","v":""},{"$f":"IF(Comanda!C96<>0,Comanda!C96,\"\")","v":""},{"$f":"IF(Comanda!D96<>0,Comanda!D96,\"\")","v":""},{"$f":"IF(Comanda!E96<>0,Comanda!E96,\"\")","v":""},{"$f":"IF(Comanda!F96<>0,Comanda!F96,\"\")","v":""},{"$f":"IF(Comanda!G96<>0,1,0)","v":0},{"$f":"IF(Comanda!H96=1,Comanda!$C$13,IF(Comanda!H96=2,Comanda!$C$14,IF(Comanda!$H96=3,Comanda!$C$15,IF(Comanda!$H96=4,Comanda!$C$16,0))))","v":0},{"$f":"IF(Comanda!I96=1,Comanda!$C$13,IF(Comanda!I96=2,Comanda!$C$14,IF(Comanda!$I96=3,Comanda!$C$15,IF(Comanda!$I96=4,Comanda!$C$16,0))))","v":0},{"$f":"IF(Comanda!J96=1,Comanda!$C$13,IF(Comanda!J96=2,Comanda!$C$14,IF(Comanda!$J96=3,Comanda!$C$15,IF(Comanda!$J96=4,Comanda!$C$16,0))))","v":0},{"$f":"IF(Comanda!K96=1,Comanda!$C$13,IF(Comanda!K96=2,Comanda!$C$14,IF(Comanda!$K96=3,Comanda!$C$15,IF(Comanda!$K96=4,Comanda!$C$16,0))))","v":0},{"$f":"IF(Comanda!B96<>0,Comanda!$C$2,\"\")","v":""},{"$f":"IF(Comanda!B96<>0,Comanda!$C$5,\"\")","v":""},{"$f":"IF(Comanda!B96<>0,Comanda!$G$2,\"\")","v":""},{"$f":"IF(Comanda!B96<>0,Comanda!L96,\"\")","v":""},{"$f":"IF(Comanda!D96<>0,VLOOKUP('Formula Cant'!F79,'Grafica Cant'!$G$2:$H$25,2,FALSE),\"\")","v":""},{"$nulls":8},{"$f":"IF(Comanda!B96<>0,Comanda!$C$9,\"\")","v":""},{"$f":"IF(Comanda!B96<>0,VLOOKUP(Comanda!$C$12,PRETURI!$A$2:$C$500,3,FALSE),\"\")","v":""},"",{"$f":"IF(H79<>0,VLOOKUP(H79,PRETURI!$D$2:$F$1093,3,FALSE),\"\")","v":""},{"v":0,"d":"0.00"},{"$f":"IF(I79<>0,VLOOKUP(I79,PRETURI!$D$2:$F$1093,3,FALSE),\"\")","v":""},{"v":0,"d":"0.00"},{"$f":"IF(J79<>0,VLOOKUP(J79,PRETURI!$D$2:$F$1093,3,FALSE),\"\")","v":""},{"v":0,"d":"0.00"},{"$f":"IF(K79<>0,VLOOKUP(K79,PRETURI!$D$2:$F$1093,3,FALSE),\"\")","v":""},{"v":0,"d":"0.00"},{"$nulls":6},{"$f":"(Comanda!D96*Comanda!E96*Comanda!F96)*0.000001","v":{"v":0,"d":"0.00"}},null,{"$f":"IF(Comanda!H96=1,(Comanda!D96*0.001+$BL$2)*Comanda!F96,\"\")","v":""},{"$f":"IF(Comanda!I96=1,(Comanda!D96*0.001+$BL$2)*Comanda!F96,\"\")","v":""},{"$f":"IF(Comanda!J96=1,(Comanda!E96*0.001+$BL$2)*Comanda!F96,\"\")","v":""},{"$f":"IF(Comanda!K96=1,(Comanda!E96*0.001+$BL$2)*Comanda!F96,\"\")","v":""},null,{"$f":"IF(Comanda!H96=2,(Comanda!D96*0.001+$BL$2)*Comanda!F96,\"\")","v":""},{"$f":"IF(Comanda!I96=2,(Comanda!D96*0.001+$BL$2)*Comanda!F96,\"\")","v":""},{"$f":"IF(Comanda!J96=2,(Comanda!E96*0.001+$BL$2)*Comanda!F96,\"\")","v":""},{"$f":"IF(Comanda!K96=2,(Comanda!E96*0.001+$BL$2)*Comanda!F96,\"\")","v":""},null,{"$f":"IF(Comanda!H96=3,(Comanda!D96*0.001+$BL$2)*Comanda!F96,\"\")","v":""},{"$f":"IF(Comanda!I96=3,(Comanda!D96*0.001+$BL$2)*Comanda!F96,\"\")","v":""},{"$f":"IF(Comanda!J96=3,(Comanda!E96*0.001+$BL$2)*Comanda!F96,\"\")","v":""},{"$f":"IF(Comanda!K96=3,(Comanda!E96*0.001+$BL$2)*Comanda!F96,\"\")","v":""},null,{"$f":"IF(Comanda!H96=4,(Comanda!D96*0.001+$BL$2)*Comanda!F96,\"\")","v":""},{"$f":"IF(Comanda!I96=4,(Comanda!D96*0.001+$BL$2)*Comanda!F96,\"\")","v":""},{"$f":"IF(Comanda!J96=4,(Comanda!E96*0.001+$BL$2)*Comanda!F96,\"\")","v":""},{"$f":"IF(Comanda!K96=4,(Comanda!E96*0.001+$BL$2)*Comanda!F96,\"\")","v":""}]
[78,{"$f":"IF(Comanda!B97<>0,Comanda!B97,\"\")","v":""},{"$f":"IF(Comanda!C97<>0,Comanda!C97,\"\")","v":""},{"$f":"IF(Comanda!D97<>0,Comanda!D97,\"\")","v":""},{"$f":"IF(Comanda!E97<>0,Comanda!E97,\"\")","v":""},{"$f":"IF(Comanda!F97<>0,Comanda!F97,\"\")","v":""},{"$f":"IF(Comanda!G97<>0,1,0)","v":0},{"$f":"IF(Comanda!H97=1,Comanda!$C$13,IF(Comanda!H97=2,Comanda!$C$14,IF(Comanda!$H97=3,Comanda!$C$15,IF(Comanda!$H97=4,Comanda!$C$16,0))))","v":0},{"$f":"IF(Comanda!I97=1,Comanda!$C$13,IF(Comanda!I97=2,Comanda!$C$14,IF(Comanda!$I97=3,Comanda!$C$15,IF(Comanda!$I97=4,Comanda!$C$16,0))))","v":0},{"$f":"IF(Comanda!J97=1,Comanda!$C$13,IF(Comanda!J97=2,Comanda!$C$14,IF(Comanda!$J97=3,Comanda!$C$15,IF(Comanda!$J97=4,Comanda!$C$16,0))))","v":0},{"$f":"IF(Comanda!K97=1,Comanda!$C$13,IF(Comanda!K97=2,Comanda!$C$14,IF(Comanda!$K97=3,Comanda!$C$15,IF(Comanda!$K97=4,Comanda!$C$16,0))))","v":0},{"$f":"IF(Comanda!B97<>0,Comanda!$C$2,\"\")","v":""},{"$f":"IF(Comanda!B97<>0,Comanda!$C$5,\"\")","v":""},{"$f":"IF(Comanda!B97<>0,Comanda!$G$2,\"\")","v":""},{"$f":"IF(Comanda!B97<>0,Comanda!L97,\"\")","v":""},{"$f":"IF(Comanda!D97<>0,VLOOKUP('Formula Cant'!F80,'Grafica Cant'!$G$2:$H$25,2,FALSE),\"\")","v":""},{"$nulls":8},{"$f":"IF(Comanda!B97<>0,Comanda!$C$9,\"\")","v":""},{"$f":"IF(Comanda!B97<>0,VLOOKUP(Comanda!$C$12,PRETURI!$A$2:$C$500,3,FALSE),\"\")","v":""},"",{"$f":"IF(H80<>0,VLOOKUP(H80,PRETURI!$D$2:$F$1093,3,FALSE),\"\")","v":""},{"v":0,"d":"0.00"},{"$f":"IF(I80<>0,VLOOKUP(I80,PRETURI!$D$2:$F$1093,3,FALSE),\"\")","v":""},{"v":0,"d":"0.00"},{"$f":"IF(J80<>0,VLOOKUP(J80,PRETURI!$D$2:$F$1093,3,FALSE),\"\")","v":""},{"v":0,"d":"0.00"},{"$f":"IF(K80<>0,VLOOKUP(K80,PRETURI!$D$2:$F$1093,3,FALSE),\"\")","v":""},{"v":0,"d":"0.00"},{"$nulls":6},{"$f":"(Comanda!D97*Comanda!E97*Comanda!F97)*0.000001","v":{"v":0,"d":"0.00"}},null,{"$f":"IF(Comanda!H97=1,(Comanda!D97*0.001+$BL$2)*Comanda!F97,\"\")","v":""},{"$f":"IF(Comanda!I97=1,(Comanda!D97*0.001+$BL$2)*Comanda!F97,\"\")","v":""},{"$f":"IF(Comanda!J97=1,(Comanda!E97*0.001+$BL$2)*Comanda!F97,\"\")","v":""},{"$f":"IF(Comanda!K97=1,(Comanda!E97*0.001+$BL$2)*Comanda!F97,\"\")","v":""},null,{"$f":"IF(Comanda!H97=2,(Comanda!D97*0.001+$BL$2)*Comanda!F97,\"\")","v":""},{"$f":"IF(Comanda!I97=2,(Comanda!D97*0.001+$BL$2)*Comanda!F97,\"\")","v":""},{"$f":"IF(Comanda!J97=2,(Comanda!E97*0.001+$BL$2)*Comanda!F97,\"\")","v":""},{"$f":"IF(Comanda!K97=2,(Comanda!E97*0.001+$BL$2)*Comanda!F97,\"\")","v":""},null,{"$f":"IF(Comanda!H97=3,(Comanda!D97*0.001+$BL$2)*Comanda!F97,\"\")","v":""},{"$f":"IF(Comanda!I97=3,(Comanda!D97*0.001+$BL$2)*Comanda!F97,\"\")","v":""},{"$f":"IF(Comanda!J97=3,(Comanda!E97*0.001+$BL$2)*Comanda!F97,\"\")","v":""},{"$f":"IF(Comanda!K97=3,(Comanda!E97*0.001+$BL$2)*Comanda!F97,\"\")","v":""},null,{"$f":"IF(Comanda!H97=4,(Comanda!D97*0.001+$BL$2)*Comanda!F97,\"\")","v":""},{"$f":"IF(Comanda!I97=4,(Comanda!D97*0.001+$BL$2)*Comanda!F97,\"\")","v":""},{"$f":"IF(Comanda!J97=4,(Comanda!E97*0.001+$BL$2)*Comanda!F97,\"\")","v":""},{"$f":"IF(Comanda!K97=4,(Comanda!E97*0.001+$BL$2)*Comanda!F97,\"\")","v":""}]
[79,{"$f":"IF(Comanda!B98<>0,Comanda!B98,\"\")","v":""},{"$f":"IF(Comanda!C98<>0,Comanda!C98,\"\")","v":""},{"$f":"IF(Comanda!D98<>0,Comanda!D98,\"\")","v":""},{"$f":"IF(Comanda!E98<>0,Comanda!E98,\"\")","v":""},{"$f":"IF(Comanda!F98<>0,Comanda!F98,\"\")","v":""},{"$f":"IF(Comanda!G98<>0,1,0)","v":0},{"$f":"IF(Comanda!H98=1,Comanda!$C$13,IF(Comanda!H98=2,Comanda!$C$14,IF(Comanda!$H98=3,Comanda!$C$15,IF(Comanda!$H98=4,Comanda!$C$16,0))))","v":0},{"$f":"IF(Comanda!I98=1,Comanda!$C$13,IF(Comanda!I98=2,Comanda!$C$14,IF(Comanda!$I98=3,Comanda!$C$15,IF(Comanda!$I98=4,Comanda!$C$16,0))))","v":0},{"$f":"IF(Comanda!J98=1,Comanda!$C$13,IF(Comanda!J98=2,Comanda!$C$14,IF(Comanda!$J98=3,Comanda!$C$15,IF(Comanda!$J98=4,Comanda!$C$16,0))))","v":0},{"$f":"IF(Comanda!K98=1,Comanda!$C$13,IF(Comanda!K98=2,Comanda!$C$14,IF(Comanda!$K98=3,Comanda!$C$15,IF(Comanda!$K98=4,Comanda!$C$16,0))))","v":0},{"$f":"IF(Comanda!B98<>0,Comanda!$C$2,\"\")","v":""},{"$f":"IF(Comanda!B98<>0,Comanda!$C$5,\"\")","v":""},{"$f":"IF(Comanda!B98<>0,Comanda!$G$2,\"\")","v":""},{"$f":"IF(Comanda!B98<>0,Comanda!L98,\"\")","v":""},{"$f":"IF(Comanda!D98<>0,VLOOKUP('Formula Cant'!F81,'Grafica Cant'!$G$2:$H$25,2,FALSE),\"\")","v":""},{"$nulls":8},{"$f":"IF(Comanda!B98<>0,Comanda!$C$9,\"\")","v":""},{"$f":"IF(Comanda!B98<>0,VLOOKUP(Comanda!$C$12,PRETURI!$A$2:$C$500,3,FALSE),\"\")","v":""},"",{"$f":"IF(H81<>0,VLOOKUP(H81,PRETURI!$D$2:$F$1093,3,FALSE),\"\")","v":""},{"v":0,"d":"0.00"},{"$f":"IF(I81<>0,VLOOKUP(I81,PRETURI!$D$2:$F$1093,3,FALSE),\"\")","v":""},{"v":0,"d":"0.00"},{"$f":"IF(J81<>0,VLOOKUP(J81,PRETURI!$D$2:$F$1093,3,FALSE),\"\")","v":""},{"v":0,"d":"0.00"},{"$f":"IF(K81<>0,VLOOKUP(K81,PRETURI!$D$2:$F$1093,3,FALSE),\"\")","v":""},{"v":0,"d":"0.00"},{"$nulls":6},{"$f":"(Comanda!D98*Comanda!E98*Comanda!F98)*0.000001","v":{"v":0,"d":"0.00"}},null,{"$f":"IF(Comanda!H98=1,(Comanda!D98*0.001+$BL$2)*Comanda!F98,\"\")","v":""},{"$f":"IF(Comanda!I98=1,(Comanda!D98*0.001+$BL$2)*Comanda!F98,\"\")","v":""},{"$f":"IF(Comanda!J98=1,(Comanda!E98*0.001+$BL$2)*Comanda!F98,\"\")","v":""},{"$f":"IF(Comanda!K98=1,(Comanda!E98*0.001+$BL$2)*Comanda!F98,\"\")","v":""},null,{"$f":"IF(Comanda!H98=2,(Comanda!D98*0.001+$BL$2)*Comanda!F98,\"\")","v":""},{"$f":"IF(Comanda!I98=2,(Comanda!D98*0.001+$BL$2)*Comanda!F98,\"\")","v":""},{"$f":"IF(Comanda!J98=2,(Comanda!E98*0.001+$BL$2)*Comanda!F98,\"\")","v":""},{"$f":"IF(Comanda!K98=2,(Comanda!E98*0.001+$BL$2)*Comanda!F98,\"\")","v":""},null,{"$f":"IF(Comanda!H98=3,(Comanda!D98*0.001+$BL$2)*Comanda!F98,\"\")","v":""},{"$f":"IF(Comanda!I98=3,(Comanda!D98*0.001+$BL$2)*Comanda!F98,\"\")","v":""},{"$f":"IF(Comanda!J98=3,(Comanda!E98*0.001+$BL$2)*Comanda!F98,\"\")","v":""},{"$f":"IF(Comanda!K98=3,(Comanda!E98*0.001+$BL$2)*Comanda!F98,\"\")","v":""},null,{"$f":"IF(Comanda!H98=4,(Comanda!D98*0.001+$BL$2)*Comanda!F98,\"\")","v":""},{"$f":"IF(Comanda!I98=4,(Comanda!D98*0.001+$BL$2)*Comanda!F98,\"\")","v":""},{"$f":"IF(Comanda!J98=4,(Comanda!E98*0.001+$BL$2)*Comanda!F98,\"\")","v":""},{"$f":"IF(Comanda!K98=4,(Comanda!E98*0.001+$BL$2)*Comanda!F98,\"\")","v":""}]
[80,{"$f":"IF(Comanda!B99<>0,Comanda!B99,\"\")","v":""},{"$f":"IF(Comanda!C99<>0,Comanda!C99,\"\")","v":""},{"$f":"IF(Comanda!D99<>0,Comanda!D99,\"\")","v":""},{"$f":"IF(Comanda!E99<>0,Comanda!E99,\"\")","v":""},{"$f":"IF(Comanda!F99<>0,Comanda!F99,\"\")","v":""},{"$f":"IF(Comanda!G99<>0,1,0)","v":0},{"$f":"IF(Comanda!H99=1,Comanda!$C$13,IF(Comanda!H99=2,Comanda!$C$14,IF(Comanda!$H99=3,Comanda!$C$15,IF(Comanda!$H99=4,Comanda!$C$16,0))))","v":0},{"$f":"IF(Comanda!I99=1,Comanda!$C$13,IF(Comanda!I99=2,Comanda!$C$14,IF(Comanda!$I99=3,Comanda!$C$15,IF(Comanda!$I99=4,Comanda!$C$16,0))))","v":0},{"$f":"IF(Comanda!J99=1,Comanda!$C$13,IF(Comanda!J99=2,Comanda!$C$14,IF(Comanda!$J99=3,Comanda!$C$15,IF(Comanda!$J99=4,Comanda!$C$16,0))))","v":0},{"$f":"IF(Comanda!K99=1,Comanda!$C$13,IF(Comanda!K99=2,Comanda!$C$14,IF(Comanda!$K99=3,Comanda!$C$15,IF(Comanda!$K99=4,Comanda!$C$16,0))))","v":0},{"$f":"IF(Comanda!B99<>0,Comanda!$C$2,\"\")","v":""},{"$f":"IF(Comanda!B99<>0,Comanda!$C$5,\"\")","v":""},{"$f":"IF(Comanda!B99<>0,Comanda!$G$2,\"\")","v":""},{"$f":"IF(Comanda!B99<>0,Comanda!L99,\"\")","v":""},{"$f":"IF(Comanda!D99<>0,VLOOKUP('Formula Cant'!F82,'Grafica Cant'!$G$2:$H$25,2,FALSE),\"\")","v":""},{"$nulls":8},{"$f":"IF(Comanda!B99<>0,Comanda!$C$9,\"\")","v":""},{"$f":"IF(Comanda!B99<>0,VLOOKUP(Comanda!$C$12,PRETURI!$A$2:$C$500,3,FALSE),\"\")","v":""},"",{"$f":"IF(H82<>0,VLOOKUP(H82,PRETURI!$D$2:$F$1093,3,FALSE),\"\")","v":""},{"v":0,"d":"0.00"},{"$f":"IF(I82<>0,VLOOKUP(I82,PRETURI!$D$2:$F$1093,3,FALSE),\"\")","v":""},{"v":0,"d":"0.00"},{"$f":"IF(J82<>0,VLOOKUP(J82,PRETURI!$D$2:$F$1093,3,FALSE),\"\")","v":""},{"v":0,"d":"0.00"},{"$f":"IF(K82<>0,VLOOKUP(K82,PRETURI!$D$2:$F$1093,3,FALSE),\"\")","v":""},{"v":0,"d":"0.00"},{"$nulls":6},{"$f":"(Comanda!D99*Comanda!E99*Comanda!F99)*0.000001","v":{"v":0,"d":"0.00"}},null,{"$f":"IF(Comanda!H99=1,(Comanda!D99*0.001+$BL$2)*Comanda!F99,\"\")","v":""},{"$f":"IF(Comanda!I99=1,(Comanda!D99*0.001+$BL$2)*Comanda!F99,\"\")","v":""},{"$f":"IF(Comanda!J99=1,(Comanda!E99*0.001+$BL$2)*Comanda!F99,\"\")","v":""},{"$f":"IF(Comanda!K99=1,(Comanda!E99*0.001+$BL$2)*Comanda!F99,\"\")","v":""},null,{"$f":"IF(Comanda!H99=2,(Comanda!D99*0.001+$BL$2)*Comanda!F99,\"\")","v":""},{"$f":"IF(Comanda!I99=2,(Comanda!D99*0.001+$BL$2)*Comanda!F99,\"\")","v":""},{"$f":"IF(Comanda!J99=2,(Comanda!E99*0.001+$BL$2)*Comanda!F99,\"\")","v":""},{"$f":"IF(Comanda!K99=2,(Comanda!E99*0.001+$BL$2)*Comanda!F99,\"\")","v":""},null,{"$f":"IF(Comanda!H99=3,(Comanda!D99*0.001+$BL$2)*Comanda!F99,\"\")","v":""},{"$f":"IF(Comanda!I99=3,(Comanda!D99*0.001+$BL$2)*Comanda!F99,\"\")","v":""},{"$f":"IF(Comanda!J99=3,(Comanda!E99*0.001+$BL$2)*Comanda!F99,\"\")","v":""},{"$f":"IF(Comanda!K99=3,(Comanda!E99*0.001+$BL$2)*Comanda!F99,\"\")","v":""},null,{"$f":"IF(Comanda!H99=4,(Comanda!D99*0.001+$BL$2)*Comanda!F99,\"\")","v":""},{"$f":"IF(Comanda!I99=4,(Comanda!D99*0.001+$BL$2)*Comanda!F99,\"\")","v":""},{"$f":"IF(Comanda!J99=4,(Comanda!E99*0.001+$BL$2)*Comanda!F99,\"\")","v":""},{"$f":"IF(Comanda!K99=4,(Comanda!E99*0.001+$BL$2)*Comanda!F99,\"\")","v":""}]
[81,{"$f":"IF(Comanda!B100<>0,Comanda!B100,\"\")","v":""},{"$f":"IF(Comanda!C100<>0,Comanda!C100,\"\")","v":""},{"$f":"IF(Comanda!D100<>0,Comanda!D100,\"\")","v":""},{"$f":"IF(Comanda!E100<>0,Comanda!E100,\"\")","v":""},{"$f":"IF(Comanda!F100<>0,Comanda!F100,\"\")","v":""},{"$f":"IF(Comanda!G100<>0,1,0)","v":0},{"$f":"IF(Comanda!H100=1,Comanda!$C$13,IF(Comanda!H100=2,Comanda!$C$14,IF(Comanda!$H100=3,Comanda!$C$15,IF(Comanda!$H100=4,Comanda!$C$16,0))))","v":0},{"$f":"IF(Comanda!I100=1,Comanda!$C$13,IF(Comanda!I100=2,Comanda!$C$14,IF(Comanda!$I100=3,Comanda!$C$15,IF(Comanda!$I100=4,Comanda!$C$16,0))))","v":0},{"$f":"IF(Comanda!J100=1,Comanda!$C$13,IF(Comanda!J100=2,Comanda!$C$14,IF(Comanda!$J100=3,Comanda!$C$15,IF(Comanda!$J100=4,Comanda!$C$16,0))))","v":0},{"$f":"IF(Comanda!K100=1,Comanda!$C$13,IF(Comanda!K100=2,Comanda!$C$14,IF(Comanda!$K100=3,Comanda!$C$15,IF(Comanda!$K100=4,Comanda!$C$16,0))))","v":0},{"$f":"IF(Comanda!B100<>0,Comanda!$C$2,\"\")","v":""},{"$f":"IF(Comanda!B100<>0,Comanda!$C$5,\"\")","v":""},{"$f":"IF(Comanda!B100<>0,Comanda!$G$2,\"\")","v":""},{"$f":"IF(Comanda!B100<>0,Comanda!L100,\"\")","v":""},{"$f":"IF(Comanda!D100<>0,VLOOKUP('Formula Cant'!F83,'Grafica Cant'!$G$2:$H$25,2,FALSE),\"\")","v":""},{"$nulls":8},{"$f":"IF(Comanda!B100<>0,Comanda!$C$9,\"\")","v":""},{"$f":"IF(Comanda!B100<>0,VLOOKUP(Comanda!$C$12,PRETURI!$A$2:$C$500,3,FALSE),\"\")","v":""},"",{"$f":"IF(H83<>0,VLOOKUP(H83,PRETURI!$D$2:$F$1093,3,FALSE),\"\")","v":""},{"v":0,"d":"0.00"},{"$f":"IF(I83<>0,VLOOKUP(I83,PRETURI!$D$2:$F$1093,3,FALSE),\"\")","v":""},{"v":0,"d":"0.00"},{"$f":"IF(J83<>0,VLOOKUP(J83,PRETURI!$D$2:$F$1093,3,FALSE),\"\")","v":""},{"v":0,"d":"0.00"},{"$f":"IF(K83<>0,VLOOKUP(K83,PRETURI!$D$2:$F$1093,3,FALSE),\"\")","v":""},{"v":0,"d":"0.00"},{"$nulls":6},{"$f":"(Comanda!D100*Comanda!E100*Comanda!F100)*0.000001","v":{"v":0,"d":"0.00"}},null,{"$f":"IF(Comanda!H100=1,(Comanda!D100*0.001+$BL$2)*Comanda!F100,\"\")","v":""},{"$f":"IF(Comanda!I100=1,(Comanda!D100*0.001+$BL$2)*Comanda!F100,\"\")","v":""},{"$f":"IF(Comanda!J100=1,(Comanda!E100*0.001+$BL$2)*Comanda!F100,\"\")","v":""},{"$f":"IF(Comanda!K100=1,(Comanda!E100*0.001+$BL$2)*Comanda!F100,\"\")","v":""},null,{"$f":"IF(Comanda!H100=2,(Comanda!D100*0.001+$BL$2)*Comanda!F100,\"\")","v":""},{"$f":"IF(Comanda!I100=2,(Comanda!D100*0.001+$BL$2)*Comanda!F100,\"\")","v":""},{"$f":"IF(Comanda!J100=2,(Comanda!E100*0.001+$BL$2)*Comanda!F100,\"\")","v":""},{"$f":"IF(Comanda!K100=2,(Comanda!E100*0.001+$BL$2)*Comanda!F100,\"\")","v":""},null,{"$f":"IF(Comanda!H100=3,(Comanda!D100*0.001+$BL$2)*Comanda!F100,\"\")","v":""},{"$f":"IF(Comanda!I100=3,(Comanda!D100*0.001+$BL$2)*Comanda!F100,\"\")","v":""},{"$f":"IF(Comanda!J100=3,(Comanda!E100*0.001+$BL$2)*Comanda!F100,\"\")","v":""},{"$f":"IF(Comanda!K100=3,(Comanda!E100*0.001+$BL$2)*Comanda!F100,\"\")","v":""},null,{"$f":"IF(Comanda!H100=4,(Comanda!D100*0.001+$BL$2)*Comanda!F100,\"\")","v":""},{"$f":"IF(Comanda!I100=4,(Comanda!D100*0.001+$BL$2)*Comanda!F100,\"\")","v":""},{"$f":"IF(Comanda!J100=4,(Comanda!E100*0.001+$BL$2)*Comanda!F100,\"\")","v":""},{"$f":"IF(Comanda!K100=4,(Comanda!E100*0.001+$BL$2)*Comanda!F100,\"\")","v":""}]
[82,{"$f":"IF(Comanda!B101<>0,Comanda!B101,\"\")","v":""},{"$f":"IF(Comanda!C101<>0,Comanda!C101,\"\")","v":""},{"$f":"IF(Comanda!D101<>0,Comanda!D101,\"\")","v":""},{"$f":"IF(Comanda!E101<>0,Comanda!E101,\"\")","v":""},{"$f":"IF(Comanda!F101<>0,Comanda!F101,\"\")","v":""},{"$f":"IF(Comanda!G101<>0,1,0)","v":0},{"$f":"IF(Comanda!H101=1,Comanda!$C$13,IF(Comanda!H101=2,Comanda!$C$14,IF(Comanda!$H101=3,Comanda!$C$15,IF(Comanda!$H101=4,Comanda!$C$16,0))))","v":0},{"$f":"IF(Comanda!I101=1,Comanda!$C$13,IF(Comanda!I101=2,Comanda!$C$14,IF(Comanda!$I101=3,Comanda!$C$15,IF(Comanda!$I101=4,Comanda!$C$16,0))))","v":0},{"$f":"IF(Comanda!J101=1,Comanda!$C$13,IF(Comanda!J101=2,Comanda!$C$14,IF(Comanda!$J101=3,Comanda!$C$15,IF(Comanda!$J101=4,Comanda!$C$16,0))))","v":0},{"$f":"IF(Comanda!K101=1,Comanda!$C$13,IF(Comanda!K101=2,Comanda!$C$14,IF(Comanda!$K101=3,Comanda!$C$15,IF(Comanda!$K101=4,Comanda!$C$16,0))))","v":0},{"$f":"IF(Comanda!B101<>0,Comanda!$C$2,\"\")","v":""},{"$f":"IF(Comanda!B101<>0,Comanda!$C$5,\"\")","v":""},{"$f":"IF(Comanda!B101<>0,Comanda!$G$2,\"\")","v":""},{"$f":"IF(Comanda!B101<>0,Comanda!L101,\"\")","v":""},{"$f":"IF(Comanda!D101<>0,VLOOKUP('Formula Cant'!F84,'Grafica Cant'!$G$2:$H$25,2,FALSE),\"\")","v":""},{"$nulls":8},{"$f":"IF(Comanda!B101<>0,Comanda!$C$9,\"\")","v":""},{"$f":"IF(Comanda!B101<>0,VLOOKUP(Comanda!$C$12,PRETURI!$A$2:$C$500,3,FALSE),\"\")","v":""},"",{"$f":"IF(H84<>0,VLOOKUP(H84,PRETURI!$D$2:$F$1093,3,FALSE),\"\")","v":""},{"v":0,"d":"0.00"},{"$f":"IF(I84<>0,VLOOKUP(I84,PRETURI!$D$2:$F$1093,3,FALSE),\"\")","v":""},{"v":0,"d":"0.00"},{"$f":"IF(J84<>0,VLOOKUP(J84,PRETURI!$D$2:$F$1093,3,FALSE),\"\")","v":""},{"v":0,"d":"0.00"},{"$f":"IF(K84<>0,VLOOKUP(K84,PRETURI!$D$2:$F$1093,3,FALSE),\"\")","v":""},{"v":0,"d":"0.00"},{"$nulls":6},{"$f":"(Comanda!D101*Comanda!E101*Comanda!F101)*0.000001","v":{"v":0,"d":"0.00"}},null,{"$f":"IF(Comanda!H101=1,(Comanda!D101*0.001+$BL$2)*Comanda!F101,\"\")","v":""},{"$f":"IF(Comanda!I101=1,(Comanda!D101*0.001+$BL$2)*Comanda!F101,\"\")","v":""},{"$f":"IF(Comanda!J101=1,(Comanda!E101*0.001+$BL$2)*Comanda!F101,\"\")","v":""},{"$f":"IF(Comanda!K101=1,(Comanda!E101*0.001+$BL$2)*Comanda!F101,\"\")","v":""},null,{"$f":"IF(Comanda!H101=2,(Comanda!D101*0.001+$BL$2)*Comanda!F101,\"\")","v":""},{"$f":"IF(Comanda!I101=2,(Comanda!D101*0.001+$BL$2)*Comanda!F101,\"\")","v":""},{"$f":"IF(Comanda!J101=2,(Comanda!E101*0.001+$BL$2)*Comanda!F101,\"\")","v":""},{"$f":"IF(Comanda!K101=2,(Comanda!E101*0.001+$BL$2)*Comanda!F101,\"\")","v":""},null,{"$f":"IF(Comanda!H101=3,(Comanda!D101*0.001+$BL$2)*Comanda!F101,\"\")","v":""},{"$f":"IF(Comanda!I101=3,(Comanda!D101*0.001+$BL$2)*Comanda!F101,\"\")","v":""},{"$f":"IF(Comanda!J101=3,(Comanda!E101*0.001+$BL$2)*Comanda!F101,\"\")","v":""},{"$f":"IF(Comanda!K101=3,(Comanda!E101*0.001+$BL$2)*Comanda!F101,\"\")","v":""},null,{"$f":"IF(Comanda!H101=4,(Comanda!D101*0.001+$BL$2)*Comanda!F101,\"\")","v":""},{"$f":"IF(Comanda!I101=4,(Comanda!D101*0.001+$BL$2)*Comanda!F101,\"\")","v":""},{"$f":"IF(Comanda!J101=4,(Comanda!E101*0.001+$BL$2)*Comanda!F101,\"\")","v":""},{"$f":"IF(Comanda!K101=4,(Comanda!E101*0.001+$BL$2)*Comanda!F101,\"\")","v":""}]
[83,{"$f":"IF(Comanda!B102<>0,Comanda!B102,\"\")","v":""},{"$f":"IF(Comanda!C102<>0,Comanda!C102,\"\")","v":""},{"$f":"IF(Comanda!D102<>0,Comanda!D102,\"\")","v":""},{"$f":"IF(Comanda!E102<>0,Comanda!E102,\"\")","v":""},{"$f":"IF(Comanda!F102<>0,Comanda!F102,\"\")","v":""},{"$f":"IF(Comanda!G102<>0,1,0)","v":0},{"$f":"IF(Comanda!H102=1,Comanda!$C$13,IF(Comanda!H102=2,Comanda!$C$14,IF(Comanda!$H102=3,Comanda!$C$15,IF(Comanda!$H102=4,Comanda!$C$16,0))))","v":0},{"$f":"IF(Comanda!I102=1,Comanda!$C$13,IF(Comanda!I102=2,Comanda!$C$14,IF(Comanda!$I102=3,Comanda!$C$15,IF(Comanda!$I102=4,Comanda!$C$16,0))))","v":0},{"$f":"IF(Comanda!J102=1,Comanda!$C$13,IF(Comanda!J102=2,Comanda!$C$14,IF(Comanda!$J102=3,Comanda!$C$15,IF(Comanda!$J102=4,Comanda!$C$16,0))))","v":0},{"$f":"IF(Comanda!K102=1,Comanda!$C$13,IF(Comanda!K102=2,Comanda!$C$14,IF(Comanda!$K102=3,Comanda!$C$15,IF(Comanda!$K102=4,Comanda!$C$16,0))))","v":0},{"$f":"IF(Comanda!B102<>0,Comanda!$C$2,\"\")","v":""},{"$f":"IF(Comanda!B102<>0,Comanda!$C$5,\"\")","v":""},{"$f":"IF(Comanda!B102<>0,Comanda!$G$2,\"\")","v":""},{"$f":"IF(Comanda!B102<>0,Comanda!L102,\"\")","v":""},{"$f":"IF(Comanda!D102<>0,VLOOKUP('Formula Cant'!F85,'Grafica Cant'!$G$2:$H$25,2,FALSE),\"\")","v":""},{"$nulls":8},{"$f":"IF(Comanda!B102<>0,Comanda!$C$9,\"\")","v":""},{"$f":"IF(Comanda!B102<>0,VLOOKUP(Comanda!$C$12,PRETURI!$A$2:$C$500,3,FALSE),\"\")","v":""},"",{"$f":"IF(H85<>0,VLOOKUP(H85,PRETURI!$D$2:$F$1093,3,FALSE),\"\")","v":""},{"v":0,"d":"0.00"},{"$f":"IF(I85<>0,VLOOKUP(I85,PRETURI!$D$2:$F$1093,3,FALSE),\"\")","v":""},{"v":0,"d":"0.00"},{"$f":"IF(J85<>0,VLOOKUP(J85,PRETURI!$D$2:$F$1093,3,FALSE),\"\")","v":""},{"v":0,"d":"0.00"},{"$f":"IF(K85<>0,VLOOKUP(K85,PRETURI!$D$2:$F$1093,3,FALSE),\"\")","v":""},{"v":0,"d":"0.00"},{"$nulls":6},{"$f":"(Comanda!D102*Comanda!E102*Comanda!F102)*0.000001","v":{"v":0,"d":"0.00"}},null,{"$f":"IF(Comanda!H102=1,(Comanda!D102*0.001+$BL$2)*Comanda!F102,\"\")","v":""},{"$f":"IF(Comanda!I102=1,(Comanda!D102*0.001+$BL$2)*Comanda!F102,\"\")","v":""},{"$f":"IF(Comanda!J102=1,(Comanda!E102*0.001+$BL$2)*Comanda!F102,\"\")","v":""},{"$f":"IF(Comanda!K102=1,(Comanda!E102*0.001+$BL$2)*Comanda!F102,\"\")","v":""},null,{"$f":"IF(Comanda!H102=2,(Comanda!D102*0.001+$BL$2)*Comanda!F102,\"\")","v":""},{"$f":"IF(Comanda!I102=2,(Comanda!D102*0.001+$BL$2)*Comanda!F102,\"\")","v":""},{"$f":"IF(Comanda!J102=2,(Comanda!E102*0.001+$BL$2)*Comanda!F102,\"\")","v":""},{"$f":"IF(Comanda!K102=2,(Comanda!E102*0.001+$BL$2)*Comanda!F102,\"\")","v":""},null,{"$f":"IF(Comanda!H102=3,(Comanda!D102*0.001+$BL$2)*Comanda!F102,\"\")","v":""},{"$f":"IF(Comanda!I102=3,(Comanda!D102*0.001+$BL$2)*Comanda!F102,\"\")","v":""},{"$f":"IF(Comanda!J102=3,(Comanda!E102*0.001+$BL$2)*Comanda!F102,\"\")","v":""},{"$f":"IF(Comanda!K102=3,(Comanda!E102*0.001+$BL$2)*Comanda!F102,\"\")","v":""},null,{"$f":"IF(Comanda!H102=4,(Comanda!D102*0.001+$BL$2)*Comanda!F102,\"\")","v":""},{"$f":"IF(Comanda!I102=4,(Comanda!D102*0.001+$BL$2)*Comanda!F102,\"\")","v":""},{"$f":"IF(Comanda!J102=4,(Comanda!E102*0.001+$BL$2)*Comanda!F102,\"\")","v":""},{"$f":"IF(Comanda!K102=4,(Comanda!E102*0.001+$BL$2)*Comanda!F102,\"\")","v":""}]
[84,{"$f":"IF(Comanda!B103<>0,Comanda!B103,\"\")","v":""},{"$f":"IF(Comanda!C103<>0,Comanda!C103,\"\")","v":""},{"$f":"IF(Comanda!D103<>0,Comanda!D103,\"\")","v":""},{"$f":"IF(Comanda!E103<>0,Comanda!E103,\"\")","v":""},{"$f":"IF(Comanda!F103<>0,Comanda!F103,\"\")","v":""},{"$f":"IF(Comanda!G103<>0,1,0)","v":0},{"$f":"IF(Comanda!H103=1,Comanda!$C$13,IF(Comanda!H103=2,Comanda!$C$14,IF(Comanda!$H103=3,Comanda!$C$15,IF(Comanda!$H103=4,Comanda!$C$16,0))))","v":0},{"$f":"IF(Comanda!I103=1,Comanda!$C$13,IF(Comanda!I103=2,Comanda!$C$14,IF(Comanda!$I103=3,Comanda!$C$15,IF(Comanda!$I103=4,Comanda!$C$16,0))))","v":0},{"$f":"IF(Comanda!J103=1,Comanda!$C$13,IF(Comanda!J103=2,Comanda!$C$14,IF(Comanda!$J103=3,Comanda!$C$15,IF(Comanda!$J103=4,Comanda!$C$16,0))))","v":0},{"$f":"IF(Comanda!K103=1,Comanda!$C$13,IF(Comanda!K103=2,Comanda!$C$14,IF(Comanda!$K103=3,Comanda!$C$15,IF(Comanda!$K103=4,Comanda!$C$16,0))))","v":0},{"$f":"IF(Comanda!B103<>0,Comanda!$C$2,\"\")","v":""},{"$f":"IF(Comanda!B103<>0,Comanda!$C$5,\"\")","v":""},{"$f":"IF(Comanda!B103<>0,Comanda!$G$2,\"\")","v":""},{"$f":"IF(Comanda!B103<>0,Comanda!L103,\"\")","v":""},{"$f":"IF(Comanda!D103<>0,VLOOKUP('Formula Cant'!F86,'Grafica Cant'!$G$2:$H$25,2,FALSE),\"\")","v":""},{"$nulls":8},{"$f":"IF(Comanda!B103<>0,Comanda!$C$9,\"\")","v":""},{"$f":"IF(Comanda!B103<>0,VLOOKUP(Comanda!$C$12,PRETURI!$A$2:$C$500,3,FALSE),\"\")","v":""},"",{"$f":"IF(H86<>0,VLOOKUP(H86,PRETURI!$D$2:$F$1093,3,FALSE),\"\")","v":""},{"v":0,"d":"0.00"},{"$f":"IF(I86<>0,VLOOKUP(I86,PRETURI!$D$2:$F$1093,3,FALSE),\"\")","v":""},{"v":0,"d":"0.00"},{"$f":"IF(J86<>0,VLOOKUP(J86,PRETURI!$D$2:$F$1093,3,FALSE),\"\")","v":""},{"v":0,"d":"0.00"},{"$f":"IF(K86<>0,VLOOKUP(K86,PRETURI!$D$2:$F$1093,3,FALSE),\"\")","v":""},{"v":0,"d":"0.00"},{"$nulls":6},{"$f":"(Comanda!D103*Comanda!E103*Comanda!F103)*0.000001","v":{"v":0,"d":"0.00"}},null,{"$f":"IF(Comanda!H103=1,(Comanda!D103*0.001+$BL$2)*Comanda!F103,\"\")","v":""},{"$f":"IF(Comanda!I103=1,(Comanda!D103*0.001+$BL$2)*Comanda!F103,\"\")","v":""},{"$f":"IF(Comanda!J103=1,(Comanda!E103*0.001+$BL$2)*Comanda!F103,\"\")","v":""},{"$f":"IF(Comanda!K103=1,(Comanda!E103*0.001+$BL$2)*Comanda!F103,\"\")","v":""},null,{"$f":"IF(Comanda!H103=2,(Comanda!D103*0.001+$BL$2)*Comanda!F103,\"\")","v":""},{"$f":"IF(Comanda!I103=2,(Comanda!D103*0.001+$BL$2)*Comanda!F103,\"\")","v":""},{"$f":"IF(Comanda!J103=2,(Comanda!E103*0.001+$BL$2)*Comanda!F103,\"\")","v":""},{"$f":"IF(Comanda!K103=2,(Comanda!E103*0.001+$BL$2)*Comanda!F103,\"\")","v":""},null,{"$f":"IF(Comanda!H103=3,(Comanda!D103*0.001+$BL$2)*Comanda!F103,\"\")","v":""},{"$f":"IF(Comanda!I103=3,(Comanda!D103*0.001+$BL$2)*Comanda!F103,\"\")","v":""},{"$f":"IF(Comanda!J103=3,(Comanda!E103*0.001+$BL$2)*Comanda!F103,\"\")","v":""},{"$f":"IF(Comanda!K103=3,(Comanda!E103*0.001+$BL$2)*Comanda!F103,\"\")","v":""},null,{"$f":"IF(Comanda!H103=4,(Comanda!D103*0.001+$BL$2)*Comanda!F103,\"\")","v":""},{"$f":"IF(Comanda!I103=4,(Comanda!D103*0.001+$BL$2)*Comanda!F103,\"\")","v":""},{"$f":"IF(Comanda!J103=4,(Comanda!E103*0.001+$BL$2)*Comanda!F103,\"\")","v":""},{"$f":"IF(Comanda!K103=4,(Comanda!E103*0.001+$BL$2)*Comanda!F103,\"\")","v":""}]
[85,{"$f":"IF(Comanda!B104<>0,Comanda!B104,\"\")","v":""},{"$f":"IF(Comanda!C104<>0,Comanda!C104,\"\")","v":""},{"$f":"IF(Comanda!D104<>0,Comanda!D104,\"\")","v":""},{"$f":"IF(Comanda!E104<>0,Comanda!E104,\"\")","v":""},{"$f":"IF(Comanda!F104<>0,Comanda!F104,\"\")","v":""},{"$f":"IF(Comanda!G104<>0,1,0)","v":0},{"$f":"IF(Comanda!H104=1,Comanda!$C$13,IF(Comanda!H104=2,Comanda!$C$14,IF(Comanda!$H104=3,Comanda!$C$15,IF(Comanda!$H104=4,Comanda!$C$16,0))))","v":0},{"$f":"IF(Comanda!I104=1,Comanda!$C$13,IF(Comanda!I104=2,Comanda!$C$14,IF(Comanda!$I104=3,Comanda!$C$15,IF(Comanda!$I104=4,Comanda!$C$16,0))))","v":0},{"$f":"IF(Comanda!J104=1,Comanda!$C$13,IF(Comanda!J104=2,Comanda!$C$14,IF(Comanda!$J104=3,Comanda!$C$15,IF(Comanda!$J104=4,Comanda!$C$16,0))))","v":0},{"$f":"IF(Comanda!K104=1,Comanda!$C$13,IF(Comanda!K104=2,Comanda!$C$14,IF(Comanda!$K104=3,Comanda!$C$15,IF(Comanda!$K104=4,Comanda!$C$16,0))))","v":0},{"$f":"IF(Comanda!B104<>0,Comanda!$C$2,\"\")","v":""},{"$f":"IF(Comanda!B104<>0,Comanda!$C$5,\"\")","v":""},{"$f":"IF(Comanda!B104<>0,Comanda!$G$2,\"\")","v":""},{"$f":"IF(Comanda!B104<>0,Comanda!L104,\"\")","v":""},{"$f":"IF(Comanda!D104<>0,VLOOKUP('Formula Cant'!F87,'Grafica Cant'!$G$2:$H$25,2,FALSE),\"\")","v":""},{"$nulls":8},{"$f":"IF(Comanda!B104<>0,Comanda!$C$9,\"\")","v":""},{"$f":"IF(Comanda!B104<>0,VLOOKUP(Comanda!$C$12,PRETURI!$A$2:$C$500,3,FALSE),\"\")","v":""},"",{"$f":"IF(H87<>0,VLOOKUP(H87,PRETURI!$D$2:$F$1093,3,FALSE),\"\")","v":""},{"v":0,"d":"0.00"},{"$f":"IF(I87<>0,VLOOKUP(I87,PRETURI!$D$2:$F$1093,3,FALSE),\"\")","v":""},{"v":0,"d":"0.00"},{"$f":"IF(J87<>0,VLOOKUP(J87,PRETURI!$D$2:$F$1093,3,FALSE),\"\")","v":""},{"v":0,"d":"0.00"},{"$f":"IF(K87<>0,VLOOKUP(K87,PRETURI!$D$2:$F$1093,3,FALSE),\"\")","v":""},{"v":0,"d":"0.00"},{"$nulls":6},{"$f":"(Comanda!D104*Comanda!E104*Comanda!F104)*0.000001","v":{"v":0,"d":"0.00"}},null,{"$f":"IF(Comanda!H104=1,(Comanda!D104*0.001+$BL$2)*Comanda!F104,\"\")","v":""},{"$f":"IF(Comanda!I104=1,(Comanda!D104*0.001+$BL$2)*Comanda!F104,\"\")","v":""},{"$f":"IF(Comanda!J104=1,(Comanda!E104*0.001+$BL$2)*Comanda!F104,\"\")","v":""},{"$f":"IF(Comanda!K104=1,(Comanda!E104*0.001+$BL$2)*Comanda!F104,\"\")","v":""},null,{"$f":"IF(Comanda!H104=2,(Comanda!D104*0.001+$BL$2)*Comanda!F104,\"\")","v":""},{"$f":"IF(Comanda!I104=2,(Comanda!D104*0.001+$BL$2)*Comanda!F104,\"\")","v":""},{"$f":"IF(Comanda!J104=2,(Comanda!E104*0.001+$BL$2)*Comanda!F104,\"\")","v":""},{"$f":"IF(Comanda!K104=2,(Comanda!E104*0.001+$BL$2)*Comanda!F104,\"\")","v":""},null,{"$f":"IF(Comanda!H104=3,(Comanda!D104*0.001+$BL$2)*Comanda!F104,\"\")","v":""},{"$f":"IF(Comanda!I104=3,(Comanda!D104*0.001+$BL$2)*Comanda!F104,\"\")","v":""},{"$f":"IF(Comanda!J104=3,(Comanda!E104*0.001+$BL$2)*Comanda!F104,\"\")","v":""},{"$f":"IF(Comanda!K104=3,(Comanda!E104*0.001+$BL$2)*Comanda!F104,\"\")","v":""},null,{"$f":"IF(Comanda!H104=4,(Comanda!D104*0.001+$BL$2)*Comanda!F104,\"\")","v":""},{"$f":"IF(Comanda!I104=4,(Comanda!D104*0.001+$BL$2)*Comanda!F104,\"\")","v":""},{"$f":"IF(Comanda!J104=4,(Comanda!E104*0.001+$BL$2)*Comanda!F104,\"\")","v":""},{"$f":"IF(Comanda!K104=4,(Comanda!E104*0.001+$BL$2)*Comanda!F104,\"\")","v":""}]
[86,{"$f":"IF(Comanda!B105<>0,Comanda!B105,\"\")","v":""},{"$f":"IF(Comanda!C105<>0,Comanda!C105,\"\")","v":""},{"$f":"IF(Comanda!D105<>0,Comanda!D105,\"\")","v":""},{"$f":"IF(Comanda!E105<>0,Comanda!E105,\"\")","v":""},{"$f":"IF(Comanda!F105<>0,Comanda!F105,\"\")","v":""},{"$f":"IF(Comanda!G105<>0,1,0)","v":0},{"$f":"IF(Comanda!H105=1,Comanda!$C$13,IF(Comanda!H105=2,Comanda!$C$14,IF(Comanda!$H105=3,Comanda!$C$15,IF(Comanda!$H105=4,Comanda!$C$16,0))))","v":0},{"$f":"IF(Comanda!I105=1,Comanda!$C$13,IF(Comanda!I105=2,Comanda!$C$14,IF(Comanda!$I105=3,Comanda!$C$15,IF(Comanda!$I105=4,Comanda!$C$16,0))))","v":0},{"$f":"IF(Comanda!J105=1,Comanda!$C$13,IF(Comanda!J105=2,Comanda!$C$14,IF(Comanda!$J105=3,Comanda!$C$15,IF(Comanda!$J105=4,Comanda!$C$16,0))))","v":0},{"$f":"IF(Comanda!K105=1,Comanda!$C$13,IF(Comanda!K105=2,Comanda!$C$14,IF(Comanda!$K105=3,Comanda!$C$15,IF(Comanda!$K105=4,Comanda!$C$16,0))))","v":0},{"$f":"IF(Comanda!B105<>0,Comanda!$C$2,\"\")","v":""},{"$f":"IF(Comanda!B105<>0,Comanda!$C$5,\"\")","v":""},{"$f":"IF(Comanda!B105<>0,Comanda!$G$2,\"\")","v":""},{"$f":"IF(Comanda!B105<>0,Comanda!L105,\"\")","v":""},{"$f":"IF(Comanda!D105<>0,VLOOKUP('Formula Cant'!F88,'Grafica Cant'!$G$2:$H$25,2,FALSE),\"\")","v":""},{"$nulls":8},{"$f":"IF(Comanda!B105<>0,Comanda!$C$9,\"\")","v":""},{"$f":"IF(Comanda!B105<>0,VLOOKUP(Comanda!$C$12,PRETURI!$A$2:$C$500,3,FALSE),\"\")","v":""},"",{"$f":"IF(H88<>0,VLOOKUP(H88,PRETURI!$D$2:$F$1093,3,FALSE),\"\")","v":""},{"v":0,"d":"0.00"},{"$f":"IF(I88<>0,VLOOKUP(I88,PRETURI!$D$2:$F$1093,3,FALSE),\"\")","v":""},{"v":0,"d":"0.00"},{"$f":"IF(J88<>0,VLOOKUP(J88,PRETURI!$D$2:$F$1093,3,FALSE),\"\")","v":""},{"v":0,"d":"0.00"},{"$f":"IF(K88<>0,VLOOKUP(K88,PRETURI!$D$2:$F$1093,3,FALSE),\"\")","v":""},{"v":0,"d":"0.00"},{"$nulls":6},{"$f":"(Comanda!D105*Comanda!E105*Comanda!F105)*0.000001","v":{"v":0,"d":"0.00"}},null,{"$f":"IF(Comanda!H105=1,(Comanda!D105*0.001+$BL$2)*Comanda!F105,\"\")","v":""},{"$f":"IF(Comanda!I105=1,(Comanda!D105*0.001+$BL$2)*Comanda!F105,\"\")","v":""},{"$f":"IF(Comanda!J105=1,(Comanda!E105*0.001+$BL$2)*Comanda!F105,\"\")","v":""},{"$f":"IF(Comanda!K105=1,(Comanda!E105*0.001+$BL$2)*Comanda!F105,\"\")","v":""},null,{"$f":"IF(Comanda!H105=2,(Comanda!D105*0.001+$BL$2)*Comanda!F105,\"\")","v":""},{"$f":"IF(Comanda!I105=2,(Comanda!D105*0.001+$BL$2)*Comanda!F105,\"\")","v":""},{"$f":"IF(Comanda!J105=2,(Comanda!E105*0.001+$BL$2)*Comanda!F105,\"\")","v":""},{"$f":"IF(Comanda!K105=2,(Comanda!E105*0.001+$BL$2)*Comanda!F105,\"\")","v":""},null,{"$f":"IF(Comanda!H105=3,(Comanda!D105*0.001+$BL$2)*Comanda!F105,\"\")","v":""},{"$f":"IF(Comanda!I105=3,(Comanda!D105*0.001+$BL$2)*Comanda!F105,\"\")","v":""},{"$f":"IF(Comanda!J105=3,(Comanda!E105*0.001+$BL$2)*Comanda!F105,\"\")","v":""},{"$f":"IF(Comanda!K105=3,(Comanda!E105*0.001+$BL$2)*Comanda!F105,\"\")","v":""},null,{"$f":"IF(Comanda!H105=4,(Comanda!D105*0.001+$BL$2)*Comanda!F105,\"\")","v":""},{"$f":"IF(Comanda!I105=4,(Comanda!D105*0.001+$BL$2)*Comanda!F105,\"\")","v":""},{"$f":"IF(Comanda!J105=4,(Comanda!E105*0.001+$BL$2)*Comanda!F105,\"\")","v":""},{"$f":"IF(Comanda!K105=4,(Comanda!E105*0.001+$BL$2)*Comanda!F105,\"\")","v":""}]
[87,{"$f":"IF(Comanda!B106<>0,Comanda!B106,\"\")","v":""},{"$f":"IF(Comanda!C106<>0,Comanda!C106,\"\")","v":""},{"$f":"IF(Comanda!D106<>0,Comanda!D106,\"\")","v":""},{"$f":"IF(Comanda!E106<>0,Comanda!E106,\"\")","v":""},{"$f":"IF(Comanda!F106<>0,Comanda!F106,\"\")","v":""},{"$f":"IF(Comanda!G106<>0,1,0)","v":0},{"$f":"IF(Comanda!H106=1,Comanda!$C$13,IF(Comanda!H106=2,Comanda!$C$14,IF(Comanda!$H106=3,Comanda!$C$15,IF(Comanda!$H106=4,Comanda!$C$16,0))))","v":0},{"$f":"IF(Comanda!I106=1,Comanda!$C$13,IF(Comanda!I106=2,Comanda!$C$14,IF(Comanda!$I106=3,Comanda!$C$15,IF(Comanda!$I106=4,Comanda!$C$16,0))))","v":0},{"$f":"IF(Comanda!J106=1,Comanda!$C$13,IF(Comanda!J106=2,Comanda!$C$14,IF(Comanda!$J106=3,Comanda!$C$15,IF(Comanda!$J106=4,Comanda!$C$16,0))))","v":0},{"$f":"IF(Comanda!K106=1,Comanda!$C$13,IF(Comanda!K106=2,Comanda!$C$14,IF(Comanda!$K106=3,Comanda!$C$15,IF(Comanda!$K106=4,Comanda!$C$16,0))))","v":0},{"$f":"IF(Comanda!B106<>0,Comanda!$C$2,\"\")","v":""},{"$f":"IF(Comanda!B106<>0,Comanda!$C$5,\"\")","v":""},{"$f":"IF(Comanda!B106<>0,Comanda!$G$2,\"\")","v":""},{"$f":"IF(Comanda!B106<>0,Comanda!L106,\"\")","v":""},{"$f":"IF(Comanda!D106<>0,VLOOKUP('Formula Cant'!F89,'Grafica Cant'!$G$2:$H$25,2,FALSE),\"\")","v":""},{"$nulls":8},{"$f":"IF(Comanda!B106<>0,Comanda!$C$9,\"\")","v":""},{"$f":"IF(Comanda!B106<>0,VLOOKUP(Comanda!$C$12,PRETURI!$A$2:$C$500,3,FALSE),\"\")","v":""},"",{"$f":"IF(H89<>0,VLOOKUP(H89,PRETURI!$D$2:$F$1093,3,FALSE),\"\")","v":""},{"v":0,"d":"0.00"},{"$f":"IF(I89<>0,VLOOKUP(I89,PRETURI!$D$2:$F$1093,3,FALSE),\"\")","v":""},{"v":0,"d":"0.00"},{"$f":"IF(J89<>0,VLOOKUP(J89,PRETURI!$D$2:$F$1093,3,FALSE),\"\")","v":""},{"v":0,"d":"0.00"},{"$f":"IF(K89<>0,VLOOKUP(K89,PRETURI!$D$2:$F$1093,3,FALSE),\"\")","v":""},{"v":0,"d":"0.00"},{"$nulls":6},{"$f":"(Comanda!D106*Comanda!E106*Comanda!F106)*0.000001","v":{"v":0,"d":"0.00"}},null,{"$f":"IF(Comanda!H106=1,(Comanda!D106*0.001+$BL$2)*Comanda!F106,\"\")","v":""},{"$f":"IF(Comanda!I106=1,(Comanda!D106*0.001+$BL$2)*Comanda!F106,\"\")","v":""},{"$f":"IF(Comanda!J106=1,(Comanda!E106*0.001+$BL$2)*Comanda!F106,\"\")","v":""},{"$f":"IF(Comanda!K106=1,(Comanda!E106*0.001+$BL$2)*Comanda!F106,\"\")","v":""},null,{"$f":"IF(Comanda!H106=2,(Comanda!D106*0.001+$BL$2)*Comanda!F106,\"\")","v":""},{"$f":"IF(Comanda!I106=2,(Comanda!D106*0.001+$BL$2)*Comanda!F106,\"\")","v":""},{"$f":"IF(Comanda!J106=2,(Comanda!E106*0.001+$BL$2)*Comanda!F106,\"\")","v":""},{"$f":"IF(Comanda!K106=2,(Comanda!E106*0.001+$BL$2)*Comanda!F106,\"\")","v":""},null,{"$f":"IF(Comanda!H106=3,(Comanda!D106*0.001+$BL$2)*Comanda!F106,\"\")","v":""},{"$f":"IF(Comanda!I106=3,(Comanda!D106*0.001+$BL$2)*Comanda!F106,\"\")","v":""},{"$f":"IF(Comanda!J106=3,(Comanda!E106*0.001+$BL$2)*Comanda!F106,\"\")","v":""},{"$f":"IF(Comanda!K106=3,(Comanda!E106*0.001+$BL$2)*Comanda!F106,\"\")","v":""},null,{"$f":"IF(Comanda!H106=4,(Comanda!D106*0.001+$BL$2)*Comanda!F106,\"\")","v":""},{"$f":"IF(Comanda!I106=4,(Comanda!D106*0.001+$BL$2)*Comanda!F106,\"\")","v":""},{"$f":"IF(Comanda!J106=4,(Comanda!E106*0.001+$BL$2)*Comanda!F106,\"\")","v":""},{"$f":"IF(Comanda!K106=4,(Comanda!E106*0.001+$BL$2)*Comanda!F106,\"\")","v":""}]
[88,{"$f":"IF(Comanda!B107<>0,Comanda!B107,\"\")","v":""},{"$f":"IF(Comanda!C107<>0,Comanda!C107,\"\")","v":""},{"$f":"IF(Comanda!D107<>0,Comanda!D107,\"\")","v":""},{"$f":"IF(Comanda!E107<>0,Comanda!E107,\"\")","v":""},{"$f":"IF(Comanda!F107<>0,Comanda!F107,\"\")","v":""},{"$f":"IF(Comanda!G107<>0,1,0)","v":0},{"$f":"IF(Comanda!H107=1,Comanda!$C$13,IF(Comanda!H107=2,Comanda!$C$14,IF(Comanda!$H107=3,Comanda!$C$15,IF(Comanda!$H107=4,Comanda!$C$16,0))))","v":0},{"$f":"IF(Comanda!I107=1,Comanda!$C$13,IF(Comanda!I107=2,Comanda!$C$14,IF(Comanda!$I107=3,Comanda!$C$15,IF(Comanda!$I107=4,Comanda!$C$16,0))))","v":0},{"$f":"IF(Comanda!J107=1,Comanda!$C$13,IF(Comanda!J107=2,Comanda!$C$14,IF(Comanda!$J107=3,Comanda!$C$15,IF(Comanda!$J107=4,Comanda!$C$16,0))))","v":0},{"$f":"IF(Comanda!K107=1,Comanda!$C$13,IF(Comanda!K107=2,Comanda!$C$14,IF(Comanda!$K107=3,Comanda!$C$15,IF(Comanda!$K107=4,Comanda!$C$16,0))))","v":0},{"$f":"IF(Comanda!B107<>0,Comanda!$C$2,\"\")","v":""},{"$f":"IF(Comanda!B107<>0,Comanda!$C$5,\"\")","v":""},{"$f":"IF(Comanda!B107<>0,Comanda!$G$2,\"\")","v":""},{"$f":"IF(Comanda!B107<>0,Comanda!L107,\"\")","v":""},{"$f":"IF(Comanda!D107<>0,VLOOKUP('Formula Cant'!F90,'Grafica Cant'!$G$2:$H$25,2,FALSE),\"\")","v":""},{"$nulls":8},{"$f":"IF(Comanda!B107<>0,Comanda!$C$9,\"\")","v":""},{"$f":"IF(Comanda!B107<>0,VLOOKUP(Comanda!$C$12,PRETURI!$A$2:$C$500,3,FALSE),\"\")","v":""},"",{"$f":"IF(H90<>0,VLOOKUP(H90,PRETURI!$D$2:$F$1093,3,FALSE),\"\")","v":""},{"v":0,"d":"0.00"},{"$f":"IF(I90<>0,VLOOKUP(I90,PRETURI!$D$2:$F$1093,3,FALSE),\"\")","v":""},{"v":0,"d":"0.00"},{"$f":"IF(J90<>0,VLOOKUP(J90,PRETURI!$D$2:$F$1093,3,FALSE),\"\")","v":""},{"v":0,"d":"0.00"},{"$f":"IF(K90<>0,VLOOKUP(K90,PRETURI!$D$2:$F$1093,3,FALSE),\"\")","v":""},{"v":0,"d":"0.00"},{"$nulls":6},{"$f":"(Comanda!D107*Comanda!E107*Comanda!F107)*0.000001","v":{"v":0,"d":"0.00"}},null,{"$f":"IF(Comanda!H107=1,(Comanda!D107*0.001+$BL$2)*Comanda!F107,\"\")","v":""},{"$f":"IF(Comanda!I107=1,(Comanda!D107*0.001+$BL$2)*Comanda!F107,\"\")","v":""},{"$f":"IF(Comanda!J107=1,(Comanda!E107*0.001+$BL$2)*Comanda!F107,\"\")","v":""},{"$f":"IF(Comanda!K107=1,(Comanda!E107*0.001+$BL$2)*Comanda!F107,\"\")","v":""},null,{"$f":"IF(Comanda!H107=2,(Comanda!D107*0.001+$BL$2)*Comanda!F107,\"\")","v":""},{"$f":"IF(Comanda!I107=2,(Comanda!D107*0.001+$BL$2)*Comanda!F107,\"\")","v":""},{"$f":"IF(Comanda!J107=2,(Comanda!E107*0.001+$BL$2)*Comanda!F107,\"\")","v":""},{"$f":"IF(Comanda!K107=2,(Comanda!E107*0.001+$BL$2)*Comanda!F107,\"\")","v":""},null,{"$f":"IF(Comanda!H107=3,(Comanda!D107*0.001+$BL$2)*Comanda!F107,\"\")","v":""},{"$f":"IF(Comanda!I107=3,(Comanda!D107*0.001+$BL$2)*Comanda!F107,\"\")","v":""},{"$f":"IF(Comanda!J107=3,(Comanda!E107*0.001+$BL$2)*Comanda!F107,\"\")","v":""},{"$f":"IF(Comanda!K107=3,(Comanda!E107*0.001+$BL$2)*Comanda!F107,\"\")","v":""},null,{"$f":"IF(Comanda!H107=4,(Comanda!D107*0.001+$BL$2)*Comanda!F107,\"\")","v":""},{"$f":"IF(Comanda!I107=4,(Comanda!D107*0.001+$BL$2)*Comanda!F107,\"\")","v":""},{"$f":"IF(Comanda!J107=4,(Comanda!E107*0.001+$BL$2)*Comanda!F107,\"\")","v":""},{"$f":"IF(Comanda!K107=4,(Comanda!E107*0.001+$BL$2)*Comanda!F107,\"\")","v":""}]
[89,{"$f":"IF(Comanda!B108<>0,Comanda!B108,\"\")","v":""},{"$f":"IF(Comanda!C108<>0,Comanda!C108,\"\")","v":""},{"$f":"IF(Comanda!D108<>0,Comanda!D108,\"\")","v":""},{"$f":"IF(Comanda!E108<>0,Comanda!E108,\"\")","v":""},{"$f":"IF(Comanda!F108<>0,Comanda!F108,\"\")","v":""},{"$f":"IF(Comanda!G108<>0,1,0)","v":0},{"$f":"IF(Comanda!H108=1,Comanda!$C$13,IF(Comanda!H108=2,Comanda!$C$14,IF(Comanda!$H108=3,Comanda!$C$15,IF(Comanda!$H108=4,Comanda!$C$16,0))))","v":0},{"$f":"IF(Comanda!I108=1,Comanda!$C$13,IF(Comanda!I108=2,Comanda!$C$14,IF(Comanda!$I108=3,Comanda!$C$15,IF(Comanda!$I108=4,Comanda!$C$16,0))))","v":0},{"$f":"IF(Comanda!J108=1,Comanda!$C$13,IF(Comanda!J108=2,Comanda!$C$14,IF(Comanda!$J108=3,Comanda!$C$15,IF(Comanda!$J108=4,Comanda!$C$16,0))))","v":0},{"$f":"IF(Comanda!K108=1,Comanda!$C$13,IF(Comanda!K108=2,Comanda!$C$14,IF(Comanda!$K108=3,Comanda!$C$15,IF(Comanda!$K108=4,Comanda!$C$16,0))))","v":0},{"$f":"IF(Comanda!B108<>0,Comanda!$C$2,\"\")","v":""},{"$f":"IF(Comanda!B108<>0,Comanda!$C$5,\"\")","v":""},{"$f":"IF(Comanda!B108<>0,Comanda!$G$2,\"\")","v":""},{"$f":"IF(Comanda!B108<>0,Comanda!L108,\"\")","v":""},{"$f":"IF(Comanda!D108<>0,VLOOKUP('Formula Cant'!F91,'Grafica Cant'!$G$2:$H$25,2,FALSE),\"\")","v":""},{"$nulls":8},{"$f":"IF(Comanda!B108<>0,Comanda!$C$9,\"\")","v":""},{"$f":"IF(Comanda!B108<>0,VLOOKUP(Comanda!$C$12,PRETURI!$A$2:$C$500,3,FALSE),\"\")","v":""},"",{"$f":"IF(H91<>0,VLOOKUP(H91,PRETURI!$D$2:$F$1093,3,FALSE),\"\")","v":""},{"v":0,"d":"0.00"},{"$f":"IF(I91<>0,VLOOKUP(I91,PRETURI!$D$2:$F$1093,3,FALSE),\"\")","v":""},{"v":0,"d":"0.00"},{"$f":"IF(J91<>0,VLOOKUP(J91,PRETURI!$D$2:$F$1093,3,FALSE),\"\")","v":""},{"v":0,"d":"0.00"},{"$f":"IF(K91<>0,VLOOKUP(K91,PRETURI!$D$2:$F$1093,3,FALSE),\"\")","v":""},{"v":0,"d":"0.00"},{"$nulls":6},{"$f":"(Comanda!D108*Comanda!E108*Comanda!F108)*0.000001","v":{"v":0,"d":"0.00"}},null,{"$f":"IF(Comanda!H108=1,(Comanda!D108*0.001+$BL$2)*Comanda!F108,\"\")","v":""},{"$f":"IF(Comanda!I108=1,(Comanda!D108*0.001+$BL$2)*Comanda!F108,\"\")","v":""},{"$f":"IF(Comanda!J108=1,(Comanda!E108*0.001+$BL$2)*Comanda!F108,\"\")","v":""},{"$f":"IF(Comanda!K108=1,(Comanda!E108*0.001+$BL$2)*Comanda!F108,\"\")","v":""},null,{"$f":"IF(Comanda!H108=2,(Comanda!D108*0.001+$BL$2)*Comanda!F108,\"\")","v":""},{"$f":"IF(Comanda!I108=2,(Comanda!D108*0.001+$BL$2)*Comanda!F108,\"\")","v":""},{"$f":"IF(Comanda!J108=2,(Comanda!E108*0.001+$BL$2)*Comanda!F108,\"\")","v":""},{"$f":"IF(Comanda!K108=2,(Comanda!E108*0.001+$BL$2)*Comanda!F108,\"\")","v":""},null,{"$f":"IF(Comanda!H108=3,(Comanda!D108*0.001+$BL$2)*Comanda!F108,\"\")","v":""},{"$f":"IF(Comanda!I108=3,(Comanda!D108*0.001+$BL$2)*Comanda!F108,\"\")","v":""},{"$f":"IF(Comanda!J108=3,(Comanda!E108*0.001+$BL$2)*Comanda!F108,\"\")","v":""},{"$f":"IF(Comanda!K108=3,(Comanda!E108*0.001+$BL$2)*Comanda!F108,\"\")","v":""},null,{"$f":"IF(Comanda!H108=4,(Comanda!D108*0.001+$BL$2)*Comanda!F108,\"\")","v":""},{"$f":"IF(Comanda!I108=4,(Comanda!D108*0.001+$BL$2)*Comanda!F108,\"\")","v":""},{"$f":"IF(Comanda!J108=4,(Comanda!E108*0.001+$BL$2)*Comanda!F108,\"\")","v":""},{"$f":"IF(Comanda!K108=4,(Comanda!E108*0.001+$BL$2)*Comanda!F108,\"\")","v":""}]
[90,{"$f":"IF(Comanda!B109<>0,Comanda!B109,\"\")","v":""},{"$f":"IF(Comanda!C109<>0,Comanda!C109,\"\")","v":""},{"$f":"IF(Comanda!D109<>0,Comanda!D109,\"\")","v":""},{"$f":"IF(Comanda!E109<>0,Comanda!E109,\"\")","v":""},{"$f":"IF(Comanda!F109<>0,Comanda!F109,\"\")","v":""},{"$f":"IF(Comanda!G109<>0,1,0)","v":0},{"$f":"IF(Comanda!H109=1,Comanda!$C$13,IF(Comanda!H109=2,Comanda!$C$14,IF(Comanda!$H109=3,Comanda!$C$15,IF(Comanda!$H109=4,Comanda!$C$16,0))))","v":0},{"$f":"IF(Comanda!I109=1,Comanda!$C$13,IF(Comanda!I109=2,Comanda!$C$14,IF(Comanda!$I109=3,Comanda!$C$15,IF(Comanda!$I109=4,Comanda!$C$16,0))))","v":0},{"$f":"IF(Comanda!J109=1,Comanda!$C$13,IF(Comanda!J109=2,Comanda!$C$14,IF(Comanda!$J109=3,Comanda!$C$15,IF(Comanda!$J109=4,Comanda!$C$16,0))))","v":0},{"$f":"IF(Comanda!K109=1,Comanda!$C$13,IF(Comanda!K109=2,Comanda!$C$14,IF(Comanda!$K109=3,Comanda!$C$15,IF(Comanda!$K109=4,Comanda!$C$16,0))))","v":0},{"$f":"IF(Comanda!B109<>0,Comanda!$C$2,\"\")","v":""},{"$f":"IF(Comanda!B109<>0,Comanda!$C$5,\"\")","v":""},{"$f":"IF(Comanda!B109<>0,Comanda!$G$2,\"\")","v":""},{"$f":"IF(Comanda!B109<>0,Comanda!L109,\"\")","v":""},{"$f":"IF(Comanda!D109<>0,VLOOKUP('Formula Cant'!F92,'Grafica Cant'!$G$2:$H$25,2,FALSE),\"\")","v":""},{"$nulls":8},{"$f":"IF(Comanda!B109<>0,Comanda!$C$9,\"\")","v":""},{"$f":"IF(Comanda!B109<>0,VLOOKUP(Comanda!$C$12,PRETURI!$A$2:$C$500,3,FALSE),\"\")","v":""},"",{"$f":"IF(H92<>0,VLOOKUP(H92,PRETURI!$D$2:$F$1093,3,FALSE),\"\")","v":""},{"v":0,"d":"0.00"},{"$f":"IF(I92<>0,VLOOKUP(I92,PRETURI!$D$2:$F$1093,3,FALSE),\"\")","v":""},{"v":0,"d":"0.00"},{"$f":"IF(J92<>0,VLOOKUP(J92,PRETURI!$D$2:$F$1093,3,FALSE),\"\")","v":""},{"v":0,"d":"0.00"},{"$f":"IF(K92<>0,VLOOKUP(K92,PRETURI!$D$2:$F$1093,3,FALSE),\"\")","v":""},{"v":0,"d":"0.00"},{"$nulls":6},{"$f":"(Comanda!D109*Comanda!E109*Comanda!F109)*0.000001","v":{"v":0,"d":"0.00"}},null,{"$f":"IF(Comanda!H109=1,(Comanda!D109*0.001+$BL$2)*Comanda!F109,\"\")","v":""},{"$f":"IF(Comanda!I109=1,(Comanda!D109*0.001+$BL$2)*Comanda!F109,\"\")","v":""},{"$f":"IF(Comanda!J109=1,(Comanda!E109*0.001+$BL$2)*Comanda!F109,\"\")","v":""},{"$f":"IF(Comanda!K109=1,(Comanda!E109*0.001+$BL$2)*Comanda!F109,\"\")","v":""},null,{"$f":"IF(Comanda!H109=2,(Comanda!D109*0.001+$BL$2)*Comanda!F109,\"\")","v":""},{"$f":"IF(Comanda!I109=2,(Comanda!D109*0.001+$BL$2)*Comanda!F109,\"\")","v":""},{"$f":"IF(Comanda!J109=2,(Comanda!E109*0.001+$BL$2)*Comanda!F109,\"\")","v":""},{"$f":"IF(Comanda!K109=2,(Comanda!E109*0.001+$BL$2)*Comanda!F109,\"\")","v":""},null,{"$f":"IF(Comanda!H109=3,(Comanda!D109*0.001+$BL$2)*Comanda!F109,\"\")","v":""},{"$f":"IF(Comanda!I109=3,(Comanda!D109*0.001+$BL$2)*Comanda!F109,\"\")","v":""},{"$f":"IF(Comanda!J109=3,(Comanda!E109*0.001+$BL$2)*Comanda!F109,\"\")","v":""},{"$f":"IF(Comanda!K109=3,(Comanda!E109*0.001+$BL$2)*Comanda!F109,\"\")","v":""},null,{"$f":"IF(Comanda!H109=4,(Comanda!D109*0.001+$BL$2)*Comanda!F109,\"\")","v":""},{"$f":"IF(Comanda!I109=4,(Comanda!D109*0.001+$BL$2)*Comanda!F109,\"\")","v":""},{"$f":"IF(Comanda!J109=4,(Comanda!E109*0.001+$BL$2)*Comanda!F109,\"\")","v":""},{"$f":"IF(Comanda!K109=4,(Comanda!E109*0.001+$BL$2)*Comanda!F109,\"\")","v":""}]
[91,{"$f":"IF(Comanda!B110<>0,Comanda!B110,\"\")","v":""},{"$f":"IF(Comanda!C110<>0,Comanda!C110,\"\")","v":""},{"$f":"IF(Comanda!D110<>0,Comanda!D110,\"\")","v":""},{"$f":"IF(Comanda!E110<>0,Comanda!E110,\"\")","v":""},{"$f":"IF(Comanda!F110<>0,Comanda!F110,\"\")","v":""},{"$f":"IF(Comanda!G110<>0,1,0)","v":0},{"$f":"IF(Comanda!H110=1,Comanda!$C$13,IF(Comanda!H110=2,Comanda!$C$14,IF(Comanda!$H110=3,Comanda!$C$15,IF(Comanda!$H110=4,Comanda!$C$16,0))))","v":0},{"$f":"IF(Comanda!I110=1,Comanda!$C$13,IF(Comanda!I110=2,Comanda!$C$14,IF(Comanda!$I110=3,Comanda!$C$15,IF(Comanda!$I110=4,Comanda!$C$16,0))))","v":0},{"$f":"IF(Comanda!J110=1,Comanda!$C$13,IF(Comanda!J110=2,Comanda!$C$14,IF(Comanda!$J110=3,Comanda!$C$15,IF(Comanda!$J110=4,Comanda!$C$16,0))))","v":0},{"$f":"IF(Comanda!K110=1,Comanda!$C$13,IF(Comanda!K110=2,Comanda!$C$14,IF(Comanda!$K110=3,Comanda!$C$15,IF(Comanda!$K110=4,Comanda!$C$16,0))))","v":0},{"$f":"IF(Comanda!B110<>0,Comanda!$C$2,\"\")","v":""},{"$f":"IF(Comanda!B110<>0,Comanda!$C$5,\"\")","v":""},{"$f":"IF(Comanda!B110<>0,Comanda!$G$2,\"\")","v":""},{"$f":"IF(Comanda!B110<>0,Comanda!L110,\"\")","v":""},{"$f":"IF(Comanda!D110<>0,VLOOKUP('Formula Cant'!F93,'Grafica Cant'!$G$2:$H$25,2,FALSE),\"\")","v":""},{"$nulls":8},{"$f":"IF(Comanda!B110<>0,Comanda!$C$9,\"\")","v":""},{"$f":"IF(Comanda!B110<>0,VLOOKUP(Comanda!$C$12,PRETURI!$A$2:$C$500,3,FALSE),\"\")","v":""},"",{"$f":"IF(H93<>0,VLOOKUP(H93,PRETURI!$D$2:$F$1093,3,FALSE),\"\")","v":""},{"v":0,"d":"0.00"},{"$f":"IF(I93<>0,VLOOKUP(I93,PRETURI!$D$2:$F$1093,3,FALSE),\"\")","v":""},{"v":0,"d":"0.00"},{"$f":"IF(J93<>0,VLOOKUP(J93,PRETURI!$D$2:$F$1093,3,FALSE),\"\")","v":""},{"v":0,"d":"0.00"},{"$f":"IF(K93<>0,VLOOKUP(K93,PRETURI!$D$2:$F$1093,3,FALSE),\"\")","v":""},{"v":0,"d":"0.00"},{"$nulls":6},{"$f":"(Comanda!D110*Comanda!E110*Comanda!F110)*0.000001","v":{"v":0,"d":"0.00"}},null,{"$f":"IF(Comanda!H110=1,(Comanda!D110*0.001+$BL$2)*Comanda!F110,\"\")","v":""},{"$f":"IF(Comanda!I110=1,(Comanda!D110*0.001+$BL$2)*Comanda!F110,\"\")","v":""},{"$f":"IF(Comanda!J110=1,(Comanda!E110*0.001+$BL$2)*Comanda!F110,\"\")","v":""},{"$f":"IF(Comanda!K110=1,(Comanda!E110*0.001+$BL$2)*Comanda!F110,\"\")","v":""},null,{"$f":"IF(Comanda!H110=2,(Comanda!D110*0.001+$BL$2)*Comanda!F110,\"\")","v":""},{"$f":"IF(Comanda!I110=2,(Comanda!D110*0.001+$BL$2)*Comanda!F110,\"\")","v":""},{"$f":"IF(Comanda!J110=2,(Comanda!E110*0.001+$BL$2)*Comanda!F110,\"\")","v":""},{"$f":"IF(Comanda!K110=2,(Comanda!E110*0.001+$BL$2)*Comanda!F110,\"\")","v":""},null,{"$f":"IF(Comanda!H110=3,(Comanda!D110*0.001+$BL$2)*Comanda!F110,\"\")","v":""},{"$f":"IF(Comanda!I110=3,(Comanda!D110*0.001+$BL$2)*Comanda!F110,\"\")","v":""},{"$f":"IF(Comanda!J110=3,(Comanda!E110*0.001+$BL$2)*Comanda!F110,\"\")","v":""},{"$f":"IF(Comanda!K110=3,(Comanda!E110*0.001+$BL$2)*Comanda!F110,\"\")","v":""},null,{"$f":"IF(Comanda!H110=4,(Comanda!D110*0.001+$BL$2)*Comanda!F110,\"\")","v":""},{"$f":"IF(Comanda!I110=4,(Comanda!D110*0.001+$BL$2)*Comanda!F110,\"\")","v":""},{"$f":"IF(Comanda!J110=4,(Comanda!E110*0.001+$BL$2)*Comanda!F110,\"\")","v":""},{"$f":"IF(Comanda!K110=4,(Comanda!E110*0.001+$BL$2)*Comanda!F110,\"\")","v":""}]
[92,{"$f":"IF(Comanda!B111<>0,Comanda!B111,\"\")","v":""},{"$f":"IF(Comanda!C111<>0,Comanda!C111,\"\")","v":""},{"$f":"IF(Comanda!D111<>0,Comanda!D111,\"\")","v":""},{"$f":"IF(Comanda!E111<>0,Comanda!E111,\"\")","v":""},{"$f":"IF(Comanda!F111<>0,Comanda!F111,\"\")","v":""},{"$f":"IF(Comanda!G111<>0,1,0)","v":0},{"$f":"IF(Comanda!H111=1,Comanda!$C$13,IF(Comanda!H111=2,Comanda!$C$14,IF(Comanda!$H111=3,Comanda!$C$15,IF(Comanda!$H111=4,Comanda!$C$16,0))))","v":0},{"$f":"IF(Comanda!I111=1,Comanda!$C$13,IF(Comanda!I111=2,Comanda!$C$14,IF(Comanda!$I111=3,Comanda!$C$15,IF(Comanda!$I111=4,Comanda!$C$16,0))))","v":0},{"$f":"IF(Comanda!J111=1,Comanda!$C$13,IF(Comanda!J111=2,Comanda!$C$14,IF(Comanda!$J111=3,Comanda!$C$15,IF(Comanda!$J111=4,Comanda!$C$16,0))))","v":0},{"$f":"IF(Comanda!K111=1,Comanda!$C$13,IF(Comanda!K111=2,Comanda!$C$14,IF(Comanda!$K111=3,Comanda!$C$15,IF(Comanda!$K111=4,Comanda!$C$16,0))))","v":0},{"$f":"IF(Comanda!B111<>0,Comanda!$C$2,\"\")","v":""},{"$f":"IF(Comanda!B111<>0,Comanda!$C$5,\"\")","v":""},{"$f":"IF(Comanda!B111<>0,Comanda!$G$2,\"\")","v":""},{"$f":"IF(Comanda!B111<>0,Comanda!L111,\"\")","v":""},{"$f":"IF(Comanda!D111<>0,VLOOKUP('Formula Cant'!F94,'Grafica Cant'!$G$2:$H$25,2,FALSE),\"\")","v":""},{"$nulls":8},{"$f":"IF(Comanda!B111<>0,Comanda!$C$9,\"\")","v":""},{"$f":"IF(Comanda!B111<>0,VLOOKUP(Comanda!$C$12,PRETURI!$A$2:$C$500,3,FALSE),\"\")","v":""},"",{"$f":"IF(H94<>0,VLOOKUP(H94,PRETURI!$D$2:$F$1093,3,FALSE),\"\")","v":""},{"v":0,"d":"0.00"},{"$f":"IF(I94<>0,VLOOKUP(I94,PRETURI!$D$2:$F$1093,3,FALSE),\"\")","v":""},{"v":0,"d":"0.00"},{"$f":"IF(J94<>0,VLOOKUP(J94,PRETURI!$D$2:$F$1093,3,FALSE),\"\")","v":""},{"v":0,"d":"0.00"},{"$f":"IF(K94<>0,VLOOKUP(K94,PRETURI!$D$2:$F$1093,3,FALSE),\"\")","v":""},{"v":0,"d":"0.00"},{"$nulls":6},{"$f":"(Comanda!D111*Comanda!E111*Comanda!F111)*0.000001","v":{"v":0,"d":"0.00"}},null,{"$f":"IF(Comanda!H111=1,(Comanda!D111*0.001+$BL$2)*Comanda!F111,\"\")","v":""},{"$f":"IF(Comanda!I111=1,(Comanda!D111*0.001+$BL$2)*Comanda!F111,\"\")","v":""},{"$f":"IF(Comanda!J111=1,(Comanda!E111*0.001+$BL$2)*Comanda!F111,\"\")","v":""},{"$f":"IF(Comanda!K111=1,(Comanda!E111*0.001+$BL$2)*Comanda!F111,\"\")","v":""},null,{"$f":"IF(Comanda!H111=2,(Comanda!D111*0.001+$BL$2)*Comanda!F111,\"\")","v":""},{"$f":"IF(Comanda!I111=2,(Comanda!D111*0.001+$BL$2)*Comanda!F111,\"\")","v":""},{"$f":"IF(Comanda!J111=2,(Comanda!E111*0.001+$BL$2)*Comanda!F111,\"\")","v":""},{"$f":"IF(Comanda!K111=2,(Comanda!E111*0.001+$BL$2)*Comanda!F111,\"\")","v":""},null,{"$f":"IF(Comanda!H111=3,(Comanda!D111*0.001+$BL$2)*Comanda!F111,\"\")","v":""},{"$f":"IF(Comanda!I111=3,(Comanda!D111*0.001+$BL$2)*Comanda!F111,\"\")","v":""},{"$f":"IF(Comanda!J111=3,(Comanda!E111*0.001+$BL$2)*Comanda!F111,\"\")","v":""},{"$f":"IF(Comanda!K111=3,(Comanda!E111*0.001+$BL$2)*Comanda!F111,\"\")","v":""},null,{"$f":"IF(Comanda!H111=4,(Comanda!D111*0.001+$BL$2)*Comanda!F111,\"\")","v":""},{"$f":"IF(Comanda!I111=4,(Comanda!D111*0.001+$BL$2)*Comanda!F111,\"\")","v":""},{"$f":"IF(Comanda!J111=4,(Comanda!E111*0.001+$BL$2)*Comanda!F111,\"\")","v":""},{"$f":"IF(Comanda!K111=4,(Comanda!E111*0.001+$BL$2)*Comanda!F111,\"\")","v":""}]
[93,{"$f":"IF(Comanda!B112<>0,Comanda!B112,\"\")","v":""},{"$f":"IF(Comanda!C112<>0,Comanda!C112,\"\")","v":""},{"$f":"IF(Comanda!D112<>0,Comanda!D112,\"\")","v":""},{"$f":"IF(Comanda!E112<>0,Comanda!E112,\"\")","v":""},{"$f":"IF(Comanda!F112<>0,Comanda!F112,\"\")","v":""},{"$f":"IF(Comanda!G112<>0,1,0)","v":0},{"$f":"IF(Comanda!H112=1,Comanda!$C$13,IF(Comanda!H112=2,Comanda!$C$14,IF(Comanda!$H112=3,Comanda!$C$15,IF(Comanda!$H112=4,Comanda!$C$16,0))))","v":0},{"$f":"IF(Comanda!I112=1,Comanda!$C$13,IF(Comanda!I112=2,Comanda!$C$14,IF(Comanda!$I112=3,Comanda!$C$15,IF(Comanda!$I112=4,Comanda!$C$16,0))))","v":0},{"$f":"IF(Comanda!J112=1,Comanda!$C$13,IF(Comanda!J112=2,Comanda!$C$14,IF(Comanda!$J112=3,Comanda!$C$15,IF(Comanda!$J112=4,Comanda!$C$16,0))))","v":0},{"$f":"IF(Comanda!K112=1,Comanda!$C$13,IF(Comanda!K112=2,Comanda!$C$14,IF(Comanda!$K112=3,Comanda!$C$15,IF(Comanda!$K112=4,Comanda!$C$16,0))))","v":0},{"$f":"IF(Comanda!B112<>0,Comanda!$C$2,\"\")","v":""},{"$f":"IF(Comanda!B112<>0,Comanda!$C$5,\"\")","v":""},{"$f":"IF(Comanda!B112<>0,Comanda!$G$2,\"\")","v":""},{"$f":"IF(Comanda!B112<>0,Comanda!L112,\"\")","v":""},{"$f":"IF(Comanda!D112<>0,VLOOKUP('Formula Cant'!F95,'Grafica Cant'!$G$2:$H$25,2,FALSE),\"\")","v":""},{"$nulls":8},{"$f":"IF(Comanda!B112<>0,Comanda!$C$9,\"\")","v":""},{"$f":"IF(Comanda!B112<>0,VLOOKUP(Comanda!$C$12,PRETURI!$A$2:$C$500,3,FALSE),\"\")","v":""},"",{"$f":"IF(H95<>0,VLOOKUP(H95,PRETURI!$D$2:$F$1093,3,FALSE),\"\")","v":""},{"v":0,"d":"0.00"},{"$f":"IF(I95<>0,VLOOKUP(I95,PRETURI!$D$2:$F$1093,3,FALSE),\"\")","v":""},{"v":0,"d":"0.00"},{"$f":"IF(J95<>0,VLOOKUP(J95,PRETURI!$D$2:$F$1093,3,FALSE),\"\")","v":""},{"v":0,"d":"0.00"},{"$f":"IF(K95<>0,VLOOKUP(K95,PRETURI!$D$2:$F$1093,3,FALSE),\"\")","v":""},{"v":0,"d":"0.00"},{"$nulls":6},{"$f":"(Comanda!D112*Comanda!E112*Comanda!F112)*0.000001","v":{"v":0,"d":"0.00"}},null,{"$f":"IF(Comanda!H112=1,(Comanda!D112*0.001+$BL$2)*Comanda!F112,\"\")","v":""},{"$f":"IF(Comanda!I112=1,(Comanda!D112*0.001+$BL$2)*Comanda!F112,\"\")","v":""},{"$f":"IF(Comanda!J112=1,(Comanda!E112*0.001+$BL$2)*Comanda!F112,\"\")","v":""},{"$f":"IF(Comanda!K112=1,(Comanda!E112*0.001+$BL$2)*Comanda!F112,\"\")","v":""},null,{"$f":"IF(Comanda!H112=2,(Comanda!D112*0.001+$BL$2)*Comanda!F112,\"\")","v":""},{"$f":"IF(Comanda!I112=2,(Comanda!D112*0.001+$BL$2)*Comanda!F112,\"\")","v":""},{"$f":"IF(Comanda!J112=2,(Comanda!E112*0.001+$BL$2)*Comanda!F112,\"\")","v":""},{"$f":"IF(Comanda!K112=2,(Comanda!E112*0.001+$BL$2)*Comanda!F112,\"\")","v":""},null,{"$f":"IF(Comanda!H112=3,(Comanda!D112*0.001+$BL$2)*Comanda!F112,\"\")","v":""},{"$f":"IF(Comanda!I112=3,(Comanda!D112*0.001+$BL$2)*Comanda!F112,\"\")","v":""},{"$f":"IF(Comanda!J112=3,(Comanda!E112*0.001+$BL$2)*Comanda!F112,\"\")","v":""},{"$f":"IF(Comanda!K112=3,(Comanda!E112*0.001+$BL$2)*Comanda!F112,\"\")","v":""},null,{"$f":"IF(Comanda!H112=4,(Comanda!D112*0.001+$BL$2)*Comanda!F112,\"\")","v":""},{"$f":"IF(Comanda!I112=4,(Comanda!D112*0.001+$BL$2)*Comanda!F112,\"\")","v":""},{"$f":"IF(Comanda!J112=4,(Comanda!E112*0.001+$BL$2)*Comanda!F112,\"\")","v":""},{"$f":"IF(Comanda!K112=4,(Comanda!E112*0.001+$BL$2)*Comanda!F112,\"\")","v":""}]
[94,{"$f":"IF(Comanda!B113<>0,Comanda!B113,\"\")","v":""},{"$f":"IF(Comanda!C113<>0,Comanda!C113,\"\")","v":""},{"$f":"IF(Comanda!D113<>0,Comanda!D113,\"\")","v":""},{"$f":"IF(Comanda!E113<>0,Comanda!E113,\"\")","v":""},{"$f":"IF(Comanda!F113<>0,Comanda!F113,\"\")","v":""},{"$f":"IF(Comanda!G113<>0,1,0)","v":0},{"$f":"IF(Comanda!H113=1,Comanda!$C$13,IF(Comanda!H113=2,Comanda!$C$14,IF(Comanda!$H113=3,Comanda!$C$15,IF(Comanda!$H113=4,Comanda!$C$16,0))))","v":0},{"$f":"IF(Comanda!I113=1,Comanda!$C$13,IF(Comanda!I113=2,Comanda!$C$14,IF(Comanda!$I113=3,Comanda!$C$15,IF(Comanda!$I113=4,Comanda!$C$16,0))))","v":0},{"$f":"IF(Comanda!J113=1,Comanda!$C$13,IF(Comanda!J113=2,Comanda!$C$14,IF(Comanda!$J113=3,Comanda!$C$15,IF(Comanda!$J113=4,Comanda!$C$16,0))))","v":0},{"$f":"IF(Comanda!K113=1,Comanda!$C$13,IF(Comanda!K113=2,Comanda!$C$14,IF(Comanda!$K113=3,Comanda!$C$15,IF(Comanda!$K113=4,Comanda!$C$16,0))))","v":0},{"$f":"IF(Comanda!B113<>0,Comanda!$C$2,\"\")","v":""},{"$f":"IF(Comanda!B113<>0,Comanda!$C$5,\"\")","v":""},{"$f":"IF(Comanda!B113<>0,Comanda!$G$2,\"\")","v":""},{"$f":"IF(Comanda!B113<>0,Comanda!L113,\"\")","v":""},{"$f":"IF(Comanda!D113<>0,VLOOKUP('Formula Cant'!F96,'Grafica Cant'!$G$2:$H$25,2,FALSE),\"\")","v":""},{"$nulls":8},{"$f":"IF(Comanda!B113<>0,Comanda!$C$9,\"\")","v":""},{"$f":"IF(Comanda!B113<>0,VLOOKUP(Comanda!$C$12,PRETURI!$A$2:$C$500,3,FALSE),\"\")","v":""},"",{"$f":"IF(H96<>0,VLOOKUP(H96,PRETURI!$D$2:$F$1093,3,FALSE),\"\")","v":""},{"v":0,"d":"0.00"},{"$f":"IF(I96<>0,VLOOKUP(I96,PRETURI!$D$2:$F$1093,3,FALSE),\"\")","v":""},{"v":0,"d":"0.00"},{"$f":"IF(J96<>0,VLOOKUP(J96,PRETURI!$D$2:$F$1093,3,FALSE),\"\")","v":""},{"v":0,"d":"0.00"},{"$f":"IF(K96<>0,VLOOKUP(K96,PRETURI!$D$2:$F$1093,3,FALSE),\"\")","v":""},{"v":0,"d":"0.00"},{"$nulls":6},{"$f":"(Comanda!D113*Comanda!E113*Comanda!F113)*0.000001","v":{"v":0,"d":"0.00"}},null,{"$f":"IF(Comanda!H113=1,(Comanda!D113*0.001+$BL$2)*Comanda!F113,\"\")","v":""},{"$f":"IF(Comanda!I113=1,(Comanda!D113*0.001+$BL$2)*Comanda!F113,\"\")","v":""},{"$f":"IF(Comanda!J113=1,(Comanda!E113*0.001+$BL$2)*Comanda!F113,\"\")","v":""},{"$f":"IF(Comanda!K113=1,(Comanda!E113*0.001+$BL$2)*Comanda!F113,\"\")","v":""},null,{"$f":"IF(Comanda!H113=2,(Comanda!D113*0.001+$BL$2)*Comanda!F113,\"\")","v":""},{"$f":"IF(Comanda!I113=2,(Comanda!D113*0.001+$BL$2)*Comanda!F113,\"\")","v":""},{"$f":"IF(Comanda!J113=2,(Comanda!E113*0.001+$BL$2)*Comanda!F113,\"\")","v":""},{"$f":"IF(Comanda!K113=2,(Comanda!E113*0.001+$BL$2)*Comanda!F113,\"\")","v":""},null,{"$f":"IF(Comanda!H113=3,(Comanda!D113*0.001+$BL$2)*Comanda!F113,\"\")","v":""},{"$f":"IF(Comanda!I113=3,(Comanda!D113*0.001+$BL$2)*Comanda!F113,\"\")","v":""},{"$f":"IF(Comanda!J113=3,(Comanda!E113*0.001+$BL$2)*Comanda!F113,\"\")","v":""},{"$f":"IF(Comanda!K113=3,(Comanda!E113*0.001+$BL$2)*Comanda!F113,\"\")","v":""},null,{"$f":"IF(Comanda!H113=4,(Comanda!D113*0.001+$BL$2)*Comanda!F113,\"\")","v":""},{"$f":"IF(Comanda!I113=4,(Comanda!D113*0.001+$BL$2)*Comanda!F113,\"\")","v":""},{"$f":"IF(Comanda!J113=4,(Comanda!E113*0.001+$BL$2)*Comanda!F113,\"\")","v":""},{"$f":"IF(Comanda!K113=4,(Comanda!E113*0.001+$BL$2)*Comanda!F113,\"\")","v":""}]
[95,{"$f":"IF(Comanda!B114<>0,Comanda!B114,\"\")","v":""},{"$f":"IF(Comanda!C114<>0,Comanda!C114,\"\")","v":""},{"$f":"IF(Comanda!D114<>0,Comanda!D114,\"\")","v":""},{"$f":"IF(Comanda!E114<>0,Comanda!E114,\"\")","v":""},{"$f":"IF(Comanda!F114<>0,Comanda!F114,\"\")","v":""},{"$f":"IF(Comanda!G114<>0,1,0)","v":0},{"$f":"IF(Comanda!H114=1,Comanda!$C$13,IF(Comanda!H114=2,Comanda!$C$14,IF(Comanda!$H114=3,Comanda!$C$15,IF(Comanda!$H114=4,Comanda!$C$16,0))))","v":0},{"$f":"IF(Comanda!I114=1,Comanda!$C$13,IF(Comanda!I114=2,Comanda!$C$14,IF(Comanda!$I114=3,Comanda!$C$15,IF(Comanda!$I114=4,Comanda!$C$16,0))))","v":0},{"$f":"IF(Comanda!J114=1,Comanda!$C$13,IF(Comanda!J114=2,Comanda!$C$14,IF(Comanda!$J114=3,Comanda!$C$15,IF(Comanda!$J114=4,Comanda!$C$16,0))))","v":0},{"$f":"IF(Comanda!K114=1,Comanda!$C$13,IF(Comanda!K114=2,Comanda!$C$14,IF(Comanda!$K114=3,Comanda!$C$15,IF(Comanda!$K114=4,Comanda!$C$16,0))))","v":0},{"$f":"IF(Comanda!B114<>0,Comanda!$C$2,\"\")","v":""},{"$f":"IF(Comanda!B114<>0,Comanda!$C$5,\"\")","v":""},{"$f":"IF(Comanda!B114<>0,Comanda!$G$2,\"\")","v":""},{"$f":"IF(Comanda!B114<>0,Comanda!L114,\"\")","v":""},{"$f":"IF(Comanda!D114<>0,VLOOKUP('Formula Cant'!F97,'Grafica Cant'!$G$2:$H$25,2,FALSE),\"\")","v":""},{"$nulls":8},{"$f":"IF(Comanda!B114<>0,Comanda!$C$9,\"\")","v":""},{"$f":"IF(Comanda!B114<>0,VLOOKUP(Comanda!$C$12,PRETURI!$A$2:$C$500,3,FALSE),\"\")","v":""},"",{"$f":"IF(H97<>0,VLOOKUP(H97,PRETURI!$D$2:$F$1093,3,FALSE),\"\")","v":""},{"v":0,"d":"0.00"},{"$f":"IF(I97<>0,VLOOKUP(I97,PRETURI!$D$2:$F$1093,3,FALSE),\"\")","v":""},{"v":0,"d":"0.00"},{"$f":"IF(J97<>0,VLOOKUP(J97,PRETURI!$D$2:$F$1093,3,FALSE),\"\")","v":""},{"v":0,"d":"0.00"},{"$f":"IF(K97<>0,VLOOKUP(K97,PRETURI!$D$2:$F$1093,3,FALSE),\"\")","v":""},{"v":0,"d":"0.00"},{"$nulls":6},{"$f":"(Comanda!D114*Comanda!E114*Comanda!F114)*0.000001","v":{"v":0,"d":"0.00"}},null,{"$f":"IF(Comanda!H114=1,(Comanda!D114*0.001+$BL$2)*Comanda!F114,\"\")","v":""},{"$f":"IF(Comanda!I114=1,(Comanda!D114*0.001+$BL$2)*Comanda!F114,\"\")","v":""},{"$f":"IF(Comanda!J114=1,(Comanda!E114*0.001+$BL$2)*Comanda!F114,\"\")","v":""},{"$f":"IF(Comanda!K114=1,(Comanda!E114*0.001+$BL$2)*Comanda!F114,\"\")","v":""},null,{"$f":"IF(Comanda!H114=2,(Comanda!D114*0.001+$BL$2)*Comanda!F114,\"\")","v":""},{"$f":"IF(Comanda!I114=2,(Comanda!D114*0.001+$BL$2)*Comanda!F114,\"\")","v":""},{"$f":"IF(Comanda!J114=2,(Comanda!E114*0.001+$BL$2)*Comanda!F114,\"\")","v":""},{"$f":"IF(Comanda!K114=2,(Comanda!E114*0.001+$BL$2)*Comanda!F114,\"\")","v":""},null,{"$f":"IF(Comanda!H114=3,(Comanda!D114*0.001+$BL$2)*Comanda!F114,\"\")","v":""},{"$f":"IF(Comanda!I114=3,(Comanda!D114*0.001+$BL$2)*Comanda!F114,\"\")","v":""},{"$f":"IF(Comanda!J114=3,(Comanda!E114*0.001+$BL$2)*Comanda!F114,\"\")","v":""},{"$f":"IF(Comanda!K114=3,(Comanda!E114*0.001+$BL$2)*Comanda!F114,\"\")","v":""},null,{"$f":"IF(Comanda!H114=4,(Comanda!D114*0.001+$BL$2)*Comanda!F114,\"\")","v":""},{"$f":"IF(Comanda!I114=4,(Comanda!D114*0.001+$BL$2)*Comanda!F114,\"\")","v":""},{"$f":"IF(Comanda!J114=4,(Comanda!E114*0.001+$BL$2)*Comanda!F114,\"\")","v":""},{"$f":"IF(Comanda!K114=4,(Comanda!E114*0.001+$BL$2)*Comanda!F114,\"\")","v":""}]
[96,{"$f":"IF(Comanda!B115<>0,Comanda!B115,\"\")","v":""},{"$f":"IF(Comanda!C115<>0,Comanda!C115,\"\")","v":""},{"$f":"IF(Comanda!D115<>0,Comanda!D115,\"\")","v":""},{"$f":"IF(Comanda!E115<>0,Comanda!E115,\"\")","v":""},{"$f":"IF(Comanda!F115<>0,Comanda!F115,\"\")","v":""},{"$f":"IF(Comanda!G115<>0,1,0)","v":0},{"$f":"IF(Comanda!H115=1,Comanda!$C$13,IF(Comanda!H115=2,Comanda!$C$14,IF(Comanda!$H115=3,Comanda!$C$15,IF(Comanda!$H115=4,Comanda!$C$16,0))))","v":0},{"$f":"IF(Comanda!I115=1,Comanda!$C$13,IF(Comanda!I115=2,Comanda!$C$14,IF(Comanda!$I115=3,Comanda!$C$15,IF(Comanda!$I115=4,Comanda!$C$16,0))))","v":0},{"$f":"IF(Comanda!J115=1,Comanda!$C$13,IF(Comanda!J115=2,Comanda!$C$14,IF(Comanda!$J115=3,Comanda!$C$15,IF(Comanda!$J115=4,Comanda!$C$16,0))))","v":0},{"$f":"IF(Comanda!K115=1,Comanda!$C$13,IF(Comanda!K115=2,Comanda!$C$14,IF(Comanda!$K115=3,Comanda!$C$15,IF(Comanda!$K115=4,Comanda!$C$16,0))))","v":0},{"$f":"IF(Comanda!B115<>0,Comanda!$C$2,\"\")","v":""},{"$f":"IF(Comanda!B115<>0,Comanda!$C$5,\"\")","v":""},{"$f":"IF(Comanda!B115<>0,Comanda!$G$2,\"\")","v":""},{"$f":"IF(Comanda!B115<>0,Comanda!L115,\"\")","v":""},{"$f":"IF(Comanda!D115<>0,VLOOKUP('Formula Cant'!F98,'Grafica Cant'!$G$2:$H$25,2,FALSE),\"\")","v":""},{"$nulls":8},{"$f":"IF(Comanda!B115<>0,Comanda!$C$9,\"\")","v":""},{"$f":"IF(Comanda!B115<>0,VLOOKUP(Comanda!$C$12,PRETURI!$A$2:$C$500,3,FALSE),\"\")","v":""},"",{"$f":"IF(H98<>0,VLOOKUP(H98,PRETURI!$D$2:$F$1093,3,FALSE),\"\")","v":""},{"v":0,"d":"0.00"},{"$f":"IF(I98<>0,VLOOKUP(I98,PRETURI!$D$2:$F$1093,3,FALSE),\"\")","v":""},{"v":0,"d":"0.00"},{"$f":"IF(J98<>0,VLOOKUP(J98,PRETURI!$D$2:$F$1093,3,FALSE),\"\")","v":""},{"v":0,"d":"0.00"},{"$f":"IF(K98<>0,VLOOKUP(K98,PRETURI!$D$2:$F$1093,3,FALSE),\"\")","v":""},{"v":0,"d":"0.00"},{"$nulls":6},{"$f":"(Comanda!D115*Comanda!E115*Comanda!F115)*0.000001","v":{"v":0,"d":"0.00"}},null,{"$f":"IF(Comanda!H115=1,(Comanda!D115*0.001+$BL$2)*Comanda!F115,\"\")","v":""},{"$f":"IF(Comanda!I115=1,(Comanda!D115*0.001+$BL$2)*Comanda!F115,\"\")","v":""},{"$f":"IF(Comanda!J115=1,(Comanda!E115*0.001+$BL$2)*Comanda!F115,\"\")","v":""},{"$f":"IF(Comanda!K115=1,(Comanda!E115*0.001+$BL$2)*Comanda!F115,\"\")","v":""},null,{"$f":"IF(Comanda!H115=2,(Comanda!D115*0.001+$BL$2)*Comanda!F115,\"\")","v":""},{"$f":"IF(Comanda!I115=2,(Comanda!D115*0.001+$BL$2)*Comanda!F115,\"\")","v":""},{"$f":"IF(Comanda!J115=2,(Comanda!E115*0.001+$BL$2)*Comanda!F115,\"\")","v":""},{"$f":"IF(Comanda!K115=2,(Comanda!E115*0.001+$BL$2)*Comanda!F115,\"\")","v":""},null,{"$f":"IF(Comanda!H115=3,(Comanda!D115*0.001+$BL$2)*Comanda!F115,\"\")","v":""},{"$f":"IF(Comanda!I115=3,(Comanda!D115*0.001+$BL$2)*Comanda!F115,\"\")","v":""},{"$f":"IF(Comanda!J115=3,(Comanda!E115*0.001+$BL$2)*Comanda!F115,\"\")","v":""},{"$f":"IF(Comanda!K115=3,(Comanda!E115*0.001+$BL$2)*Comanda!F115,\"\")","v":""},null,{"$f":"IF(Comanda!H115=4,(Comanda!D115*0.001+$BL$2)*Comanda!F115,\"\")","v":""},{"$f":"IF(Comanda!I115=4,(Comanda!D115*0.001+$BL$2)*Comanda!F115,\"\")","v":""},{"$f":"IF(Comanda!J115=4,(Comanda!E115*0.001+$BL$2)*Comanda!F115,\"\")","v":""},{"$f":"IF(Comanda!K115=4,(Comanda!E115*0.001+$BL$2)*Comanda!F115,\"\")","v":""}]
[97,{"$f":"IF(Comanda!B116<>0,Comanda!B116,\"\")","v":""},{"$f":"IF(Comanda!C116<>0,Comanda!C116,\"\")","v":""},{"$f":"IF(Comanda!D116<>0,Comanda!D116,\"\")","v":""},{"$f":"IF(Comanda!E116<>0,Comanda!E116,\"\")","v":""},{"$f":"IF(Comanda!F116<>0,Comanda!F116,\"\")","v":""},{"$f":"IF(Comanda!G116<>0,1,0)","v":0},{"$f":"IF(Comanda!H116=1,Comanda!$C$13,IF(Comanda!H116=2,Comanda!$C$14,IF(Comanda!$H116=3,Comanda!$C$15,IF(Comanda!$H116=4,Comanda!$C$16,0))))","v":0},{"$f":"IF(Comanda!I116=1,Comanda!$C$13,IF(Comanda!I116=2,Comanda!$C$14,IF(Comanda!$I116=3,Comanda!$C$15,IF(Comanda!$I116=4,Comanda!$C$16,0))))","v":0},{"$f":"IF(Comanda!J116=1,Comanda!$C$13,IF(Comanda!J116=2,Comanda!$C$14,IF(Comanda!$J116=3,Comanda!$C$15,IF(Comanda!$J116=4,Comanda!$C$16,0))))","v":0},{"$f":"IF(Comanda!K116=1,Comanda!$C$13,IF(Comanda!K116=2,Comanda!$C$14,IF(Comanda!$K116=3,Comanda!$C$15,IF(Comanda!$K116=4,Comanda!$C$16,0))))","v":0},{"$f":"IF(Comanda!B116<>0,Comanda!$C$2,\"\")","v":""},{"$f":"IF(Comanda!B116<>0,Comanda!$C$5,\"\")","v":""},{"$f":"IF(Comanda!B116<>0,Comanda!$G$2,\"\")","v":""},{"$f":"IF(Comanda!B116<>0,Comanda!L116,\"\")","v":""},{"$f":"IF(Comanda!D116<>0,VLOOKUP('Formula Cant'!F99,'Grafica Cant'!$G$2:$H$25,2,FALSE),\"\")","v":""},{"$nulls":8},{"$f":"IF(Comanda!B116<>0,Comanda!$C$9,\"\")","v":""},{"$f":"IF(Comanda!B116<>0,VLOOKUP(Comanda!$C$12,PRETURI!$A$2:$C$500,3,FALSE),\"\")","v":""},"",{"$f":"IF(H99<>0,VLOOKUP(H99,PRETURI!$D$2:$F$1093,3,FALSE),\"\")","v":""},{"v":0,"d":"0.00"},{"$f":"IF(I99<>0,VLOOKUP(I99,PRETURI!$D$2:$F$1093,3,FALSE),\"\")","v":""},{"v":0,"d":"0.00"},{"$f":"IF(J99<>0,VLOOKUP(J99,PRETURI!$D$2:$F$1093,3,FALSE),\"\")","v":""},{"v":0,"d":"0.00"},{"$f":"IF(K99<>0,VLOOKUP(K99,PRETURI!$D$2:$F$1093,3,FALSE),\"\")","v":""},{"v":0,"d":"0.00"},{"$nulls":6},{"$f":"(Comanda!D116*Comanda!E116*Comanda!F116)*0.000001","v":{"v":0,"d":"0.00"}},null,{"$f":"IF(Comanda!H116=1,(Comanda!D116*0.001+$BL$2)*Comanda!F116,\"\")","v":""},{"$f":"IF(Comanda!I116=1,(Comanda!D116*0.001+$BL$2)*Comanda!F116,\"\")","v":""},{"$f":"IF(Comanda!J116=1,(Comanda!E116*0.001+$BL$2)*Comanda!F116,\"\")","v":""},{"$f":"IF(Comanda!K116=1,(Comanda!E116*0.001+$BL$2)*Comanda!F116,\"\")","v":""},null,{"$f":"IF(Comanda!H116=2,(Comanda!D116*0.001+$BL$2)*Comanda!F116,\"\")","v":""},{"$f":"IF(Comanda!I116=2,(Comanda!D116*0.001+$BL$2)*Comanda!F116,\"\")","v":""},{"$f":"IF(Comanda!J116=2,(Comanda!E116*0.001+$BL$2)*Comanda!F116,\"\")","v":""},{"$f":"IF(Comanda!K116=2,(Comanda!E116*0.001+$BL$2)*Comanda!F116,\"\")","v":""},null,{"$f":"IF(Comanda!H116=3,(Comanda!D116*0.001+$BL$2)*Comanda!F116,\"\")","v":""},{"$f":"IF(Comanda!I116=3,(Comanda!D116*0.001+$BL$2)*Comanda!F116,\"\")","v":""},{"$f":"IF(Comanda!J116=3,(Comanda!E116*0.001+$BL$2)*Comanda!F116,\"\")","v":""},{"$f":"IF(Comanda!K116=3,(Comanda!E116*0.001+$BL$2)*Comanda!F116,\"\")","v":""},null,{"$f":"IF(Comanda!H116=4,(Comanda!D116*0.001+$BL$2)*Comanda!F116,\"\")","v":""},{"$f":"IF(Comanda!I116=4,(Comanda!D116*0.001+$BL$2)*Comanda!F116,\"\")","v":""},{"$f":"IF(Comanda!J116=4,(Comanda!E116*0.001+$BL$2)*Comanda!F116,\"\")","v":""},{"$f":"IF(Comanda!K116=4,(Comanda!E116*0.001+$BL$2)*Comanda!F116,\"\")","v":""}]
[98,{"$f":"IF(Comanda!B117<>0,Comanda!B117,\"\")","v":""},{"$f":"IF(Comanda!C117<>0,Comanda!C117,\"\")","v":""},{"$f":"IF(Comanda!D117<>0,Comanda!D117,\"\")","v":""},{"$f":"IF(Comanda!E117<>0,Comanda!E117,\"\")","v":""},{"$f":"IF(Comanda!F117<>0,Comanda!F117,\"\")","v":""},{"$f":"IF(Comanda!G117<>0,1,0)","v":0},{"$f":"IF(Comanda!H117=1,Comanda!$C$13,IF(Comanda!H117=2,Comanda!$C$14,IF(Comanda!$H117=3,Comanda!$C$15,IF(Comanda!$H117=4,Comanda!$C$16,0))))","v":0},{"$f":"IF(Comanda!I117=1,Comanda!$C$13,IF(Comanda!I117=2,Comanda!$C$14,IF(Comanda!$I117=3,Comanda!$C$15,IF(Comanda!$I117=4,Comanda!$C$16,0))))","v":0},{"$f":"IF(Comanda!J117=1,Comanda!$C$13,IF(Comanda!J117=2,Comanda!$C$14,IF(Comanda!$J117=3,Comanda!$C$15,IF(Comanda!$J117=4,Comanda!$C$16,0))))","v":0},{"$f":"IF(Comanda!K117=1,Comanda!$C$13,IF(Comanda!K117=2,Comanda!$C$14,IF(Comanda!$K117=3,Comanda!$C$15,IF(Comanda!$K117=4,Comanda!$C$16,0))))","v":0},{"$f":"IF(Comanda!B117<>0,Comanda!$C$2,\"\")","v":""},{"$f":"IF(Comanda!B117<>0,Comanda!$C$5,\"\")","v":""},{"$f":"IF(Comanda!B117<>0,Comanda!$G$2,\"\")","v":""},{"$f":"IF(Comanda!B117<>0,Comanda!L117,\"\")","v":""},{"$f":"IF(Comanda!D117<>0,VLOOKUP('Formula Cant'!F100,'Grafica Cant'!$G$2:$H$25,2,FALSE),\"\")","v":""},{"$nulls":8},{"$f":"IF(Comanda!B117<>0,Comanda!$C$9,\"\")","v":""},{"$f":"IF(Comanda!B117<>0,VLOOKUP(Comanda!$C$12,PRETURI!$A$2:$C$500,3,FALSE),\"\")","v":""},"",{"$f":"IF(H100<>0,VLOOKUP(H100,PRETURI!$D$2:$F$1093,3,FALSE),\"\")","v":""},{"v":0,"d":"0.00"},{"$f":"IF(I100<>0,VLOOKUP(I100,PRETURI!$D$2:$F$1093,3,FALSE),\"\")","v":""},{"v":0,"d":"0.00"},{"$f":"IF(J100<>0,VLOOKUP(J100,PRETURI!$D$2:$F$1093,3,FALSE),\"\")","v":""},{"v":0,"d":"0.00"},{"$f":"IF(K100<>0,VLOOKUP(K100,PRETURI!$D$2:$F$1093,3,FALSE),\"\")","v":""},{"v":0,"d":"0.00"},{"$nulls":6},{"$f":"(Comanda!D117*Comanda!E117*Comanda!F117)*0.000001","v":{"v":0,"d":"0.00"}},null,{"$f":"IF(Comanda!H117=1,(Comanda!D117*0.001+$BL$2)*Comanda!F117,\"\")","v":""},{"$f":"IF(Comanda!I117=1,(Comanda!D117*0.001+$BL$2)*Comanda!F117,\"\")","v":""},{"$f":"IF(Comanda!J117=1,(Comanda!E117*0.001+$BL$2)*Comanda!F117,\"\")","v":""},{"$f":"IF(Comanda!K117=1,(Comanda!E117*0.001+$BL$2)*Comanda!F117,\"\")","v":""},null,{"$f":"IF(Comanda!H117=2,(Comanda!D117*0.001+$BL$2)*Comanda!F117,\"\")","v":""},{"$f":"IF(Comanda!I117=2,(Comanda!D117*0.001+$BL$2)*Comanda!F117,\"\")","v":""},{"$f":"IF(Comanda!J117=2,(Comanda!E117*0.001+$BL$2)*Comanda!F117,\"\")","v":""},{"$f":"IF(Comanda!K117=2,(Comanda!E117*0.001+$BL$2)*Comanda!F117,\"\")","v":""},null,{"$f":"IF(Comanda!H117=3,(Comanda!D117*0.001+$BL$2)*Comanda!F117,\"\")","v":""},{"$f":"IF(Comanda!I117=3,(Comanda!D117*0.001+$BL$2)*Comanda!F117,\"\")","v":""},{"$f":"IF(Comanda!J117=3,(Comanda!E117*0.001+$BL$2)*Comanda!F117,\"\")","v":""},{"$f":"IF(Comanda!K117=3,(Comanda!E117*0.001+$BL$2)*Comanda!F117,\"\")","v":""},null,{"$f":"IF(Comanda!H117=4,(Comanda!D117*0.001+$BL$2)*Comanda!F117,\"\")","v":""},{"$f":"IF(Comanda!I117=4,(Comanda!D117*0.001+$BL$2)*Comanda!F117,\"\")","v":""},{"$f":"IF(Comanda!J117=4,(Comanda!E117*0.001+$BL$2)*Comanda!F117,\"\")","v":""},{"$f":"IF(Comanda!K117=4,(Comanda!E117*0.001+$BL$2)*Comanda!F117,\"\")","v":""}]
[99,{"$f":"IF(Comanda!B118<>0,Comanda!B118,\"\")","v":""},{"$f":"IF(Comanda!C118<>0,Comanda!C118,\"\")","v":""},{"$f":"IF(Comanda!D118<>0,Comanda!D118,\"\")","v":""},{"$f":"IF(Comanda!E118<>0,Comanda!E118,\"\")","v":""},{"$f":"IF(Comanda!F118<>0,Comanda!F118,\"\")","v":""},{"$f":"IF(Comanda!G118<>0,1,0)","v":0},{"$f":"IF(Comanda!H118=1,Comanda!$C$13,IF(Comanda!H118=2,Comanda!$C$14,IF(Comanda!$H118=3,Comanda!$C$15,IF(Comanda!$H118=4,Comanda!$C$16,0))))","v":0},{"$f":"IF(Comanda!I118=1,Comanda!$C$13,IF(Comanda!I118=2,Comanda!$C$14,IF(Comanda!$I118=3,Comanda!$C$15,IF(Comanda!$I118=4,Comanda!$C$16,0))))","v":0},{"$f":"IF(Comanda!J118=1,Comanda!$C$13,IF(Comanda!J118=2,Comanda!$C$14,IF(Comanda!$J118=3,Comanda!$C$15,IF(Comanda!$J118=4,Comanda!$C$16,0))))","v":0},{"$f":"IF(Comanda!K118=1,Comanda!$C$13,IF(Comanda!K118=2,Comanda!$C$14,IF(Comanda!$K118=3,Comanda!$C$15,IF(Comanda!$K118=4,Comanda!$C$16,0))))","v":0},{"$f":"IF(Comanda!B118<>0,Comanda!$C$2,\"\")","v":""},{"$f":"IF(Comanda!B118<>0,Comanda!$C$5,\"\")","v":""},{"$f":"IF(Comanda!B118<>0,Comanda!$G$2,\"\")","v":""},{"$f":"IF(Comanda!B118<>0,Comanda!L118,\"\")","v":""},{"$f":"IF(Comanda!D118<>0,VLOOKUP('Formula Cant'!F101,'Grafica Cant'!$G$2:$H$25,2,FALSE),\"\")","v":""},{"$nulls":8},{"$f":"IF(Comanda!B118<>0,Comanda!$C$9,\"\")","v":""},{"$f":"IF(Comanda!B118<>0,VLOOKUP(Comanda!$C$12,PRETURI!$A$2:$C$500,3,FALSE),\"\")","v":""},"",{"$f":"IF(H101<>0,VLOOKUP(H101,PRETURI!$D$2:$F$1093,3,FALSE),\"\")","v":""},{"v":0,"d":"0.00"},{"$f":"IF(I101<>0,VLOOKUP(I101,PRETURI!$D$2:$F$1093,3,FALSE),\"\")","v":""},{"v":0,"d":"0.00"},{"$f":"IF(J101<>0,VLOOKUP(J101,PRETURI!$D$2:$F$1093,3,FALSE),\"\")","v":""},{"v":0,"d":"0.00"},{"$f":"IF(K101<>0,VLOOKUP(K101,PRETURI!$D$2:$F$1093,3,FALSE),\"\")","v":""},{"v":0,"d":"0.00"},{"$nulls":6},{"$f":"(Comanda!D118*Comanda!E118*Comanda!F118)*0.000001","v":{"v":0,"d":"0.00"}},null,{"$f":"IF(Comanda!H118=1,(Comanda!D118*0.001+$BL$2)*Comanda!F118,\"\")","v":""},{"$f":"IF(Comanda!I118=1,(Comanda!D118*0.001+$BL$2)*Comanda!F118,\"\")","v":""},{"$f":"IF(Comanda!J118=1,(Comanda!E118*0.001+$BL$2)*Comanda!F118,\"\")","v":""},{"$f":"IF(Comanda!K118=1,(Comanda!E118*0.001+$BL$2)*Comanda!F118,\"\")","v":""},null,{"$f":"IF(Comanda!H118=2,(Comanda!D118*0.001+$BL$2)*Comanda!F118,\"\")","v":""},{"$f":"IF(Comanda!I118=2,(Comanda!D118*0.001+$BL$2)*Comanda!F118,\"\")","v":""},{"$f":"IF(Comanda!J118=2,(Comanda!E118*0.001+$BL$2)*Comanda!F118,\"\")","v":""},{"$f":"IF(Comanda!K118=2,(Comanda!E118*0.001+$BL$2)*Comanda!F118,\"\")","v":""},null,{"$f":"IF(Comanda!H118=3,(Comanda!D118*0.001+$BL$2)*Comanda!F118,\"\")","v":""},{"$f":"IF(Comanda!I118=3,(Comanda!D118*0.001+$BL$2)*Comanda!F118,\"\")","v":""},{"$f":"IF(Comanda!J118=3,(Comanda!E118*0.001+$BL$2)*Comanda!F118,\"\")","v":""},{"$f":"IF(Comanda!K118=3,(Comanda!E118*0.001+$BL$2)*Comanda!F118,\"\")","v":""},null,{"$f":"IF(Comanda!H118=4,(Comanda!D118*0.001+$BL$2)*Comanda!F118,\"\")","v":""},{"$f":"IF(Comanda!I118=4,(Comanda!D118*0.001+$BL$2)*Comanda!F118,\"\")","v":""},{"$f":"IF(Comanda!J118=4,(Comanda!E118*0.001+$BL$2)*Comanda!F118,\"\")","v":""},{"$f":"IF(Comanda!K118=4,(Comanda!E118*0.001+$BL$2)*Comanda!F118,\"\")","v":""}]
[100,{"$f":"IF(Comanda!B119<>0,Comanda!B119,\"\")","v":""},{"$f":"IF(Comanda!C119<>0,Comanda!C119,\"\")","v":""},{"$f":"IF(Comanda!D119<>0,Comanda!D119,\"\")","v":""},{"$f":"IF(Comanda!E119<>0,Comanda!E119,\"\")","v":""},{"$f":"IF(Comanda!F119<>0,Comanda!F119,\"\")","v":""},{"$f":"IF(Comanda!G119<>0,1,0)","v":0},{"$f":"IF(Comanda!H119=1,Comanda!$C$13,IF(Comanda!H119=2,Comanda!$C$14,IF(Comanda!$H119=3,Comanda!$C$15,IF(Comanda!$H119=4,Comanda!$C$16,0))))","v":0},{"$f":"IF(Comanda!I119=1,Comanda!$C$13,IF(Comanda!I119=2,Comanda!$C$14,IF(Comanda!$I119=3,Comanda!$C$15,IF(Comanda!$I119=4,Comanda!$C$16,0))))","v":0},{"$f":"IF(Comanda!J119=1,Comanda!$C$13,IF(Comanda!J119=2,Comanda!$C$14,IF(Comanda!$J119=3,Comanda!$C$15,IF(Comanda!$J119=4,Comanda!$C$16,0))))","v":0},{"$f":"IF(Comanda!K119=1,Comanda!$C$13,IF(Comanda!K119=2,Comanda!$C$14,IF(Comanda!$K119=3,Comanda!$C$15,IF(Comanda!$K119=4,Comanda!$C$16,0))))","v":0},{"$f":"IF(Comanda!B119<>0,Comanda!$C$2,\"\")","v":""},{"$f":"IF(Comanda!B119<>0,Comanda!$C$5,\"\")","v":""},{"$f":"IF(Comanda!B119<>0,Comanda!$G$2,\"\")","v":""},{"$f":"IF(Comanda!B119<>0,Comanda!L119,\"\")","v":""},{"$f":"IF(Comanda!D119<>0,VLOOKUP('Formula Cant'!F102,'Grafica Cant'!$G$2:$H$25,2,FALSE),\"\")","v":""},{"$nulls":8},{"$f":"IF(Comanda!B119<>0,Comanda!$C$9,\"\")","v":""},{"$f":"IF(Comanda!B119<>0,VLOOKUP(Comanda!$C$12,PRETURI!$A$2:$C$500,3,FALSE),\"\")","v":""},"",{"$f":"IF(H102<>0,VLOOKUP(H102,PRETURI!$D$2:$F$1093,3,FALSE),\"\")","v":""},{"v":0,"d":"0.00"},{"$f":"IF(I102<>0,VLOOKUP(I102,PRETURI!$D$2:$F$1093,3,FALSE),\"\")","v":""},{"v":0,"d":"0.00"},{"$f":"IF(J102<>0,VLOOKUP(J102,PRETURI!$D$2:$F$1093,3,FALSE),\"\")","v":""},{"v":0,"d":"0.00"},{"$f":"IF(K102<>0,VLOOKUP(K102,PRETURI!$D$2:$F$1093,3,FALSE),\"\")","v":""},{"v":0,"d":"0.00"},{"$nulls":6},{"$f":"(Comanda!D119*Comanda!E119*Comanda!F119)*0.000001","v":{"v":0,"d":"0.00"}},null,{"$f":"IF(Comanda!H119=1,(Comanda!D119*0.001+$BL$2)*Comanda!F119,\"\")","v":""},{"$f":"IF(Comanda!I119=1,(Comanda!D119*0.001+$BL$2)*Comanda!F119,\"\")","v":""},{"$f":"IF(Comanda!J119=1,(Comanda!E119*0.001+$BL$2)*Comanda!F119,\"\")","v":""},{"$f":"IF(Comanda!K119=1,(Comanda!E119*0.001+$BL$2)*Comanda!F119,\"\")","v":""},null,{"$f":"IF(Comanda!H119=2,(Comanda!D119*0.001+$BL$2)*Comanda!F119,\"\")","v":""},{"$f":"IF(Comanda!I119=2,(Comanda!D119*0.001+$BL$2)*Comanda!F119,\"\")","v":""},{"$f":"IF(Comanda!J119=2,(Comanda!E119*0.001+$BL$2)*Comanda!F119,\"\")","v":""},{"$f":"IF(Comanda!K119=2,(Comanda!E119*0.001+$BL$2)*Comanda!F119,\"\")","v":""},null,{"$f":"IF(Comanda!H119=3,(Comanda!D119*0.001+$BL$2)*Comanda!F119,\"\")","v":""},{"$f":"IF(Comanda!I119=3,(Comanda!D119*0.001+$BL$2)*Comanda!F119,\"\")","v":""},{"$f":"IF(Comanda!J119=3,(Comanda!E119*0.001+$BL$2)*Comanda!F119,\"\")","v":""},{"$f":"IF(Comanda!K119=3,(Comanda!E119*0.001+$BL$2)*Comanda!F119,\"\")","v":""},null,{"$f":"IF(Comanda!H119=4,(Comanda!D119*0.001+$BL$2)*Comanda!F119,\"\")","v":""},{"$f":"IF(Comanda!I119=4,(Comanda!D119*0.001+$BL$2)*Comanda!F119,\"\")","v":""},{"$f":"IF(Comanda!J119=4,(Comanda!E119*0.001+$BL$2)*Comanda!F119,\"\")","v":""},{"$f":"IF(Comanda!K119=4,(Comanda!E119*0.001+$BL$2)*Comanda!F119,\"\")","v":""}]
[101,{"$f":"IF(Comanda!B120<>0,Comanda!B120,\"\")","v":""},{"$f":"IF(Comanda!C120<>0,Comanda!C120,\"\")","v":""},{"$f":"IF(Comanda!D120<>0,Comanda!D120,\"\")","v":""},{"$f":"IF(Comanda!E120<>0,Comanda!E120,\"\")","v":""},{"$f":"IF(Comanda!F120<>0,Comanda!F120,\"\")","v":""},{"$f":"IF(Comanda!G120<>0,1,0)","v":0},{"$f":"IF(Comanda!H120=1,Comanda!$C$13,IF(Comanda!H120=2,Comanda!$C$14,IF(Comanda!$H120=3,Comanda!$C$15,IF(Comanda!$H120=4,Comanda!$C$16,0))))","v":0},{"$f":"IF(Comanda!I120=1,Comanda!$C$13,IF(Comanda!I120=2,Comanda!$C$14,IF(Comanda!$I120=3,Comanda!$C$15,IF(Comanda!$I120=4,Comanda!$C$16,0))))","v":0},{"$f":"IF(Comanda!J120=1,Comanda!$C$13,IF(Comanda!J120=2,Comanda!$C$14,IF(Comanda!$J120=3,Comanda!$C$15,IF(Comanda!$J120=4,Comanda!$C$16,0))))","v":0},{"$f":"IF(Comanda!K120=1,Comanda!$C$13,IF(Comanda!K120=2,Comanda!$C$14,IF(Comanda!$K120=3,Comanda!$C$15,IF(Comanda!$K120=4,Comanda!$C$16,0))))","v":0},{"$f":"IF(Comanda!B120<>0,Comanda!$C$2,\"\")","v":""},{"$f":"IF(Comanda!B120<>0,Comanda!$C$5,\"\")","v":""},{"$f":"IF(Comanda!B120<>0,Comanda!$G$2,\"\")","v":""},{"$f":"IF(Comanda!B120<>0,Comanda!L120,\"\")","v":""},{"$f":"IF(Comanda!D120<>0,VLOOKUP('Formula Cant'!F103,'Grafica Cant'!$G$2:$H$25,2,FALSE),\"\")","v":""},{"$nulls":8},{"$f":"IF(Comanda!B120<>0,Comanda!$C$9,\"\")","v":""},{"$f":"IF(Comanda!B120<>0,VLOOKUP(Comanda!$C$12,PRETURI!$A$2:$C$500,3,FALSE),\"\")","v":""},"",{"$f":"IF(H103<>0,VLOOKUP(H103,PRETURI!$D$2:$F$1093,3,FALSE),\"\")","v":""},{"v":0,"d":"0.00"},{"$f":"IF(I103<>0,VLOOKUP(I103,PRETURI!$D$2:$F$1093,3,FALSE),\"\")","v":""},{"v":0,"d":"0.00"},{"$f":"IF(J103<>0,VLOOKUP(J103,PRETURI!$D$2:$F$1093,3,FALSE),\"\")","v":""},{"v":0,"d":"0.00"},{"$f":"IF(K103<>0,VLOOKUP(K103,PRETURI!$D$2:$F$1093,3,FALSE),\"\")","v":""},{"v":0,"d":"0.00"},{"$nulls":6},{"$f":"(Comanda!D120*Comanda!E120*Comanda!F120)*0.000001","v":{"v":0,"d":"0.00"}},null,{"$f":"IF(Comanda!H120=1,(Comanda!D120*0.001+$BL$2)*Comanda!F120,\"\")","v":""},{"$f":"IF(Comanda!I120=1,(Comanda!D120*0.001+$BL$2)*Comanda!F120,\"\")","v":""},{"$f":"IF(Comanda!J120=1,(Comanda!E120*0.001+$BL$2)*Comanda!F120,\"\")","v":""},{"$f":"IF(Comanda!K120=1,(Comanda!E120*0.001+$BL$2)*Comanda!F120,\"\")","v":""},null,{"$f":"IF(Comanda!H120=2,(Comanda!D120*0.001+$BL$2)*Comanda!F120,\"\")","v":""},{"$f":"IF(Comanda!I120=2,(Comanda!D120*0.001+$BL$2)*Comanda!F120,\"\")","v":""},{"$f":"IF(Comanda!J120=2,(Comanda!E120*0.001+$BL$2)*Comanda!F120,\"\")","v":""},{"$f":"IF(Comanda!K120=2,(Comanda!E120*0.001+$BL$2)*Comanda!F120,\"\")","v":""},null,{"$f":"IF(Comanda!H120=3,(Comanda!D120*0.001+$BL$2)*Comanda!F120,\"\")","v":""},{"$f":"IF(Comanda!I120=3,(Comanda!D120*0.001+$BL$2)*Comanda!F120,\"\")","v":""},{"$f":"IF(Comanda!J120=3,(Comanda!E120*0.001+$BL$2)*Comanda!F120,\"\")","v":""},{"$f":"IF(Comanda!K120=3,(Comanda!E120*0.001+$BL$2)*Comanda!F120,\"\")","v":""},null,{"$f":"IF(Comanda!H120=4,(Comanda!D120*0.001+$BL$2)*Comanda!F120,\"\")","v":""},{"$f":"IF(Comanda!I120=4,(Comanda!D120*0.001+$BL$2)*Comanda!F120,\"\")","v":""},{"$f":"IF(Comanda!J120=4,(Comanda!E120*0.001+$BL$2)*Comanda!F120,\"\")","v":""},{"$f":"IF(Comanda!K120=4,(Comanda!E120*0.001+$BL$2)*Comanda!F120,\"\")","v":""}]
[102,{"$f":"IF(Comanda!B121<>0,Comanda!B121,\"\")","v":""},{"$f":"IF(Comanda!C121<>0,Comanda!C121,\"\")","v":""},{"$f":"IF(Comanda!D121<>0,Comanda!D121,\"\")","v":""},{"$f":"IF(Comanda!E121<>0,Comanda!E121,\"\")","v":""},{"$f":"IF(Comanda!F121<>0,Comanda!F121,\"\")","v":""},{"$f":"IF(Comanda!G121<>0,1,0)","v":0},{"$f":"IF(Comanda!H121=1,Comanda!$C$13,IF(Comanda!H121=2,Comanda!$C$14,IF(Comanda!$H121=3,Comanda!$C$15,IF(Comanda!$H121=4,Comanda!$C$16,0))))","v":0},{"$f":"IF(Comanda!I121=1,Comanda!$C$13,IF(Comanda!I121=2,Comanda!$C$14,IF(Comanda!$I121=3,Comanda!$C$15,IF(Comanda!$I121=4,Comanda!$C$16,0))))","v":0},{"$f":"IF(Comanda!J121=1,Comanda!$C$13,IF(Comanda!J121=2,Comanda!$C$14,IF(Comanda!$J121=3,Comanda!$C$15,IF(Comanda!$J121=4,Comanda!$C$16,0))))","v":0},{"$f":"IF(Comanda!K121=1,Comanda!$C$13,IF(Comanda!K121=2,Comanda!$C$14,IF(Comanda!$K121=3,Comanda!$C$15,IF(Comanda!$K121=4,Comanda!$C$16,0))))","v":0},{"$f":"IF(Comanda!B121<>0,Comanda!$C$2,\"\")","v":""},{"$f":"IF(Comanda!B121<>0,Comanda!$C$5,\"\")","v":""},{"$f":"IF(Comanda!B121<>0,Comanda!$G$2,\"\")","v":""},{"$f":"IF(Comanda!B121<>0,Comanda!L121,\"\")","v":""},{"$f":"IF(Comanda!D121<>0,VLOOKUP('Formula Cant'!F104,'Grafica Cant'!$G$2:$H$25,2,FALSE),\"\")","v":""},{"$nulls":8},{"$f":"IF(Comanda!B121<>0,Comanda!$C$9,\"\")","v":""},{"$f":"IF(Comanda!B121<>0,VLOOKUP(Comanda!$C$12,PRETURI!$A$2:$C$500,3,FALSE),\"\")","v":""},"",{"$f":"IF(H104<>0,VLOOKUP(H104,PRETURI!$D$2:$F$1093,3,FALSE),\"\")","v":""},{"v":0,"d":"0.00"},{"$f":"IF(I104<>0,VLOOKUP(I104,PRETURI!$D$2:$F$1093,3,FALSE),\"\")","v":""},{"v":0,"d":"0.00"},{"$f":"IF(J104<>0,VLOOKUP(J104,PRETURI!$D$2:$F$1093,3,FALSE),\"\")","v":""},{"v":0,"d":"0.00"},{"$f":"IF(K104<>0,VLOOKUP(K104,PRETURI!$D$2:$F$1093,3,FALSE),\"\")","v":""},{"v":0,"d":"0.00"},{"$nulls":6},{"$f":"(Comanda!D121*Comanda!E121*Comanda!F121)*0.000001","v":{"v":0,"d":"0.00"}},null,{"$f":"IF(Comanda!H121=1,(Comanda!D121*0.001+$BL$2)*Comanda!F121,\"\")","v":""},{"$f":"IF(Comanda!I121=1,(Comanda!D121*0.001+$BL$2)*Comanda!F121,\"\")","v":""},{"$f":"IF(Comanda!J121=1,(Comanda!E121*0.001+$BL$2)*Comanda!F121,\"\")","v":""},{"$f":"IF(Comanda!K121=1,(Comanda!E121*0.001+$BL$2)*Comanda!F121,\"\")","v":""},null,{"$f":"IF(Comanda!H121=2,(Comanda!D121*0.001+$BL$2)*Comanda!F121,\"\")","v":""},{"$f":"IF(Comanda!I121=2,(Comanda!D121*0.001+$BL$2)*Comanda!F121,\"\")","v":""},{"$f":"IF(Comanda!J121=2,(Comanda!E121*0.001+$BL$2)*Comanda!F121,\"\")","v":""},{"$f":"IF(Comanda!K121=2,(Comanda!E121*0.001+$BL$2)*Comanda!F121,\"\")","v":""},null,{"$f":"IF(Comanda!H121=3,(Comanda!D121*0.001+$BL$2)*Comanda!F121,\"\")","v":""},{"$f":"IF(Comanda!I121=3,(Comanda!D121*0.001+$BL$2)*Comanda!F121,\"\")","v":""},{"$f":"IF(Comanda!J121=3,(Comanda!E121*0.001+$BL$2)*Comanda!F121,\"\")","v":""},{"$f":"IF(Comanda!K121=3,(Comanda!E121*0.001+$BL$2)*Comanda!F121,\"\")","v":""},null,{"$f":"IF(Comanda!H121=4,(Comanda!D121*0.001+$BL$2)*Comanda!F121,\"\")","v":""},{"$f":"IF(Comanda!I121=4,(Comanda!D121*0.001+$BL$2)*Comanda!F121,\"\")","v":""},{"$f":"IF(Comanda!J121=4,(Comanda!E121*0.001+$BL$2)*Comanda!F121,\"\")","v":""},{"$f":"IF(Comanda!K121=4,(Comanda!E121*0.001+$BL$2)*Comanda!F121,\"\")","v":""}]
[103,{"$f":"IF(Comanda!B122<>0,Comanda!B122,\"\")","v":""},{"$f":"IF(Comanda!C122<>0,Comanda!C122,\"\")","v":""},{"$f":"IF(Comanda!D122<>0,Comanda!D122,\"\")","v":""},{"$f":"IF(Comanda!E122<>0,Comanda!E122,\"\")","v":""},{"$f":"IF(Comanda!F122<>0,Comanda!F122,\"\")","v":""},{"$f":"IF(Comanda!G122<>0,1,0)","v":0},{"$f":"IF(Comanda!H122=1,Comanda!$C$13,IF(Comanda!H122=2,Comanda!$C$14,IF(Comanda!$H122=3,Comanda!$C$15,IF(Comanda!$H122=4,Comanda!$C$16,0))))","v":0},{"$f":"IF(Comanda!I122=1,Comanda!$C$13,IF(Comanda!I122=2,Comanda!$C$14,IF(Comanda!$I122=3,Comanda!$C$15,IF(Comanda!$I122=4,Comanda!$C$16,0))))","v":0},{"$f":"IF(Comanda!J122=1,Comanda!$C$13,IF(Comanda!J122=2,Comanda!$C$14,IF(Comanda!$J122=3,Comanda!$C$15,IF(Comanda!$J122=4,Comanda!$C$16,0))))","v":0},{"$f":"IF(Comanda!K122=1,Comanda!$C$13,IF(Comanda!K122=2,Comanda!$C$14,IF(Comanda!$K122=3,Comanda!$C$15,IF(Comanda!$K122=4,Comanda!$C$16,0))))","v":0},{"$f":"IF(Comanda!B122<>0,Comanda!$C$2,\"\")","v":""},{"$f":"IF(Comanda!B122<>0,Comanda!$C$5,\"\")","v":""},{"$f":"IF(Comanda!B122<>0,Comanda!$G$2,\"\")","v":""},{"$f":"IF(Comanda!B122<>0,Comanda!L122,\"\")","v":""},{"$f":"IF(Comanda!D122<>0,VLOOKUP('Formula Cant'!F105,'Grafica Cant'!$G$2:$H$25,2,FALSE),\"\")","v":""},{"$nulls":8},{"$f":"IF(Comanda!B122<>0,Comanda!$C$9,\"\")","v":""},{"$f":"IF(Comanda!B122<>0,VLOOKUP(Comanda!$C$12,PRETURI!$A$2:$C$500,3,FALSE),\"\")","v":""},"",{"$f":"IF(H105<>0,VLOOKUP(H105,PRETURI!$D$2:$F$1093,3,FALSE),\"\")","v":""},{"v":0,"d":"0.00"},{"$f":"IF(I105<>0,VLOOKUP(I105,PRETURI!$D$2:$F$1093,3,FALSE),\"\")","v":""},{"v":0,"d":"0.00"},{"$f":"IF(J105<>0,VLOOKUP(J105,PRETURI!$D$2:$F$1093,3,FALSE),\"\")","v":""},{"v":0,"d":"0.00"},{"$f":"IF(K105<>0,VLOOKUP(K105,PRETURI!$D$2:$F$1093,3,FALSE),\"\")","v":""},{"v":0,"d":"0.00"},{"$nulls":6},{"$f":"(Comanda!D122*Comanda!E122*Comanda!F122)*0.000001","v":{"v":0,"d":"0.00"}},null,{"$f":"IF(Comanda!H122=1,(Comanda!D122*0.001+$BL$2)*Comanda!F122,\"\")","v":""},{"$f":"IF(Comanda!I122=1,(Comanda!D122*0.001+$BL$2)*Comanda!F122,\"\")","v":""},{"$f":"IF(Comanda!J122=1,(Comanda!E122*0.001+$BL$2)*Comanda!F122,\"\")","v":""},{"$f":"IF(Comanda!K122=1,(Comanda!E122*0.001+$BL$2)*Comanda!F122,\"\")","v":""},null,{"$f":"IF(Comanda!H122=2,(Comanda!D122*0.001+$BL$2)*Comanda!F122,\"\")","v":""},{"$f":"IF(Comanda!I122=2,(Comanda!D122*0.001+$BL$2)*Comanda!F122,\"\")","v":""},{"$f":"IF(Comanda!J122=2,(Comanda!E122*0.001+$BL$2)*Comanda!F122,\"\")","v":""},{"$f":"IF(Comanda!K122=2,(Comanda!E122*0.001+$BL$2)*Comanda!F122,\"\")","v":""},null,{"$f":"IF(Comanda!H122=3,(Comanda!D122*0.001+$BL$2)*Comanda!F122,\"\")","v":""},{"$f":"IF(Comanda!I122=3,(Comanda!D122*0.001+$BL$2)*Comanda!F122,\"\")","v":""},{"$f":"IF(Comanda!J122=3,(Comanda!E122*0.001+$BL$2)*Comanda!F122,\"\")","v":""},{"$f":"IF(Comanda!K122=3,(Comanda!E122*0.001+$BL$2)*Comanda!F122,\"\")","v":""},null,{"$f":"IF(Comanda!H122=4,(Comanda!D122*0.001+$BL$2)*Comanda!F122,\"\")","v":""},{"$f":"IF(Comanda!I122=4,(Comanda!D122*0.001+$BL$2)*Comanda!F122,\"\")","v":""},{"$f":"IF(Comanda!J122=4,(Comanda!E122*0.001+$BL$2)*Comanda!F122,\"\")","v":""},{"$f":"IF(Comanda!K122=4,(Comanda!E122*0.001+$BL$2)*Comanda!F122,\"\")","v":""}]
[104,{"$f":"IF(Comanda!B123<>0,Comanda!B123,\"\")","v":""},{"$f":"IF(Comanda!C123<>0,Comanda!C123,\"\")","v":""},{"$f":"IF(Comanda!D123<>0,Comanda!D123,\"\")","v":""},{"$f":"IF(Comanda!E123<>0,Comanda!E123,\"\")","v":""},{"$f":"IF(Comanda!F123<>0,Comanda!F123,\"\")","v":""},{"$f":"IF(Comanda!G123<>0,1,0)","v":0},{"$f":"IF(Comanda!H123=1,Comanda!$C$13,IF(Comanda!H123=2,Comanda!$C$14,IF(Comanda!$H123=3,Comanda!$C$15,IF(Comanda!$H123=4,Comanda!$C$16,0))))","v":0},{"$f":"IF(Comanda!I123=1,Comanda!$C$13,IF(Comanda!I123=2,Comanda!$C$14,IF(Comanda!$I123=3,Comanda!$C$15,IF(Comanda!$I123=4,Comanda!$C$16,0))))","v":0},{"$f":"IF(Comanda!J123=1,Comanda!$C$13,IF(Comanda!J123=2,Comanda!$C$14,IF(Comanda!$J123=3,Comanda!$C$15,IF(Comanda!$J123=4,Comanda!$C$16,0))))","v":0},{"$f":"IF(Comanda!K123=1,Comanda!$C$13,IF(Comanda!K123=2,Comanda!$C$14,IF(Comanda!$K123=3,Comanda!$C$15,IF(Comanda!$K123=4,Comanda!$C$16,0))))","v":0},{"$f":"IF(Comanda!B123<>0,Comanda!$C$2,\"\")","v":""},{"$f":"IF(Comanda!B123<>0,Comanda!$C$5,\"\")","v":""},{"$f":"IF(Comanda!B123<>0,Comanda!$G$2,\"\")","v":""},{"$f":"IF(Comanda!B123<>0,Comanda!L123,\"\")","v":""},{"$f":"IF(Comanda!D123<>0,VLOOKUP('Formula Cant'!F106,'Grafica Cant'!$G$2:$H$25,2,FALSE),\"\")","v":""},{"$nulls":8},{"$f":"IF(Comanda!B123<>0,Comanda!$C$9,\"\")","v":""},{"$f":"IF(Comanda!B123<>0,VLOOKUP(Comanda!$C$12,PRETURI!$A$2:$C$500,3,FALSE),\"\")","v":""},"",{"$f":"IF(H106<>0,VLOOKUP(H106,PRETURI!$D$2:$F$1093,3,FALSE),\"\")","v":""},{"v":0,"d":"0.00"},{"$f":"IF(I106<>0,VLOOKUP(I106,PRETURI!$D$2:$F$1093,3,FALSE),\"\")","v":""},{"v":0,"d":"0.00"},{"$f":"IF(J106<>0,VLOOKUP(J106,PRETURI!$D$2:$F$1093,3,FALSE),\"\")","v":""},{"v":0,"d":"0.00"},{"$f":"IF(K106<>0,VLOOKUP(K106,PRETURI!$D$2:$F$1093,3,FALSE),\"\")","v":""},{"v":0,"d":"0.00"},{"$nulls":6},{"$f":"(Comanda!D123*Comanda!E123*Comanda!F123)*0.000001","v":{"v":0,"d":"0.00"}},null,{"$f":"IF(Comanda!H123=1,(Comanda!D123*0.001+$BL$2)*Comanda!F123,\"\")","v":""},{"$f":"IF(Comanda!I123=1,(Comanda!D123*0.001+$BL$2)*Comanda!F123,\"\")","v":""},{"$f":"IF(Comanda!J123=1,(Comanda!E123*0.001+$BL$2)*Comanda!F123,\"\")","v":""},{"$f":"IF(Comanda!K123=1,(Comanda!E123*0.001+$BL$2)*Comanda!F123,\"\")","v":""},null,{"$f":"IF(Comanda!H123=2,(Comanda!D123*0.001+$BL$2)*Comanda!F123,\"\")","v":""},{"$f":"IF(Comanda!I123=2,(Comanda!D123*0.001+$BL$2)*Comanda!F123,\"\")","v":""},{"$f":"IF(Comanda!J123=2,(Comanda!E123*0.001+$BL$2)*Comanda!F123,\"\")","v":""},{"$f":"IF(Comanda!K123=2,(Comanda!E123*0.001+$BL$2)*Comanda!F123,\"\")","v":""},null,{"$f":"IF(Comanda!H123=3,(Comanda!D123*0.001+$BL$2)*Comanda!F123,\"\")","v":""},{"$f":"IF(Comanda!I123=3,(Comanda!D123*0.001+$BL$2)*Comanda!F123,\"\")","v":""},{"$f":"IF(Comanda!J123=3,(Comanda!E123*0.001+$BL$2)*Comanda!F123,\"\")","v":""},{"$f":"IF(Comanda!K123=3,(Comanda!E123*0.001+$BL$2)*Comanda!F123,\"\")","v":""},null,{"$f":"IF(Comanda!H123=4,(Comanda!D123*0.001+$BL$2)*Comanda!F123,\"\")","v":""},{"$f":"IF(Comanda!I123=4,(Comanda!D123*0.001+$BL$2)*Comanda!F123,\"\")","v":""},{"$f":"IF(Comanda!J123=4,(Comanda!E123*0.001+$BL$2)*Comanda!F123,\"\")","v":""},{"$f":"IF(Comanda!K123=4,(Comanda!E123*0.001+$BL$2)*Comanda!F123,\"\")","v":""}]
[105,{"$f":"IF(Comanda!B124<>0,Comanda!B124,\"\")","v":""},{"$f":"IF(Comanda!C124<>0,Comanda!C124,\"\")","v":""},{"$f":"IF(Comanda!D124<>0,Comanda!D124,\"\")","v":""},{"$f":"IF(Comanda!E124<>0,Comanda!E124,\"\")","v":""},{"$f":"IF(Comanda!F124<>0,Comanda!F124,\"\")","v":""},{"$f":"IF(Comanda!G124<>0,1,0)","v":0},{"$f":"IF(Comanda!H124=1,Comanda!$C$13,IF(Comanda!H124=2,Comanda!$C$14,IF(Comanda!$H124=3,Comanda!$C$15,IF(Comanda!$H124=4,Comanda!$C$16,0))))","v":0},{"$f":"IF(Comanda!I124=1,Comanda!$C$13,IF(Comanda!I124=2,Comanda!$C$14,IF(Comanda!$I124=3,Comanda!$C$15,IF(Comanda!$I124=4,Comanda!$C$16,0))))","v":0},{"$f":"IF(Comanda!J124=1,Comanda!$C$13,IF(Comanda!J124=2,Comanda!$C$14,IF(Comanda!$J124=3,Comanda!$C$15,IF(Comanda!$J124=4,Comanda!$C$16,0))))","v":0},{"$f":"IF(Comanda!K124=1,Comanda!$C$13,IF(Comanda!K124=2,Comanda!$C$14,IF(Comanda!$K124=3,Comanda!$C$15,IF(Comanda!$K124=4,Comanda!$C$16,0))))","v":0},{"$f":"IF(Comanda!B124<>0,Comanda!$C$2,\"\")","v":""},{"$f":"IF(Comanda!B124<>0,Comanda!$C$5,\"\")","v":""},{"$f":"IF(Comanda!B124<>0,Comanda!$G$2,\"\")","v":""},{"$f":"IF(Comanda!B124<>0,Comanda!L124,\"\")","v":""},{"$f":"IF(Comanda!D124<>0,VLOOKUP('Formula Cant'!F107,'Grafica Cant'!$G$2:$H$25,2,FALSE),\"\")","v":""},{"$nulls":8},{"$f":"IF(Comanda!B124<>0,Comanda!$C$9,\"\")","v":""},{"$f":"IF(Comanda!B124<>0,VLOOKUP(Comanda!$C$12,PRETURI!$A$2:$C$500,3,FALSE),\"\")","v":""},"",{"$f":"IF(H107<>0,VLOOKUP(H107,PRETURI!$D$2:$F$1093,3,FALSE),\"\")","v":""},{"v":0,"d":"0.00"},{"$f":"IF(I107<>0,VLOOKUP(I107,PRETURI!$D$2:$F$1093,3,FALSE),\"\")","v":""},{"v":0,"d":"0.00"},{"$f":"IF(J107<>0,VLOOKUP(J107,PRETURI!$D$2:$F$1093,3,FALSE),\"\")","v":""},{"v":0,"d":"0.00"},{"$f":"IF(K107<>0,VLOOKUP(K107,PRETURI!$D$2:$F$1093,3,FALSE),\"\")","v":""},{"v":0,"d":"0.00"},{"$nulls":6},{"$f":"(Comanda!D124*Comanda!E124*Comanda!F124)*0.000001","v":{"v":0,"d":"0.00"}},null,{"$f":"IF(Comanda!H124=1,(Comanda!D124*0.001+$BL$2)*Comanda!F124,\"\")","v":""},{"$f":"IF(Comanda!I124=1,(Comanda!D124*0.001+$BL$2)*Comanda!F124,\"\")","v":""},{"$f":"IF(Comanda!J124=1,(Comanda!E124*0.001+$BL$2)*Comanda!F124,\"\")","v":""},{"$f":"IF(Comanda!K124=1,(Comanda!E124*0.001+$BL$2)*Comanda!F124,\"\")","v":""},null,{"$f":"IF(Comanda!H124=2,(Comanda!D124*0.001+$BL$2)*Comanda!F124,\"\")","v":""},{"$f":"IF(Comanda!I124=2,(Comanda!D124*0.001+$BL$2)*Comanda!F124,\"\")","v":""},{"$f":"IF(Comanda!J124=2,(Comanda!E124*0.001+$BL$2)*Comanda!F124,\"\")","v":""},{"$f":"IF(Comanda!K124=2,(Comanda!E124*0.001+$BL$2)*Comanda!F124,\"\")","v":""},null,{"$f":"IF(Comanda!H124=3,(Comanda!D124*0.001+$BL$2)*Comanda!F124,\"\")","v":""},{"$f":"IF(Comanda!I124=3,(Comanda!D124*0.001+$BL$2)*Comanda!F124,\"\")","v":""},{"$f":"IF(Comanda!J124=3,(Comanda!E124*0.001+$BL$2)*Comanda!F124,\"\")","v":""},{"$f":"IF(Comanda!K124=3,(Comanda!E124*0.001+$BL$2)*Comanda!F124,\"\")","v":""},null,{"$f":"IF(Comanda!H124=4,(Comanda!D124*0.001+$BL$2)*Comanda!F124,\"\")","v":""},{"$f":"IF(Comanda!I124=4,(Comanda!D124*0.001+$BL$2)*Comanda!F124,\"\")","v":""},{"$f":"IF(Comanda!J124=4,(Comanda!E124*0.001+$BL$2)*Comanda!F124,\"\")","v":""},{"$f":"IF(Comanda!K124=4,(Comanda!E124*0.001+$BL$2)*Comanda!F124,\"\")","v":""}]
[106,{"$f":"IF(Comanda!B125<>0,Comanda!B125,\"\")","v":""},{"$f":"IF(Comanda!C125<>0,Comanda!C125,\"\")","v":""},{"$f":"IF(Comanda!D125<>0,Comanda!D125,\"\")","v":""},{"$f":"IF(Comanda!E125<>0,Comanda!E125,\"\")","v":""},{"$f":"IF(Comanda!F125<>0,Comanda!F125,\"\")","v":""},{"$f":"IF(Comanda!G125<>0,1,0)","v":0},{"$f":"IF(Comanda!H125=1,Comanda!$C$13,IF(Comanda!H125=2,Comanda!$C$14,IF(Comanda!$H125=3,Comanda!$C$15,IF(Comanda!$H125=4,Comanda!$C$16,0))))","v":0},{"$f":"IF(Comanda!I125=1,Comanda!$C$13,IF(Comanda!I125=2,Comanda!$C$14,IF(Comanda!$I125=3,Comanda!$C$15,IF(Comanda!$I125=4,Comanda!$C$16,0))))","v":0},{"$f":"IF(Comanda!J125=1,Comanda!$C$13,IF(Comanda!J125=2,Comanda!$C$14,IF(Comanda!$J125=3,Comanda!$C$15,IF(Comanda!$J125=4,Comanda!$C$16,0))))","v":0},{"$f":"IF(Comanda!K125=1,Comanda!$C$13,IF(Comanda!K125=2,Comanda!$C$14,IF(Comanda!$K125=3,Comanda!$C$15,IF(Comanda!$K125=4,Comanda!$C$16,0))))","v":0},{"$f":"IF(Comanda!B125<>0,Comanda!$C$2,\"\")","v":""},{"$f":"IF(Comanda!B125<>0,Comanda!$C$5,\"\")","v":""},{"$f":"IF(Comanda!B125<>0,Comanda!$G$2,\"\")","v":""},{"$f":"IF(Comanda!B125<>0,Comanda!L125,\"\")","v":""},{"$f":"IF(Comanda!D125<>0,VLOOKUP('Formula Cant'!F108,'Grafica Cant'!$G$2:$H$25,2,FALSE),\"\")","v":""},{"$nulls":8},{"$f":"IF(Comanda!B125<>0,Comanda!$C$9,\"\")","v":""},{"$f":"IF(Comanda!B125<>0,VLOOKUP(Comanda!$C$12,PRETURI!$A$2:$C$500,3,FALSE),\"\")","v":""},"",{"$f":"IF(H108<>0,VLOOKUP(H108,PRETURI!$D$2:$F$1093,3,FALSE),\"\")","v":""},{"v":0,"d":"0.00"},{"$f":"IF(I108<>0,VLOOKUP(I108,PRETURI!$D$2:$F$1093,3,FALSE),\"\")","v":""},{"v":0,"d":"0.00"},{"$f":"IF(J108<>0,VLOOKUP(J108,PRETURI!$D$2:$F$1093,3,FALSE),\"\")","v":""},{"v":0,"d":"0.00"},{"$f":"IF(K108<>0,VLOOKUP(K108,PRETURI!$D$2:$F$1093,3,FALSE),\"\")","v":""},{"v":0,"d":"0.00"},{"$nulls":6},{"$f":"(Comanda!D125*Comanda!E125*Comanda!F125)*0.000001","v":{"v":0,"d":"0.00"}},null,{"$f":"IF(Comanda!H125=1,(Comanda!D125*0.001+$BL$2)*Comanda!F125,\"\")","v":""},{"$f":"IF(Comanda!I125=1,(Comanda!D125*0.001+$BL$2)*Comanda!F125,\"\")","v":""},{"$f":"IF(Comanda!J125=1,(Comanda!E125*0.001+$BL$2)*Comanda!F125,\"\")","v":""},{"$f":"IF(Comanda!K125=1,(Comanda!E125*0.001+$BL$2)*Comanda!F125,\"\")","v":""},null,{"$f":"IF(Comanda!H125=2,(Comanda!D125*0.001+$BL$2)*Comanda!F125,\"\")","v":""},{"$f":"IF(Comanda!I125=2,(Comanda!D125*0.001+$BL$2)*Comanda!F125,\"\")","v":""},{"$f":"IF(Comanda!J125=2,(Comanda!E125*0.001+$BL$2)*Comanda!F125,\"\")","v":""},{"$f":"IF(Comanda!K125=2,(Comanda!E125*0.001+$BL$2)*Comanda!F125,\"\")","v":""},null,{"$f":"IF(Comanda!H125=3,(Comanda!D125*0.001+$BL$2)*Comanda!F125,\"\")","v":""},{"$f":"IF(Comanda!I125=3,(Comanda!D125*0.001+$BL$2)*Comanda!F125,\"\")","v":""},{"$f":"IF(Comanda!J125=3,(Comanda!E125*0.001+$BL$2)*Comanda!F125,\"\")","v":""},{"$f":"IF(Comanda!K125=3,(Comanda!E125*0.001+$BL$2)*Comanda!F125,\"\")","v":""},null,{"$f":"IF(Comanda!H125=4,(Comanda!D125*0.001+$BL$2)*Comanda!F125,\"\")","v":""},{"$f":"IF(Comanda!I125=4,(Comanda!D125*0.001+$BL$2)*Comanda!F125,\"\")","v":""},{"$f":"IF(Comanda!J125=4,(Comanda!E125*0.001+$BL$2)*Comanda!F125,\"\")","v":""},{"$f":"IF(Comanda!K125=4,(Comanda!E125*0.001+$BL$2)*Comanda!F125,\"\")","v":""}]
[107,{"$f":"IF(Comanda!B126<>0,Comanda!B126,\"\")","v":""},{"$f":"IF(Comanda!C126<>0,Comanda!C126,\"\")","v":""},{"$f":"IF(Comanda!D126<>0,Comanda!D126,\"\")","v":""},{"$f":"IF(Comanda!E126<>0,Comanda!E126,\"\")","v":""},{"$f":"IF(Comanda!F126<>0,Comanda!F126,\"\")","v":""},{"$f":"IF(Comanda!G126<>0,1,0)","v":0},{"$f":"IF(Comanda!H126=1,Comanda!$C$13,IF(Comanda!H126=2,Comanda!$C$14,IF(Comanda!$H126=3,Comanda!$C$15,IF(Comanda!$H126=4,Comanda!$C$16,0))))","v":0},{"$f":"IF(Comanda!I126=1,Comanda!$C$13,IF(Comanda!I126=2,Comanda!$C$14,IF(Comanda!$I126=3,Comanda!$C$15,IF(Comanda!$I126=4,Comanda!$C$16,0))))","v":0},{"$f":"IF(Comanda!J126=1,Comanda!$C$13,IF(Comanda!J126=2,Comanda!$C$14,IF(Comanda!$J126=3,Comanda!$C$15,IF(Comanda!$J126=4,Comanda!$C$16,0))))","v":0},{"$f":"IF(Comanda!K126=1,Comanda!$C$13,IF(Comanda!K126=2,Comanda!$C$14,IF(Comanda!$K126=3,Comanda!$C$15,IF(Comanda!$K126=4,Comanda!$C$16,0))))","v":0},{"$f":"IF(Comanda!B126<>0,Comanda!$C$2,\"\")","v":""},{"$f":"IF(Comanda!B126<>0,Comanda!$C$5,\"\")","v":""},{"$f":"IF(Comanda!B126<>0,Comanda!$G$2,\"\")","v":""},{"$f":"IF(Comanda!B126<>0,Comanda!L126,\"\")","v":""},{"$f":"IF(Comanda!D126<>0,VLOOKUP('Formula Cant'!F109,'Grafica Cant'!$G$2:$H$25,2,FALSE),\"\")","v":""},{"$nulls":8},{"$f":"IF(Comanda!B126<>0,Comanda!$C$9,\"\")","v":""},{"$f":"IF(Comanda!B126<>0,VLOOKUP(Comanda!$C$12,PRETURI!$A$2:$C$500,3,FALSE),\"\")","v":""},"",{"$f":"IF(H109<>0,VLOOKUP(H109,PRETURI!$D$2:$F$1093,3,FALSE),\"\")","v":""},{"v":0,"d":"0.00"},{"$f":"IF(I109<>0,VLOOKUP(I109,PRETURI!$D$2:$F$1093,3,FALSE),\"\")","v":""},{"v":0,"d":"0.00"},{"$f":"IF(J109<>0,VLOOKUP(J109,PRETURI!$D$2:$F$1093,3,FALSE),\"\")","v":""},{"v":0,"d":"0.00"},{"$f":"IF(K109<>0,VLOOKUP(K109,PRETURI!$D$2:$F$1093,3,FALSE),\"\")","v":""},{"v":0,"d":"0.00"},{"$nulls":6},{"$f":"(Comanda!D126*Comanda!E126*Comanda!F126)*0.000001","v":{"v":0,"d":"0.00"}},null,{"$f":"IF(Comanda!H126=1,(Comanda!D126*0.001+$BL$2)*Comanda!F126,\"\")","v":""},{"$f":"IF(Comanda!I126=1,(Comanda!D126*0.001+$BL$2)*Comanda!F126,\"\")","v":""},{"$f":"IF(Comanda!J126=1,(Comanda!E126*0.001+$BL$2)*Comanda!F126,\"\")","v":""},{"$f":"IF(Comanda!K126=1,(Comanda!E126*0.001+$BL$2)*Comanda!F126,\"\")","v":""},null,{"$f":"IF(Comanda!H126=2,(Comanda!D126*0.001+$BL$2)*Comanda!F126,\"\")","v":""},{"$f":"IF(Comanda!I126=2,(Comanda!D126*0.001+$BL$2)*Comanda!F126,\"\")","v":""},{"$f":"IF(Comanda!J126=2,(Comanda!E126*0.001+$BL$2)*Comanda!F126,\"\")","v":""},{"$f":"IF(Comanda!K126=2,(Comanda!E126*0.001+$BL$2)*Comanda!F126,\"\")","v":""},null,{"$f":"IF(Comanda!H126=3,(Comanda!D126*0.001+$BL$2)*Comanda!F126,\"\")","v":""},{"$f":"IF(Comanda!I126=3,(Comanda!D126*0.001+$BL$2)*Comanda!F126,\"\")","v":""},{"$f":"IF(Comanda!J126=3,(Comanda!E126*0.001+$BL$2)*Comanda!F126,\"\")","v":""},{"$f":"IF(Comanda!K126=3,(Comanda!E126*0.001+$BL$2)*Comanda!F126,\"\")","v":""},null,{"$f":"IF(Comanda!H126=4,(Comanda!D126*0.001+$BL$2)*Comanda!F126,\"\")","v":""},{"$f":"IF(Comanda!I126=4,(Comanda!D126*0.001+$BL$2)*Comanda!F126,\"\")","v":""},{"$f":"IF(Comanda!J126=4,(Comanda!E126*0.001+$BL$2)*Comanda!F126,\"\")","v":""},{"$f":"IF(Comanda!K126=4,(Comanda!E126*0.001+$BL$2)*Comanda!F126,\"\")","v":""}]
[108,{"$f":"IF(Comanda!B127<>0,Comanda!B127,\"\")","v":""},{"$f":"IF(Comanda!C127<>0,Comanda!C127,\"\")","v":""},{"$f":"IF(Comanda!D127<>0,Comanda!D127,\"\")","v":""},{"$f":"IF(Comanda!E127<>0,Comanda!E127,\"\")","v":""},{"$f":"IF(Comanda!F127<>0,Comanda!F127,\"\")","v":""},{"$f":"IF(Comanda!G127<>0,1,0)","v":0},{"$f":"IF(Comanda!H127=1,Comanda!$C$13,IF(Comanda!H127=2,Comanda!$C$14,IF(Comanda!$H127=3,Comanda!$C$15,IF(Comanda!$H127=4,Comanda!$C$16,0))))","v":0},{"$f":"IF(Comanda!I127=1,Comanda!$C$13,IF(Comanda!I127=2,Comanda!$C$14,IF(Comanda!$I127=3,Comanda!$C$15,IF(Comanda!$I127=4,Comanda!$C$16,0))))","v":0},{"$f":"IF(Comanda!J127=1,Comanda!$C$13,IF(Comanda!J127=2,Comanda!$C$14,IF(Comanda!$J127=3,Comanda!$C$15,IF(Comanda!$J127=4,Comanda!$C$16,0))))","v":0},{"$f":"IF(Comanda!K127=1,Comanda!$C$13,IF(Comanda!K127=2,Comanda!$C$14,IF(Comanda!$K127=3,Comanda!$C$15,IF(Comanda!$K127=4,Comanda!$C$16,0))))","v":0},{"$f":"IF(Comanda!B127<>0,Comanda!$C$2,\"\")","v":""},{"$f":"IF(Comanda!B127<>0,Comanda!$C$5,\"\")","v":""},{"$f":"IF(Comanda!B127<>0,Comanda!$G$2,\"\")","v":""},{"$f":"IF(Comanda!B127<>0,Comanda!L127,\"\")","v":""},{"$f":"IF(Comanda!D127<>0,VLOOKUP('Formula Cant'!F110,'Grafica Cant'!$G$2:$H$25,2,FALSE),\"\")","v":""},{"$nulls":8},{"$f":"IF(Comanda!B127<>0,Comanda!$C$9,\"\")","v":""},{"$f":"IF(Comanda!B127<>0,VLOOKUP(Comanda!$C$12,PRETURI!$A$2:$C$500,3,FALSE),\"\")","v":""},"",{"$f":"IF(H110<>0,VLOOKUP(H110,PRETURI!$D$2:$F$1093,3,FALSE),\"\")","v":""},{"v":0,"d":"0.00"},{"$f":"IF(I110<>0,VLOOKUP(I110,PRETURI!$D$2:$F$1093,3,FALSE),\"\")","v":""},{"v":0,"d":"0.00"},{"$f":"IF(J110<>0,VLOOKUP(J110,PRETURI!$D$2:$F$1093,3,FALSE),\"\")","v":""},{"v":0,"d":"0.00"},{"$f":"IF(K110<>0,VLOOKUP(K110,PRETURI!$D$2:$F$1093,3,FALSE),\"\")","v":""},{"v":0,"d":"0.00"},{"$nulls":6},{"$f":"(Comanda!D127*Comanda!E127*Comanda!F127)*0.000001","v":{"v":0,"d":"0.00"}},null,{"$f":"IF(Comanda!H127=1,(Comanda!D127*0.001+$BL$2)*Comanda!F127,\"\")","v":""},{"$f":"IF(Comanda!I127=1,(Comanda!D127*0.001+$BL$2)*Comanda!F127,\"\")","v":""},{"$f":"IF(Comanda!J127=1,(Comanda!E127*0.001+$BL$2)*Comanda!F127,\"\")","v":""},{"$f":"IF(Comanda!K127=1,(Comanda!E127*0.001+$BL$2)*Comanda!F127,\"\")","v":""},null,{"$f":"IF(Comanda!H127=2,(Comanda!D127*0.001+$BL$2)*Comanda!F127,\"\")","v":""},{"$f":"IF(Comanda!I127=2,(Comanda!D127*0.001+$BL$2)*Comanda!F127,\"\")","v":""},{"$f":"IF(Comanda!J127=2,(Comanda!E127*0.001+$BL$2)*Comanda!F127,\"\")","v":""},{"$f":"IF(Comanda!K127=2,(Comanda!E127*0.001+$BL$2)*Comanda!F127,\"\")","v":""},null,{"$f":"IF(Comanda!H127=3,(Comanda!D127*0.001+$BL$2)*Comanda!F127,\"\")","v":""},{"$f":"IF(Comanda!I127=3,(Comanda!D127*0.001+$BL$2)*Comanda!F127,\"\")","v":""},{"$f":"IF(Comanda!J127=3,(Comanda!E127*0.001+$BL$2)*Comanda!F127,\"\")","v":""},{"$f":"IF(Comanda!K127=3,(Comanda!E127*0.001+$BL$2)*Comanda!F127,\"\")","v":""},null,{"$f":"IF(Comanda!H127=4,(Comanda!D127*0.001+$BL$2)*Comanda!F127,\"\")","v":""},{"$f":"IF(Comanda!I127=4,(Comanda!D127*0.001+$BL$2)*Comanda!F127,\"\")","v":""},{"$f":"IF(Comanda!J127=4,(Comanda!E127*0.001+$BL$2)*Comanda!F127,\"\")","v":""},{"$f":"IF(Comanda!K127=4,(Comanda!E127*0.001+$BL$2)*Comanda!F127,\"\")","v":""}]
[109,{"$f":"IF(Comanda!B128<>0,Comanda!B128,\"\")","v":""},{"$f":"IF(Comanda!C128<>0,Comanda!C128,\"\")","v":""},{"$f":"IF(Comanda!D128<>0,Comanda!D128,\"\")","v":""},{"$f":"IF(Comanda!E128<>0,Comanda!E128,\"\")","v":""},{"$f":"IF(Comanda!F128<>0,Comanda!F128,\"\")","v":""},{"$f":"IF(Comanda!G128<>0,1,0)","v":0},{"$f":"IF(Comanda!H128=1,Comanda!$C$13,IF(Comanda!H128=2,Comanda!$C$14,IF(Comanda!$H128=3,Comanda!$C$15,IF(Comanda!$H128=4,Comanda!$C$16,0))))","v":0},{"$f":"IF(Comanda!I128=1,Comanda!$C$13,IF(Comanda!I128=2,Comanda!$C$14,IF(Comanda!$I128=3,Comanda!$C$15,IF(Comanda!$I128=4,Comanda!$C$16,0))))","v":0},{"$f":"IF(Comanda!J128=1,Comanda!$C$13,IF(Comanda!J128=2,Comanda!$C$14,IF(Comanda!$J128=3,Comanda!$C$15,IF(Comanda!$J128=4,Comanda!$C$16,0))))","v":0},{"$f":"IF(Comanda!K128=1,Comanda!$C$13,IF(Comanda!K128=2,Comanda!$C$14,IF(Comanda!$K128=3,Comanda!$C$15,IF(Comanda!$K128=4,Comanda!$C$16,0))))","v":0},{"$f":"IF(Comanda!B128<>0,Comanda!$C$2,\"\")","v":""},{"$f":"IF(Comanda!B128<>0,Comanda!$C$5,\"\")","v":""},{"$f":"IF(Comanda!B128<>0,Comanda!$G$2,\"\")","v":""},{"$f":"IF(Comanda!B128<>0,Comanda!L128,\"\")","v":""},{"$f":"IF(Comanda!D128<>0,VLOOKUP('Formula Cant'!F111,'Grafica Cant'!$G$2:$H$25,2,FALSE),\"\")","v":""},{"$nulls":8},{"$f":"IF(Comanda!B128<>0,Comanda!$C$9,\"\")","v":""},{"$f":"IF(Comanda!B128<>0,VLOOKUP(Comanda!$C$12,PRETURI!$A$2:$C$500,3,FALSE),\"\")","v":""},"",{"$f":"IF(H111<>0,VLOOKUP(H111,PRETURI!$D$2:$F$1093,3,FALSE),\"\")","v":""},{"v":0,"d":"0.00"},{"$f":"IF(I111<>0,VLOOKUP(I111,PRETURI!$D$2:$F$1093,3,FALSE),\"\")","v":""},{"v":0,"d":"0.00"},{"$f":"IF(J111<>0,VLOOKUP(J111,PRETURI!$D$2:$F$1093,3,FALSE),\"\")","v":""},{"v":0,"d":"0.00"},{"$f":"IF(K111<>0,VLOOKUP(K111,PRETURI!$D$2:$F$1093,3,FALSE),\"\")","v":""},{"v":0,"d":"0.00"},{"$nulls":6},{"$f":"(Comanda!D128*Comanda!E128*Comanda!F128)*0.000001","v":{"v":0,"d":"0.00"}},null,{"$f":"IF(Comanda!H128=1,(Comanda!D128*0.001+$BL$2)*Comanda!F128,\"\")","v":""},{"$f":"IF(Comanda!I128=1,(Comanda!D128*0.001+$BL$2)*Comanda!F128,\"\")","v":""},{"$f":"IF(Comanda!J128=1,(Comanda!E128*0.001+$BL$2)*Comanda!F128,\"\")","v":""},{"$f":"IF(Comanda!K128=1,(Comanda!E128*0.001+$BL$2)*Comanda!F128,\"\")","v":""},null,{"$f":"IF(Comanda!H128=2,(Comanda!D128*0.001+$BL$2)*Comanda!F128,\"\")","v":""},{"$f":"IF(Comanda!I128=2,(Comanda!D128*0.001+$BL$2)*Comanda!F128,\"\")","v":""},{"$f":"IF(Comanda!J128=2,(Comanda!E128*0.001+$BL$2)*Comanda!F128,\"\")","v":""},{"$f":"IF(Comanda!K128=2,(Comanda!E128*0.001+$BL$2)*Comanda!F128,\"\")","v":""},null,{"$f":"IF(Comanda!H128=3,(Comanda!D128*0.001+$BL$2)*Comanda!F128,\"\")","v":""},{"$f":"IF(Comanda!I128=3,(Comanda!D128*0.001+$BL$2)*Comanda!F128,\"\")","v":""},{"$f":"IF(Comanda!J128=3,(Comanda!E128*0.001+$BL$2)*Comanda!F128,\"\")","v":""},{"$f":"IF(Comanda!K128=3,(Comanda!E128*0.001+$BL$2)*Comanda!F128,\"\")","v":""},null,{"$f":"IF(Comanda!H128=4,(Comanda!D128*0.001+$BL$2)*Comanda!F128,\"\")","v":""},{"$f":"IF(Comanda!I128=4,(Comanda!D128*0.001+$BL$2)*Comanda!F128,\"\")","v":""},{"$f":"IF(Comanda!J128=4,(Comanda!E128*0.001+$BL$2)*Comanda!F128,\"\")","v":""},{"$f":"IF(Comanda!K128=4,(Comanda!E128*0.001+$BL$2)*Comanda!F128,\"\")","v":""}]
[110,{"$f":"IF(Comanda!B129<>0,Comanda!B129,\"\")","v":""},{"$f":"IF(Comanda!C129<>0,Comanda!C129,\"\")","v":""},{"$f":"IF(Comanda!D129<>0,Comanda!D129,\"\")","v":""},{"$f":"IF(Comanda!E129<>0,Comanda!E129,\"\")","v":""},{"$f":"IF(Comanda!F129<>0,Comanda!F129,\"\")","v":""},{"$f":"IF(Comanda!G129<>0,1,0)","v":0},{"$f":"IF(Comanda!H129=1,Comanda!$C$13,IF(Comanda!H129=2,Comanda!$C$14,IF(Comanda!$H129=3,Comanda!$C$15,IF(Comanda!$H129=4,Comanda!$C$16,0))))","v":0},{"$f":"IF(Comanda!I129=1,Comanda!$C$13,IF(Comanda!I129=2,Comanda!$C$14,IF(Comanda!$I129=3,Comanda!$C$15,IF(Comanda!$I129=4,Comanda!$C$16,0))))","v":0},{"$f":"IF(Comanda!J129=1,Comanda!$C$13,IF(Comanda!J129=2,Comanda!$C$14,IF(Comanda!$J129=3,Comanda!$C$15,IF(Comanda!$J129=4,Comanda!$C$16,0))))","v":0},{"$f":"IF(Comanda!K129=1,Comanda!$C$13,IF(Comanda!K129=2,Comanda!$C$14,IF(Comanda!$K129=3,Comanda!$C$15,IF(Comanda!$K129=4,Comanda!$C$16,0))))","v":0},{"$f":"IF(Comanda!B129<>0,Comanda!$C$2,\"\")","v":""},{"$f":"IF(Comanda!B129<>0,Comanda!$C$5,\"\")","v":""},{"$f":"IF(Comanda!B129<>0,Comanda!$G$2,\"\")","v":""},{"$f":"IF(Comanda!B129<>0,Comanda!L129,\"\")","v":""},{"$f":"IF(Comanda!D129<>0,VLOOKUP('Formula Cant'!F112,'Grafica Cant'!$G$2:$H$25,2,FALSE),\"\")","v":""},{"$nulls":8},{"$f":"IF(Comanda!B129<>0,Comanda!$C$9,\"\")","v":""},{"$f":"IF(Comanda!B129<>0,VLOOKUP(Comanda!$C$12,PRETURI!$A$2:$C$500,3,FALSE),\"\")","v":""},"",{"$f":"IF(H112<>0,VLOOKUP(H112,PRETURI!$D$2:$F$1093,3,FALSE),\"\")","v":""},{"v":0,"d":"0.00"},{"$f":"IF(I112<>0,VLOOKUP(I112,PRETURI!$D$2:$F$1093,3,FALSE),\"\")","v":""},{"v":0,"d":"0.00"},{"$f":"IF(J112<>0,VLOOKUP(J112,PRETURI!$D$2:$F$1093,3,FALSE),\"\")","v":""},{"v":0,"d":"0.00"},{"$f":"IF(K112<>0,VLOOKUP(K112,PRETURI!$D$2:$F$1093,3,FALSE),\"\")","v":""},{"v":0,"d":"0.00"},{"$nulls":6},{"$f":"(Comanda!D129*Comanda!E129*Comanda!F129)*0.000001","v":{"v":0,"d":"0.00"}},null,{"$f":"IF(Comanda!H129=1,(Comanda!D129*0.001+$BL$2)*Comanda!F129,\"\")","v":""},{"$f":"IF(Comanda!I129=1,(Comanda!D129*0.001+$BL$2)*Comanda!F129,\"\")","v":""},{"$f":"IF(Comanda!J129=1,(Comanda!E129*0.001+$BL$2)*Comanda!F129,\"\")","v":""},{"$f":"IF(Comanda!K129=1,(Comanda!E129*0.001+$BL$2)*Comanda!F129,\"\")","v":""},null,{"$f":"IF(Comanda!H129=2,(Comanda!D129*0.001+$BL$2)*Comanda!F129,\"\")","v":""},{"$f":"IF(Comanda!I129=2,(Comanda!D129*0.001+$BL$2)*Comanda!F129,\"\")","v":""},{"$f":"IF(Comanda!J129=2,(Comanda!E129*0.001+$BL$2)*Comanda!F129,\"\")","v":""},{"$f":"IF(Comanda!K129=2,(Comanda!E129*0.001+$BL$2)*Comanda!F129,\"\")","v":""},null,{"$f":"IF(Comanda!H129=3,(Comanda!D129*0.001+$BL$2)*Comanda!F129,\"\")","v":""},{"$f":"IF(Comanda!I129=3,(Comanda!D129*0.001+$BL$2)*Comanda!F129,\"\")","v":""},{"$f":"IF(Comanda!J129=3,(Comanda!E129*0.001+$BL$2)*Comanda!F129,\"\")","v":""},{"$f":"IF(Comanda!K129=3,(Comanda!E129*0.001+$BL$2)*Comanda!F129,\"\")","v":""},null,{"$f":"IF(Comanda!H129=4,(Comanda!D129*0.001+$BL$2)*Comanda!F129,\"\")","v":""},{"$f":"IF(Comanda!I129=4,(Comanda!D129*0.001+$BL$2)*Comanda!F129,\"\")","v":""},{"$f":"IF(Comanda!J129=4,(Comanda!E129*0.001+$BL$2)*Comanda!F129,\"\")","v":""},{"$f":"IF(Comanda!K129=4,(Comanda!E129*0.001+$BL$2)*Comanda!F129,\"\")","v":""}]
[111,{"$f":"IF(Comanda!B130<>0,Comanda!B130,\"\")","v":""},{"$f":"IF(Comanda!C130<>0,Comanda!C130,\"\")","v":""},{"$f":"IF(Comanda!D130<>0,Comanda!D130,\"\")","v":""},{"$f":"IF(Comanda!E130<>0,Comanda!E130,\"\")","v":""},{"$f":"IF(Comanda!F130<>0,Comanda!F130,\"\")","v":""},{"$f":"IF(Comanda!G130<>0,1,0)","v":0},{"$f":"IF(Comanda!H130=1,Comanda!$C$13,IF(Comanda!H130=2,Comanda!$C$14,IF(Comanda!$H130=3,Comanda!$C$15,IF(Comanda!$H130=4,Comanda!$C$16,0))))","v":0},{"$f":"IF(Comanda!I130=1,Comanda!$C$13,IF(Comanda!I130=2,Comanda!$C$14,IF(Comanda!$I130=3,Comanda!$C$15,IF(Comanda!$I130=4,Comanda!$C$16,0))))","v":0},{"$f":"IF(Comanda!J130=1,Comanda!$C$13,IF(Comanda!J130=2,Comanda!$C$14,IF(Comanda!$J130=3,Comanda!$C$15,IF(Comanda!$J130=4,Comanda!$C$16,0))))","v":0},{"$f":"IF(Comanda!K130=1,Comanda!$C$13,IF(Comanda!K130=2,Comanda!$C$14,IF(Comanda!$K130=3,Comanda!$C$15,IF(Comanda!$K130=4,Comanda!$C$16,0))))","v":0},{"$f":"IF(Comanda!B130<>0,Comanda!$C$2,\"\")","v":""},{"$f":"IF(Comanda!B130<>0,Comanda!$C$5,\"\")","v":""},{"$f":"IF(Comanda!B130<>0,Comanda!$G$2,\"\")","v":""},{"$f":"IF(Comanda!B130<>0,Comanda!L130,\"\")","v":""},{"$f":"IF(Comanda!D130<>0,VLOOKUP('Formula Cant'!F113,'Grafica Cant'!$G$2:$H$25,2,FALSE),\"\")","v":""},{"$nulls":8},{"$f":"IF(Comanda!B130<>0,Comanda!$C$9,\"\")","v":""},{"$f":"IF(Comanda!B130<>0,VLOOKUP(Comanda!$C$12,PRETURI!$A$2:$C$500,3,FALSE),\"\")","v":""},"",{"$f":"IF(H113<>0,VLOOKUP(H113,PRETURI!$D$2:$F$1093,3,FALSE),\"\")","v":""},{"v":0,"d":"0.00"},{"$f":"IF(I113<>0,VLOOKUP(I113,PRETURI!$D$2:$F$1093,3,FALSE),\"\")","v":""},{"v":0,"d":"0.00"},{"$f":"IF(J113<>0,VLOOKUP(J113,PRETURI!$D$2:$F$1093,3,FALSE),\"\")","v":""},{"v":0,"d":"0.00"},{"$f":"IF(K113<>0,VLOOKUP(K113,PRETURI!$D$2:$F$1093,3,FALSE),\"\")","v":""},{"v":0,"d":"0.00"},{"$nulls":6},{"$f":"(Comanda!D130*Comanda!E130*Comanda!F130)*0.000001","v":{"v":0,"d":"0.00"}},null,{"$f":"IF(Comanda!H130=1,(Comanda!D130*0.001+$BL$2)*Comanda!F130,\"\")","v":""},{"$f":"IF(Comanda!I130=1,(Comanda!D130*0.001+$BL$2)*Comanda!F130,\"\")","v":""},{"$f":"IF(Comanda!J130=1,(Comanda!E130*0.001+$BL$2)*Comanda!F130,\"\")","v":""},{"$f":"IF(Comanda!K130=1,(Comanda!E130*0.001+$BL$2)*Comanda!F130,\"\")","v":""},null,{"$f":"IF(Comanda!H130=2,(Comanda!D130*0.001+$BL$2)*Comanda!F130,\"\")","v":""},{"$f":"IF(Comanda!I130=2,(Comanda!D130*0.001+$BL$2)*Comanda!F130,\"\")","v":""},{"$f":"IF(Comanda!J130=2,(Comanda!E130*0.001+$BL$2)*Comanda!F130,\"\")","v":""},{"$f":"IF(Comanda!K130=2,(Comanda!E130*0.001+$BL$2)*Comanda!F130,\"\")","v":""},null,{"$f":"IF(Comanda!H130=3,(Comanda!D130*0.001+$BL$2)*Comanda!F130,\"\")","v":""},{"$f":"IF(Comanda!I130=3,(Comanda!D130*0.001+$BL$2)*Comanda!F130,\"\")","v":""},{"$f":"IF(Comanda!J130=3,(Comanda!E130*0.001+$BL$2)*Comanda!F130,\"\")","v":""},{"$f":"IF(Comanda!K130=3,(Comanda!E130*0.001+$BL$2)*Comanda!F130,\"\")","v":""},null,{"$f":"IF(Comanda!H130=4,(Comanda!D130*0.001+$BL$2)*Comanda!F130,\"\")","v":""},{"$f":"IF(Comanda!I130=4,(Comanda!D130*0.001+$BL$2)*Comanda!F130,\"\")","v":""},{"$f":"IF(Comanda!J130=4,(Comanda!E130*0.001+$BL$2)*Comanda!F130,\"\")","v":""},{"$f":"IF(Comanda!K130=4,(Comanda!E130*0.001+$BL$2)*Comanda!F130,\"\")","v":""}]
[112,{"$f":"IF(Comanda!B131<>0,Comanda!B131,\"\")","v":""},{"$f":"IF(Comanda!C131<>0,Comanda!C131,\"\")","v":""},{"$f":"IF(Comanda!D131<>0,Comanda!D131,\"\")","v":""},{"$f":"IF(Comanda!E131<>0,Comanda!E131,\"\")","v":""},{"$f":"IF(Comanda!F131<>0,Comanda!F131,\"\")","v":""},{"$f":"IF(Comanda!G131<>0,1,0)","v":0},{"$f":"IF(Comanda!H131=1,Comanda!$C$13,IF(Comanda!H131=2,Comanda!$C$14,IF(Comanda!$H131=3,Comanda!$C$15,IF(Comanda!$H131=4,Comanda!$C$16,0))))","v":0},{"$f":"IF(Comanda!I131=1,Comanda!$C$13,IF(Comanda!I131=2,Comanda!$C$14,IF(Comanda!$I131=3,Comanda!$C$15,IF(Comanda!$I131=4,Comanda!$C$16,0))))","v":0},{"$f":"IF(Comanda!J131=1,Comanda!$C$13,IF(Comanda!J131=2,Comanda!$C$14,IF(Comanda!$J131=3,Comanda!$C$15,IF(Comanda!$J131=4,Comanda!$C$16,0))))","v":0},{"$f":"IF(Comanda!K131=1,Comanda!$C$13,IF(Comanda!K131=2,Comanda!$C$14,IF(Comanda!$K131=3,Comanda!$C$15,IF(Comanda!$K131=4,Comanda!$C$16,0))))","v":0},{"$f":"IF(Comanda!B131<>0,Comanda!$C$2,\"\")","v":""},{"$f":"IF(Comanda!B131<>0,Comanda!$C$5,\"\")","v":""},{"$f":"IF(Comanda!B131<>0,Comanda!$G$2,\"\")","v":""},{"$f":"IF(Comanda!B131<>0,Comanda!L131,\"\")","v":""},{"$f":"IF(Comanda!D131<>0,VLOOKUP('Formula Cant'!F114,'Grafica Cant'!$G$2:$H$25,2,FALSE),\"\")","v":""},{"$nulls":8},{"$f":"IF(Comanda!B131<>0,Comanda!$C$9,\"\")","v":""},{"$f":"IF(Comanda!B131<>0,VLOOKUP(Comanda!$C$12,PRETURI!$A$2:$C$500,3,FALSE),\"\")","v":""},"",{"$f":"IF(H114<>0,VLOOKUP(H114,PRETURI!$D$2:$F$1093,3,FALSE),\"\")","v":""},{"v":0,"d":"0.00"},{"$f":"IF(I114<>0,VLOOKUP(I114,PRETURI!$D$2:$F$1093,3,FALSE),\"\")","v":""},{"v":0,"d":"0.00"},{"$f":"IF(J114<>0,VLOOKUP(J114,PRETURI!$D$2:$F$1093,3,FALSE),\"\")","v":""},{"v":0,"d":"0.00"},{"$f":"IF(K114<>0,VLOOKUP(K114,PRETURI!$D$2:$F$1093,3,FALSE),\"\")","v":""},{"v":0,"d":"0.00"},{"$nulls":6},{"$f":"(Comanda!D131*Comanda!E131*Comanda!F131)*0.000001","v":{"v":0,"d":"0.00"}},null,{"$f":"IF(Comanda!H131=1,(Comanda!D131*0.001+$BL$2)*Comanda!F131,\"\")","v":""},{"$f":"IF(Comanda!I131=1,(Comanda!D131*0.001+$BL$2)*Comanda!F131,\"\")","v":""},{"$f":"IF(Comanda!J131=1,(Comanda!E131*0.001+$BL$2)*Comanda!F131,\"\")","v":""},{"$f":"IF(Comanda!K131=1,(Comanda!E131*0.001+$BL$2)*Comanda!F131,\"\")","v":""},null,{"$f":"IF(Comanda!H131=2,(Comanda!D131*0.001+$BL$2)*Comanda!F131,\"\")","v":""},{"$f":"IF(Comanda!I131=2,(Comanda!D131*0.001+$BL$2)*Comanda!F131,\"\")","v":""},{"$f":"IF(Comanda!J131=2,(Comanda!E131*0.001+$BL$2)*Comanda!F131,\"\")","v":""},{"$f":"IF(Comanda!K131=2,(Comanda!E131*0.001+$BL$2)*Comanda!F131,\"\")","v":""},null,{"$f":"IF(Comanda!H131=3,(Comanda!D131*0.001+$BL$2)*Comanda!F131,\"\")","v":""},{"$f":"IF(Comanda!I131=3,(Comanda!D131*0.001+$BL$2)*Comanda!F131,\"\")","v":""},{"$f":"IF(Comanda!J131=3,(Comanda!E131*0.001+$BL$2)*Comanda!F131,\"\")","v":""},{"$f":"IF(Comanda!K131=3,(Comanda!E131*0.001+$BL$2)*Comanda!F131,\"\")","v":""},null,{"$f":"IF(Comanda!H131=4,(Comanda!D131*0.001+$BL$2)*Comanda!F131,\"\")","v":""},{"$f":"IF(Comanda!I131=4,(Comanda!D131*0.001+$BL$2)*Comanda!F131,\"\")","v":""},{"$f":"IF(Comanda!J131=4,(Comanda!E131*0.001+$BL$2)*Comanda!F131,\"\")","v":""},{"$f":"IF(Comanda!K131=4,(Comanda!E131*0.001+$BL$2)*Comanda!F131,\"\")","v":""}]
[113,{"$f":"IF(Comanda!B132<>0,Comanda!B132,\"\")","v":""},{"$f":"IF(Comanda!C132<>0,Comanda!C132,\"\")","v":""},{"$f":"IF(Comanda!D132<>0,Comanda!D132,\"\")","v":""},{"$f":"IF(Comanda!E132<>0,Comanda!E132,\"\")","v":""},{"$f":"IF(Comanda!F132<>0,Comanda!F132,\"\")","v":""},{"$f":"IF(Comanda!G132<>0,1,0)","v":0},{"$f":"IF(Comanda!H132=1,Comanda!$C$13,IF(Comanda!H132=2,Comanda!$C$14,IF(Comanda!$H132=3,Comanda!$C$15,IF(Comanda!$H132=4,Comanda!$C$16,0))))","v":0},{"$f":"IF(Comanda!I132=1,Comanda!$C$13,IF(Comanda!I132=2,Comanda!$C$14,IF(Comanda!$I132=3,Comanda!$C$15,IF(Comanda!$I132=4,Comanda!$C$16,0))))","v":0},{"$f":"IF(Comanda!J132=1,Comanda!$C$13,IF(Comanda!J132=2,Comanda!$C$14,IF(Comanda!$J132=3,Comanda!$C$15,IF(Comanda!$J132=4,Comanda!$C$16,0))))","v":0},{"$f":"IF(Comanda!K132=1,Comanda!$C$13,IF(Comanda!K132=2,Comanda!$C$14,IF(Comanda!$K132=3,Comanda!$C$15,IF(Comanda!$K132=4,Comanda!$C$16,0))))","v":0},{"$f":"IF(Comanda!B132<>0,Comanda!$C$2,\"\")","v":""},{"$f":"IF(Comanda!B132<>0,Comanda!$C$5,\"\")","v":""},{"$f":"IF(Comanda!B132<>0,Comanda!$G$2,\"\")","v":""},{"$f":"IF(Comanda!B132<>0,Comanda!L132,\"\")","v":""},{"$f":"IF(Comanda!D132<>0,VLOOKUP('Formula Cant'!F115,'Grafica Cant'!$G$2:$H$25,2,FALSE),\"\")","v":""},{"$nulls":8},{"$f":"IF(Comanda!B132<>0,Comanda!$C$9,\"\")","v":""},{"$f":"IF(Comanda!B132<>0,VLOOKUP(Comanda!$C$12,PRETURI!$A$2:$C$500,3,FALSE),\"\")","v":""},"",{"$f":"IF(H115<>0,VLOOKUP(H115,PRETURI!$D$2:$F$1093,3,FALSE),\"\")","v":""},{"v":0,"d":"0.00"},{"$f":"IF(I115<>0,VLOOKUP(I115,PRETURI!$D$2:$F$1093,3,FALSE),\"\")","v":""},{"v":0,"d":"0.00"},{"$f":"IF(J115<>0,VLOOKUP(J115,PRETURI!$D$2:$F$1093,3,FALSE),\"\")","v":""},{"v":0,"d":"0.00"},{"$f":"IF(K115<>0,VLOOKUP(K115,PRETURI!$D$2:$F$1093,3,FALSE),\"\")","v":""},{"v":0,"d":"0.00"},{"$nulls":6},{"$f":"(Comanda!D132*Comanda!E132*Comanda!F132)*0.000001","v":{"v":0,"d":"0.00"}},null,{"$f":"IF(Comanda!H132=1,(Comanda!D132*0.001+$BL$2)*Comanda!F132,\"\")","v":""},{"$f":"IF(Comanda!I132=1,(Comanda!D132*0.001+$BL$2)*Comanda!F132,\"\")","v":""},{"$f":"IF(Comanda!J132=1,(Comanda!E132*0.001+$BL$2)*Comanda!F132,\"\")","v":""},{"$f":"IF(Comanda!K132=1,(Comanda!E132*0.001+$BL$2)*Comanda!F132,\"\")","v":""},null,{"$f":"IF(Comanda!H132=2,(Comanda!D132*0.001+$BL$2)*Comanda!F132,\"\")","v":""},{"$f":"IF(Comanda!I132=2,(Comanda!D132*0.001+$BL$2)*Comanda!F132,\"\")","v":""},{"$f":"IF(Comanda!J132=2,(Comanda!E132*0.001+$BL$2)*Comanda!F132,\"\")","v":""},{"$f":"IF(Comanda!K132=2,(Comanda!E132*0.001+$BL$2)*Comanda!F132,\"\")","v":""},null,{"$f":"IF(Comanda!H132=3,(Comanda!D132*0.001+$BL$2)*Comanda!F132,\"\")","v":""},{"$f":"IF(Comanda!I132=3,(Comanda!D132*0.001+$BL$2)*Comanda!F132,\"\")","v":""},{"$f":"IF(Comanda!J132=3,(Comanda!E132*0.001+$BL$2)*Comanda!F132,\"\")","v":""},{"$f":"IF(Comanda!K132=3,(Comanda!E132*0.001+$BL$2)*Comanda!F132,\"\")","v":""},null,{"$f":"IF(Comanda!H132=4,(Comanda!D132*0.001+$BL$2)*Comanda!F132,\"\")","v":""},{"$f":"IF(Comanda!I132=4,(Comanda!D132*0.001+$BL$2)*Comanda!F132,\"\")","v":""},{"$f":"IF(Comanda!J132=4,(Comanda!E132*0.001+$BL$2)*Comanda!F132,\"\")","v":""},{"$f":"IF(Comanda!K132=4,(Comanda!E132*0.001+$BL$2)*Comanda!F132,\"\")","v":""}]
[114,{"$f":"IF(Comanda!B133<>0,Comanda!B133,\"\")","v":""},{"$f":"IF(Comanda!C133<>0,Comanda!C133,\"\")","v":""},{"$f":"IF(Comanda!D133<>0,Comanda!D133,\"\")","v":""},{"$f":"IF(Comanda!E133<>0,Comanda!E133,\"\")","v":""},{"$f":"IF(Comanda!F133<>0,Comanda!F133,\"\")","v":""},{"$f":"IF(Comanda!G133<>0,1,0)","v":0},{"$f":"IF(Comanda!H133=1,Comanda!$C$13,IF(Comanda!H133=2,Comanda!$C$14,IF(Comanda!$H133=3,Comanda!$C$15,IF(Comanda!$H133=4,Comanda!$C$16,0))))","v":0},{"$f":"IF(Comanda!I133=1,Comanda!$C$13,IF(Comanda!I133=2,Comanda!$C$14,IF(Comanda!$I133=3,Comanda!$C$15,IF(Comanda!$I133=4,Comanda!$C$16,0))))","v":0},{"$f":"IF(Comanda!J133=1,Comanda!$C$13,IF(Comanda!J133=2,Comanda!$C$14,IF(Comanda!$J133=3,Comanda!$C$15,IF(Comanda!$J133=4,Comanda!$C$16,0))))","v":0},{"$f":"IF(Comanda!K133=1,Comanda!$C$13,IF(Comanda!K133=2,Comanda!$C$14,IF(Comanda!$K133=3,Comanda!$C$15,IF(Comanda!$K133=4,Comanda!$C$16,0))))","v":0},{"$f":"IF(Comanda!B133<>0,Comanda!$C$2,\"\")","v":""},{"$f":"IF(Comanda!B133<>0,Comanda!$C$5,\"\")","v":""},{"$f":"IF(Comanda!B133<>0,Comanda!$G$2,\"\")","v":""},{"$f":"IF(Comanda!B133<>0,Comanda!L133,\"\")","v":""},{"$f":"IF(Comanda!D133<>0,VLOOKUP('Formula Cant'!F116,'Grafica Cant'!$G$2:$H$25,2,FALSE),\"\")","v":""},{"$nulls":8},{"$f":"IF(Comanda!B133<>0,Comanda!$C$9,\"\")","v":""},{"$f":"IF(Comanda!B133<>0,VLOOKUP(Comanda!$C$12,PRETURI!$A$2:$C$500,3,FALSE),\"\")","v":""},"",{"$f":"IF(H116<>0,VLOOKUP(H116,PRETURI!$D$2:$F$1093,3,FALSE),\"\")","v":""},{"v":0,"d":"0.00"},{"$f":"IF(I116<>0,VLOOKUP(I116,PRETURI!$D$2:$F$1093,3,FALSE),\"\")","v":""},{"v":0,"d":"0.00"},{"$f":"IF(J116<>0,VLOOKUP(J116,PRETURI!$D$2:$F$1093,3,FALSE),\"\")","v":""},{"v":0,"d":"0.00"},{"$f":"IF(K116<>0,VLOOKUP(K116,PRETURI!$D$2:$F$1093,3,FALSE),\"\")","v":""},{"v":0,"d":"0.00"},{"$nulls":6},{"$f":"(Comanda!D133*Comanda!E133*Comanda!F133)*0.000001","v":{"v":0,"d":"0.00"}},null,{"$f":"IF(Comanda!H133=1,(Comanda!D133*0.001+$BL$2)*Comanda!F133,\"\")","v":""},{"$f":"IF(Comanda!I133=1,(Comanda!D133*0.001+$BL$2)*Comanda!F133,\"\")","v":""},{"$f":"IF(Comanda!J133=1,(Comanda!E133*0.001+$BL$2)*Comanda!F133,\"\")","v":""},{"$f":"IF(Comanda!K133=1,(Comanda!E133*0.001+$BL$2)*Comanda!F133,\"\")","v":""},null,{"$f":"IF(Comanda!H133=2,(Comanda!D133*0.001+$BL$2)*Comanda!F133,\"\")","v":""},{"$f":"IF(Comanda!I133=2,(Comanda!D133*0.001+$BL$2)*Comanda!F133,\"\")","v":""},{"$f":"IF(Comanda!J133=2,(Comanda!E133*0.001+$BL$2)*Comanda!F133,\"\")","v":""},{"$f":"IF(Comanda!K133=2,(Comanda!E133*0.001+$BL$2)*Comanda!F133,\"\")","v":""},null,{"$f":"IF(Comanda!H133=3,(Comanda!D133*0.001+$BL$2)*Comanda!F133,\"\")","v":""},{"$f":"IF(Comanda!I133=3,(Comanda!D133*0.001+$BL$2)*Comanda!F133,\"\")","v":""},{"$f":"IF(Comanda!J133=3,(Comanda!E133*0.001+$BL$2)*Comanda!F133,\"\")","v":""},{"$f":"IF(Comanda!K133=3,(Comanda!E133*0.001+$BL$2)*Comanda!F133,\"\")","v":""},null,{"$f":"IF(Comanda!H133=4,(Comanda!D133*0.001+$BL$2)*Comanda!F133,\"\")","v":""},{"$f":"IF(Comanda!I133=4,(Comanda!D133*0.001+$BL$2)*Comanda!F133,\"\")","v":""},{"$f":"IF(Comanda!J133=4,(Comanda!E133*0.001+$BL$2)*Comanda!F133,\"\")","v":""},{"$f":"IF(Comanda!K133=4,(Comanda!E133*0.001+$BL$2)*Comanda!F133,\"\")","v":""}]
[115,{"$f":"IF(Comanda!B134<>0,Comanda!B134,\"\")","v":""},{"$f":"IF(Comanda!C134<>0,Comanda!C134,\"\")","v":""},{"$f":"IF(Comanda!D134<>0,Comanda!D134,\"\")","v":""},{"$f":"IF(Comanda!E134<>0,Comanda!E134,\"\")","v":""},{"$f":"IF(Comanda!F134<>0,Comanda!F134,\"\")","v":""},{"$f":"IF(Comanda!G134<>0,1,0)","v":0},{"$f":"IF(Comanda!H134=1,Comanda!$C$13,IF(Comanda!H134=2,Comanda!$C$14,IF(Comanda!$H134=3,Comanda!$C$15,IF(Comanda!$H134=4,Comanda!$C$16,0))))","v":0},{"$f":"IF(Comanda!I134=1,Comanda!$C$13,IF(Comanda!I134=2,Comanda!$C$14,IF(Comanda!$I134=3,Comanda!$C$15,IF(Comanda!$I134=4,Comanda!$C$16,0))))","v":0},{"$f":"IF(Comanda!J134=1,Comanda!$C$13,IF(Comanda!J134=2,Comanda!$C$14,IF(Comanda!$J134=3,Comanda!$C$15,IF(Comanda!$J134=4,Comanda!$C$16,0))))","v":0},{"$f":"IF(Comanda!K134=1,Comanda!$C$13,IF(Comanda!K134=2,Comanda!$C$14,IF(Comanda!$K134=3,Comanda!$C$15,IF(Comanda!$K134=4,Comanda!$C$16,0))))","v":0},{"$f":"IF(Comanda!B134<>0,Comanda!$C$2,\"\")","v":""},{"$f":"IF(Comanda!B134<>0,Comanda!$C$5,\"\")","v":""},{"$f":"IF(Comanda!B134<>0,Comanda!$G$2,\"\")","v":""},{"$f":"IF(Comanda!B134<>0,Comanda!L134,\"\")","v":""},{"$f":"IF(Comanda!D134<>0,VLOOKUP('Formula Cant'!F117,'Grafica Cant'!$G$2:$H$25,2,FALSE),\"\")","v":""},{"$nulls":8},{"$f":"IF(Comanda!B134<>0,Comanda!$C$9,\"\")","v":""},{"$f":"IF(Comanda!B134<>0,VLOOKUP(Comanda!$C$12,PRETURI!$A$2:$C$500,3,FALSE),\"\")","v":""},"",{"$f":"IF(H117<>0,VLOOKUP(H117,PRETURI!$D$2:$F$1093,3,FALSE),\"\")","v":""},{"v":0,"d":"0.00"},{"$f":"IF(I117<>0,VLOOKUP(I117,PRETURI!$D$2:$F$1093,3,FALSE),\"\")","v":""},{"v":0,"d":"0.00"},{"$f":"IF(J117<>0,VLOOKUP(J117,PRETURI!$D$2:$F$1093,3,FALSE),\"\")","v":""},{"v":0,"d":"0.00"},{"$f":"IF(K117<>0,VLOOKUP(K117,PRETURI!$D$2:$F$1093,3,FALSE),\"\")","v":""},{"v":0,"d":"0.00"},{"$nulls":6},{"$f":"(Comanda!D134*Comanda!E134*Comanda!F134)*0.000001","v":{"v":0,"d":"0.00"}},null,{"$f":"IF(Comanda!H134=1,(Comanda!D134*0.001+$BL$2)*Comanda!F134,\"\")","v":""},{"$f":"IF(Comanda!I134=1,(Comanda!D134*0.001+$BL$2)*Comanda!F134,\"\")","v":""},{"$f":"IF(Comanda!J134=1,(Comanda!E134*0.001+$BL$2)*Comanda!F134,\"\")","v":""},{"$f":"IF(Comanda!K134=1,(Comanda!E134*0.001+$BL$2)*Comanda!F134,\"\")","v":""},null,{"$f":"IF(Comanda!H134=2,(Comanda!D134*0.001+$BL$2)*Comanda!F134,\"\")","v":""},{"$f":"IF(Comanda!I134=2,(Comanda!D134*0.001+$BL$2)*Comanda!F134,\"\")","v":""},{"$f":"IF(Comanda!J134=2,(Comanda!E134*0.001+$BL$2)*Comanda!F134,\"\")","v":""},{"$f":"IF(Comanda!K134=2,(Comanda!E134*0.001+$BL$2)*Comanda!F134,\"\")","v":""},null,{"$f":"IF(Comanda!H134=3,(Comanda!D134*0.001+$BL$2)*Comanda!F134,\"\")","v":""},{"$f":"IF(Comanda!I134=3,(Comanda!D134*0.001+$BL$2)*Comanda!F134,\"\")","v":""},{"$f":"IF(Comanda!J134=3,(Comanda!E134*0.001+$BL$2)*Comanda!F134,\"\")","v":""},{"$f":"IF(Comanda!K134=3,(Comanda!E134*0.001+$BL$2)*Comanda!F134,\"\")","v":""},null,{"$f":"IF(Comanda!H134=4,(Comanda!D134*0.001+$BL$2)*Comanda!F134,\"\")","v":""},{"$f":"IF(Comanda!I134=4,(Comanda!D134*0.001+$BL$2)*Comanda!F134,\"\")","v":""},{"$f":"IF(Comanda!J134=4,(Comanda!E134*0.001+$BL$2)*Comanda!F134,\"\")","v":""},{"$f":"IF(Comanda!K134=4,(Comanda!E134*0.001+$BL$2)*Comanda!F134,\"\")","v":""}]
[116,{"$f":"IF(Comanda!B135<>0,Comanda!B135,\"\")","v":""},{"$f":"IF(Comanda!C135<>0,Comanda!C135,\"\")","v":""},{"$f":"IF(Comanda!D135<>0,Comanda!D135,\"\")","v":""},{"$f":"IF(Comanda!E135<>0,Comanda!E135,\"\")","v":""},{"$f":"IF(Comanda!F135<>0,Comanda!F135,\"\")","v":""},{"$f":"IF(Comanda!G135<>0,1,0)","v":0},{"$f":"IF(Comanda!H135=1,Comanda!$C$13,IF(Comanda!H135=2,Comanda!$C$14,IF(Comanda!$H135=3,Comanda!$C$15,IF(Comanda!$H135=4,Comanda!$C$16,0))))","v":0},{"$f":"IF(Comanda!I135=1,Comanda!$C$13,IF(Comanda!I135=2,Comanda!$C$14,IF(Comanda!$I135=3,Comanda!$C$15,IF(Comanda!$I135=4,Comanda!$C$16,0))))","v":0},{"$f":"IF(Comanda!J135=1,Comanda!$C$13,IF(Comanda!J135=2,Comanda!$C$14,IF(Comanda!$J135=3,Comanda!$C$15,IF(Comanda!$J135=4,Comanda!$C$16,0))))","v":0},{"$f":"IF(Comanda!K135=1,Comanda!$C$13,IF(Comanda!K135=2,Comanda!$C$14,IF(Comanda!$K135=3,Comanda!$C$15,IF(Comanda!$K135=4,Comanda!$C$16,0))))","v":0},{"$f":"IF(Comanda!B135<>0,Comanda!$C$2,\"\")","v":""},{"$f":"IF(Comanda!B135<>0,Comanda!$C$5,\"\")","v":""},{"$f":"IF(Comanda!B135<>0,Comanda!$G$2,\"\")","v":""},{"$f":"IF(Comanda!B135<>0,Comanda!L135,\"\")","v":""},{"$f":"IF(Comanda!D135<>0,VLOOKUP('Formula Cant'!F118,'Grafica Cant'!$G$2:$H$25,2,FALSE),\"\")","v":""},{"$nulls":8},{"$f":"IF(Comanda!B135<>0,Comanda!$C$9,\"\")","v":""},{"$f":"IF(Comanda!B135<>0,VLOOKUP(Comanda!$C$12,PRETURI!$A$2:$C$500,3,FALSE),\"\")","v":""},"",{"$f":"IF(H118<>0,VLOOKUP(H118,PRETURI!$D$2:$F$1093,3,FALSE),\"\")","v":""},{"v":0,"d":"0.00"},{"$f":"IF(I118<>0,VLOOKUP(I118,PRETURI!$D$2:$F$1093,3,FALSE),\"\")","v":""},{"v":0,"d":"0.00"},{"$f":"IF(J118<>0,VLOOKUP(J118,PRETURI!$D$2:$F$1093,3,FALSE),\"\")","v":""},{"v":0,"d":"0.00"},{"$f":"IF(K118<>0,VLOOKUP(K118,PRETURI!$D$2:$F$1093,3,FALSE),\"\")","v":""},{"v":0,"d":"0.00"},{"$nulls":6},{"$f":"(Comanda!D135*Comanda!E135*Comanda!F135)*0.000001","v":{"v":0,"d":"0.00"}},null,{"$f":"IF(Comanda!H135=1,(Comanda!D135*0.001+$BL$2)*Comanda!F135,\"\")","v":""},{"$f":"IF(Comanda!I135=1,(Comanda!D135*0.001+$BL$2)*Comanda!F135,\"\")","v":""},{"$f":"IF(Comanda!J135=1,(Comanda!E135*0.001+$BL$2)*Comanda!F135,\"\")","v":""},{"$f":"IF(Comanda!K135=1,(Comanda!E135*0.001+$BL$2)*Comanda!F135,\"\")","v":""},null,{"$f":"IF(Comanda!H135=2,(Comanda!D135*0.001+$BL$2)*Comanda!F135,\"\")","v":""},{"$f":"IF(Comanda!I135=2,(Comanda!D135*0.001+$BL$2)*Comanda!F135,\"\")","v":""},{"$f":"IF(Comanda!J135=2,(Comanda!E135*0.001+$BL$2)*Comanda!F135,\"\")","v":""},{"$f":"IF(Comanda!K135=2,(Comanda!E135*0.001+$BL$2)*Comanda!F135,\"\")","v":""},null,{"$f":"IF(Comanda!H135=3,(Comanda!D135*0.001+$BL$2)*Comanda!F135,\"\")","v":""},{"$f":"IF(Comanda!I135=3,(Comanda!D135*0.001+$BL$2)*Comanda!F135,\"\")","v":""},{"$f":"IF(Comanda!J135=3,(Comanda!E135*0.001+$BL$2)*Comanda!F135,\"\")","v":""},{"$f":"IF(Comanda!K135=3,(Comanda!E135*0.001+$BL$2)*Comanda!F135,\"\")","v":""},null,{"$f":"IF(Comanda!H135=4,(Comanda!D135*0.001+$BL$2)*Comanda!F135,\"\")","v":""},{"$f":"IF(Comanda!I135=4,(Comanda!D135*0.001+$BL$2)*Comanda!F135,\"\")","v":""},{"$f":"IF(Comanda!J135=4,(Comanda!E135*0.001+$BL$2)*Comanda!F135,\"\")","v":""},{"$f":"IF(Comanda!K135=4,(Comanda!E135*0.001+$BL$2)*Comanda!F135,\"\")","v":""}]
[117,{"$f":"IF(Comanda!B136<>0,Comanda!B136,\"\")","v":""},{"$f":"IF(Comanda!C136<>0,Comanda!C136,\"\")","v":""},{"$f":"IF(Comanda!D136<>0,Comanda!D136,\"\")","v":""},{"$f":"IF(Comanda!E136<>0,Comanda!E136,\"\")","v":""},{"$f":"IF(Comanda!F136<>0,Comanda!F136,\"\")","v":""},{"$f":"IF(Comanda!G136<>0,1,0)","v":0},{"$f":"IF(Comanda!H136=1,Comanda!$C$13,IF(Comanda!H136=2,Comanda!$C$14,IF(Comanda!$H136=3,Comanda!$C$15,IF(Comanda!$H136=4,Comanda!$C$16,0))))","v":0},{"$f":"IF(Comanda!I136=1,Comanda!$C$13,IF(Comanda!I136=2,Comanda!$C$14,IF(Comanda!$I136=3,Comanda!$C$15,IF(Comanda!$I136=4,Comanda!$C$16,0))))","v":0},{"$f":"IF(Comanda!J136=1,Comanda!$C$13,IF(Comanda!J136=2,Comanda!$C$14,IF(Comanda!$J136=3,Comanda!$C$15,IF(Comanda!$J136=4,Comanda!$C$16,0))))","v":0},{"$f":"IF(Comanda!K136=1,Comanda!$C$13,IF(Comanda!K136=2,Comanda!$C$14,IF(Comanda!$K136=3,Comanda!$C$15,IF(Comanda!$K136=4,Comanda!$C$16,0))))","v":0},{"$f":"IF(Comanda!B136<>0,Comanda!$C$2,\"\")","v":""},{"$f":"IF(Comanda!B136<>0,Comanda!$C$5,\"\")","v":""},{"$f":"IF(Comanda!B136<>0,Comanda!$G$2,\"\")","v":""},{"$f":"IF(Comanda!B136<>0,Comanda!L136,\"\")","v":""},{"$f":"IF(Comanda!D136<>0,VLOOKUP('Formula Cant'!F119,'Grafica Cant'!$G$2:$H$25,2,FALSE),\"\")","v":""},{"$nulls":8},{"$f":"IF(Comanda!B136<>0,Comanda!$C$9,\"\")","v":""},{"$f":"IF(Comanda!B136<>0,VLOOKUP(Comanda!$C$12,PRETURI!$A$2:$C$500,3,FALSE),\"\")","v":""},"",{"$f":"IF(H119<>0,VLOOKUP(H119,PRETURI!$D$2:$F$1093,3,FALSE),\"\")","v":""},{"v":0,"d":"0.00"},{"$f":"IF(I119<>0,VLOOKUP(I119,PRETURI!$D$2:$F$1093,3,FALSE),\"\")","v":""},{"v":0,"d":"0.00"},{"$f":"IF(J119<>0,VLOOKUP(J119,PRETURI!$D$2:$F$1093,3,FALSE),\"\")","v":""},{"v":0,"d":"0.00"},{"$f":"IF(K119<>0,VLOOKUP(K119,PRETURI!$D$2:$F$1093,3,FALSE),\"\")","v":""},{"v":0,"d":"0.00"},{"$nulls":6},{"$f":"(Comanda!D136*Comanda!E136*Comanda!F136)*0.000001","v":{"v":0,"d":"0.00"}},null,{"$f":"IF(Comanda!H136=1,(Comanda!D136*0.001+$BL$2)*Comanda!F136,\"\")","v":""},{"$f":"IF(Comanda!I136=1,(Comanda!D136*0.001+$BL$2)*Comanda!F136,\"\")","v":""},{"$f":"IF(Comanda!J136=1,(Comanda!E136*0.001+$BL$2)*Comanda!F136,\"\")","v":""},{"$f":"IF(Comanda!K136=1,(Comanda!E136*0.001+$BL$2)*Comanda!F136,\"\")","v":""},null,{"$f":"IF(Comanda!H136=2,(Comanda!D136*0.001+$BL$2)*Comanda!F136,\"\")","v":""},{"$f":"IF(Comanda!I136=2,(Comanda!D136*0.001+$BL$2)*Comanda!F136,\"\")","v":""},{"$f":"IF(Comanda!J136=2,(Comanda!E136*0.001+$BL$2)*Comanda!F136,\"\")","v":""},{"$f":"IF(Comanda!K136=2,(Comanda!E136*0.001+$BL$2)*Comanda!F136,\"\")","v":""},null,{"$f":"IF(Comanda!H136=3,(Comanda!D136*0.001+$BL$2)*Comanda!F136,\"\")","v":""},{"$f":"IF(Comanda!I136=3,(Comanda!D136*0.001+$BL$2)*Comanda!F136,\"\")","v":""},{"$f":"IF(Comanda!J136=3,(Comanda!E136*0.001+$BL$2)*Comanda!F136,\"\")","v":""},{"$f":"IF(Comanda!K136=3,(Comanda!E136*0.001+$BL$2)*Comanda!F136,\"\")","v":""},null,{"$f":"IF(Comanda!H136=4,(Comanda!D136*0.001+$BL$2)*Comanda!F136,\"\")","v":""},{"$f":"IF(Comanda!I136=4,(Comanda!D136*0.001+$BL$2)*Comanda!F136,\"\")","v":""},{"$f":"IF(Comanda!J136=4,(Comanda!E136*0.001+$BL$2)*Comanda!F136,\"\")","v":""},{"$f":"IF(Comanda!K136=4,(Comanda!E136*0.001+$BL$2)*Comanda!F136,\"\")","v":""}]
[118,{"$f":"IF(Comanda!B137<>0,Comanda!B137,\"\")","v":""},{"$f":"IF(Comanda!C137<>0,Comanda!C137,\"\")","v":""},{"$f":"IF(Comanda!D137<>0,Comanda!D137,\"\")","v":""},{"$f":"IF(Comanda!E137<>0,Comanda!E137,\"\")","v":""},{"$f":"IF(Comanda!F137<>0,Comanda!F137,\"\")","v":""},{"$f":"IF(Comanda!G137<>0,1,0)","v":0},{"$f":"IF(Comanda!H137=1,Comanda!$C$13,IF(Comanda!H137=2,Comanda!$C$14,IF(Comanda!$H137=3,Comanda!$C$15,IF(Comanda!$H137=4,Comanda!$C$16,0))))","v":0},{"$f":"IF(Comanda!I137=1,Comanda!$C$13,IF(Comanda!I137=2,Comanda!$C$14,IF(Comanda!$I137=3,Comanda!$C$15,IF(Comanda!$I137=4,Comanda!$C$16,0))))","v":0},{"$f":"IF(Comanda!J137=1,Comanda!$C$13,IF(Comanda!J137=2,Comanda!$C$14,IF(Comanda!$J137=3,Comanda!$C$15,IF(Comanda!$J137=4,Comanda!$C$16,0))))","v":0},{"$f":"IF(Comanda!K137=1,Comanda!$C$13,IF(Comanda!K137=2,Comanda!$C$14,IF(Comanda!$K137=3,Comanda!$C$15,IF(Comanda!$K137=4,Comanda!$C$16,0))))","v":0},{"$f":"IF(Comanda!B137<>0,Comanda!$C$2,\"\")","v":""},{"$f":"IF(Comanda!B137<>0,Comanda!$C$5,\"\")","v":""},{"$f":"IF(Comanda!B137<>0,Comanda!$G$2,\"\")","v":""},{"$f":"IF(Comanda!B137<>0,Comanda!L137,\"\")","v":""},{"$f":"IF(Comanda!D137<>0,VLOOKUP('Formula Cant'!F120,'Grafica Cant'!$G$2:$H$25,2,FALSE),\"\")","v":""},{"$nulls":8},{"$f":"IF(Comanda!B137<>0,Comanda!$C$9,\"\")","v":""},{"$f":"IF(Comanda!B137<>0,VLOOKUP(Comanda!$C$12,PRETURI!$A$2:$C$500,3,FALSE),\"\")","v":""},"",{"$f":"IF(H120<>0,VLOOKUP(H120,PRETURI!$D$2:$F$1093,3,FALSE),\"\")","v":""},{"v":0,"d":"0.00"},{"$f":"IF(I120<>0,VLOOKUP(I120,PRETURI!$D$2:$F$1093,3,FALSE),\"\")","v":""},{"v":0,"d":"0.00"},{"$f":"IF(J120<>0,VLOOKUP(J120,PRETURI!$D$2:$F$1093,3,FALSE),\"\")","v":""},{"v":0,"d":"0.00"},{"$f":"IF(K120<>0,VLOOKUP(K120,PRETURI!$D$2:$F$1093,3,FALSE),\"\")","v":""},{"v":0,"d":"0.00"},{"$nulls":6},{"$f":"(Comanda!D137*Comanda!E137*Comanda!F137)*0.000001","v":{"v":0,"d":"0.00"}},null,{"$f":"IF(Comanda!H137=1,(Comanda!D137*0.001+$BL$2)*Comanda!F137,\"\")","v":""},{"$f":"IF(Comanda!I137=1,(Comanda!D137*0.001+$BL$2)*Comanda!F137,\"\")","v":""},{"$f":"IF(Comanda!J137=1,(Comanda!E137*0.001+$BL$2)*Comanda!F137,\"\")","v":""},{"$f":"IF(Comanda!K137=1,(Comanda!E137*0.001+$BL$2)*Comanda!F137,\"\")","v":""},null,{"$f":"IF(Comanda!H137=2,(Comanda!D137*0.001+$BL$2)*Comanda!F137,\"\")","v":""},{"$f":"IF(Comanda!I137=2,(Comanda!D137*0.001+$BL$2)*Comanda!F137,\"\")","v":""},{"$f":"IF(Comanda!J137=2,(Comanda!E137*0.001+$BL$2)*Comanda!F137,\"\")","v":""},{"$f":"IF(Comanda!K137=2,(Comanda!E137*0.001+$BL$2)*Comanda!F137,\"\")","v":""},null,{"$f":"IF(Comanda!H137=3,(Comanda!D137*0.001+$BL$2)*Comanda!F137,\"\")","v":""},{"$f":"IF(Comanda!I137=3,(Comanda!D137*0.001+$BL$2)*Comanda!F137,\"\")","v":""},{"$f":"IF(Comanda!J137=3,(Comanda!E137*0.001+$BL$2)*Comanda!F137,\"\")","v":""},{"$f":"IF(Comanda!K137=3,(Comanda!E137*0.001+$BL$2)*Comanda!F137,\"\")","v":""},null,{"$f":"IF(Comanda!H137=4,(Comanda!D137*0.001+$BL$2)*Comanda!F137,\"\")","v":""},{"$f":"IF(Comanda!I137=4,(Comanda!D137*0.001+$BL$2)*Comanda!F137,\"\")","v":""},{"$f":"IF(Comanda!J137=4,(Comanda!E137*0.001+$BL$2)*Comanda!F137,\"\")","v":""},{"$f":"IF(Comanda!K137=4,(Comanda!E137*0.001+$BL$2)*Comanda!F137,\"\")","v":""}]
[119,{"$f":"IF(Comanda!B138<>0,Comanda!B138,\"\")","v":""},{"$f":"IF(Comanda!C138<>0,Comanda!C138,\"\")","v":""},{"$f":"IF(Comanda!D138<>0,Comanda!D138,\"\")","v":""},{"$f":"IF(Comanda!E138<>0,Comanda!E138,\"\")","v":""},{"$f":"IF(Comanda!F138<>0,Comanda!F138,\"\")","v":""},{"$f":"IF(Comanda!G138<>0,1,0)","v":0},{"$f":"IF(Comanda!H138=1,Comanda!$C$13,IF(Comanda!H138=2,Comanda!$C$14,IF(Comanda!$H138=3,Comanda!$C$15,IF(Comanda!$H138=4,Comanda!$C$16,0))))","v":0},{"$f":"IF(Comanda!I138=1,Comanda!$C$13,IF(Comanda!I138=2,Comanda!$C$14,IF(Comanda!$I138=3,Comanda!$C$15,IF(Comanda!$I138=4,Comanda!$C$16,0))))","v":0},{"$f":"IF(Comanda!J138=1,Comanda!$C$13,IF(Comanda!J138=2,Comanda!$C$14,IF(Comanda!$J138=3,Comanda!$C$15,IF(Comanda!$J138=4,Comanda!$C$16,0))))","v":0},{"$f":"IF(Comanda!K138=1,Comanda!$C$13,IF(Comanda!K138=2,Comanda!$C$14,IF(Comanda!$K138=3,Comanda!$C$15,IF(Comanda!$K138=4,Comanda!$C$16,0))))","v":0},{"$f":"IF(Comanda!B138<>0,Comanda!$C$2,\"\")","v":""},{"$f":"IF(Comanda!B138<>0,Comanda!$C$5,\"\")","v":""},{"$f":"IF(Comanda!B138<>0,Comanda!$G$2,\"\")","v":""},{"$f":"IF(Comanda!B138<>0,Comanda!L138,\"\")","v":""},{"$f":"IF(Comanda!D138<>0,VLOOKUP('Formula Cant'!F121,'Grafica Cant'!$G$2:$H$25,2,FALSE),\"\")","v":""},{"$nulls":8},{"$f":"IF(Comanda!B138<>0,Comanda!$C$9,\"\")","v":""},{"$f":"IF(Comanda!B138<>0,VLOOKUP(Comanda!$C$12,PRETURI!$A$2:$C$500,3,FALSE),\"\")","v":""},"",{"$f":"IF(H121<>0,VLOOKUP(H121,PRETURI!$D$2:$F$1093,3,FALSE),\"\")","v":""},{"v":0,"d":"0.00"},{"$f":"IF(I121<>0,VLOOKUP(I121,PRETURI!$D$2:$F$1093,3,FALSE),\"\")","v":""},{"v":0,"d":"0.00"},{"$f":"IF(J121<>0,VLOOKUP(J121,PRETURI!$D$2:$F$1093,3,FALSE),\"\")","v":""},{"v":0,"d":"0.00"},{"$f":"IF(K121<>0,VLOOKUP(K121,PRETURI!$D$2:$F$1093,3,FALSE),\"\")","v":""},{"v":0,"d":"0.00"},{"$nulls":6},{"$f":"(Comanda!D138*Comanda!E138*Comanda!F138)*0.000001","v":{"v":0,"d":"0.00"}},null,{"$f":"IF(Comanda!H138=1,(Comanda!D138*0.001+$BL$2)*Comanda!F138,\"\")","v":""},{"$f":"IF(Comanda!I138=1,(Comanda!D138*0.001+$BL$2)*Comanda!F138,\"\")","v":""},{"$f":"IF(Comanda!J138=1,(Comanda!E138*0.001+$BL$2)*Comanda!F138,\"\")","v":""},{"$f":"IF(Comanda!K138=1,(Comanda!E138*0.001+$BL$2)*Comanda!F138,\"\")","v":""},null,{"$f":"IF(Comanda!H138=2,(Comanda!D138*0.001+$BL$2)*Comanda!F138,\"\")","v":""},{"$f":"IF(Comanda!I138=2,(Comanda!D138*0.001+$BL$2)*Comanda!F138,\"\")","v":""},{"$f":"IF(Comanda!J138=2,(Comanda!E138*0.001+$BL$2)*Comanda!F138,\"\")","v":""},{"$f":"IF(Comanda!K138=2,(Comanda!E138*0.001+$BL$2)*Comanda!F138,\"\")","v":""},null,{"$f":"IF(Comanda!H138=3,(Comanda!D138*0.001+$BL$2)*Comanda!F138,\"\")","v":""},{"$f":"IF(Comanda!I138=3,(Comanda!D138*0.001+$BL$2)*Comanda!F138,\"\")","v":""},{"$f":"IF(Comanda!J138=3,(Comanda!E138*0.001+$BL$2)*Comanda!F138,\"\")","v":""},{"$f":"IF(Comanda!K138=3,(Comanda!E138*0.001+$BL$2)*Comanda!F138,\"\")","v":""},null,{"$f":"IF(Comanda!H138=4,(Comanda!D138*0.001+$BL$2)*Comanda!F138,\"\")","v":""},{"$f":"IF(Comanda!I138=4,(Comanda!D138*0.001+$BL$2)*Comanda!F138,\"\")","v":""},{"$f":"IF(Comanda!J138=4,(Comanda!E138*0.001+$BL$2)*Comanda!F138,\"\")","v":""},{"$f":"IF(Comanda!K138=4,(Comanda!E138*0.001+$BL$2)*Comanda!F138,\"\")","v":""}]
[120,{"$f":"IF(Comanda!B139<>0,Comanda!B139,\"\")","v":""},{"$f":"IF(Comanda!C139<>0,Comanda!C139,\"\")","v":""},{"$f":"IF(Comanda!D139<>0,Comanda!D139,\"\")","v":""},{"$f":"IF(Comanda!E139<>0,Comanda!E139,\"\")","v":""},{"$f":"IF(Comanda!F139<>0,Comanda!F139,\"\")","v":""},{"$f":"IF(Comanda!G139<>0,1,0)","v":0},{"$f":"IF(Comanda!H139=1,Comanda!$C$13,IF(Comanda!H139=2,Comanda!$C$14,IF(Comanda!$H139=3,Comanda!$C$15,IF(Comanda!$H139=4,Comanda!$C$16,0))))","v":0},{"$f":"IF(Comanda!I139=1,Comanda!$C$13,IF(Comanda!I139=2,Comanda!$C$14,IF(Comanda!$I139=3,Comanda!$C$15,IF(Comanda!$I139=4,Comanda!$C$16,0))))","v":0},{"$f":"IF(Comanda!J139=1,Comanda!$C$13,IF(Comanda!J139=2,Comanda!$C$14,IF(Comanda!$J139=3,Comanda!$C$15,IF(Comanda!$J139=4,Comanda!$C$16,0))))","v":0},{"$f":"IF(Comanda!K139=1,Comanda!$C$13,IF(Comanda!K139=2,Comanda!$C$14,IF(Comanda!$K139=3,Comanda!$C$15,IF(Comanda!$K139=4,Comanda!$C$16,0))))","v":0},{"$f":"IF(Comanda!B139<>0,Comanda!$C$2,\"\")","v":""},{"$f":"IF(Comanda!B139<>0,Comanda!$C$5,\"\")","v":""},{"$f":"IF(Comanda!B139<>0,Comanda!$G$2,\"\")","v":""},{"$f":"IF(Comanda!B139<>0,Comanda!L139,\"\")","v":""},{"$f":"IF(Comanda!D139<>0,VLOOKUP('Formula Cant'!F122,'Grafica Cant'!$G$2:$H$25,2,FALSE),\"\")","v":""},{"$nulls":8},{"$f":"IF(Comanda!B139<>0,Comanda!$C$9,\"\")","v":""},{"$f":"IF(Comanda!B139<>0,VLOOKUP(Comanda!$C$12,PRETURI!$A$2:$C$500,3,FALSE),\"\")","v":""},"",{"$f":"IF(H122<>0,VLOOKUP(H122,PRETURI!$D$2:$F$1093,3,FALSE),\"\")","v":""},{"v":0,"d":"0.00"},{"$f":"IF(I122<>0,VLOOKUP(I122,PRETURI!$D$2:$F$1093,3,FALSE),\"\")","v":""},{"v":0,"d":"0.00"},{"$f":"IF(J122<>0,VLOOKUP(J122,PRETURI!$D$2:$F$1093,3,FALSE),\"\")","v":""},{"v":0,"d":"0.00"},{"$f":"IF(K122<>0,VLOOKUP(K122,PRETURI!$D$2:$F$1093,3,FALSE),\"\")","v":""},{"v":0,"d":"0.00"},{"$nulls":6},{"$f":"(Comanda!D139*Comanda!E139*Comanda!F139)*0.000001","v":{"v":0,"d":"0.00"}},null,{"$f":"IF(Comanda!H139=1,(Comanda!D139*0.001+$BL$2)*Comanda!F139,\"\")","v":""},{"$f":"IF(Comanda!I139=1,(Comanda!D139*0.001+$BL$2)*Comanda!F139,\"\")","v":""},{"$f":"IF(Comanda!J139=1,(Comanda!E139*0.001+$BL$2)*Comanda!F139,\"\")","v":""},{"$f":"IF(Comanda!K139=1,(Comanda!E139*0.001+$BL$2)*Comanda!F139,\"\")","v":""},null,{"$f":"IF(Comanda!H139=2,(Comanda!D139*0.001+$BL$2)*Comanda!F139,\"\")","v":""},{"$f":"IF(Comanda!I139=2,(Comanda!D139*0.001+$BL$2)*Comanda!F139,\"\")","v":""},{"$f":"IF(Comanda!J139=2,(Comanda!E139*0.001+$BL$2)*Comanda!F139,\"\")","v":""},{"$f":"IF(Comanda!K139=2,(Comanda!E139*0.001+$BL$2)*Comanda!F139,\"\")","v":""},null,{"$f":"IF(Comanda!H139=3,(Comanda!D139*0.001+$BL$2)*Comanda!F139,\"\")","v":""},{"$f":"IF(Comanda!I139=3,(Comanda!D139*0.001+$BL$2)*Comanda!F139,\"\")","v":""},{"$f":"IF(Comanda!J139=3,(Comanda!E139*0.001+$BL$2)*Comanda!F139,\"\")","v":""},{"$f":"IF(Comanda!K139=3,(Comanda!E139*0.001+$BL$2)*Comanda!F139,\"\")","v":""},null,{"$f":"IF(Comanda!H139=4,(Comanda!D139*0.001+$BL$2)*Comanda!F139,\"\")","v":""},{"$f":"IF(Comanda!I139=4,(Comanda!D139*0.001+$BL$2)*Comanda!F139,\"\")","v":""},{"$f":"IF(Comanda!J139=4,(Comanda!E139*0.001+$BL$2)*Comanda!F139,\"\")","v":""},{"$f":"IF(Comanda!K139=4,(Comanda!E139*0.001+$BL$2)*Comanda!F139,\"\")","v":""}]
[121,{"$f":"IF(Comanda!B140<>0,Comanda!B140,\"\")","v":""},{"$f":"IF(Comanda!C140<>0,Comanda!C140,\"\")","v":""},{"$f":"IF(Comanda!D140<>0,Comanda!D140,\"\")","v":""},{"$f":"IF(Comanda!E140<>0,Comanda!E140,\"\")","v":""},{"$f":"IF(Comanda!F140<>0,Comanda!F140,\"\")","v":""},{"$f":"IF(Comanda!G140<>0,1,0)","v":0},{"$f":"IF(Comanda!H140=1,Comanda!$C$13,IF(Comanda!H140=2,Comanda!$C$14,IF(Comanda!$H140=3,Comanda!$C$15,IF(Comanda!$H140=4,Comanda!$C$16,0))))","v":0},{"$f":"IF(Comanda!I140=1,Comanda!$C$13,IF(Comanda!I140=2,Comanda!$C$14,IF(Comanda!$I140=3,Comanda!$C$15,IF(Comanda!$I140=4,Comanda!$C$16,0))))","v":0},{"$f":"IF(Comanda!J140=1,Comanda!$C$13,IF(Comanda!J140=2,Comanda!$C$14,IF(Comanda!$J140=3,Comanda!$C$15,IF(Comanda!$J140=4,Comanda!$C$16,0))))","v":0},{"$f":"IF(Comanda!K140=1,Comanda!$C$13,IF(Comanda!K140=2,Comanda!$C$14,IF(Comanda!$K140=3,Comanda!$C$15,IF(Comanda!$K140=4,Comanda!$C$16,0))))","v":0},{"$f":"IF(Comanda!B140<>0,Comanda!$C$2,\"\")","v":""},{"$f":"IF(Comanda!B140<>0,Comanda!$C$5,\"\")","v":""},{"$f":"IF(Comanda!B140<>0,Comanda!$G$2,\"\")","v":""},{"$f":"IF(Comanda!B140<>0,Comanda!L140,\"\")","v":""},{"$f":"IF(Comanda!D140<>0,VLOOKUP('Formula Cant'!F123,'Grafica Cant'!$G$2:$H$25,2,FALSE),\"\")","v":""},{"$nulls":8},{"$f":"IF(Comanda!B140<>0,Comanda!$C$9,\"\")","v":""},{"$f":"IF(Comanda!B140<>0,VLOOKUP(Comanda!$C$12,PRETURI!$A$2:$C$500,3,FALSE),\"\")","v":""},"",{"$f":"IF(H123<>0,VLOOKUP(H123,PRETURI!$D$2:$F$1093,3,FALSE),\"\")","v":""},{"v":0,"d":"0.00"},{"$f":"IF(I123<>0,VLOOKUP(I123,PRETURI!$D$2:$F$1093,3,FALSE),\"\")","v":""},{"v":0,"d":"0.00"},{"$f":"IF(J123<>0,VLOOKUP(J123,PRETURI!$D$2:$F$1093,3,FALSE),\"\")","v":""},{"v":0,"d":"0.00"},{"$f":"IF(K123<>0,VLOOKUP(K123,PRETURI!$D$2:$F$1093,3,FALSE),\"\")","v":""},{"v":0,"d":"0.00"},{"$nulls":6},{"$f":"(Comanda!D140*Comanda!E140*Comanda!F140)*0.000001","v":{"v":0,"d":"0.00"}},null,{"$f":"IF(Comanda!H140=1,(Comanda!D140*0.001+$BL$2)*Comanda!F140,\"\")","v":""},{"$f":"IF(Comanda!I140=1,(Comanda!D140*0.001+$BL$2)*Comanda!F140,\"\")","v":""},{"$f":"IF(Comanda!J140=1,(Comanda!E140*0.001+$BL$2)*Comanda!F140,\"\")","v":""},{"$f":"IF(Comanda!K140=1,(Comanda!E140*0.001+$BL$2)*Comanda!F140,\"\")","v":""},null,{"$f":"IF(Comanda!H140=2,(Comanda!D140*0.001+$BL$2)*Comanda!F140,\"\")","v":""},{"$f":"IF(Comanda!I140=2,(Comanda!D140*0.001+$BL$2)*Comanda!F140,\"\")","v":""},{"$f":"IF(Comanda!J140=2,(Comanda!E140*0.001+$BL$2)*Comanda!F140,\"\")","v":""},{"$f":"IF(Comanda!K140=2,(Comanda!E140*0.001+$BL$2)*Comanda!F140,\"\")","v":""},null,{"$f":"IF(Comanda!H140=3,(Comanda!D140*0.001+$BL$2)*Comanda!F140,\"\")","v":""},{"$f":"IF(Comanda!I140=3,(Comanda!D140*0.001+$BL$2)*Comanda!F140,\"\")","v":""},{"$f":"IF(Comanda!J140=3,(Comanda!E140*0.001+$BL$2)*Comanda!F140,\"\")","v":""},{"$f":"IF(Comanda!K140=3,(Comanda!E140*0.001+$BL$2)*Comanda!F140,\"\")","v":""},null,{"$f":"IF(Comanda!H140=4,(Comanda!D140*0.001+$BL$2)*Comanda!F140,\"\")","v":""},{"$f":"IF(Comanda!I140=4,(Comanda!D140*0.001+$BL$2)*Comanda!F140,\"\")","v":""},{"$f":"IF(Comanda!J140=4,(Comanda!E140*0.001+$BL$2)*Comanda!F140,\"\")","v":""},{"$f":"IF(Comanda!K140=4,(Comanda!E140*0.001+$BL$2)*Comanda!F140,\"\")","v":""}]
[122,{"$f":"IF(Comanda!B141<>0,Comanda!B141,\"\")","v":""},{"$f":"IF(Comanda!C141<>0,Comanda!C141,\"\")","v":""},{"$f":"IF(Comanda!D141<>0,Comanda!D141,\"\")","v":""},{"$f":"IF(Comanda!E141<>0,Comanda!E141,\"\")","v":""},{"$f":"IF(Comanda!F141<>0,Comanda!F141,\"\")","v":""},{"$f":"IF(Comanda!G141<>0,1,0)","v":0},{"$f":"IF(Comanda!H141=1,Comanda!$C$13,IF(Comanda!H141=2,Comanda!$C$14,IF(Comanda!$H141=3,Comanda!$C$15,IF(Comanda!$H141=4,Comanda!$C$16,0))))","v":0},{"$f":"IF(Comanda!I141=1,Comanda!$C$13,IF(Comanda!I141=2,Comanda!$C$14,IF(Comanda!$I141=3,Comanda!$C$15,IF(Comanda!$I141=4,Comanda!$C$16,0))))","v":0},{"$f":"IF(Comanda!J141=1,Comanda!$C$13,IF(Comanda!J141=2,Comanda!$C$14,IF(Comanda!$J141=3,Comanda!$C$15,IF(Comanda!$J141=4,Comanda!$C$16,0))))","v":0},{"$f":"IF(Comanda!K141=1,Comanda!$C$13,IF(Comanda!K141=2,Comanda!$C$14,IF(Comanda!$K141=3,Comanda!$C$15,IF(Comanda!$K141=4,Comanda!$C$16,0))))","v":0},{"$f":"IF(Comanda!B141<>0,Comanda!$C$2,\"\")","v":""},{"$f":"IF(Comanda!B141<>0,Comanda!$C$5,\"\")","v":""},{"$f":"IF(Comanda!B141<>0,Comanda!$G$2,\"\")","v":""},{"$f":"IF(Comanda!B141<>0,Comanda!L141,\"\")","v":""},{"$f":"IF(Comanda!D141<>0,VLOOKUP('Formula Cant'!F124,'Grafica Cant'!$G$2:$H$25,2,FALSE),\"\")","v":""},{"$nulls":8},{"$f":"IF(Comanda!B141<>0,Comanda!$C$9,\"\")","v":""},{"$f":"IF(Comanda!B141<>0,VLOOKUP(Comanda!$C$12,PRETURI!$A$2:$C$500,3,FALSE),\"\")","v":""},"",{"$f":"IF(H124<>0,VLOOKUP(H124,PRETURI!$D$2:$F$1093,3,FALSE),\"\")","v":""},{"v":0,"d":"0.00"},{"$f":"IF(I124<>0,VLOOKUP(I124,PRETURI!$D$2:$F$1093,3,FALSE),\"\")","v":""},{"v":0,"d":"0.00"},{"$f":"IF(J124<>0,VLOOKUP(J124,PRETURI!$D$2:$F$1093,3,FALSE),\"\")","v":""},{"v":0,"d":"0.00"},{"$f":"IF(K124<>0,VLOOKUP(K124,PRETURI!$D$2:$F$1093,3,FALSE),\"\")","v":""},{"v":0,"d":"0.00"},{"$nulls":6},{"$f":"(Comanda!D141*Comanda!E141*Comanda!F141)*0.000001","v":{"v":0,"d":"0.00"}},null,{"$f":"IF(Comanda!H141=1,(Comanda!D141*0.001+$BL$2)*Comanda!F141,\"\")","v":""},{"$f":"IF(Comanda!I141=1,(Comanda!D141*0.001+$BL$2)*Comanda!F141,\"\")","v":""},{"$f":"IF(Comanda!J141=1,(Comanda!E141*0.001+$BL$2)*Comanda!F141,\"\")","v":""},{"$f":"IF(Comanda!K141=1,(Comanda!E141*0.001+$BL$2)*Comanda!F141,\"\")","v":""},null,{"$f":"IF(Comanda!H141=2,(Comanda!D141*0.001+$BL$2)*Comanda!F141,\"\")","v":""},{"$f":"IF(Comanda!I141=2,(Comanda!D141*0.001+$BL$2)*Comanda!F141,\"\")","v":""},{"$f":"IF(Comanda!J141=2,(Comanda!E141*0.001+$BL$2)*Comanda!F141,\"\")","v":""},{"$f":"IF(Comanda!K141=2,(Comanda!E141*0.001+$BL$2)*Comanda!F141,\"\")","v":""},null,{"$f":"IF(Comanda!H141=3,(Comanda!D141*0.001+$BL$2)*Comanda!F141,\"\")","v":""},{"$f":"IF(Comanda!I141=3,(Comanda!D141*0.001+$BL$2)*Comanda!F141,\"\")","v":""},{"$f":"IF(Comanda!J141=3,(Comanda!E141*0.001+$BL$2)*Comanda!F141,\"\")","v":""},{"$f":"IF(Comanda!K141=3,(Comanda!E141*0.001+$BL$2)*Comanda!F141,\"\")","v":""},null,{"$f":"IF(Comanda!H141=4,(Comanda!D141*0.001+$BL$2)*Comanda!F141,\"\")","v":""},{"$f":"IF(Comanda!I141=4,(Comanda!D141*0.001+$BL$2)*Comanda!F141,\"\")","v":""},{"$f":"IF(Comanda!J141=4,(Comanda!E141*0.001+$BL$2)*Comanda!F141,\"\")","v":""},{"$f":"IF(Comanda!K141=4,(Comanda!E141*0.001+$BL$2)*Comanda!F141,\"\")","v":""}]
[123,{"$f":"IF(Comanda!B142<>0,Comanda!B142,\"\")","v":""},{"$f":"IF(Comanda!C142<>0,Comanda!C142,\"\")","v":""},{"$f":"IF(Comanda!D142<>0,Comanda!D142,\"\")","v":""},{"$f":"IF(Comanda!E142<>0,Comanda!E142,\"\")","v":""},{"$f":"IF(Comanda!F142<>0,Comanda!F142,\"\")","v":""},{"$f":"IF(Comanda!G142<>0,1,0)","v":0},{"$f":"IF(Comanda!H142=1,Comanda!$C$13,IF(Comanda!H142=2,Comanda!$C$14,IF(Comanda!$H142=3,Comanda!$C$15,IF(Comanda!$H142=4,Comanda!$C$16,0))))","v":0},{"$f":"IF(Comanda!I142=1,Comanda!$C$13,IF(Comanda!I142=2,Comanda!$C$14,IF(Comanda!$I142=3,Comanda!$C$15,IF(Comanda!$I142=4,Comanda!$C$16,0))))","v":0},{"$f":"IF(Comanda!J142=1,Comanda!$C$13,IF(Comanda!J142=2,Comanda!$C$14,IF(Comanda!$J142=3,Comanda!$C$15,IF(Comanda!$J142=4,Comanda!$C$16,0))))","v":0},{"$f":"IF(Comanda!K142=1,Comanda!$C$13,IF(Comanda!K142=2,Comanda!$C$14,IF(Comanda!$K142=3,Comanda!$C$15,IF(Comanda!$K142=4,Comanda!$C$16,0))))","v":0},{"$f":"IF(Comanda!B142<>0,Comanda!$C$2,\"\")","v":""},{"$f":"IF(Comanda!B142<>0,Comanda!$C$5,\"\")","v":""},{"$f":"IF(Comanda!B142<>0,Comanda!$G$2,\"\")","v":""},{"$f":"IF(Comanda!B142<>0,Comanda!L142,\"\")","v":""},{"$f":"IF(Comanda!D142<>0,VLOOKUP('Formula Cant'!F125,'Grafica Cant'!$G$2:$H$25,2,FALSE),\"\")","v":""},{"$nulls":8},{"$f":"IF(Comanda!B142<>0,Comanda!$C$9,\"\")","v":""},{"$f":"IF(Comanda!B142<>0,VLOOKUP(Comanda!$C$12,PRETURI!$A$2:$C$500,3,FALSE),\"\")","v":""},"",{"$f":"IF(H125<>0,VLOOKUP(H125,PRETURI!$D$2:$F$1093,3,FALSE),\"\")","v":""},{"v":0,"d":"0.00"},{"$f":"IF(I125<>0,VLOOKUP(I125,PRETURI!$D$2:$F$1093,3,FALSE),\"\")","v":""},{"v":0,"d":"0.00"},{"$f":"IF(J125<>0,VLOOKUP(J125,PRETURI!$D$2:$F$1093,3,FALSE),\"\")","v":""},{"v":0,"d":"0.00"},{"$f":"IF(K125<>0,VLOOKUP(K125,PRETURI!$D$2:$F$1093,3,FALSE),\"\")","v":""},{"v":0,"d":"0.00"},{"$nulls":6},{"$f":"(Comanda!D142*Comanda!E142*Comanda!F142)*0.000001","v":{"v":0,"d":"0.00"}},null,{"$f":"IF(Comanda!H142=1,(Comanda!D142*0.001+$BL$2)*Comanda!F142,\"\")","v":""},{"$f":"IF(Comanda!I142=1,(Comanda!D142*0.001+$BL$2)*Comanda!F142,\"\")","v":""},{"$f":"IF(Comanda!J142=1,(Comanda!E142*0.001+$BL$2)*Comanda!F142,\"\")","v":""},{"$f":"IF(Comanda!K142=1,(Comanda!E142*0.001+$BL$2)*Comanda!F142,\"\")","v":""},null,{"$f":"IF(Comanda!H142=2,(Comanda!D142*0.001+$BL$2)*Comanda!F142,\"\")","v":""},{"$f":"IF(Comanda!I142=2,(Comanda!D142*0.001+$BL$2)*Comanda!F142,\"\")","v":""},{"$f":"IF(Comanda!J142=2,(Comanda!E142*0.001+$BL$2)*Comanda!F142,\"\")","v":""},{"$f":"IF(Comanda!K142=2,(Comanda!E142*0.001+$BL$2)*Comanda!F142,\"\")","v":""},null,{"$f":"IF(Comanda!H142=3,(Comanda!D142*0.001+$BL$2)*Comanda!F142,\"\")","v":""},{"$f":"IF(Comanda!I142=3,(Comanda!D142*0.001+$BL$2)*Comanda!F142,\"\")","v":""},{"$f":"IF(Comanda!J142=3,(Comanda!E142*0.001+$BL$2)*Comanda!F142,\"\")","v":""},{"$f":"IF(Comanda!K142=3,(Comanda!E142*0.001+$BL$2)*Comanda!F142,\"\")","v":""},null,{"$f":"IF(Comanda!H142=4,(Comanda!D142*0.001+$BL$2)*Comanda!F142,\"\")","v":""},{"$f":"IF(Comanda!I142=4,(Comanda!D142*0.001+$BL$2)*Comanda!F142,\"\")","v":""},{"$f":"IF(Comanda!J142=4,(Comanda!E142*0.001+$BL$2)*Comanda!F142,\"\")","v":""},{"$f":"IF(Comanda!K142=4,(Comanda!E142*0.001+$BL$2)*Comanda!F142,\"\")","v":""}]
[124,{"$f":"IF(Comanda!B143<>0,Comanda!B143,\"\")","v":""},{"$f":"IF(Comanda!C143<>0,Comanda!C143,\"\")","v":""},{"$f":"IF(Comanda!D143<>0,Comanda!D143,\"\")","v":""},{"$f":"IF(Comanda!E143<>0,Comanda!E143,\"\")","v":""},{"$f":"IF(Comanda!F143<>0,Comanda!F143,\"\")","v":""},{"$f":"IF(Comanda!G143<>0,1,0)","v":0},{"$f":"IF(Comanda!H143=1,Comanda!$C$13,IF(Comanda!H143=2,Comanda!$C$14,IF(Comanda!$H143=3,Comanda!$C$15,IF(Comanda!$H143=4,Comanda!$C$16,0))))","v":0},{"$f":"IF(Comanda!I143=1,Comanda!$C$13,IF(Comanda!I143=2,Comanda!$C$14,IF(Comanda!$I143=3,Comanda!$C$15,IF(Comanda!$I143=4,Comanda!$C$16,0))))","v":0},{"$f":"IF(Comanda!J143=1,Comanda!$C$13,IF(Comanda!J143=2,Comanda!$C$14,IF(Comanda!$J143=3,Comanda!$C$15,IF(Comanda!$J143=4,Comanda!$C$16,0))))","v":0},{"$f":"IF(Comanda!K143=1,Comanda!$C$13,IF(Comanda!K143=2,Comanda!$C$14,IF(Comanda!$K143=3,Comanda!$C$15,IF(Comanda!$K143=4,Comanda!$C$16,0))))","v":0},{"$f":"IF(Comanda!B143<>0,Comanda!$C$2,\"\")","v":""},{"$f":"IF(Comanda!B143<>0,Comanda!$C$5,\"\")","v":""},{"$f":"IF(Comanda!B143<>0,Comanda!$G$2,\"\")","v":""},{"$f":"IF(Comanda!B143<>0,Comanda!L143,\"\")","v":""},{"$f":"IF(Comanda!D143<>0,VLOOKUP('Formula Cant'!F126,'Grafica Cant'!$G$2:$H$25,2,FALSE),\"\")","v":""},{"$nulls":8},{"$f":"IF(Comanda!B143<>0,Comanda!$C$9,\"\")","v":""},{"$f":"IF(Comanda!B143<>0,VLOOKUP(Comanda!$C$12,PRETURI!$A$2:$C$500,3,FALSE),\"\")","v":""},"",{"$f":"IF(H126<>0,VLOOKUP(H126,PRETURI!$D$2:$F$1093,3,FALSE),\"\")","v":""},{"v":0,"d":"0.00"},{"$f":"IF(I126<>0,VLOOKUP(I126,PRETURI!$D$2:$F$1093,3,FALSE),\"\")","v":""},{"v":0,"d":"0.00"},{"$f":"IF(J126<>0,VLOOKUP(J126,PRETURI!$D$2:$F$1093,3,FALSE),\"\")","v":""},{"v":0,"d":"0.00"},{"$f":"IF(K126<>0,VLOOKUP(K126,PRETURI!$D$2:$F$1093,3,FALSE),\"\")","v":""},{"v":0,"d":"0.00"},{"$nulls":6},{"$f":"(Comanda!D143*Comanda!E143*Comanda!F143)*0.000001","v":{"v":0,"d":"0.00"}},null,{"$f":"IF(Comanda!H143=1,(Comanda!D143*0.001+$BL$2)*Comanda!F143,\"\")","v":""},{"$f":"IF(Comanda!I143=1,(Comanda!D143*0.001+$BL$2)*Comanda!F143,\"\")","v":""},{"$f":"IF(Comanda!J143=1,(Comanda!E143*0.001+$BL$2)*Comanda!F143,\"\")","v":""},{"$f":"IF(Comanda!K143=1,(Comanda!E143*0.001+$BL$2)*Comanda!F143,\"\")","v":""},null,{"$f":"IF(Comanda!H143=2,(Comanda!D143*0.001+$BL$2)*Comanda!F143,\"\")","v":""},{"$f":"IF(Comanda!I143=2,(Comanda!D143*0.001+$BL$2)*Comanda!F143,\"\")","v":""},{"$f":"IF(Comanda!J143=2,(Comanda!E143*0.001+$BL$2)*Comanda!F143,\"\")","v":""},{"$f":"IF(Comanda!K143=2,(Comanda!E143*0.001+$BL$2)*Comanda!F143,\"\")","v":""},null,{"$f":"IF(Comanda!H143=3,(Comanda!D143*0.001+$BL$2)*Comanda!F143,\"\")","v":""},{"$f":"IF(Comanda!I143=3,(Comanda!D143*0.001+$BL$2)*Comanda!F143,\"\")","v":""},{"$f":"IF(Comanda!J143=3,(Comanda!E143*0.001+$BL$2)*Comanda!F143,\"\")","v":""},{"$f":"IF(Comanda!K143=3,(Comanda!E143*0.001+$BL$2)*Comanda!F143,\"\")","v":""},null,{"$f":"IF(Comanda!H143=4,(Comanda!D143*0.001+$BL$2)*Comanda!F143,\"\")","v":""},{"$f":"IF(Comanda!I143=4,(Comanda!D143*0.001+$BL$2)*Comanda!F143,\"\")","v":""},{"$f":"IF(Comanda!J143=4,(Comanda!E143*0.001+$BL$2)*Comanda!F143,\"\")","v":""},{"$f":"IF(Comanda!K143=4,(Comanda!E143*0.001+$BL$2)*Comanda!F143,\"\")","v":""}]
[125,{"$f":"IF(Comanda!B144<>0,Comanda!B144,\"\")","v":""},{"$f":"IF(Comanda!C144<>0,Comanda!C144,\"\")","v":""},{"$f":"IF(Comanda!D144<>0,Comanda!D144,\"\")","v":""},{"$f":"IF(Comanda!E144<>0,Comanda!E144,\"\")","v":""},{"$f":"IF(Comanda!F144<>0,Comanda!F144,\"\")","v":""},{"$f":"IF(Comanda!G144<>0,1,0)","v":0},{"$f":"IF(Comanda!H144=1,Comanda!$C$13,IF(Comanda!H144=2,Comanda!$C$14,IF(Comanda!$H144=3,Comanda!$C$15,IF(Comanda!$H144=4,Comanda!$C$16,0))))","v":0},{"$f":"IF(Comanda!I144=1,Comanda!$C$13,IF(Comanda!I144=2,Comanda!$C$14,IF(Comanda!$I144=3,Comanda!$C$15,IF(Comanda!$I144=4,Comanda!$C$16,0))))","v":0},{"$f":"IF(Comanda!J144=1,Comanda!$C$13,IF(Comanda!J144=2,Comanda!$C$14,IF(Comanda!$J144=3,Comanda!$C$15,IF(Comanda!$J144=4,Comanda!$C$16,0))))","v":0},{"$f":"IF(Comanda!K144=1,Comanda!$C$13,IF(Comanda!K144=2,Comanda!$C$14,IF(Comanda!$K144=3,Comanda!$C$15,IF(Comanda!$K144=4,Comanda!$C$16,0))))","v":0},{"$f":"IF(Comanda!B144<>0,Comanda!$C$2,\"\")","v":""},{"$f":"IF(Comanda!B144<>0,Comanda!$C$5,\"\")","v":""},{"$f":"IF(Comanda!B144<>0,Comanda!$G$2,\"\")","v":""},{"$f":"IF(Comanda!B144<>0,Comanda!L144,\"\")","v":""},{"$f":"IF(Comanda!D144<>0,VLOOKUP('Formula Cant'!F127,'Grafica Cant'!$G$2:$H$25,2,FALSE),\"\")","v":""},{"$nulls":8},{"$f":"IF(Comanda!B144<>0,Comanda!$C$9,\"\")","v":""},{"$f":"IF(Comanda!B144<>0,VLOOKUP(Comanda!$C$12,PRETURI!$A$2:$C$500,3,FALSE),\"\")","v":""},"",{"$f":"IF(H127<>0,VLOOKUP(H127,PRETURI!$D$2:$F$1093,3,FALSE),\"\")","v":""},{"v":0,"d":"0.00"},{"$f":"IF(I127<>0,VLOOKUP(I127,PRETURI!$D$2:$F$1093,3,FALSE),\"\")","v":""},{"v":0,"d":"0.00"},{"$f":"IF(J127<>0,VLOOKUP(J127,PRETURI!$D$2:$F$1093,3,FALSE),\"\")","v":""},{"v":0,"d":"0.00"},{"$f":"IF(K127<>0,VLOOKUP(K127,PRETURI!$D$2:$F$1093,3,FALSE),\"\")","v":""},{"v":0,"d":"0.00"},{"$nulls":6},{"$f":"(Comanda!D144*Comanda!E144*Comanda!F144)*0.000001","v":{"v":0,"d":"0.00"}},null,{"$f":"IF(Comanda!H144=1,(Comanda!D144*0.001+$BL$2)*Comanda!F144,\"\")","v":""},{"$f":"IF(Comanda!I144=1,(Comanda!D144*0.001+$BL$2)*Comanda!F144,\"\")","v":""},{"$f":"IF(Comanda!J144=1,(Comanda!E144*0.001+$BL$2)*Comanda!F144,\"\")","v":""},{"$f":"IF(Comanda!K144=1,(Comanda!E144*0.001+$BL$2)*Comanda!F144,\"\")","v":""},null,{"$f":"IF(Comanda!H144=2,(Comanda!D144*0.001+$BL$2)*Comanda!F144,\"\")","v":""},{"$f":"IF(Comanda!I144=2,(Comanda!D144*0.001+$BL$2)*Comanda!F144,\"\")","v":""},{"$f":"IF(Comanda!J144=2,(Comanda!E144*0.001+$BL$2)*Comanda!F144,\"\")","v":""},{"$f":"IF(Comanda!K144=2,(Comanda!E144*0.001+$BL$2)*Comanda!F144,\"\")","v":""},null,{"$f":"IF(Comanda!H144=3,(Comanda!D144*0.001+$BL$2)*Comanda!F144,\"\")","v":""},{"$f":"IF(Comanda!I144=3,(Comanda!D144*0.001+$BL$2)*Comanda!F144,\"\")","v":""},{"$f":"IF(Comanda!J144=3,(Comanda!E144*0.001+$BL$2)*Comanda!F144,\"\")","v":""},{"$f":"IF(Comanda!K144=3,(Comanda!E144*0.001+$BL$2)*Comanda!F144,\"\")","v":""},null,{"$f":"IF(Comanda!H144=4,(Comanda!D144*0.001+$BL$2)*Comanda!F144,\"\")","v":""},{"$f":"IF(Comanda!I144=4,(Comanda!D144*0.001+$BL$2)*Comanda!F144,\"\")","v":""},{"$f":"IF(Comanda!J144=4,(Comanda!E144*0.001+$BL$2)*Comanda!F144,\"\")","v":""},{"$f":"IF(Comanda!K144=4,(Comanda!E144*0.001+$BL$2)*Comanda!F144,\"\")","v":""}]
[126,{"$f":"IF(Comanda!B145<>0,Comanda!B145,\"\")","v":""},{"$f":"IF(Comanda!C145<>0,Comanda!C145,\"\")","v":""},{"$f":"IF(Comanda!D145<>0,Comanda!D145,\"\")","v":""},{"$f":"IF(Comanda!E145<>0,Comanda!E145,\"\")","v":""},{"$f":"IF(Comanda!F145<>0,Comanda!F145,\"\")","v":""},{"$f":"IF(Comanda!G145<>0,1,0)","v":0},{"$f":"IF(Comanda!H145=1,Comanda!$C$13,IF(Comanda!H145=2,Comanda!$C$14,IF(Comanda!$H145=3,Comanda!$C$15,IF(Comanda!$H145=4,Comanda!$C$16,0))))","v":0},{"$f":"IF(Comanda!I145=1,Comanda!$C$13,IF(Comanda!I145=2,Comanda!$C$14,IF(Comanda!$I145=3,Comanda!$C$15,IF(Comanda!$I145=4,Comanda!$C$16,0))))","v":0},{"$f":"IF(Comanda!J145=1,Comanda!$C$13,IF(Comanda!J145=2,Comanda!$C$14,IF(Comanda!$J145=3,Comanda!$C$15,IF(Comanda!$J145=4,Comanda!$C$16,0))))","v":0},{"$f":"IF(Comanda!K145=1,Comanda!$C$13,IF(Comanda!K145=2,Comanda!$C$14,IF(Comanda!$K145=3,Comanda!$C$15,IF(Comanda!$K145=4,Comanda!$C$16,0))))","v":0},{"$f":"IF(Comanda!B145<>0,Comanda!$C$2,\"\")","v":""},{"$f":"IF(Comanda!B145<>0,Comanda!$C$5,\"\")","v":""},{"$f":"IF(Comanda!B145<>0,Comanda!$G$2,\"\")","v":""},{"$f":"IF(Comanda!B145<>0,Comanda!L145,\"\")","v":""},{"$f":"IF(Comanda!D145<>0,VLOOKUP('Formula Cant'!F128,'Grafica Cant'!$G$2:$H$25,2,FALSE),\"\")","v":""},{"$nulls":8},{"$f":"IF(Comanda!B145<>0,Comanda!$C$9,\"\")","v":""},{"$f":"IF(Comanda!B145<>0,VLOOKUP(Comanda!$C$12,PRETURI!$A$2:$C$500,3,FALSE),\"\")","v":""},"",{"$f":"IF(H128<>0,VLOOKUP(H128,PRETURI!$D$2:$F$1093,3,FALSE),\"\")","v":""},{"v":0,"d":"0.00"},{"$f":"IF(I128<>0,VLOOKUP(I128,PRETURI!$D$2:$F$1093,3,FALSE),\"\")","v":""},{"v":0,"d":"0.00"},{"$f":"IF(J128<>0,VLOOKUP(J128,PRETURI!$D$2:$F$1093,3,FALSE),\"\")","v":""},{"v":0,"d":"0.00"},{"$f":"IF(K128<>0,VLOOKUP(K128,PRETURI!$D$2:$F$1093,3,FALSE),\"\")","v":""},{"v":0,"d":"0.00"},{"$nulls":6},{"$f":"(Comanda!D145*Comanda!E145*Comanda!F145)*0.000001","v":{"v":0,"d":"0.00"}},null,{"$f":"IF(Comanda!H145=1,(Comanda!D145*0.001+$BL$2)*Comanda!F145,\"\")","v":""},{"$f":"IF(Comanda!I145=1,(Comanda!D145*0.001+$BL$2)*Comanda!F145,\"\")","v":""},{"$f":"IF(Comanda!J145=1,(Comanda!E145*0.001+$BL$2)*Comanda!F145,\"\")","v":""},{"$f":"IF(Comanda!K145=1,(Comanda!E145*0.001+$BL$2)*Comanda!F145,\"\")","v":""},null,{"$f":"IF(Comanda!H145=2,(Comanda!D145*0.001+$BL$2)*Comanda!F145,\"\")","v":""},{"$f":"IF(Comanda!I145=2,(Comanda!D145*0.001+$BL$2)*Comanda!F145,\"\")","v":""},{"$f":"IF(Comanda!J145=2,(Comanda!E145*0.001+$BL$2)*Comanda!F145,\"\")","v":""},{"$f":"IF(Comanda!K145=2,(Comanda!E145*0.001+$BL$2)*Comanda!F145,\"\")","v":""},null,{"$f":"IF(Comanda!H145=3,(Comanda!D145*0.001+$BL$2)*Comanda!F145,\"\")","v":""},{"$f":"IF(Comanda!I145=3,(Comanda!D145*0.001+$BL$2)*Comanda!F145,\"\")","v":""},{"$f":"IF(Comanda!J145=3,(Comanda!E145*0.001+$BL$2)*Comanda!F145,\"\")","v":""},{"$f":"IF(Comanda!K145=3,(Comanda!E145*0.001+$BL$2)*Comanda!F145,\"\")","v":""},null,{"$f":"IF(Comanda!H145=4,(Comanda!D145*0.001+$BL$2)*Comanda!F145,\"\")","v":""},{"$f":"IF(Comanda!I145=4,(Comanda!D145*0.001+$BL$2)*Comanda!F145,\"\")","v":""},{"$f":"IF(Comanda!J145=4,(Comanda!E145*0.001+$BL$2)*Comanda!F145,\"\")","v":""},{"$f":"IF(Comanda!K145=4,(Comanda!E145*0.001+$BL$2)*Comanda!F145,\"\")","v":""}]
[127,{"$f":"IF(Comanda!B146<>0,Comanda!B146,\"\")","v":""},{"$f":"IF(Comanda!C146<>0,Comanda!C146,\"\")","v":""},{"$f":"IF(Comanda!D146<>0,Comanda!D146,\"\")","v":""},{"$f":"IF(Comanda!E146<>0,Comanda!E146,\"\")","v":""},{"$f":"IF(Comanda!F146<>0,Comanda!F146,\"\")","v":""},{"$f":"IF(Comanda!G146<>0,1,0)","v":0},{"$f":"IF(Comanda!H146=1,Comanda!$C$13,IF(Comanda!H146=2,Comanda!$C$14,IF(Comanda!$H146=3,Comanda!$C$15,IF(Comanda!$H146=4,Comanda!$C$16,0))))","v":0},{"$f":"IF(Comanda!I146=1,Comanda!$C$13,IF(Comanda!I146=2,Comanda!$C$14,IF(Comanda!$I146=3,Comanda!$C$15,IF(Comanda!$I146=4,Comanda!$C$16,0))))","v":0},{"$f":"IF(Comanda!J146=1,Comanda!$C$13,IF(Comanda!J146=2,Comanda!$C$14,IF(Comanda!$J146=3,Comanda!$C$15,IF(Comanda!$J146=4,Comanda!$C$16,0))))","v":0},{"$f":"IF(Comanda!K146=1,Comanda!$C$13,IF(Comanda!K146=2,Comanda!$C$14,IF(Comanda!$K146=3,Comanda!$C$15,IF(Comanda!$K146=4,Comanda!$C$16,0))))","v":0},{"$f":"IF(Comanda!B146<>0,Comanda!$C$2,\"\")","v":""},{"$f":"IF(Comanda!B146<>0,Comanda!$C$5,\"\")","v":""},{"$f":"IF(Comanda!B146<>0,Comanda!$G$2,\"\")","v":""},{"$f":"IF(Comanda!B146<>0,Comanda!L146,\"\")","v":""},{"$f":"IF(Comanda!D146<>0,VLOOKUP('Formula Cant'!F129,'Grafica Cant'!$G$2:$H$25,2,FALSE),\"\")","v":""},{"$nulls":8},{"$f":"IF(Comanda!B146<>0,Comanda!$C$9,\"\")","v":""},{"$f":"IF(Comanda!B146<>0,VLOOKUP(Comanda!$C$12,PRETURI!$A$2:$C$500,3,FALSE),\"\")","v":""},"",{"$f":"IF(H129<>0,VLOOKUP(H129,PRETURI!$D$2:$F$1093,3,FALSE),\"\")","v":""},{"v":0,"d":"0.00"},{"$f":"IF(I129<>0,VLOOKUP(I129,PRETURI!$D$2:$F$1093,3,FALSE),\"\")","v":""},{"v":0,"d":"0.00"},{"$f":"IF(J129<>0,VLOOKUP(J129,PRETURI!$D$2:$F$1093,3,FALSE),\"\")","v":""},{"v":0,"d":"0.00"},{"$f":"IF(K129<>0,VLOOKUP(K129,PRETURI!$D$2:$F$1093,3,FALSE),\"\")","v":""},{"v":0,"d":"0.00"},{"$nulls":6},{"$f":"(Comanda!D146*Comanda!E146*Comanda!F146)*0.000001","v":{"v":0,"d":"0.00"}},null,{"$f":"IF(Comanda!H146=1,(Comanda!D146*0.001+$BL$2)*Comanda!F146,\"\")","v":""},{"$f":"IF(Comanda!I146=1,(Comanda!D146*0.001+$BL$2)*Comanda!F146,\"\")","v":""},{"$f":"IF(Comanda!J146=1,(Comanda!E146*0.001+$BL$2)*Comanda!F146,\"\")","v":""},{"$f":"IF(Comanda!K146=1,(Comanda!E146*0.001+$BL$2)*Comanda!F146,\"\")","v":""},null,{"$f":"IF(Comanda!H146=2,(Comanda!D146*0.001+$BL$2)*Comanda!F146,\"\")","v":""},{"$f":"IF(Comanda!I146=2,(Comanda!D146*0.001+$BL$2)*Comanda!F146,\"\")","v":""},{"$f":"IF(Comanda!J146=2,(Comanda!E146*0.001+$BL$2)*Comanda!F146,\"\")","v":""},{"$f":"IF(Comanda!K146=2,(Comanda!E146*0.001+$BL$2)*Comanda!F146,\"\")","v":""},null,{"$f":"IF(Comanda!H146=3,(Comanda!D146*0.001+$BL$2)*Comanda!F146,\"\")","v":""},{"$f":"IF(Comanda!I146=3,(Comanda!D146*0.001+$BL$2)*Comanda!F146,\"\")","v":""},{"$f":"IF(Comanda!J146=3,(Comanda!E146*0.001+$BL$2)*Comanda!F146,\"\")","v":""},{"$f":"IF(Comanda!K146=3,(Comanda!E146*0.001+$BL$2)*Comanda!F146,\"\")","v":""},null,{"$f":"IF(Comanda!H146=4,(Comanda!D146*0.001+$BL$2)*Comanda!F146,\"\")","v":""},{"$f":"IF(Comanda!I146=4,(Comanda!D146*0.001+$BL$2)*Comanda!F146,\"\")","v":""},{"$f":"IF(Comanda!J146=4,(Comanda!E146*0.001+$BL$2)*Comanda!F146,\"\")","v":""},{"$f":"IF(Comanda!K146=4,(Comanda!E146*0.001+$BL$2)*Comanda!F146,\"\")","v":""}]
[128,{"$f":"IF(Comanda!B147<>0,Comanda!B147,\"\")","v":""},{"$f":"IF(Comanda!C147<>0,Comanda!C147,\"\")","v":""},{"$f":"IF(Comanda!D147<>0,Comanda!D147,\"\")","v":""},{"$f":"IF(Comanda!E147<>0,Comanda!E147,\"\")","v":""},{"$f":"IF(Comanda!F147<>0,Comanda!F147,\"\")","v":""},{"$f":"IF(Comanda!G147<>0,1,0)","v":0},{"$f":"IF(Comanda!H147=1,Comanda!$C$13,IF(Comanda!H147=2,Comanda!$C$14,IF(Comanda!$H147=3,Comanda!$C$15,IF(Comanda!$H147=4,Comanda!$C$16,0))))","v":0},{"$f":"IF(Comanda!I147=1,Comanda!$C$13,IF(Comanda!I147=2,Comanda!$C$14,IF(Comanda!$I147=3,Comanda!$C$15,IF(Comanda!$I147=4,Comanda!$C$16,0))))","v":0},{"$f":"IF(Comanda!J147=1,Comanda!$C$13,IF(Comanda!J147=2,Comanda!$C$14,IF(Comanda!$J147=3,Comanda!$C$15,IF(Comanda!$J147=4,Comanda!$C$16,0))))","v":0},{"$f":"IF(Comanda!K147=1,Comanda!$C$13,IF(Comanda!K147=2,Comanda!$C$14,IF(Comanda!$K147=3,Comanda!$C$15,IF(Comanda!$K147=4,Comanda!$C$16,0))))","v":0},{"$f":"IF(Comanda!B147<>0,Comanda!$C$2,\"\")","v":""},{"$f":"IF(Comanda!B147<>0,Comanda!$C$5,\"\")","v":""},{"$f":"IF(Comanda!B147<>0,Comanda!$G$2,\"\")","v":""},{"$f":"IF(Comanda!B147<>0,Comanda!L147,\"\")","v":""},{"$f":"IF(Comanda!D147<>0,VLOOKUP('Formula Cant'!F130,'Grafica Cant'!$G$2:$H$25,2,FALSE),\"\")","v":""},{"$nulls":8},{"$f":"IF(Comanda!B147<>0,Comanda!$C$9,\"\")","v":""},{"$f":"IF(Comanda!B147<>0,VLOOKUP(Comanda!$C$12,PRETURI!$A$2:$C$500,3,FALSE),\"\")","v":""},"",{"$f":"IF(H130<>0,VLOOKUP(H130,PRETURI!$D$2:$F$1093,3,FALSE),\"\")","v":""},{"v":0,"d":"0.00"},{"$f":"IF(I130<>0,VLOOKUP(I130,PRETURI!$D$2:$F$1093,3,FALSE),\"\")","v":""},{"v":0,"d":"0.00"},{"$f":"IF(J130<>0,VLOOKUP(J130,PRETURI!$D$2:$F$1093,3,FALSE),\"\")","v":""},{"v":0,"d":"0.00"},{"$f":"IF(K130<>0,VLOOKUP(K130,PRETURI!$D$2:$F$1093,3,FALSE),\"\")","v":""},{"v":0,"d":"0.00"},{"$nulls":6},{"$f":"(Comanda!D147*Comanda!E147*Comanda!F147)*0.000001","v":{"v":0,"d":"0.00"}},null,{"$f":"IF(Comanda!H147=1,(Comanda!D147*0.001+$BL$2)*Comanda!F147,\"\")","v":""},{"$f":"IF(Comanda!I147=1,(Comanda!D147*0.001+$BL$2)*Comanda!F147,\"\")","v":""},{"$f":"IF(Comanda!J147=1,(Comanda!E147*0.001+$BL$2)*Comanda!F147,\"\")","v":""},{"$f":"IF(Comanda!K147=1,(Comanda!E147*0.001+$BL$2)*Comanda!F147,\"\")","v":""},null,{"$f":"IF(Comanda!H147=2,(Comanda!D147*0.001+$BL$2)*Comanda!F147,\"\")","v":""},{"$f":"IF(Comanda!I147=2,(Comanda!D147*0.001+$BL$2)*Comanda!F147,\"\")","v":""},{"$f":"IF(Comanda!J147=2,(Comanda!E147*0.001+$BL$2)*Comanda!F147,\"\")","v":""},{"$f":"IF(Comanda!K147=2,(Comanda!E147*0.001+$BL$2)*Comanda!F147,\"\")","v":""},null,{"$f":"IF(Comanda!H147=3,(Comanda!D147*0.001+$BL$2)*Comanda!F147,\"\")","v":""},{"$f":"IF(Comanda!I147=3,(Comanda!D147*0.001+$BL$2)*Comanda!F147,\"\")","v":""},{"$f":"IF(Comanda!J147=3,(Comanda!E147*0.001+$BL$2)*Comanda!F147,\"\")","v":""},{"$f":"IF(Comanda!K147=3,(Comanda!E147*0.001+$BL$2)*Comanda!F147,\"\")","v":""},null,{"$f":"IF(Comanda!H147=4,(Comanda!D147*0.001+$BL$2)*Comanda!F147,\"\")","v":""},{"$f":"IF(Comanda!I147=4,(Comanda!D147*0.001+$BL$2)*Comanda!F147,\"\")","v":""},{"$f":"IF(Comanda!J147=4,(Comanda!E147*0.001+$BL$2)*Comanda!F147,\"\")","v":""},{"$f":"IF(Comanda!K147=4,(Comanda!E147*0.001+$BL$2)*Comanda!F147,\"\")","v":""}]
[129,{"$f":"IF(Comanda!B148<>0,Comanda!B148,\"\")","v":""},{"$f":"IF(Comanda!C148<>0,Comanda!C148,\"\")","v":""},{"$f":"IF(Comanda!D148<>0,Comanda!D148,\"\")","v":""},{"$f":"IF(Comanda!E148<>0,Comanda!E148,\"\")","v":""},{"$f":"IF(Comanda!F148<>0,Comanda!F148,\"\")","v":""},{"$f":"IF(Comanda!G148<>0,1,0)","v":0},{"$f":"IF(Comanda!H148=1,Comanda!$C$13,IF(Comanda!H148=2,Comanda!$C$14,IF(Comanda!$H148=3,Comanda!$C$15,IF(Comanda!$H148=4,Comanda!$C$16,0))))","v":0},{"$f":"IF(Comanda!I148=1,Comanda!$C$13,IF(Comanda!I148=2,Comanda!$C$14,IF(Comanda!$I148=3,Comanda!$C$15,IF(Comanda!$I148=4,Comanda!$C$16,0))))","v":0},{"$f":"IF(Comanda!J148=1,Comanda!$C$13,IF(Comanda!J148=2,Comanda!$C$14,IF(Comanda!$J148=3,Comanda!$C$15,IF(Comanda!$J148=4,Comanda!$C$16,0))))","v":0},{"$f":"IF(Comanda!K148=1,Comanda!$C$13,IF(Comanda!K148=2,Comanda!$C$14,IF(Comanda!$K148=3,Comanda!$C$15,IF(Comanda!$K148=4,Comanda!$C$16,0))))","v":0},{"$f":"IF(Comanda!B148<>0,Comanda!$C$2,\"\")","v":""},{"$f":"IF(Comanda!B148<>0,Comanda!$C$5,\"\")","v":""},{"$f":"IF(Comanda!B148<>0,Comanda!$G$2,\"\")","v":""},{"$f":"IF(Comanda!B148<>0,Comanda!L148,\"\")","v":""},{"$f":"IF(Comanda!D148<>0,VLOOKUP('Formula Cant'!F131,'Grafica Cant'!$G$2:$H$25,2,FALSE),\"\")","v":""},{"$nulls":8},{"$f":"IF(Comanda!B148<>0,Comanda!$C$9,\"\")","v":""},{"$f":"IF(Comanda!B148<>0,VLOOKUP(Comanda!$C$12,PRETURI!$A$2:$C$500,3,FALSE),\"\")","v":""},"",{"$f":"IF(H131<>0,VLOOKUP(H131,PRETURI!$D$2:$F$1093,3,FALSE),\"\")","v":""},{"v":0,"d":"0.00"},{"$f":"IF(I131<>0,VLOOKUP(I131,PRETURI!$D$2:$F$1093,3,FALSE),\"\")","v":""},{"v":0,"d":"0.00"},{"$f":"IF(J131<>0,VLOOKUP(J131,PRETURI!$D$2:$F$1093,3,FALSE),\"\")","v":""},{"v":0,"d":"0.00"},{"$f":"IF(K131<>0,VLOOKUP(K131,PRETURI!$D$2:$F$1093,3,FALSE),\"\")","v":""},{"v":0,"d":"0.00"},{"$nulls":6},{"$f":"(Comanda!D148*Comanda!E148*Comanda!F148)*0.000001","v":{"v":0,"d":"0.00"}},null,{"$f":"IF(Comanda!H148=1,(Comanda!D148*0.001+$BL$2)*Comanda!F148,\"\")","v":""},{"$f":"IF(Comanda!I148=1,(Comanda!D148*0.001+$BL$2)*Comanda!F148,\"\")","v":""},{"$f":"IF(Comanda!J148=1,(Comanda!E148*0.001+$BL$2)*Comanda!F148,\"\")","v":""},{"$f":"IF(Comanda!K148=1,(Comanda!E148*0.001+$BL$2)*Comanda!F148,\"\")","v":""},null,{"$f":"IF(Comanda!H148=2,(Comanda!D148*0.001+$BL$2)*Comanda!F148,\"\")","v":""},{"$f":"IF(Comanda!I148=2,(Comanda!D148*0.001+$BL$2)*Comanda!F148,\"\")","v":""},{"$f":"IF(Comanda!J148=2,(Comanda!E148*0.001+$BL$2)*Comanda!F148,\"\")","v":""},{"$f":"IF(Comanda!K148=2,(Comanda!E148*0.001+$BL$2)*Comanda!F148,\"\")","v":""},null,{"$f":"IF(Comanda!H148=3,(Comanda!D148*0.001+$BL$2)*Comanda!F148,\"\")","v":""},{"$f":"IF(Comanda!I148=3,(Comanda!D148*0.001+$BL$2)*Comanda!F148,\"\")","v":""},{"$f":"IF(Comanda!J148=3,(Comanda!E148*0.001+$BL$2)*Comanda!F148,\"\")","v":""},{"$f":"IF(Comanda!K148=3,(Comanda!E148*0.001+$BL$2)*Comanda!F148,\"\")","v":""},null,{"$f":"IF(Comanda!H148=4,(Comanda!D148*0.001+$BL$2)*Comanda!F148,\"\")","v":""},{"$f":"IF(Comanda!I148=4,(Comanda!D148*0.001+$BL$2)*Comanda!F148,\"\")","v":""},{"$f":"IF(Comanda!J148=4,(Comanda!E148*0.001+$BL$2)*Comanda!F148,\"\")","v":""},{"$f":"IF(Comanda!K148=4,(Comanda!E148*0.001+$BL$2)*Comanda!F148,\"\")","v":""}]
[130,{"$f":"IF(Comanda!B149<>0,Comanda!B149,\"\")","v":""},{"$f":"IF(Comanda!C149<>0,Comanda!C149,\"\")","v":""},{"$f":"IF(Comanda!D149<>0,Comanda!D149,\"\")","v":""},{"$f":"IF(Comanda!E149<>0,Comanda!E149,\"\")","v":""},{"$f":"IF(Comanda!F149<>0,Comanda!F149,\"\")","v":""},{"$f":"IF(Comanda!G149<>0,1,0)","v":0},{"$f":"IF(Comanda!H149=1,Comanda!$C$13,IF(Comanda!H149=2,Comanda!$C$14,IF(Comanda!$H149=3,Comanda!$C$15,IF(Comanda!$H149=4,Comanda!$C$16,0))))","v":0},{"$f":"IF(Comanda!I149=1,Comanda!$C$13,IF(Comanda!I149=2,Comanda!$C$14,IF(Comanda!$I149=3,Comanda!$C$15,IF(Comanda!$I149=4,Comanda!$C$16,0))))","v":0},{"$f":"IF(Comanda!J149=1,Comanda!$C$13,IF(Comanda!J149=2,Comanda!$C$14,IF(Comanda!$J149=3,Comanda!$C$15,IF(Comanda!$J149=4,Comanda!$C$16,0))))","v":0},{"$f":"IF(Comanda!K149=1,Comanda!$C$13,IF(Comanda!K149=2,Comanda!$C$14,IF(Comanda!$K149=3,Comanda!$C$15,IF(Comanda!$K149=4,Comanda!$C$16,0))))","v":0},{"$f":"IF(Comanda!B149<>0,Comanda!$C$2,\"\")","v":""},{"$f":"IF(Comanda!B149<>0,Comanda!$C$5,\"\")","v":""},{"$f":"IF(Comanda!B149<>0,Comanda!$G$2,\"\")","v":""},{"$f":"IF(Comanda!B149<>0,Comanda!L149,\"\")","v":""},{"$f":"IF(Comanda!D149<>0,VLOOKUP('Formula Cant'!F132,'Grafica Cant'!$G$2:$H$25,2,FALSE),\"\")","v":""},{"$nulls":8},{"$f":"IF(Comanda!B149<>0,Comanda!$C$9,\"\")","v":""},{"$f":"IF(Comanda!B149<>0,VLOOKUP(Comanda!$C$12,PRETURI!$A$2:$C$500,3,FALSE),\"\")","v":""},{"$f":"IFERROR(D132*E132*F132*0.000001,\"\")","v":""},{"$f":"IF(H132<>0,VLOOKUP(H132,PRETURI!$D$2:$F$1093,3,FALSE),\"\")","v":""},{"$f":"SUM(AR132:AU132)","v":{"v":0,"d":"0.00"}},{"$f":"IF(I132<>0,VLOOKUP(I132,PRETURI!$D$2:$F$1093,3,FALSE),\"\")","v":""},{"$f":"SUM(AW132:AZ132)","v":{"v":0,"d":"0.00"}},{"$f":"IF(J132<>0,VLOOKUP(J132,PRETURI!$D$2:$F$1093,3,FALSE),\"\")","v":""},{"$f":"SUM(BB132:BE132)","v":{"v":0,"d":"0.00"}},{"$f":"IF(K132<>0,VLOOKUP(K132,PRETURI!$D$2:$F$1093,3,FALSE),\"\")","v":""},{"$f":"SUM(BG132:BJ132)","v":{"v":0,"d":"0.00"}},{"$nulls":6},{"$f":"(Comanda!D149*Comanda!E149*Comanda!F149)*0.000001","v":{"v":0,"d":"0.00"}},null,{"$f":"IF(Comanda!H149=1,(Comanda!D149*0.001+$BL$2)*Comanda!F149,\"\")","v":""},{"$f":"IF(Comanda!I149=1,(Comanda!D149*0.001+$BL$2)*Comanda!F149,\"\")","v":""},{"$f":"IF(Comanda!J149=1,(Comanda!E149*0.001+$BL$2)*Comanda!F149,\"\")","v":""},{"$f":"IF(Comanda!K149=1,(Comanda!E149*0.001+$BL$2)*Comanda!F149,\"\")","v":""},null,{"$f":"IF(Comanda!H149=2,(Comanda!D149*0.001+$BL$2)*Comanda!F149,\"\")","v":""},{"$f":"IF(Comanda!I149=2,(Comanda!D149*0.001+$BL$2)*Comanda!F149,\"\")","v":""},{"$f":"IF(Comanda!J149=2,(Comanda!E149*0.001+$BL$2)*Comanda!F149,\"\")","v":""},{"$f":"IF(Comanda!K149=2,(Comanda!E149*0.001+$BL$2)*Comanda!F149,\"\")","v":""},null,{"$f":"IF(Comanda!H149=3,(Comanda!D149*0.001+$BL$2)*Comanda!F149,\"\")","v":""},{"$f":"IF(Comanda!I149=3,(Comanda!D149*0.001+$BL$2)*Comanda!F149,\"\")","v":""},{"$f":"IF(Comanda!J149=3,(Comanda!E149*0.001+$BL$2)*Comanda!F149,\"\")","v":""},{"$f":"IF(Comanda!K149=3,(Comanda!E149*0.001+$BL$2)*Comanda!F149,\"\")","v":""},null,{"$f":"IF(Comanda!H149=4,(Comanda!D149*0.001+$BL$2)*Comanda!F149,\"\")","v":""},{"$f":"IF(Comanda!I149=4,(Comanda!D149*0.001+$BL$2)*Comanda!F149,\"\")","v":""},{"$f":"IF(Comanda!J149=4,(Comanda!E149*0.001+$BL$2)*Comanda!F149,\"\")","v":""},{"$f":"IF(Comanda!K149=4,(Comanda!E149*0.001+$BL$2)*Comanda!F149,\"\")","v":""}]
[131,{"$f":"IF(Comanda!B150<>0,Comanda!B150,\"\")","v":""},{"$f":"IF(Comanda!C150<>0,Comanda!C150,\"\")","v":""},{"$f":"IF(Comanda!D150<>0,Comanda!D150,\"\")","v":""},{"$f":"IF(Comanda!E150<>0,Comanda!E150,\"\")","v":""},{"$f":"IF(Comanda!F150<>0,Comanda!F150,\"\")","v":""},{"$f":"IF(Comanda!G150<>0,1,0)","v":0},{"$f":"IF(Comanda!H150=1,Comanda!$C$13,IF(Comanda!H150=2,Comanda!$C$14,IF(Comanda!$H150=3,Comanda!$C$15,IF(Comanda!$H150=4,Comanda!$C$16,0))))","v":0},{"$f":"IF(Comanda!I150=1,Comanda!$C$13,IF(Comanda!I150=2,Comanda!$C$14,IF(Comanda!$I150=3,Comanda!$C$15,IF(Comanda!$I150=4,Comanda!$C$16,0))))","v":0},{"$f":"IF(Comanda!J150=1,Comanda!$C$13,IF(Comanda!J150=2,Comanda!$C$14,IF(Comanda!$J150=3,Comanda!$C$15,IF(Comanda!$J150=4,Comanda!$C$16,0))))","v":0},{"$f":"IF(Comanda!K150=1,Comanda!$C$13,IF(Comanda!K150=2,Comanda!$C$14,IF(Comanda!$K150=3,Comanda!$C$15,IF(Comanda!$K150=4,Comanda!$C$16,0))))","v":0},{"$f":"IF(Comanda!B150<>0,Comanda!$C$2,\"\")","v":""},{"$f":"IF(Comanda!B150<>0,Comanda!$C$5,\"\")","v":""},{"$f":"IF(Comanda!B150<>0,Comanda!$G$2,\"\")","v":""},{"$f":"IF(Comanda!B150<>0,Comanda!L150,\"\")","v":""},{"$f":"IF(Comanda!D150<>0,VLOOKUP('Formula Cant'!F133,'Grafica Cant'!$G$2:$H$25,2,FALSE),\"\")","v":""},{"$nulls":8},{"$f":"IF(Comanda!B150<>0,Comanda!$C$9,\"\")","v":""},{"$f":"IF(Comanda!B150<>0,VLOOKUP(Comanda!$C$12,PRETURI!$A$2:$C$500,3,FALSE),\"\")","v":""},"",{"$f":"IF(H133<>0,VLOOKUP(H133,PRETURI!$D$2:$F$1093,3,FALSE),\"\")","v":""},{"v":0,"d":"0.00"},{"$f":"IF(I133<>0,VLOOKUP(I133,PRETURI!$D$2:$F$1093,3,FALSE),\"\")","v":""},{"v":0,"d":"0.00"},{"$f":"IF(J133<>0,VLOOKUP(J133,PRETURI!$D$2:$F$1093,3,FALSE),\"\")","v":""},{"v":0,"d":"0.00"},{"$f":"IF(K133<>0,VLOOKUP(K133,PRETURI!$D$2:$F$1093,3,FALSE),\"\")","v":""},{"v":0,"d":"0.00"},{"$nulls":6},{"$f":"(Comanda!D150*Comanda!E150*Comanda!F150)*0.000001","v":{"v":0,"d":"0.00"}},null,{"$f":"IF(Comanda!H150=1,(Comanda!D150*0.001+$BL$2)*Comanda!F150,\"\")","v":""},{"$f":"IF(Comanda!I150=1,(Comanda!D150*0.001+$BL$2)*Comanda!F150,\"\")","v":""},{"$f":"IF(Comanda!J150=1,(Comanda!E150*0.001+$BL$2)*Comanda!F150,\"\")","v":""},{"$f":"IF(Comanda!K150=1,(Comanda!E150*0.001+$BL$2)*Comanda!F150,\"\")","v":""},null,{"$f":"IF(Comanda!H150=2,(Comanda!D150*0.001+$BL$2)*Comanda!F150,\"\")","v":""},{"$f":"IF(Comanda!I150=2,(Comanda!D150*0.001+$BL$2)*Comanda!F150,\"\")","v":""},{"$f":"IF(Comanda!J150=2,(Comanda!E150*0.001+$BL$2)*Comanda!F150,\"\")","v":""},{"$f":"IF(Comanda!K150=2,(Comanda!E150*0.001+$BL$2)*Comanda!F150,\"\")","v":""},null,{"$f":"IF(Comanda!H150=3,(Comanda!D150*0.001+$BL$2)*Comanda!F150,\"\")","v":""},{"$f":"IF(Comanda!I150=3,(Comanda!D150*0.001+$BL$2)*Comanda!F150,\"\")","v":""},{"$f":"IF(Comanda!J150=3,(Comanda!E150*0.001+$BL$2)*Comanda!F150,\"\")","v":""},{"$f":"IF(Comanda!K150=3,(Comanda!E150*0.001+$BL$2)*Comanda!F150,\"\")","v":""},null,{"$f":"IF(Comanda!H150=4,(Comanda!D150*0.001+$BL$2)*Comanda!F150,\"\")","v":""},{"$f":"IF(Comanda!I150=4,(Comanda!D150*0.001+$BL$2)*Comanda!F150,\"\")","v":""},{"$f":"IF(Comanda!J150=4,(Comanda!E150*0.001+$BL$2)*Comanda!F150,\"\")","v":""},{"$f":"IF(Comanda!K150=4,(Comanda!E150*0.001+$BL$2)*Comanda!F150,\"\")","v":""}]
[132,{"$f":"IF(Comanda!B151<>0,Comanda!B151,\"\")","v":""},{"$f":"IF(Comanda!C151<>0,Comanda!C151,\"\")","v":""},{"$f":"IF(Comanda!D151<>0,Comanda!D151,\"\")","v":""},{"$f":"IF(Comanda!E151<>0,Comanda!E151,\"\")","v":""},{"$f":"IF(Comanda!F151<>0,Comanda!F151,\"\")","v":""},{"$f":"IF(Comanda!G151<>0,1,0)","v":0},{"$f":"IF(Comanda!H151=1,Comanda!$C$13,IF(Comanda!H151=2,Comanda!$C$14,IF(Comanda!$H151=3,Comanda!$C$15,IF(Comanda!$H151=4,Comanda!$C$16,0))))","v":0},{"$f":"IF(Comanda!I151=1,Comanda!$C$13,IF(Comanda!I151=2,Comanda!$C$14,IF(Comanda!$I151=3,Comanda!$C$15,IF(Comanda!$I151=4,Comanda!$C$16,0))))","v":0},{"$f":"IF(Comanda!J151=1,Comanda!$C$13,IF(Comanda!J151=2,Comanda!$C$14,IF(Comanda!$J151=3,Comanda!$C$15,IF(Comanda!$J151=4,Comanda!$C$16,0))))","v":0},{"$f":"IF(Comanda!K151=1,Comanda!$C$13,IF(Comanda!K151=2,Comanda!$C$14,IF(Comanda!$K151=3,Comanda!$C$15,IF(Comanda!$K151=4,Comanda!$C$16,0))))","v":0},{"$f":"IF(Comanda!B151<>0,Comanda!$C$2,\"\")","v":""},{"$f":"IF(Comanda!B151<>0,Comanda!$C$5,\"\")","v":""},{"$f":"IF(Comanda!B151<>0,Comanda!$G$2,\"\")","v":""},{"$f":"IF(Comanda!B151<>0,Comanda!L151,\"\")","v":""},{"$f":"IF(Comanda!D151<>0,VLOOKUP('Formula Cant'!F134,'Grafica Cant'!$G$2:$H$25,2,FALSE),\"\")","v":""},{"$nulls":8},{"$f":"IF(Comanda!B151<>0,Comanda!$C$9,\"\")","v":""},{"$f":"IF(Comanda!B151<>0,VLOOKUP(Comanda!$C$12,PRETURI!$A$2:$C$500,3,FALSE),\"\")","v":""},"",{"$f":"IF(H134<>0,VLOOKUP(H134,PRETURI!$D$2:$F$1093,3,FALSE),\"\")","v":""},{"v":0,"d":"0.00"},{"$f":"IF(I134<>0,VLOOKUP(I134,PRETURI!$D$2:$F$1093,3,FALSE),\"\")","v":""},{"v":0,"d":"0.00"},{"$f":"IF(J134<>0,VLOOKUP(J134,PRETURI!$D$2:$F$1093,3,FALSE),\"\")","v":""},{"v":0,"d":"0.00"},{"$f":"IF(K134<>0,VLOOKUP(K134,PRETURI!$D$2:$F$1093,3,FALSE),\"\")","v":""},{"v":0,"d":"0.00"},{"$nulls":6},{"$f":"(Comanda!D151*Comanda!E151*Comanda!F151)*0.000001","v":{"v":0,"d":"0.00"}},null,{"$f":"IF(Comanda!H151=1,(Comanda!D151*0.001+$BL$2)*Comanda!F151,\"\")","v":""},{"$f":"IF(Comanda!I151=1,(Comanda!D151*0.001+$BL$2)*Comanda!F151,\"\")","v":""},{"$f":"IF(Comanda!J151=1,(Comanda!E151*0.001+$BL$2)*Comanda!F151,\"\")","v":""},{"$f":"IF(Comanda!K151=1,(Comanda!E151*0.001+$BL$2)*Comanda!F151,\"\")","v":""},null,{"$f":"IF(Comanda!H151=2,(Comanda!D151*0.001+$BL$2)*Comanda!F151,\"\")","v":""},{"$f":"IF(Comanda!I151=2,(Comanda!D151*0.001+$BL$2)*Comanda!F151,\"\")","v":""},{"$f":"IF(Comanda!J151=2,(Comanda!E151*0.001+$BL$2)*Comanda!F151,\"\")","v":""},{"$f":"IF(Comanda!K151=2,(Comanda!E151*0.001+$BL$2)*Comanda!F151,\"\")","v":""},null,{"$f":"IF(Comanda!H151=3,(Comanda!D151*0.001+$BL$2)*Comanda!F151,\"\")","v":""},{"$f":"IF(Comanda!I151=3,(Comanda!D151*0.001+$BL$2)*Comanda!F151,\"\")","v":""},{"$f":"IF(Comanda!J151=3,(Comanda!E151*0.001+$BL$2)*Comanda!F151,\"\")","v":""},{"$f":"IF(Comanda!K151=3,(Comanda!E151*0.001+$BL$2)*Comanda!F151,\"\")","v":""},null,{"$f":"IF(Comanda!H151=4,(Comanda!D151*0.001+$BL$2)*Comanda!F151,\"\")","v":""},{"$f":"IF(Comanda!I151=4,(Comanda!D151*0.001+$BL$2)*Comanda!F151,\"\")","v":""},{"$f":"IF(Comanda!J151=4,(Comanda!E151*0.001+$BL$2)*Comanda!F151,\"\")","v":""},{"$f":"IF(Comanda!K151=4,(Comanda!E151*0.001+$BL$2)*Comanda!F151,\"\")","v":""}]
[133,{"$f":"IF(Comanda!B152<>0,Comanda!B152,\"\")","v":""},{"$f":"IF(Comanda!C152<>0,Comanda!C152,\"\")","v":""},{"$f":"IF(Comanda!D152<>0,Comanda!D152,\"\")","v":""},{"$f":"IF(Comanda!E152<>0,Comanda!E152,\"\")","v":""},{"$f":"IF(Comanda!F152<>0,Comanda!F152,\"\")","v":""},{"$f":"IF(Comanda!G152<>0,1,0)","v":0},{"$f":"IF(Comanda!H152=1,Comanda!$C$13,IF(Comanda!H152=2,Comanda!$C$14,IF(Comanda!$H152=3,Comanda!$C$15,IF(Comanda!$H152=4,Comanda!$C$16,0))))","v":0},{"$f":"IF(Comanda!I152=1,Comanda!$C$13,IF(Comanda!I152=2,Comanda!$C$14,IF(Comanda!$I152=3,Comanda!$C$15,IF(Comanda!$I152=4,Comanda!$C$16,0))))","v":0},{"$f":"IF(Comanda!J152=1,Comanda!$C$13,IF(Comanda!J152=2,Comanda!$C$14,IF(Comanda!$J152=3,Comanda!$C$15,IF(Comanda!$J152=4,Comanda!$C$16,0))))","v":0},{"$f":"IF(Comanda!K152=1,Comanda!$C$13,IF(Comanda!K152=2,Comanda!$C$14,IF(Comanda!$K152=3,Comanda!$C$15,IF(Comanda!$K152=4,Comanda!$C$16,0))))","v":0},{"$f":"IF(Comanda!B152<>0,Comanda!$C$2,\"\")","v":""},{"$f":"IF(Comanda!B152<>0,Comanda!$C$5,\"\")","v":""},{"$f":"IF(Comanda!B152<>0,Comanda!$G$2,\"\")","v":""},{"$f":"IF(Comanda!B152<>0,Comanda!L152,\"\")","v":""},{"$f":"IF(Comanda!D152<>0,VLOOKUP('Formula Cant'!F135,'Grafica Cant'!$G$2:$H$25,2,FALSE),\"\")","v":""},{"$nulls":8},{"$f":"IF(Comanda!B152<>0,Comanda!$C$9,\"\")","v":""},{"$f":"IF(Comanda!B152<>0,VLOOKUP(Comanda!$C$12,PRETURI!$A$2:$C$500,3,FALSE),\"\")","v":""},"",{"$f":"IF(H135<>0,VLOOKUP(H135,PRETURI!$D$2:$F$1093,3,FALSE),\"\")","v":""},{"v":0,"d":"0.00"},{"$f":"IF(I135<>0,VLOOKUP(I135,PRETURI!$D$2:$F$1093,3,FALSE),\"\")","v":""},{"v":0,"d":"0.00"},{"$f":"IF(J135<>0,VLOOKUP(J135,PRETURI!$D$2:$F$1093,3,FALSE),\"\")","v":""},{"v":0,"d":"0.00"},{"$f":"IF(K135<>0,VLOOKUP(K135,PRETURI!$D$2:$F$1093,3,FALSE),\"\")","v":""},{"v":0,"d":"0.00"},{"$nulls":6},{"$f":"(Comanda!D152*Comanda!E152*Comanda!F152)*0.000001","v":{"v":0,"d":"0.00"}},null,{"$f":"IF(Comanda!H152=1,(Comanda!D152*0.001+$BL$2)*Comanda!F152,\"\")","v":""},{"$f":"IF(Comanda!I152=1,(Comanda!D152*0.001+$BL$2)*Comanda!F152,\"\")","v":""},{"$f":"IF(Comanda!J152=1,(Comanda!E152*0.001+$BL$2)*Comanda!F152,\"\")","v":""},{"$f":"IF(Comanda!K152=1,(Comanda!E152*0.001+$BL$2)*Comanda!F152,\"\")","v":""},null,{"$f":"IF(Comanda!H152=2,(Comanda!D152*0.001+$BL$2)*Comanda!F152,\"\")","v":""},{"$f":"IF(Comanda!I152=2,(Comanda!D152*0.001+$BL$2)*Comanda!F152,\"\")","v":""},{"$f":"IF(Comanda!J152=2,(Comanda!E152*0.001+$BL$2)*Comanda!F152,\"\")","v":""},{"$f":"IF(Comanda!K152=2,(Comanda!E152*0.001+$BL$2)*Comanda!F152,\"\")","v":""},null,{"$f":"IF(Comanda!H152=3,(Comanda!D152*0.001+$BL$2)*Comanda!F152,\"\")","v":""},{"$f":"IF(Comanda!I152=3,(Comanda!D152*0.001+$BL$2)*Comanda!F152,\"\")","v":""},{"$f":"IF(Comanda!J152=3,(Comanda!E152*0.001+$BL$2)*Comanda!F152,\"\")","v":""},{"$f":"IF(Comanda!K152=3,(Comanda!E152*0.001+$BL$2)*Comanda!F152,\"\")","v":""},null,{"$f":"IF(Comanda!H152=4,(Comanda!D152*0.001+$BL$2)*Comanda!F152,\"\")","v":""},{"$f":"IF(Comanda!I152=4,(Comanda!D152*0.001+$BL$2)*Comanda!F152,\"\")","v":""},{"$f":"IF(Comanda!J152=4,(Comanda!E152*0.001+$BL$2)*Comanda!F152,\"\")","v":""},{"$f":"IF(Comanda!K152=4,(Comanda!E152*0.001+$BL$2)*Comanda!F152,\"\")","v":""}]
[134,{"$f":"IF(Comanda!B153<>0,Comanda!B153,\"\")","v":""},{"$f":"IF(Comanda!C153<>0,Comanda!C153,\"\")","v":""},{"$f":"IF(Comanda!D153<>0,Comanda!D153,\"\")","v":""},{"$f":"IF(Comanda!E153<>0,Comanda!E153,\"\")","v":""},{"$f":"IF(Comanda!F153<>0,Comanda!F153,\"\")","v":""},{"$f":"IF(Comanda!G153<>0,1,0)","v":0},{"$f":"IF(Comanda!H153=1,Comanda!$C$13,IF(Comanda!H153=2,Comanda!$C$14,IF(Comanda!$H153=3,Comanda!$C$15,IF(Comanda!$H153=4,Comanda!$C$16,0))))","v":0},{"$f":"IF(Comanda!I153=1,Comanda!$C$13,IF(Comanda!I153=2,Comanda!$C$14,IF(Comanda!$I153=3,Comanda!$C$15,IF(Comanda!$I153=4,Comanda!$C$16,0))))","v":0},{"$f":"IF(Comanda!J153=1,Comanda!$C$13,IF(Comanda!J153=2,Comanda!$C$14,IF(Comanda!$J153=3,Comanda!$C$15,IF(Comanda!$J153=4,Comanda!$C$16,0))))","v":0},{"$f":"IF(Comanda!K153=1,Comanda!$C$13,IF(Comanda!K153=2,Comanda!$C$14,IF(Comanda!$K153=3,Comanda!$C$15,IF(Comanda!$K153=4,Comanda!$C$16,0))))","v":0},{"$f":"IF(Comanda!B153<>0,Comanda!$C$2,\"\")","v":""},{"$f":"IF(Comanda!B153<>0,Comanda!$C$5,\"\")","v":""},{"$f":"IF(Comanda!B153<>0,Comanda!$G$2,\"\")","v":""},{"$f":"IF(Comanda!B153<>0,Comanda!L153,\"\")","v":""},{"$f":"IF(Comanda!D153<>0,VLOOKUP('Formula Cant'!F136,'Grafica Cant'!$G$2:$H$25,2,FALSE),\"\")","v":""},{"$nulls":8},{"$f":"IF(Comanda!B153<>0,Comanda!$C$9,\"\")","v":""},{"$f":"IF(Comanda!B153<>0,VLOOKUP(Comanda!$C$12,PRETURI!$A$2:$C$500,3,FALSE),\"\")","v":""},"",{"$f":"IF(H136<>0,VLOOKUP(H136,PRETURI!$D$2:$F$1093,3,FALSE),\"\")","v":""},{"v":0,"d":"0.00"},{"$f":"IF(I136<>0,VLOOKUP(I136,PRETURI!$D$2:$F$1093,3,FALSE),\"\")","v":""},{"v":0,"d":"0.00"},{"$f":"IF(J136<>0,VLOOKUP(J136,PRETURI!$D$2:$F$1093,3,FALSE),\"\")","v":""},{"v":0,"d":"0.00"},{"$f":"IF(K136<>0,VLOOKUP(K136,PRETURI!$D$2:$F$1093,3,FALSE),\"\")","v":""},{"v":0,"d":"0.00"},{"$nulls":6},{"$f":"(Comanda!D153*Comanda!E153*Comanda!F153)*0.000001","v":{"v":0,"d":"0.00"}},null,{"$f":"IF(Comanda!H153=1,(Comanda!D153*0.001+$BL$2)*Comanda!F153,\"\")","v":""},{"$f":"IF(Comanda!I153=1,(Comanda!D153*0.001+$BL$2)*Comanda!F153,\"\")","v":""},{"$f":"IF(Comanda!J153=1,(Comanda!E153*0.001+$BL$2)*Comanda!F153,\"\")","v":""},{"$f":"IF(Comanda!K153=1,(Comanda!E153*0.001+$BL$2)*Comanda!F153,\"\")","v":""},null,{"$f":"IF(Comanda!H153=2,(Comanda!D153*0.001+$BL$2)*Comanda!F153,\"\")","v":""},{"$f":"IF(Comanda!I153=2,(Comanda!D153*0.001+$BL$2)*Comanda!F153,\"\")","v":""},{"$f":"IF(Comanda!J153=2,(Comanda!E153*0.001+$BL$2)*Comanda!F153,\"\")","v":""},{"$f":"IF(Comanda!K153=2,(Comanda!E153*0.001+$BL$2)*Comanda!F153,\"\")","v":""},null,{"$f":"IF(Comanda!H153=3,(Comanda!D153*0.001+$BL$2)*Comanda!F153,\"\")","v":""},{"$f":"IF(Comanda!I153=3,(Comanda!D153*0.001+$BL$2)*Comanda!F153,\"\")","v":""},{"$f":"IF(Comanda!J153=3,(Comanda!E153*0.001+$BL$2)*Comanda!F153,\"\")","v":""},{"$f":"IF(Comanda!K153=3,(Comanda!E153*0.001+$BL$2)*Comanda!F153,\"\")","v":""},null,{"$f":"IF(Comanda!H153=4,(Comanda!D153*0.001+$BL$2)*Comanda!F153,\"\")","v":""},{"$f":"IF(Comanda!I153=4,(Comanda!D153*0.001+$BL$2)*Comanda!F153,\"\")","v":""},{"$f":"IF(Comanda!J153=4,(Comanda!E153*0.001+$BL$2)*Comanda!F153,\"\")","v":""},{"$f":"IF(Comanda!K153=4,(Comanda!E153*0.001+$BL$2)*Comanda!F153,\"\")","v":""}]
[135,{"$f":"IF(Comanda!B154<>0,Comanda!B154,\"\")","v":""},{"$f":"IF(Comanda!C154<>0,Comanda!C154,\"\")","v":""},{"$f":"IF(Comanda!D154<>0,Comanda!D154,\"\")","v":""},{"$f":"IF(Comanda!E154<>0,Comanda!E154,\"\")","v":""},{"$f":"IF(Comanda!F154<>0,Comanda!F154,\"\")","v":""},{"$f":"IF(Comanda!G154<>0,1,0)","v":0},{"$f":"IF(Comanda!H154=1,Comanda!$C$13,IF(Comanda!H154=2,Comanda!$C$14,IF(Comanda!$H154=3,Comanda!$C$15,IF(Comanda!$H154=4,Comanda!$C$16,0))))","v":0},{"$f":"IF(Comanda!I154=1,Comanda!$C$13,IF(Comanda!I154=2,Comanda!$C$14,IF(Comanda!$I154=3,Comanda!$C$15,IF(Comanda!$I154=4,Comanda!$C$16,0))))","v":0},{"$f":"IF(Comanda!J154=1,Comanda!$C$13,IF(Comanda!J154=2,Comanda!$C$14,IF(Comanda!$J154=3,Comanda!$C$15,IF(Comanda!$J154=4,Comanda!$C$16,0))))","v":0},{"$f":"IF(Comanda!K154=1,Comanda!$C$13,IF(Comanda!K154=2,Comanda!$C$14,IF(Comanda!$K154=3,Comanda!$C$15,IF(Comanda!$K154=4,Comanda!$C$16,0))))","v":0},{"$f":"IF(Comanda!B154<>0,Comanda!$C$2,\"\")","v":""},{"$f":"IF(Comanda!B154<>0,Comanda!$C$5,\"\")","v":""},{"$f":"IF(Comanda!B154<>0,Comanda!$G$2,\"\")","v":""},{"$f":"IF(Comanda!B154<>0,Comanda!L154,\"\")","v":""},{"$f":"IF(Comanda!D154<>0,VLOOKUP('Formula Cant'!F137,'Grafica Cant'!$G$2:$H$25,2,FALSE),\"\")","v":""},{"$nulls":8},{"$f":"IF(Comanda!B154<>0,Comanda!$C$9,\"\")","v":""},{"$f":"IF(Comanda!B154<>0,VLOOKUP(Comanda!$C$12,PRETURI!$A$2:$C$500,3,FALSE),\"\")","v":""},"",{"$f":"IF(H137<>0,VLOOKUP(H137,PRETURI!$D$2:$F$1093,3,FALSE),\"\")","v":""},{"v":0,"d":"0.00"},{"$f":"IF(I137<>0,VLOOKUP(I137,PRETURI!$D$2:$F$1093,3,FALSE),\"\")","v":""},{"v":0,"d":"0.00"},{"$f":"IF(J137<>0,VLOOKUP(J137,PRETURI!$D$2:$F$1093,3,FALSE),\"\")","v":""},{"v":0,"d":"0.00"},{"$f":"IF(K137<>0,VLOOKUP(K137,PRETURI!$D$2:$F$1093,3,FALSE),\"\")","v":""},{"v":0,"d":"0.00"},{"$nulls":6},{"$f":"(Comanda!D154*Comanda!E154*Comanda!F154)*0.000001","v":{"v":0,"d":"0.00"}},null,{"$f":"IF(Comanda!H154=1,(Comanda!D154*0.001+$BL$2)*Comanda!F154,\"\")","v":""},{"$f":"IF(Comanda!I154=1,(Comanda!D154*0.001+$BL$2)*Comanda!F154,\"\")","v":""},{"$f":"IF(Comanda!J154=1,(Comanda!E154*0.001+$BL$2)*Comanda!F154,\"\")","v":""},{"$f":"IF(Comanda!K154=1,(Comanda!E154*0.001+$BL$2)*Comanda!F154,\"\")","v":""},null,{"$f":"IF(Comanda!H154=2,(Comanda!D154*0.001+$BL$2)*Comanda!F154,\"\")","v":""},{"$f":"IF(Comanda!I154=2,(Comanda!D154*0.001+$BL$2)*Comanda!F154,\"\")","v":""},{"$f":"IF(Comanda!J154=2,(Comanda!E154*0.001+$BL$2)*Comanda!F154,\"\")","v":""},{"$f":"IF(Comanda!K154=2,(Comanda!E154*0.001+$BL$2)*Comanda!F154,\"\")","v":""},null,{"$f":"IF(Comanda!H154=3,(Comanda!D154*0.001+$BL$2)*Comanda!F154,\"\")","v":""},{"$f":"IF(Comanda!I154=3,(Comanda!D154*0.001+$BL$2)*Comanda!F154,\"\")","v":""},{"$f":"IF(Comanda!J154=3,(Comanda!E154*0.001+$BL$2)*Comanda!F154,\"\")","v":""},{"$f":"IF(Comanda!K154=3,(Comanda!E154*0.001+$BL$2)*Comanda!F154,\"\")","v":""},null,{"$f":"IF(Comanda!H154=4,(Comanda!D154*0.001+$BL$2)*Comanda!F154,\"\")","v":""},{"$f":"IF(Comanda!I154=4,(Comanda!D154*0.001+$BL$2)*Comanda!F154,\"\")","v":""},{"$f":"IF(Comanda!J154=4,(Comanda!E154*0.001+$BL$2)*Comanda!F154,\"\")","v":""},{"$f":"IF(Comanda!K154=4,(Comanda!E154*0.001+$BL$2)*Comanda!F154,\"\")","v":""}]
[136,{"$f":"IF(Comanda!B155<>0,Comanda!B155,\"\")","v":""},{"$f":"IF(Comanda!C155<>0,Comanda!C155,\"\")","v":""},{"$f":"IF(Comanda!D155<>0,Comanda!D155,\"\")","v":""},{"$f":"IF(Comanda!E155<>0,Comanda!E155,\"\")","v":""},{"$f":"IF(Comanda!F155<>0,Comanda!F155,\"\")","v":""},{"$f":"IF(Comanda!G155<>0,1,0)","v":0},{"$f":"IF(Comanda!H155=1,Comanda!$C$13,IF(Comanda!H155=2,Comanda!$C$14,IF(Comanda!$H155=3,Comanda!$C$15,IF(Comanda!$H155=4,Comanda!$C$16,0))))","v":0},{"$f":"IF(Comanda!I155=1,Comanda!$C$13,IF(Comanda!I155=2,Comanda!$C$14,IF(Comanda!$I155=3,Comanda!$C$15,IF(Comanda!$I155=4,Comanda!$C$16,0))))","v":0},{"$f":"IF(Comanda!J155=1,Comanda!$C$13,IF(Comanda!J155=2,Comanda!$C$14,IF(Comanda!$J155=3,Comanda!$C$15,IF(Comanda!$J155=4,Comanda!$C$16,0))))","v":0},{"$f":"IF(Comanda!K155=1,Comanda!$C$13,IF(Comanda!K155=2,Comanda!$C$14,IF(Comanda!$K155=3,Comanda!$C$15,IF(Comanda!$K155=4,Comanda!$C$16,0))))","v":0},{"$f":"IF(Comanda!B155<>0,Comanda!$C$2,\"\")","v":""},{"$f":"IF(Comanda!B155<>0,Comanda!$C$5,\"\")","v":""},{"$f":"IF(Comanda!B155<>0,Comanda!$G$2,\"\")","v":""},{"$f":"IF(Comanda!B155<>0,Comanda!L155,\"\")","v":""},{"$f":"IF(Comanda!D155<>0,VLOOKUP('Formula Cant'!F138,'Grafica Cant'!$G$2:$H$25,2,FALSE),\"\")","v":""},{"$nulls":8},{"$f":"IF(Comanda!B155<>0,Comanda!$C$9,\"\")","v":""},{"$f":"IF(Comanda!B155<>0,VLOOKUP(Comanda!$C$12,PRETURI!$A$2:$C$500,3,FALSE),\"\")","v":""},"",{"$f":"IF(H138<>0,VLOOKUP(H138,PRETURI!$D$2:$F$1093,3,FALSE),\"\")","v":""},{"v":0,"d":"0.00"},{"$f":"IF(I138<>0,VLOOKUP(I138,PRETURI!$D$2:$F$1093,3,FALSE),\"\")","v":""},{"v":0,"d":"0.00"},{"$f":"IF(J138<>0,VLOOKUP(J138,PRETURI!$D$2:$F$1093,3,FALSE),\"\")","v":""},{"v":0,"d":"0.00"},{"$f":"IF(K138<>0,VLOOKUP(K138,PRETURI!$D$2:$F$1093,3,FALSE),\"\")","v":""},{"v":0,"d":"0.00"},{"$nulls":6},{"$f":"(Comanda!D155*Comanda!E155*Comanda!F155)*0.000001","v":{"v":0,"d":"0.00"}},null,{"$f":"IF(Comanda!H155=1,(Comanda!D155*0.001+$BL$2)*Comanda!F155,\"\")","v":""},{"$f":"IF(Comanda!I155=1,(Comanda!D155*0.001+$BL$2)*Comanda!F155,\"\")","v":""},{"$f":"IF(Comanda!J155=1,(Comanda!E155*0.001+$BL$2)*Comanda!F155,\"\")","v":""},{"$f":"IF(Comanda!K155=1,(Comanda!E155*0.001+$BL$2)*Comanda!F155,\"\")","v":""},null,{"$f":"IF(Comanda!H155=2,(Comanda!D155*0.001+$BL$2)*Comanda!F155,\"\")","v":""},{"$f":"IF(Comanda!I155=2,(Comanda!D155*0.001+$BL$2)*Comanda!F155,\"\")","v":""},{"$f":"IF(Comanda!J155=2,(Comanda!E155*0.001+$BL$2)*Comanda!F155,\"\")","v":""},{"$f":"IF(Comanda!K155=2,(Comanda!E155*0.001+$BL$2)*Comanda!F155,\"\")","v":""},null,{"$f":"IF(Comanda!H155=3,(Comanda!D155*0.001+$BL$2)*Comanda!F155,\"\")","v":""},{"$f":"IF(Comanda!I155=3,(Comanda!D155*0.001+$BL$2)*Comanda!F155,\"\")","v":""},{"$f":"IF(Comanda!J155=3,(Comanda!E155*0.001+$BL$2)*Comanda!F155,\"\")","v":""},{"$f":"IF(Comanda!K155=3,(Comanda!E155*0.001+$BL$2)*Comanda!F155,\"\")","v":""},null,{"$f":"IF(Comanda!H155=4,(Comanda!D155*0.001+$BL$2)*Comanda!F155,\"\")","v":""},{"$f":"IF(Comanda!I155=4,(Comanda!D155*0.001+$BL$2)*Comanda!F155,\"\")","v":""},{"$f":"IF(Comanda!J155=4,(Comanda!E155*0.001+$BL$2)*Comanda!F155,\"\")","v":""},{"$f":"IF(Comanda!K155=4,(Comanda!E155*0.001+$BL$2)*Comanda!F155,\"\")","v":""}]
[137,{"$f":"IF(Comanda!B156<>0,Comanda!B156,\"\")","v":""},{"$f":"IF(Comanda!C156<>0,Comanda!C156,\"\")","v":""},{"$f":"IF(Comanda!D156<>0,Comanda!D156,\"\")","v":""},{"$f":"IF(Comanda!E156<>0,Comanda!E156,\"\")","v":""},{"$f":"IF(Comanda!F156<>0,Comanda!F156,\"\")","v":""},{"$f":"IF(Comanda!G156<>0,1,0)","v":0},{"$f":"IF(Comanda!H156=1,Comanda!$C$13,IF(Comanda!H156=2,Comanda!$C$14,IF(Comanda!$H156=3,Comanda!$C$15,IF(Comanda!$H156=4,Comanda!$C$16,0))))","v":0},{"$f":"IF(Comanda!I156=1,Comanda!$C$13,IF(Comanda!I156=2,Comanda!$C$14,IF(Comanda!$I156=3,Comanda!$C$15,IF(Comanda!$I156=4,Comanda!$C$16,0))))","v":0},{"$f":"IF(Comanda!J156=1,Comanda!$C$13,IF(Comanda!J156=2,Comanda!$C$14,IF(Comanda!$J156=3,Comanda!$C$15,IF(Comanda!$J156=4,Comanda!$C$16,0))))","v":0},{"$f":"IF(Comanda!K156=1,Comanda!$C$13,IF(Comanda!K156=2,Comanda!$C$14,IF(Comanda!$K156=3,Comanda!$C$15,IF(Comanda!$K156=4,Comanda!$C$16,0))))","v":0},{"$f":"IF(Comanda!B156<>0,Comanda!$C$2,\"\")","v":""},{"$f":"IF(Comanda!B156<>0,Comanda!$C$5,\"\")","v":""},{"$f":"IF(Comanda!B156<>0,Comanda!$G$2,\"\")","v":""},{"$f":"IF(Comanda!B156<>0,Comanda!L156,\"\")","v":""},{"$f":"IF(Comanda!D156<>0,VLOOKUP('Formula Cant'!F139,'Grafica Cant'!$G$2:$H$25,2,FALSE),\"\")","v":""},{"$nulls":8},{"$f":"IF(Comanda!B156<>0,Comanda!$C$9,\"\")","v":""},{"$f":"IF(Comanda!B156<>0,VLOOKUP(Comanda!$C$12,PRETURI!$A$2:$C$500,3,FALSE),\"\")","v":""},"",{"$f":"IF(H139<>0,VLOOKUP(H139,PRETURI!$D$2:$F$1093,3,FALSE),\"\")","v":""},{"v":0,"d":"0.00"},{"$f":"IF(I139<>0,VLOOKUP(I139,PRETURI!$D$2:$F$1093,3,FALSE),\"\")","v":""},{"v":0,"d":"0.00"},{"$f":"IF(J139<>0,VLOOKUP(J139,PRETURI!$D$2:$F$1093,3,FALSE),\"\")","v":""},{"v":0,"d":"0.00"},{"$f":"IF(K139<>0,VLOOKUP(K139,PRETURI!$D$2:$F$1093,3,FALSE),\"\")","v":""},{"v":0,"d":"0.00"},{"$nulls":6},{"$f":"(Comanda!D156*Comanda!E156*Comanda!F156)*0.000001","v":{"v":0,"d":"0.00"}},null,{"$f":"IF(Comanda!H156=1,(Comanda!D156*0.001+$BL$2)*Comanda!F156,\"\")","v":""},{"$f":"IF(Comanda!I156=1,(Comanda!D156*0.001+$BL$2)*Comanda!F156,\"\")","v":""},{"$f":"IF(Comanda!J156=1,(Comanda!E156*0.001+$BL$2)*Comanda!F156,\"\")","v":""},{"$f":"IF(Comanda!K156=1,(Comanda!E156*0.001+$BL$2)*Comanda!F156,\"\")","v":""},null,{"$f":"IF(Comanda!H156=2,(Comanda!D156*0.001+$BL$2)*Comanda!F156,\"\")","v":""},{"$f":"IF(Comanda!I156=2,(Comanda!D156*0.001+$BL$2)*Comanda!F156,\"\")","v":""},{"$f":"IF(Comanda!J156=2,(Comanda!E156*0.001+$BL$2)*Comanda!F156,\"\")","v":""},{"$f":"IF(Comanda!K156=2,(Comanda!E156*0.001+$BL$2)*Comanda!F156,\"\")","v":""},null,{"$f":"IF(Comanda!H156=3,(Comanda!D156*0.001+$BL$2)*Comanda!F156,\"\")","v":""},{"$f":"IF(Comanda!I156=3,(Comanda!D156*0.001+$BL$2)*Comanda!F156,\"\")","v":""},{"$f":"IF(Comanda!J156=3,(Comanda!E156*0.001+$BL$2)*Comanda!F156,\"\")","v":""},{"$f":"IF(Comanda!K156=3,(Comanda!E156*0.001+$BL$2)*Comanda!F156,\"\")","v":""},null,{"$f":"IF(Comanda!H156=4,(Comanda!D156*0.001+$BL$2)*Comanda!F156,\"\")","v":""},{"$f":"IF(Comanda!I156=4,(Comanda!D156*0.001+$BL$2)*Comanda!F156,\"\")","v":""},{"$f":"IF(Comanda!J156=4,(Comanda!E156*0.001+$BL$2)*Comanda!F156,\"\")","v":""},{"$f":"IF(Comanda!K156=4,(Comanda!E156*0.001+$BL$2)*Comanda!F156,\"\")","v":""}]
[138,{"$f":"IF(Comanda!B157<>0,Comanda!B157,\"\")","v":""},{"$f":"IF(Comanda!C157<>0,Comanda!C157,\"\")","v":""},{"$f":"IF(Comanda!D157<>0,Comanda!D157,\"\")","v":""},{"$f":"IF(Comanda!E157<>0,Comanda!E157,\"\")","v":""},{"$f":"IF(Comanda!F157<>0,Comanda!F157,\"\")","v":""},{"$f":"IF(Comanda!G157<>0,1,0)","v":0},{"$f":"IF(Comanda!H157=1,Comanda!$C$13,IF(Comanda!H157=2,Comanda!$C$14,IF(Comanda!$H157=3,Comanda!$C$15,IF(Comanda!$H157=4,Comanda!$C$16,0))))","v":0},{"$f":"IF(Comanda!I157=1,Comanda!$C$13,IF(Comanda!I157=2,Comanda!$C$14,IF(Comanda!$I157=3,Comanda!$C$15,IF(Comanda!$I157=4,Comanda!$C$16,0))))","v":0},{"$f":"IF(Comanda!J157=1,Comanda!$C$13,IF(Comanda!J157=2,Comanda!$C$14,IF(Comanda!$J157=3,Comanda!$C$15,IF(Comanda!$J157=4,Comanda!$C$16,0))))","v":0},{"$f":"IF(Comanda!K157=1,Comanda!$C$13,IF(Comanda!K157=2,Comanda!$C$14,IF(Comanda!$K157=3,Comanda!$C$15,IF(Comanda!$K157=4,Comanda!$C$16,0))))","v":0},{"$f":"IF(Comanda!B157<>0,Comanda!$C$2,\"\")","v":""},{"$f":"IF(Comanda!B157<>0,Comanda!$C$5,\"\")","v":""},{"$f":"IF(Comanda!B157<>0,Comanda!$G$2,\"\")","v":""},{"$f":"IF(Comanda!B157<>0,Comanda!L157,\"\")","v":""},{"$f":"IF(Comanda!D157<>0,VLOOKUP('Formula Cant'!F140,'Grafica Cant'!$G$2:$H$25,2,FALSE),\"\")","v":""},{"$nulls":8},{"$f":"IF(Comanda!B157<>0,Comanda!$C$9,\"\")","v":""},{"$f":"IF(Comanda!B157<>0,VLOOKUP(Comanda!$C$12,PRETURI!$A$2:$C$500,3,FALSE),\"\")","v":""},"",{"$f":"IF(H140<>0,VLOOKUP(H140,PRETURI!$D$2:$F$1093,3,FALSE),\"\")","v":""},{"v":0,"d":"0.00"},{"$f":"IF(I140<>0,VLOOKUP(I140,PRETURI!$D$2:$F$1093,3,FALSE),\"\")","v":""},{"v":0,"d":"0.00"},{"$f":"IF(J140<>0,VLOOKUP(J140,PRETURI!$D$2:$F$1093,3,FALSE),\"\")","v":""},{"v":0,"d":"0.00"},{"$f":"IF(K140<>0,VLOOKUP(K140,PRETURI!$D$2:$F$1093,3,FALSE),\"\")","v":""},{"v":0,"d":"0.00"},{"$nulls":6},{"$f":"(Comanda!D157*Comanda!E157*Comanda!F157)*0.000001","v":{"v":0,"d":"0.00"}},null,{"$f":"IF(Comanda!H157=1,(Comanda!D157*0.001+$BL$2)*Comanda!F157,\"\")","v":""},{"$f":"IF(Comanda!I157=1,(Comanda!D157*0.001+$BL$2)*Comanda!F157,\"\")","v":""},{"$f":"IF(Comanda!J157=1,(Comanda!E157*0.001+$BL$2)*Comanda!F157,\"\")","v":""},{"$f":"IF(Comanda!K157=1,(Comanda!E157*0.001+$BL$2)*Comanda!F157,\"\")","v":""},null,{"$f":"IF(Comanda!H157=2,(Comanda!D157*0.001+$BL$2)*Comanda!F157,\"\")","v":""},{"$f":"IF(Comanda!I157=2,(Comanda!D157*0.001+$BL$2)*Comanda!F157,\"\")","v":""},{"$f":"IF(Comanda!J157=2,(Comanda!E157*0.001+$BL$2)*Comanda!F157,\"\")","v":""},{"$f":"IF(Comanda!K157=2,(Comanda!E157*0.001+$BL$2)*Comanda!F157,\"\")","v":""},null,{"$f":"IF(Comanda!H157=3,(Comanda!D157*0.001+$BL$2)*Comanda!F157,\"\")","v":""},{"$f":"IF(Comanda!I157=3,(Comanda!D157*0.001+$BL$2)*Comanda!F157,\"\")","v":""},{"$f":"IF(Comanda!J157=3,(Comanda!E157*0.001+$BL$2)*Comanda!F157,\"\")","v":""},{"$f":"IF(Comanda!K157=3,(Comanda!E157*0.001+$BL$2)*Comanda!F157,\"\")","v":""},null,{"$f":"IF(Comanda!H157=4,(Comanda!D157*0.001+$BL$2)*Comanda!F157,\"\")","v":""},{"$f":"IF(Comanda!I157=4,(Comanda!D157*0.001+$BL$2)*Comanda!F157,\"\")","v":""},{"$f":"IF(Comanda!J157=4,(Comanda!E157*0.001+$BL$2)*Comanda!F157,\"\")","v":""},{"$f":"IF(Comanda!K157=4,(Comanda!E157*0.001+$BL$2)*Comanda!F157,\"\")","v":""}]
[139,{"$f":"IF(Comanda!B158<>0,Comanda!B158,\"\")","v":""},{"$f":"IF(Comanda!C158<>0,Comanda!C158,\"\")","v":""},{"$f":"IF(Comanda!D158<>0,Comanda!D158,\"\")","v":""},{"$f":"IF(Comanda!E158<>0,Comanda!E158,\"\")","v":""},{"$f":"IF(Comanda!F158<>0,Comanda!F158,\"\")","v":""},{"$f":"IF(Comanda!G158<>0,1,0)","v":0},{"$f":"IF(Comanda!H158=1,Comanda!$C$13,IF(Comanda!H158=2,Comanda!$C$14,IF(Comanda!$H158=3,Comanda!$C$15,IF(Comanda!$H158=4,Comanda!$C$16,0))))","v":0},{"$f":"IF(Comanda!I158=1,Comanda!$C$13,IF(Comanda!I158=2,Comanda!$C$14,IF(Comanda!$I158=3,Comanda!$C$15,IF(Comanda!$I158=4,Comanda!$C$16,0))))","v":0},{"$f":"IF(Comanda!J158=1,Comanda!$C$13,IF(Comanda!J158=2,Comanda!$C$14,IF(Comanda!$J158=3,Comanda!$C$15,IF(Comanda!$J158=4,Comanda!$C$16,0))))","v":0},{"$f":"IF(Comanda!K158=1,Comanda!$C$13,IF(Comanda!K158=2,Comanda!$C$14,IF(Comanda!$K158=3,Comanda!$C$15,IF(Comanda!$K158=4,Comanda!$C$16,0))))","v":0},{"$f":"IF(Comanda!B158<>0,Comanda!$C$2,\"\")","v":""},{"$f":"IF(Comanda!B158<>0,Comanda!$C$5,\"\")","v":""},{"$f":"IF(Comanda!B158<>0,Comanda!$G$2,\"\")","v":""},{"$f":"IF(Comanda!B158<>0,Comanda!L158,\"\")","v":""},{"$f":"IF(Comanda!D158<>0,VLOOKUP('Formula Cant'!F141,'Grafica Cant'!$G$2:$H$25,2,FALSE),\"\")","v":""},{"$nulls":8},{"$f":"IF(Comanda!B158<>0,Comanda!$C$9,\"\")","v":""},{"$f":"IF(Comanda!B158<>0,VLOOKUP(Comanda!$C$12,PRETURI!$A$2:$C$500,3,FALSE),\"\")","v":""},"",{"$f":"IF(H141<>0,VLOOKUP(H141,PRETURI!$D$2:$F$1093,3,FALSE),\"\")","v":""},{"v":0,"d":"0.00"},{"$f":"IF(I141<>0,VLOOKUP(I141,PRETURI!$D$2:$F$1093,3,FALSE),\"\")","v":""},{"v":0,"d":"0.00"},{"$f":"IF(J141<>0,VLOOKUP(J141,PRETURI!$D$2:$F$1093,3,FALSE),\"\")","v":""},{"v":0,"d":"0.00"},{"$f":"IF(K141<>0,VLOOKUP(K141,PRETURI!$D$2:$F$1093,3,FALSE),\"\")","v":""},{"v":0,"d":"0.00"},{"$nulls":6},{"$f":"(Comanda!D158*Comanda!E158*Comanda!F158)*0.000001","v":{"v":0,"d":"0.00"}},null,{"$f":"IF(Comanda!H158=1,(Comanda!D158*0.001+$BL$2)*Comanda!F158,\"\")","v":""},{"$f":"IF(Comanda!I158=1,(Comanda!D158*0.001+$BL$2)*Comanda!F158,\"\")","v":""},{"$f":"IF(Comanda!J158=1,(Comanda!E158*0.001+$BL$2)*Comanda!F158,\"\")","v":""},{"$f":"IF(Comanda!K158=1,(Comanda!E158*0.001+$BL$2)*Comanda!F158,\"\")","v":""},null,{"$f":"IF(Comanda!H158=2,(Comanda!D158*0.001+$BL$2)*Comanda!F158,\"\")","v":""},{"$f":"IF(Comanda!I158=2,(Comanda!D158*0.001+$BL$2)*Comanda!F158,\"\")","v":""},{"$f":"IF(Comanda!J158=2,(Comanda!E158*0.001+$BL$2)*Comanda!F158,\"\")","v":""},{"$f":"IF(Comanda!K158=2,(Comanda!E158*0.001+$BL$2)*Comanda!F158,\"\")","v":""},null,{"$f":"IF(Comanda!H158=3,(Comanda!D158*0.001+$BL$2)*Comanda!F158,\"\")","v":""},{"$f":"IF(Comanda!I158=3,(Comanda!D158*0.001+$BL$2)*Comanda!F158,\"\")","v":""},{"$f":"IF(Comanda!J158=3,(Comanda!E158*0.001+$BL$2)*Comanda!F158,\"\")","v":""},{"$f":"IF(Comanda!K158=3,(Comanda!E158*0.001+$BL$2)*Comanda!F158,\"\")","v":""},null,{"$f":"IF(Comanda!H158=4,(Comanda!D158*0.001+$BL$2)*Comanda!F158,\"\")","v":""},{"$f":"IF(Comanda!I158=4,(Comanda!D158*0.001+$BL$2)*Comanda!F158,\"\")","v":""},{"$f":"IF(Comanda!J158=4,(Comanda!E158*0.001+$BL$2)*Comanda!F158,\"\")","v":""},{"$f":"IF(Comanda!K158=4,(Comanda!E158*0.001+$BL$2)*Comanda!F158,\"\")","v":""}]
[140,{"$f":"IF(Comanda!B159<>0,Comanda!B159,\"\")","v":""},{"$f":"IF(Comanda!C159<>0,Comanda!C159,\"\")","v":""},{"$f":"IF(Comanda!D159<>0,Comanda!D159,\"\")","v":""},{"$f":"IF(Comanda!E159<>0,Comanda!E159,\"\")","v":""},{"$f":"IF(Comanda!F159<>0,Comanda!F159,\"\")","v":""},{"$f":"IF(Comanda!G159<>0,1,0)","v":0},{"$f":"IF(Comanda!H159=1,Comanda!$C$13,IF(Comanda!H159=2,Comanda!$C$14,IF(Comanda!$H159=3,Comanda!$C$15,IF(Comanda!$H159=4,Comanda!$C$16,0))))","v":0},{"$f":"IF(Comanda!I159=1,Comanda!$C$13,IF(Comanda!I159=2,Comanda!$C$14,IF(Comanda!$I159=3,Comanda!$C$15,IF(Comanda!$I159=4,Comanda!$C$16,0))))","v":0},{"$f":"IF(Comanda!J159=1,Comanda!$C$13,IF(Comanda!J159=2,Comanda!$C$14,IF(Comanda!$J159=3,Comanda!$C$15,IF(Comanda!$J159=4,Comanda!$C$16,0))))","v":0},{"$f":"IF(Comanda!K159=1,Comanda!$C$13,IF(Comanda!K159=2,Comanda!$C$14,IF(Comanda!$K159=3,Comanda!$C$15,IF(Comanda!$K159=4,Comanda!$C$16,0))))","v":0},{"$f":"IF(Comanda!B159<>0,Comanda!$C$2,\"\")","v":""},{"$f":"IF(Comanda!B159<>0,Comanda!$C$5,\"\")","v":""},{"$f":"IF(Comanda!B159<>0,Comanda!$G$2,\"\")","v":""},{"$f":"IF(Comanda!B159<>0,Comanda!L159,\"\")","v":""},{"$f":"IF(Comanda!D159<>0,VLOOKUP('Formula Cant'!F142,'Grafica Cant'!$G$2:$H$25,2,FALSE),\"\")","v":""},{"$nulls":8},{"$f":"IF(Comanda!B159<>0,Comanda!$C$9,\"\")","v":""},{"$f":"IF(Comanda!B159<>0,VLOOKUP(Comanda!$C$12,PRETURI!$A$2:$C$500,3,FALSE),\"\")","v":""},"",{"$f":"IF(H142<>0,VLOOKUP(H142,PRETURI!$D$2:$F$1093,3,FALSE),\"\")","v":""},{"v":0,"d":"0.00"},{"$f":"IF(I142<>0,VLOOKUP(I142,PRETURI!$D$2:$F$1093,3,FALSE),\"\")","v":""},{"v":0,"d":"0.00"},{"$f":"IF(J142<>0,VLOOKUP(J142,PRETURI!$D$2:$F$1093,3,FALSE),\"\")","v":""},{"v":0,"d":"0.00"},{"$f":"IF(K142<>0,VLOOKUP(K142,PRETURI!$D$2:$F$1093,3,FALSE),\"\")","v":""},{"v":0,"d":"0.00"},{"$nulls":6},{"$f":"(Comanda!D159*Comanda!E159*Comanda!F159)*0.000001","v":{"v":0,"d":"0.00"}},null,{"$f":"IF(Comanda!H159=1,(Comanda!D159*0.001+$BL$2)*Comanda!F159,\"\")","v":""},{"$f":"IF(Comanda!I159=1,(Comanda!D159*0.001+$BL$2)*Comanda!F159,\"\")","v":""},{"$f":"IF(Comanda!J159=1,(Comanda!E159*0.001+$BL$2)*Comanda!F159,\"\")","v":""},{"$f":"IF(Comanda!K159=1,(Comanda!E159*0.001+$BL$2)*Comanda!F159,\"\")","v":""},null,{"$f":"IF(Comanda!H159=2,(Comanda!D159*0.001+$BL$2)*Comanda!F159,\"\")","v":""},{"$f":"IF(Comanda!I159=2,(Comanda!D159*0.001+$BL$2)*Comanda!F159,\"\")","v":""},{"$f":"IF(Comanda!J159=2,(Comanda!E159*0.001+$BL$2)*Comanda!F159,\"\")","v":""},{"$f":"IF(Comanda!K159=2,(Comanda!E159*0.001+$BL$2)*Comanda!F159,\"\")","v":""},null,{"$f":"IF(Comanda!H159=3,(Comanda!D159*0.001+$BL$2)*Comanda!F159,\"\")","v":""},{"$f":"IF(Comanda!I159=3,(Comanda!D159*0.001+$BL$2)*Comanda!F159,\"\")","v":""},{"$f":"IF(Comanda!J159=3,(Comanda!E159*0.001+$BL$2)*Comanda!F159,\"\")","v":""},{"$f":"IF(Comanda!K159=3,(Comanda!E159*0.001+$BL$2)*Comanda!F159,\"\")","v":""},null,{"$f":"IF(Comanda!H159=4,(Comanda!D159*0.001+$BL$2)*Comanda!F159,\"\")","v":""},{"$f":"IF(Comanda!I159=4,(Comanda!D159*0.001+$BL$2)*Comanda!F159,\"\")","v":""},{"$f":"IF(Comanda!J159=4,(Comanda!E159*0.001+$BL$2)*Comanda!F159,\"\")","v":""},{"$f":"IF(Comanda!K159=4,(Comanda!E159*0.001+$BL$2)*Comanda!F159,\"\")","v":""}]
[141,{"$f":"IF(Comanda!B160<>0,Comanda!B160,\"\")","v":""},{"$f":"IF(Comanda!C160<>0,Comanda!C160,\"\")","v":""},{"$f":"IF(Comanda!D160<>0,Comanda!D160,\"\")","v":""},{"$f":"IF(Comanda!E160<>0,Comanda!E160,\"\")","v":""},{"$f":"IF(Comanda!F160<>0,Comanda!F160,\"\")","v":""},{"$f":"IF(Comanda!G160<>0,1,0)","v":0},{"$f":"IF(Comanda!H160=1,Comanda!$C$13,IF(Comanda!H160=2,Comanda!$C$14,IF(Comanda!$H160=3,Comanda!$C$15,IF(Comanda!$H160=4,Comanda!$C$16,0))))","v":0},{"$f":"IF(Comanda!I160=1,Comanda!$C$13,IF(Comanda!I160=2,Comanda!$C$14,IF(Comanda!$I160=3,Comanda!$C$15,IF(Comanda!$I160=4,Comanda!$C$16,0))))","v":0},{"$f":"IF(Comanda!J160=1,Comanda!$C$13,IF(Comanda!J160=2,Comanda!$C$14,IF(Comanda!$J160=3,Comanda!$C$15,IF(Comanda!$J160=4,Comanda!$C$16,0))))","v":0},{"$f":"IF(Comanda!K160=1,Comanda!$C$13,IF(Comanda!K160=2,Comanda!$C$14,IF(Comanda!$K160=3,Comanda!$C$15,IF(Comanda!$K160=4,Comanda!$C$16,0))))","v":0},{"$f":"IF(Comanda!B160<>0,Comanda!$C$2,\"\")","v":""},{"$f":"IF(Comanda!B160<>0,Comanda!$C$5,\"\")","v":""},{"$f":"IF(Comanda!B160<>0,Comanda!$G$2,\"\")","v":""},{"$f":"IF(Comanda!B160<>0,Comanda!L160,\"\")","v":""},{"$f":"IF(Comanda!D160<>0,VLOOKUP('Formula Cant'!F143,'Grafica Cant'!$G$2:$H$25,2,FALSE),\"\")","v":""},{"$nulls":8},{"$f":"IF(Comanda!B160<>0,Comanda!$C$9,\"\")","v":""},{"$f":"IF(Comanda!B160<>0,VLOOKUP(Comanda!$C$12,PRETURI!$A$2:$C$500,3,FALSE),\"\")","v":""},"",{"$f":"IF(H143<>0,VLOOKUP(H143,PRETURI!$D$2:$F$1093,3,FALSE),\"\")","v":""},{"v":0,"d":"0.00"},{"$f":"IF(I143<>0,VLOOKUP(I143,PRETURI!$D$2:$F$1093,3,FALSE),\"\")","v":""},{"v":0,"d":"0.00"},{"$f":"IF(J143<>0,VLOOKUP(J143,PRETURI!$D$2:$F$1093,3,FALSE),\"\")","v":""},{"v":0,"d":"0.00"},{"$f":"IF(K143<>0,VLOOKUP(K143,PRETURI!$D$2:$F$1093,3,FALSE),\"\")","v":""},{"v":0,"d":"0.00"},{"$nulls":6},{"$f":"(Comanda!D160*Comanda!E160*Comanda!F160)*0.000001","v":{"v":0,"d":"0.00"}},null,{"$f":"IF(Comanda!H160=1,(Comanda!D160*0.001+$BL$2)*Comanda!F160,\"\")","v":""},{"$f":"IF(Comanda!I160=1,(Comanda!D160*0.001+$BL$2)*Comanda!F160,\"\")","v":""},{"$f":"IF(Comanda!J160=1,(Comanda!E160*0.001+$BL$2)*Comanda!F160,\"\")","v":""},{"$f":"IF(Comanda!K160=1,(Comanda!E160*0.001+$BL$2)*Comanda!F160,\"\")","v":""},null,{"$f":"IF(Comanda!H160=2,(Comanda!D160*0.001+$BL$2)*Comanda!F160,\"\")","v":""},{"$f":"IF(Comanda!I160=2,(Comanda!D160*0.001+$BL$2)*Comanda!F160,\"\")","v":""},{"$f":"IF(Comanda!J160=2,(Comanda!E160*0.001+$BL$2)*Comanda!F160,\"\")","v":""},{"$f":"IF(Comanda!K160=2,(Comanda!E160*0.001+$BL$2)*Comanda!F160,\"\")","v":""},null,{"$f":"IF(Comanda!H160=3,(Comanda!D160*0.001+$BL$2)*Comanda!F160,\"\")","v":""},{"$f":"IF(Comanda!I160=3,(Comanda!D160*0.001+$BL$2)*Comanda!F160,\"\")","v":""},{"$f":"IF(Comanda!J160=3,(Comanda!E160*0.001+$BL$2)*Comanda!F160,\"\")","v":""},{"$f":"IF(Comanda!K160=3,(Comanda!E160*0.001+$BL$2)*Comanda!F160,\"\")","v":""},null,{"$f":"IF(Comanda!H160=4,(Comanda!D160*0.001+$BL$2)*Comanda!F160,\"\")","v":""},{"$f":"IF(Comanda!I160=4,(Comanda!D160*0.001+$BL$2)*Comanda!F160,\"\")","v":""},{"$f":"IF(Comanda!J160=4,(Comanda!E160*0.001+$BL$2)*Comanda!F160,\"\")","v":""},{"$f":"IF(Comanda!K160=4,(Comanda!E160*0.001+$BL$2)*Comanda!F160,\"\")","v":""}]
[142,{"$f":"IF(Comanda!B161<>0,Comanda!B161,\"\")","v":""},{"$f":"IF(Comanda!C161<>0,Comanda!C161,\"\")","v":""},{"$f":"IF(Comanda!D161<>0,Comanda!D161,\"\")","v":""},{"$f":"IF(Comanda!E161<>0,Comanda!E161,\"\")","v":""},{"$f":"IF(Comanda!F161<>0,Comanda!F161,\"\")","v":""},{"$f":"IF(Comanda!G161<>0,1,0)","v":0},{"$f":"IF(Comanda!H161=1,Comanda!$C$13,IF(Comanda!H161=2,Comanda!$C$14,IF(Comanda!$H161=3,Comanda!$C$15,IF(Comanda!$H161=4,Comanda!$C$16,0))))","v":0},{"$f":"IF(Comanda!I161=1,Comanda!$C$13,IF(Comanda!I161=2,Comanda!$C$14,IF(Comanda!$I161=3,Comanda!$C$15,IF(Comanda!$I161=4,Comanda!$C$16,0))))","v":0},{"$f":"IF(Comanda!J161=1,Comanda!$C$13,IF(Comanda!J161=2,Comanda!$C$14,IF(Comanda!$J161=3,Comanda!$C$15,IF(Comanda!$J161=4,Comanda!$C$16,0))))","v":0},{"$f":"IF(Comanda!K161=1,Comanda!$C$13,IF(Comanda!K161=2,Comanda!$C$14,IF(Comanda!$K161=3,Comanda!$C$15,IF(Comanda!$K161=4,Comanda!$C$16,0))))","v":0},{"$f":"IF(Comanda!B161<>0,Comanda!$C$2,\"\")","v":""},{"$f":"IF(Comanda!B161<>0,Comanda!$C$5,\"\")","v":""},{"$f":"IF(Comanda!B161<>0,Comanda!$G$2,\"\")","v":""},{"$f":"IF(Comanda!B161<>0,Comanda!L161,\"\")","v":""},{"$f":"IF(Comanda!D161<>0,VLOOKUP('Formula Cant'!F144,'Grafica Cant'!$G$2:$H$25,2,FALSE),\"\")","v":""},{"$nulls":8},{"$f":"IF(Comanda!B161<>0,Comanda!$C$9,\"\")","v":""},{"$f":"IF(Comanda!B161<>0,VLOOKUP(Comanda!$C$12,PRETURI!$A$2:$C$500,3,FALSE),\"\")","v":""},"",{"$f":"IF(H144<>0,VLOOKUP(H144,PRETURI!$D$2:$F$1093,3,FALSE),\"\")","v":""},{"v":0,"d":"0.00"},{"$f":"IF(I144<>0,VLOOKUP(I144,PRETURI!$D$2:$F$1093,3,FALSE),\"\")","v":""},{"v":0,"d":"0.00"},{"$f":"IF(J144<>0,VLOOKUP(J144,PRETURI!$D$2:$F$1093,3,FALSE),\"\")","v":""},{"v":0,"d":"0.00"},{"$f":"IF(K144<>0,VLOOKUP(K144,PRETURI!$D$2:$F$1093,3,FALSE),\"\")","v":""},{"v":0,"d":"0.00"},{"$nulls":6},{"$f":"(Comanda!D161*Comanda!E161*Comanda!F161)*0.000001","v":{"v":0,"d":"0.00"}},null,{"$f":"IF(Comanda!H161=1,(Comanda!D161*0.001+$BL$2)*Comanda!F161,\"\")","v":""},{"$f":"IF(Comanda!I161=1,(Comanda!D161*0.001+$BL$2)*Comanda!F161,\"\")","v":""},{"$f":"IF(Comanda!J161=1,(Comanda!E161*0.001+$BL$2)*Comanda!F161,\"\")","v":""},{"$f":"IF(Comanda!K161=1,(Comanda!E161*0.001+$BL$2)*Comanda!F161,\"\")","v":""},null,{"$f":"IF(Comanda!H161=2,(Comanda!D161*0.001+$BL$2)*Comanda!F161,\"\")","v":""},{"$f":"IF(Comanda!I161=2,(Comanda!D161*0.001+$BL$2)*Comanda!F161,\"\")","v":""},{"$f":"IF(Comanda!J161=2,(Comanda!E161*0.001+$BL$2)*Comanda!F161,\"\")","v":""},{"$f":"IF(Comanda!K161=2,(Comanda!E161*0.001+$BL$2)*Comanda!F161,\"\")","v":""},null,{"$f":"IF(Comanda!H161=3,(Comanda!D161*0.001+$BL$2)*Comanda!F161,\"\")","v":""},{"$f":"IF(Comanda!I161=3,(Comanda!D161*0.001+$BL$2)*Comanda!F161,\"\")","v":""},{"$f":"IF(Comanda!J161=3,(Comanda!E161*0.001+$BL$2)*Comanda!F161,\"\")","v":""},{"$f":"IF(Comanda!K161=3,(Comanda!E161*0.001+$BL$2)*Comanda!F161,\"\")","v":""},null,{"$f":"IF(Comanda!H161=4,(Comanda!D161*0.001+$BL$2)*Comanda!F161,\"\")","v":""},{"$f":"IF(Comanda!I161=4,(Comanda!D161*0.001+$BL$2)*Comanda!F161,\"\")","v":""},{"$f":"IF(Comanda!J161=4,(Comanda!E161*0.001+$BL$2)*Comanda!F161,\"\")","v":""},{"$f":"IF(Comanda!K161=4,(Comanda!E161*0.001+$BL$2)*Comanda!F161,\"\")","v":""}]
[143,{"$f":"IF(Comanda!B162<>0,Comanda!B162,\"\")","v":""},{"$f":"IF(Comanda!C162<>0,Comanda!C162,\"\")","v":""},{"$f":"IF(Comanda!D162<>0,Comanda!D162,\"\")","v":""},{"$f":"IF(Comanda!E162<>0,Comanda!E162,\"\")","v":""},{"$f":"IF(Comanda!F162<>0,Comanda!F162,\"\")","v":""},{"$f":"IF(Comanda!G162<>0,1,0)","v":0},{"$f":"IF(Comanda!H162=1,Comanda!$C$13,IF(Comanda!H162=2,Comanda!$C$14,IF(Comanda!$H162=3,Comanda!$C$15,IF(Comanda!$H162=4,Comanda!$C$16,0))))","v":0},{"$f":"IF(Comanda!I162=1,Comanda!$C$13,IF(Comanda!I162=2,Comanda!$C$14,IF(Comanda!$I162=3,Comanda!$C$15,IF(Comanda!$I162=4,Comanda!$C$16,0))))","v":0},{"$f":"IF(Comanda!J162=1,Comanda!$C$13,IF(Comanda!J162=2,Comanda!$C$14,IF(Comanda!$J162=3,Comanda!$C$15,IF(Comanda!$J162=4,Comanda!$C$16,0))))","v":0},{"$f":"IF(Comanda!K162=1,Comanda!$C$13,IF(Comanda!K162=2,Comanda!$C$14,IF(Comanda!$K162=3,Comanda!$C$15,IF(Comanda!$K162=4,Comanda!$C$16,0))))","v":0},{"$f":"IF(Comanda!B162<>0,Comanda!$C$2,\"\")","v":""},{"$f":"IF(Comanda!B162<>0,Comanda!$C$5,\"\")","v":""},{"$f":"IF(Comanda!B162<>0,Comanda!$G$2,\"\")","v":""},{"$f":"IF(Comanda!B162<>0,Comanda!L162,\"\")","v":""},{"$f":"IF(Comanda!D162<>0,VLOOKUP('Formula Cant'!F145,'Grafica Cant'!$G$2:$H$25,2,FALSE),\"\")","v":""},{"$nulls":8},{"$f":"IF(Comanda!B162<>0,Comanda!$C$9,\"\")","v":""},{"$f":"IF(Comanda!B162<>0,VLOOKUP(Comanda!$C$12,PRETURI!$A$2:$C$500,3,FALSE),\"\")","v":""},"",{"$f":"IF(H145<>0,VLOOKUP(H145,PRETURI!$D$2:$F$1093,3,FALSE),\"\")","v":""},{"v":0,"d":"0.00"},{"$f":"IF(I145<>0,VLOOKUP(I145,PRETURI!$D$2:$F$1093,3,FALSE),\"\")","v":""},{"v":0,"d":"0.00"},{"$f":"IF(J145<>0,VLOOKUP(J145,PRETURI!$D$2:$F$1093,3,FALSE),\"\")","v":""},{"v":0,"d":"0.00"},{"$f":"IF(K145<>0,VLOOKUP(K145,PRETURI!$D$2:$F$1093,3,FALSE),\"\")","v":""},{"v":0,"d":"0.00"},{"$nulls":6},{"$f":"(Comanda!D162*Comanda!E162*Comanda!F162)*0.000001","v":{"v":0,"d":"0.00"}},null,{"$f":"IF(Comanda!H162=1,(Comanda!D162*0.001+$BL$2)*Comanda!F162,\"\")","v":""},{"$f":"IF(Comanda!I162=1,(Comanda!D162*0.001+$BL$2)*Comanda!F162,\"\")","v":""},{"$f":"IF(Comanda!J162=1,(Comanda!E162*0.001+$BL$2)*Comanda!F162,\"\")","v":""},{"$f":"IF(Comanda!K162=1,(Comanda!E162*0.001+$BL$2)*Comanda!F162,\"\")","v":""},null,{"$f":"IF(Comanda!H162=2,(Comanda!D162*0.001+$BL$2)*Comanda!F162,\"\")","v":""},{"$f":"IF(Comanda!I162=2,(Comanda!D162*0.001+$BL$2)*Comanda!F162,\"\")","v":""},{"$f":"IF(Comanda!J162=2,(Comanda!E162*0.001+$BL$2)*Comanda!F162,\"\")","v":""},{"$f":"IF(Comanda!K162=2,(Comanda!E162*0.001+$BL$2)*Comanda!F162,\"\")","v":""},null,{"$f":"IF(Comanda!H162=3,(Comanda!D162*0.001+$BL$2)*Comanda!F162,\"\")","v":""},{"$f":"IF(Comanda!I162=3,(Comanda!D162*0.001+$BL$2)*Comanda!F162,\"\")","v":""},{"$f":"IF(Comanda!J162=3,(Comanda!E162*0.001+$BL$2)*Comanda!F162,\"\")","v":""},{"$f":"IF(Comanda!K162=3,(Comanda!E162*0.001+$BL$2)*Comanda!F162,\"\")","v":""},null,{"$f":"IF(Comanda!H162=4,(Comanda!D162*0.001+$BL$2)*Comanda!F162,\"\")","v":""},{"$f":"IF(Comanda!I162=4,(Comanda!D162*0.001+$BL$2)*Comanda!F162,\"\")","v":""},{"$f":"IF(Comanda!J162=4,(Comanda!E162*0.001+$BL$2)*Comanda!F162,\"\")","v":""},{"$f":"IF(Comanda!K162=4,(Comanda!E162*0.001+$BL$2)*Comanda!F162,\"\")","v":""}]
[144,{"$f":"IF(Comanda!B163<>0,Comanda!B163,\"\")","v":""},{"$f":"IF(Comanda!C163<>0,Comanda!C163,\"\")","v":""},{"$f":"IF(Comanda!D163<>0,Comanda!D163,\"\")","v":""},{"$f":"IF(Comanda!E163<>0,Comanda!E163,\"\")","v":""},{"$f":"IF(Comanda!F163<>0,Comanda!F163,\"\")","v":""},{"$f":"IF(Comanda!G163<>0,1,0)","v":0},{"$f":"IF(Comanda!H163=1,Comanda!$C$13,IF(Comanda!H163=2,Comanda!$C$14,IF(Comanda!$H163=3,Comanda!$C$15,IF(Comanda!$H163=4,Comanda!$C$16,0))))","v":0},{"$f":"IF(Comanda!I163=1,Comanda!$C$13,IF(Comanda!I163=2,Comanda!$C$14,IF(Comanda!$I163=3,Comanda!$C$15,IF(Comanda!$I163=4,Comanda!$C$16,0))))","v":0},{"$f":"IF(Comanda!J163=1,Comanda!$C$13,IF(Comanda!J163=2,Comanda!$C$14,IF(Comanda!$J163=3,Comanda!$C$15,IF(Comanda!$J163=4,Comanda!$C$16,0))))","v":0},{"$f":"IF(Comanda!K163=1,Comanda!$C$13,IF(Comanda!K163=2,Comanda!$C$14,IF(Comanda!$K163=3,Comanda!$C$15,IF(Comanda!$K163=4,Comanda!$C$16,0))))","v":0},{"$f":"IF(Comanda!B163<>0,Comanda!$C$2,\"\")","v":""},{"$f":"IF(Comanda!B163<>0,Comanda!$C$5,\"\")","v":""},{"$f":"IF(Comanda!B163<>0,Comanda!$G$2,\"\")","v":""},{"$f":"IF(Comanda!B163<>0,Comanda!L163,\"\")","v":""},{"$f":"IF(Comanda!D163<>0,VLOOKUP('Formula Cant'!F146,'Grafica Cant'!$G$2:$H$25,2,FALSE),\"\")","v":""},{"$nulls":8},{"$f":"IF(Comanda!B163<>0,Comanda!$C$9,\"\")","v":""},{"$f":"IF(Comanda!B163<>0,VLOOKUP(Comanda!$C$12,PRETURI!$A$2:$C$500,3,FALSE),\"\")","v":""},"",{"$f":"IF(H146<>0,VLOOKUP(H146,PRETURI!$D$2:$F$1093,3,FALSE),\"\")","v":""},{"v":0,"d":"0.00"},{"$f":"IF(I146<>0,VLOOKUP(I146,PRETURI!$D$2:$F$1093,3,FALSE),\"\")","v":""},{"v":0,"d":"0.00"},{"$f":"IF(J146<>0,VLOOKUP(J146,PRETURI!$D$2:$F$1093,3,FALSE),\"\")","v":""},{"v":0,"d":"0.00"},{"$f":"IF(K146<>0,VLOOKUP(K146,PRETURI!$D$2:$F$1093,3,FALSE),\"\")","v":""},{"v":0,"d":"0.00"},{"$nulls":6},{"$f":"(Comanda!D163*Comanda!E163*Comanda!F163)*0.000001","v":{"v":0,"d":"0.00"}},null,{"$f":"IF(Comanda!H163=1,(Comanda!D163*0.001+$BL$2)*Comanda!F163,\"\")","v":""},{"$f":"IF(Comanda!I163=1,(Comanda!D163*0.001+$BL$2)*Comanda!F163,\"\")","v":""},{"$f":"IF(Comanda!J163=1,(Comanda!E163*0.001+$BL$2)*Comanda!F163,\"\")","v":""},{"$f":"IF(Comanda!K163=1,(Comanda!E163*0.001+$BL$2)*Comanda!F163,\"\")","v":""},null,{"$f":"IF(Comanda!H163=2,(Comanda!D163*0.001+$BL$2)*Comanda!F163,\"\")","v":""},{"$f":"IF(Comanda!I163=2,(Comanda!D163*0.001+$BL$2)*Comanda!F163,\"\")","v":""},{"$f":"IF(Comanda!J163=2,(Comanda!E163*0.001+$BL$2)*Comanda!F163,\"\")","v":""},{"$f":"IF(Comanda!K163=2,(Comanda!E163*0.001+$BL$2)*Comanda!F163,\"\")","v":""},null,{"$f":"IF(Comanda!H163=3,(Comanda!D163*0.001+$BL$2)*Comanda!F163,\"\")","v":""},{"$f":"IF(Comanda!I163=3,(Comanda!D163*0.001+$BL$2)*Comanda!F163,\"\")","v":""},{"$f":"IF(Comanda!J163=3,(Comanda!E163*0.001+$BL$2)*Comanda!F163,\"\")","v":""},{"$f":"IF(Comanda!K163=3,(Comanda!E163*0.001+$BL$2)*Comanda!F163,\"\")","v":""},null,{"$f":"IF(Comanda!H163=4,(Comanda!D163*0.001+$BL$2)*Comanda!F163,\"\")","v":""},{"$f":"IF(Comanda!I163=4,(Comanda!D163*0.001+$BL$2)*Comanda!F163,\"\")","v":""},{"$f":"IF(Comanda!J163=4,(Comanda!E163*0.001+$BL$2)*Comanda!F163,\"\")","v":""},{"$f":"IF(Comanda!K163=4,(Comanda!E163*0.001+$BL$2)*Comanda!F163,\"\")","v":""}]
[145,{"$f":"IF(Comanda!B164<>0,Comanda!B164,\"\")","v":""},{"$f":"IF(Comanda!C164<>0,Comanda!C164,\"\")","v":""},{"$f":"IF(Comanda!D164<>0,Comanda!D164,\"\")","v":""},{"$f":"IF(Comanda!E164<>0,Comanda!E164,\"\")","v":""},{"$f":"IF(Comanda!F164<>0,Comanda!F164,\"\")","v":""},{"$f":"IF(Comanda!G164<>0,1,0)","v":0},{"$f":"IF(Comanda!H164=1,Comanda!$C$13,IF(Comanda!H164=2,Comanda!$C$14,IF(Comanda!$H164=3,Comanda!$C$15,IF(Comanda!$H164=4,Comanda!$C$16,0))))","v":0},{"$f":"IF(Comanda!I164=1,Comanda!$C$13,IF(Comanda!I164=2,Comanda!$C$14,IF(Comanda!$I164=3,Comanda!$C$15,IF(Comanda!$I164=4,Comanda!$C$16,0))))","v":0},{"$f":"IF(Comanda!J164=1,Comanda!$C$13,IF(Comanda!J164=2,Comanda!$C$14,IF(Comanda!$J164=3,Comanda!$C$15,IF(Comanda!$J164=4,Comanda!$C$16,0))))","v":0},{"$f":"IF(Comanda!K164=1,Comanda!$C$13,IF(Comanda!K164=2,Comanda!$C$14,IF(Comanda!$K164=3,Comanda!$C$15,IF(Comanda!$K164=4,Comanda!$C$16,0))))","v":0},{"$f":"IF(Comanda!B164<>0,Comanda!$C$2,\"\")","v":""},{"$f":"IF(Comanda!B164<>0,Comanda!$C$5,\"\")","v":""},{"$f":"IF(Comanda!B164<>0,Comanda!$G$2,\"\")","v":""},{"$f":"IF(Comanda!B164<>0,Comanda!L164,\"\")","v":""},{"$f":"IF(Comanda!D164<>0,VLOOKUP('Formula Cant'!F147,'Grafica Cant'!$G$2:$H$25,2,FALSE),\"\")","v":""},{"$nulls":8},{"$f":"IF(Comanda!B164<>0,Comanda!$C$9,\"\")","v":""},{"$f":"IF(Comanda!B164<>0,VLOOKUP(Comanda!$C$12,PRETURI!$A$2:$C$500,3,FALSE),\"\")","v":""},"",{"$f":"IF(H147<>0,VLOOKUP(H147,PRETURI!$D$2:$F$1093,3,FALSE),\"\")","v":""},{"v":0,"d":"0.00"},{"$f":"IF(I147<>0,VLOOKUP(I147,PRETURI!$D$2:$F$1093,3,FALSE),\"\")","v":""},{"v":0,"d":"0.00"},{"$f":"IF(J147<>0,VLOOKUP(J147,PRETURI!$D$2:$F$1093,3,FALSE),\"\")","v":""},{"v":0,"d":"0.00"},{"$f":"IF(K147<>0,VLOOKUP(K147,PRETURI!$D$2:$F$1093,3,FALSE),\"\")","v":""},{"v":0,"d":"0.00"},{"$nulls":6},{"$f":"(Comanda!D164*Comanda!E164*Comanda!F164)*0.000001","v":{"v":0,"d":"0.00"}},null,{"$f":"IF(Comanda!H164=1,(Comanda!D164*0.001+$BL$2)*Comanda!F164,\"\")","v":""},{"$f":"IF(Comanda!I164=1,(Comanda!D164*0.001+$BL$2)*Comanda!F164,\"\")","v":""},{"$f":"IF(Comanda!J164=1,(Comanda!E164*0.001+$BL$2)*Comanda!F164,\"\")","v":""},{"$f":"IF(Comanda!K164=1,(Comanda!E164*0.001+$BL$2)*Comanda!F164,\"\")","v":""},null,{"$f":"IF(Comanda!H164=2,(Comanda!D164*0.001+$BL$2)*Comanda!F164,\"\")","v":""},{"$f":"IF(Comanda!I164=2,(Comanda!D164*0.001+$BL$2)*Comanda!F164,\"\")","v":""},{"$f":"IF(Comanda!J164=2,(Comanda!E164*0.001+$BL$2)*Comanda!F164,\"\")","v":""},{"$f":"IF(Comanda!K164=2,(Comanda!E164*0.001+$BL$2)*Comanda!F164,\"\")","v":""},null,{"$f":"IF(Comanda!H164=3,(Comanda!D164*0.001+$BL$2)*Comanda!F164,\"\")","v":""},{"$f":"IF(Comanda!I164=3,(Comanda!D164*0.001+$BL$2)*Comanda!F164,\"\")","v":""},{"$f":"IF(Comanda!J164=3,(Comanda!E164*0.001+$BL$2)*Comanda!F164,\"\")","v":""},{"$f":"IF(Comanda!K164=3,(Comanda!E164*0.001+$BL$2)*Comanda!F164,\"\")","v":""},null,{"$f":"IF(Comanda!H164=4,(Comanda!D164*0.001+$BL$2)*Comanda!F164,\"\")","v":""},{"$f":"IF(Comanda!I164=4,(Comanda!D164*0.001+$BL$2)*Comanda!F164,\"\")","v":""},{"$f":"IF(Comanda!J164=4,(Comanda!E164*0.001+$BL$2)*Comanda!F164,\"\")","v":""},{"$f":"IF(Comanda!K164=4,(Comanda!E164*0.001+$BL$2)*Comanda!F164,\"\")","v":""}]
[146,{"$f":"IF(Comanda!B165<>0,Comanda!B165,\"\")","v":""},{"$f":"IF(Comanda!C165<>0,Comanda!C165,\"\")","v":""},{"$f":"IF(Comanda!D165<>0,Comanda!D165,\"\")","v":""},{"$f":"IF(Comanda!E165<>0,Comanda!E165,\"\")","v":""},{"$f":"IF(Comanda!F165<>0,Comanda!F165,\"\")","v":""},{"$f":"IF(Comanda!G165<>0,1,0)","v":0},{"$f":"IF(Comanda!H165=1,Comanda!$C$13,IF(Comanda!H165=2,Comanda!$C$14,IF(Comanda!$H165=3,Comanda!$C$15,IF(Comanda!$H165=4,Comanda!$C$16,0))))","v":0},{"$f":"IF(Comanda!I165=1,Comanda!$C$13,IF(Comanda!I165=2,Comanda!$C$14,IF(Comanda!$I165=3,Comanda!$C$15,IF(Comanda!$I165=4,Comanda!$C$16,0))))","v":0},{"$f":"IF(Comanda!J165=1,Comanda!$C$13,IF(Comanda!J165=2,Comanda!$C$14,IF(Comanda!$J165=3,Comanda!$C$15,IF(Comanda!$J165=4,Comanda!$C$16,0))))","v":0},{"$f":"IF(Comanda!K165=1,Comanda!$C$13,IF(Comanda!K165=2,Comanda!$C$14,IF(Comanda!$K165=3,Comanda!$C$15,IF(Comanda!$K165=4,Comanda!$C$16,0))))","v":0},{"$f":"IF(Comanda!B165<>0,Comanda!$C$2,\"\")","v":""},{"$f":"IF(Comanda!B165<>0,Comanda!$C$5,\"\")","v":""},{"$f":"IF(Comanda!B165<>0,Comanda!$G$2,\"\")","v":""},{"$f":"IF(Comanda!B165<>0,Comanda!L165,\"\")","v":""},{"$f":"IF(Comanda!D165<>0,VLOOKUP('Formula Cant'!F148,'Grafica Cant'!$G$2:$H$25,2,FALSE),\"\")","v":""},{"$nulls":8},{"$f":"IF(Comanda!B165<>0,Comanda!$C$9,\"\")","v":""},{"$f":"IF(Comanda!B165<>0,VLOOKUP(Comanda!$C$12,PRETURI!$A$2:$C$500,3,FALSE),\"\")","v":""},"",{"$f":"IF(H148<>0,VLOOKUP(H148,PRETURI!$D$2:$F$1093,3,FALSE),\"\")","v":""},{"v":0,"d":"0.00"},{"$f":"IF(I148<>0,VLOOKUP(I148,PRETURI!$D$2:$F$1093,3,FALSE),\"\")","v":""},{"v":0,"d":"0.00"},{"$f":"IF(J148<>0,VLOOKUP(J148,PRETURI!$D$2:$F$1093,3,FALSE),\"\")","v":""},{"v":0,"d":"0.00"},{"$f":"IF(K148<>0,VLOOKUP(K148,PRETURI!$D$2:$F$1093,3,FALSE),\"\")","v":""},{"v":0,"d":"0.00"},{"$nulls":6},{"$f":"(Comanda!D165*Comanda!E165*Comanda!F165)*0.000001","v":{"v":0,"d":"0.00"}},null,{"$f":"IF(Comanda!H165=1,(Comanda!D165*0.001+$BL$2)*Comanda!F165,\"\")","v":""},{"$f":"IF(Comanda!I165=1,(Comanda!D165*0.001+$BL$2)*Comanda!F165,\"\")","v":""},{"$f":"IF(Comanda!J165=1,(Comanda!E165*0.001+$BL$2)*Comanda!F165,\"\")","v":""},{"$f":"IF(Comanda!K165=1,(Comanda!E165*0.001+$BL$2)*Comanda!F165,\"\")","v":""},null,{"$f":"IF(Comanda!H165=2,(Comanda!D165*0.001+$BL$2)*Comanda!F165,\"\")","v":""},{"$f":"IF(Comanda!I165=2,(Comanda!D165*0.001+$BL$2)*Comanda!F165,\"\")","v":""},{"$f":"IF(Comanda!J165=2,(Comanda!E165*0.001+$BL$2)*Comanda!F165,\"\")","v":""},{"$f":"IF(Comanda!K165=2,(Comanda!E165*0.001+$BL$2)*Comanda!F165,\"\")","v":""},null,{"$f":"IF(Comanda!H165=3,(Comanda!D165*0.001+$BL$2)*Comanda!F165,\"\")","v":""},{"$f":"IF(Comanda!I165=3,(Comanda!D165*0.001+$BL$2)*Comanda!F165,\"\")","v":""},{"$f":"IF(Comanda!J165=3,(Comanda!E165*0.001+$BL$2)*Comanda!F165,\"\")","v":""},{"$f":"IF(Comanda!K165=3,(Comanda!E165*0.001+$BL$2)*Comanda!F165,\"\")","v":""},null,{"$f":"IF(Comanda!H165=4,(Comanda!D165*0.001+$BL$2)*Comanda!F165,\"\")","v":""},{"$f":"IF(Comanda!I165=4,(Comanda!D165*0.001+$BL$2)*Comanda!F165,\"\")","v":""},{"$f":"IF(Comanda!J165=4,(Comanda!E165*0.001+$BL$2)*Comanda!F165,\"\")","v":""},{"$f":"IF(Comanda!K165=4,(Comanda!E165*0.001+$BL$2)*Comanda!F165,\"\")","v":""}]
[147,{"$f":"IF(Comanda!B166<>0,Comanda!B166,\"\")","v":""},{"$f":"IF(Comanda!C166<>0,Comanda!C166,\"\")","v":""},{"$f":"IF(Comanda!D166<>0,Comanda!D166,\"\")","v":""},{"$f":"IF(Comanda!E166<>0,Comanda!E166,\"\")","v":""},{"$f":"IF(Comanda!F166<>0,Comanda!F166,\"\")","v":""},{"$f":"IF(Comanda!G166<>0,1,0)","v":0},{"$f":"IF(Comanda!H166=1,Comanda!$C$13,IF(Comanda!H166=2,Comanda!$C$14,IF(Comanda!$H166=3,Comanda!$C$15,IF(Comanda!$H166=4,Comanda!$C$16,0))))","v":0},{"$f":"IF(Comanda!I166=1,Comanda!$C$13,IF(Comanda!I166=2,Comanda!$C$14,IF(Comanda!$I166=3,Comanda!$C$15,IF(Comanda!$I166=4,Comanda!$C$16,0))))","v":0},{"$f":"IF(Comanda!J166=1,Comanda!$C$13,IF(Comanda!J166=2,Comanda!$C$14,IF(Comanda!$J166=3,Comanda!$C$15,IF(Comanda!$J166=4,Comanda!$C$16,0))))","v":0},{"$f":"IF(Comanda!K166=1,Comanda!$C$13,IF(Comanda!K166=2,Comanda!$C$14,IF(Comanda!$K166=3,Comanda!$C$15,IF(Comanda!$K166=4,Comanda!$C$16,0))))","v":0},{"$f":"IF(Comanda!B166<>0,Comanda!$C$2,\"\")","v":""},{"$f":"IF(Comanda!B166<>0,Comanda!$C$5,\"\")","v":""},{"$f":"IF(Comanda!B166<>0,Comanda!$G$2,\"\")","v":""},{"$f":"IF(Comanda!B166<>0,Comanda!L166,\"\")","v":""},{"$f":"IF(Comanda!D166<>0,VLOOKUP('Formula Cant'!F149,'Grafica Cant'!$G$2:$H$25,2,FALSE),\"\")","v":""},{"$nulls":8},{"$f":"IF(Comanda!B166<>0,Comanda!$C$9,\"\")","v":""},{"$f":"IF(Comanda!B166<>0,VLOOKUP(Comanda!$C$12,PRETURI!$A$2:$C$500,3,FALSE),\"\")","v":""},"",{"$f":"IF(H149<>0,VLOOKUP(H149,PRETURI!$D$2:$F$1093,3,FALSE),\"\")","v":""},{"v":0,"d":"0.00"},{"$f":"IF(I149<>0,VLOOKUP(I149,PRETURI!$D$2:$F$1093,3,FALSE),\"\")","v":""},{"v":0,"d":"0.00"},{"$f":"IF(J149<>0,VLOOKUP(J149,PRETURI!$D$2:$F$1093,3,FALSE),\"\")","v":""},{"v":0,"d":"0.00"},{"$f":"IF(K149<>0,VLOOKUP(K149,PRETURI!$D$2:$F$1093,3,FALSE),\"\")","v":""},{"v":0,"d":"0.00"},{"$nulls":6},{"$f":"(Comanda!D166*Comanda!E166*Comanda!F166)*0.000001","v":{"v":0,"d":"0.00"}},null,{"$f":"IF(Comanda!H166=1,(Comanda!D166*0.001+$BL$2)*Comanda!F166,\"\")","v":""},{"$f":"IF(Comanda!I166=1,(Comanda!D166*0.001+$BL$2)*Comanda!F166,\"\")","v":""},{"$f":"IF(Comanda!J166=1,(Comanda!E166*0.001+$BL$2)*Comanda!F166,\"\")","v":""},{"$f":"IF(Comanda!K166=1,(Comanda!E166*0.001+$BL$2)*Comanda!F166,\"\")","v":""},null,{"$f":"IF(Comanda!H166=2,(Comanda!D166*0.001+$BL$2)*Comanda!F166,\"\")","v":""},{"$f":"IF(Comanda!I166=2,(Comanda!D166*0.001+$BL$2)*Comanda!F166,\"\")","v":""},{"$f":"IF(Comanda!J166=2,(Comanda!E166*0.001+$BL$2)*Comanda!F166,\"\")","v":""},{"$f":"IF(Comanda!K166=2,(Comanda!E166*0.001+$BL$2)*Comanda!F166,\"\")","v":""},null,{"$f":"IF(Comanda!H166=3,(Comanda!D166*0.001+$BL$2)*Comanda!F166,\"\")","v":""},{"$f":"IF(Comanda!I166=3,(Comanda!D166*0.001+$BL$2)*Comanda!F166,\"\")","v":""},{"$f":"IF(Comanda!J166=3,(Comanda!E166*0.001+$BL$2)*Comanda!F166,\"\")","v":""},{"$f":"IF(Comanda!K166=3,(Comanda!E166*0.001+$BL$2)*Comanda!F166,\"\")","v":""},null,{"$f":"IF(Comanda!H166=4,(Comanda!D166*0.001+$BL$2)*Comanda!F166,\"\")","v":""},{"$f":"IF(Comanda!I166=4,(Comanda!D166*0.001+$BL$2)*Comanda!F166,\"\")","v":""},{"$f":"IF(Comanda!J166=4,(Comanda!E166*0.001+$BL$2)*Comanda!F166,\"\")","v":""},{"$f":"IF(Comanda!K166=4,(Comanda!E166*0.001+$BL$2)*Comanda!F166,\"\")","v":""}]
[148,{"$f":"IF(Comanda!B167<>0,Comanda!B167,\"\")","v":""},{"$f":"IF(Comanda!C167<>0,Comanda!C167,\"\")","v":""},{"$f":"IF(Comanda!D167<>0,Comanda!D167,\"\")","v":""},{"$f":"IF(Comanda!E167<>0,Comanda!E167,\"\")","v":""},{"$f":"IF(Comanda!F167<>0,Comanda!F167,\"\")","v":""},{"$f":"IF(Comanda!G167<>0,1,0)","v":0},{"$f":"IF(Comanda!H167=1,Comanda!$C$13,IF(Comanda!H167=2,Comanda!$C$14,IF(Comanda!$H167=3,Comanda!$C$15,IF(Comanda!$H167=4,Comanda!$C$16,0))))","v":0},{"$f":"IF(Comanda!I167=1,Comanda!$C$13,IF(Comanda!I167=2,Comanda!$C$14,IF(Comanda!$I167=3,Comanda!$C$15,IF(Comanda!$I167=4,Comanda!$C$16,0))))","v":0},{"$f":"IF(Comanda!J167=1,Comanda!$C$13,IF(Comanda!J167=2,Comanda!$C$14,IF(Comanda!$J167=3,Comanda!$C$15,IF(Comanda!$J167=4,Comanda!$C$16,0))))","v":0},{"$f":"IF(Comanda!K167=1,Comanda!$C$13,IF(Comanda!K167=2,Comanda!$C$14,IF(Comanda!$K167=3,Comanda!$C$15,IF(Comanda!$K167=4,Comanda!$C$16,0))))","v":0},{"$f":"IF(Comanda!B167<>0,Comanda!$C$2,\"\")","v":""},{"$f":"IF(Comanda!B167<>0,Comanda!$C$5,\"\")","v":""},{"$f":"IF(Comanda!B167<>0,Comanda!$G$2,\"\")","v":""},{"$f":"IF(Comanda!B167<>0,Comanda!L167,\"\")","v":""},{"$f":"IF(Comanda!D167<>0,VLOOKUP('Formula Cant'!F150,'Grafica Cant'!$G$2:$H$25,2,FALSE),\"\")","v":""},{"$nulls":8},{"$f":"IF(Comanda!B167<>0,Comanda!$C$9,\"\")","v":""},{"$f":"IF(Comanda!B167<>0,VLOOKUP(Comanda!$C$12,PRETURI!$A$2:$C$500,3,FALSE),\"\")","v":""},"",{"$f":"IF(H150<>0,VLOOKUP(H150,PRETURI!$D$2:$F$1093,3,FALSE),\"\")","v":""},{"v":0,"d":"0.00"},{"$f":"IF(I150<>0,VLOOKUP(I150,PRETURI!$D$2:$F$1093,3,FALSE),\"\")","v":""},{"v":0,"d":"0.00"},{"$f":"IF(J150<>0,VLOOKUP(J150,PRETURI!$D$2:$F$1093,3,FALSE),\"\")","v":""},{"v":0,"d":"0.00"},{"$f":"IF(K150<>0,VLOOKUP(K150,PRETURI!$D$2:$F$1093,3,FALSE),\"\")","v":""},{"v":0,"d":"0.00"},{"$nulls":6},{"$f":"(Comanda!D167*Comanda!E167*Comanda!F167)*0.000001","v":{"v":0,"d":"0.00"}},null,{"$f":"IF(Comanda!H167=1,(Comanda!D167*0.001+$BL$2)*Comanda!F167,\"\")","v":""},{"$f":"IF(Comanda!I167=1,(Comanda!D167*0.001+$BL$2)*Comanda!F167,\"\")","v":""},{"$f":"IF(Comanda!J167=1,(Comanda!E167*0.001+$BL$2)*Comanda!F167,\"\")","v":""},{"$f":"IF(Comanda!K167=1,(Comanda!E167*0.001+$BL$2)*Comanda!F167,\"\")","v":""},null,{"$f":"IF(Comanda!H167=2,(Comanda!D167*0.001+$BL$2)*Comanda!F167,\"\")","v":""},{"$f":"IF(Comanda!I167=2,(Comanda!D167*0.001+$BL$2)*Comanda!F167,\"\")","v":""},{"$f":"IF(Comanda!J167=2,(Comanda!E167*0.001+$BL$2)*Comanda!F167,\"\")","v":""},{"$f":"IF(Comanda!K167=2,(Comanda!E167*0.001+$BL$2)*Comanda!F167,\"\")","v":""},null,{"$f":"IF(Comanda!H167=3,(Comanda!D167*0.001+$BL$2)*Comanda!F167,\"\")","v":""},{"$f":"IF(Comanda!I167=3,(Comanda!D167*0.001+$BL$2)*Comanda!F167,\"\")","v":""},{"$f":"IF(Comanda!J167=3,(Comanda!E167*0.001+$BL$2)*Comanda!F167,\"\")","v":""},{"$f":"IF(Comanda!K167=3,(Comanda!E167*0.001+$BL$2)*Comanda!F167,\"\")","v":""},null,{"$f":"IF(Comanda!H167=4,(Comanda!D167*0.001+$BL$2)*Comanda!F167,\"\")","v":""},{"$f":"IF(Comanda!I167=4,(Comanda!D167*0.001+$BL$2)*Comanda!F167,\"\")","v":""},{"$f":"IF(Comanda!J167=4,(Comanda!E167*0.001+$BL$2)*Comanda!F167,\"\")","v":""},{"$f":"IF(Comanda!K167=4,(Comanda!E167*0.001+$BL$2)*Comanda!F167,\"\")","v":""}]
[149,{"$f":"IF(Comanda!B168<>0,Comanda!B168,\"\")","v":""},{"$f":"IF(Comanda!C168<>0,Comanda!C168,\"\")","v":""},{"$f":"IF(Comanda!D168<>0,Comanda!D168,\"\")","v":""},{"$f":"IF(Comanda!E168<>0,Comanda!E168,\"\")","v":""},{"$f":"IF(Comanda!F168<>0,Comanda!F168,\"\")","v":""},{"$f":"IF(Comanda!G168<>0,1,0)","v":0},{"$f":"IF(Comanda!H168=1,Comanda!$C$13,IF(Comanda!H168=2,Comanda!$C$14,IF(Comanda!$H168=3,Comanda!$C$15,IF(Comanda!$H168=4,Comanda!$C$16,0))))","v":0},{"$f":"IF(Comanda!I168=1,Comanda!$C$13,IF(Comanda!I168=2,Comanda!$C$14,IF(Comanda!$I168=3,Comanda!$C$15,IF(Comanda!$I168=4,Comanda!$C$16,0))))","v":0},{"$f":"IF(Comanda!J168=1,Comanda!$C$13,IF(Comanda!J168=2,Comanda!$C$14,IF(Comanda!$J168=3,Comanda!$C$15,IF(Comanda!$J168=4,Comanda!$C$16,0))))","v":0},{"$f":"IF(Comanda!K168=1,Comanda!$C$13,IF(Comanda!K168=2,Comanda!$C$14,IF(Comanda!$K168=3,Comanda!$C$15,IF(Comanda!$K168=4,Comanda!$C$16,0))))","v":0},{"$f":"IF(Comanda!B168<>0,Comanda!$C$2,\"\")","v":""},{"$f":"IF(Comanda!B168<>0,Comanda!$C$5,\"\")","v":""},{"$f":"IF(Comanda!B168<>0,Comanda!$G$2,\"\")","v":""},{"$f":"IF(Comanda!B168<>0,Comanda!L168,\"\")","v":""},{"$f":"IF(Comanda!D168<>0,VLOOKUP('Formula Cant'!F151,'Grafica Cant'!$G$2:$H$25,2,FALSE),\"\")","v":""},{"$nulls":8},{"$f":"IF(Comanda!B168<>0,Comanda!$C$9,\"\")","v":""},{"$f":"IF(Comanda!B168<>0,VLOOKUP(Comanda!$C$12,PRETURI!$A$2:$C$500,3,FALSE),\"\")","v":""},"",{"$f":"IF(H151<>0,VLOOKUP(H151,PRETURI!$D$2:$F$1093,3,FALSE),\"\")","v":""},{"v":0,"d":"0.00"},{"$f":"IF(I151<>0,VLOOKUP(I151,PRETURI!$D$2:$F$1093,3,FALSE),\"\")","v":""},{"v":0,"d":"0.00"},{"$f":"IF(J151<>0,VLOOKUP(J151,PRETURI!$D$2:$F$1093,3,FALSE),\"\")","v":""},{"v":0,"d":"0.00"},{"$f":"IF(K151<>0,VLOOKUP(K151,PRETURI!$D$2:$F$1093,3,FALSE),\"\")","v":""},{"v":0,"d":"0.00"},{"$nulls":6},{"$f":"(Comanda!D168*Comanda!E168*Comanda!F168)*0.000001","v":{"v":0,"d":"0.00"}},null,{"$f":"IF(Comanda!H168=1,(Comanda!D168*0.001+$BL$2)*Comanda!F168,\"\")","v":""},{"$f":"IF(Comanda!I168=1,(Comanda!D168*0.001+$BL$2)*Comanda!F168,\"\")","v":""},{"$f":"IF(Comanda!J168=1,(Comanda!E168*0.001+$BL$2)*Comanda!F168,\"\")","v":""},{"$f":"IF(Comanda!K168=1,(Comanda!E168*0.001+$BL$2)*Comanda!F168,\"\")","v":""},null,{"$f":"IF(Comanda!H168=2,(Comanda!D168*0.001+$BL$2)*Comanda!F168,\"\")","v":""},{"$f":"IF(Comanda!I168=2,(Comanda!D168*0.001+$BL$2)*Comanda!F168,\"\")","v":""},{"$f":"IF(Comanda!J168=2,(Comanda!E168*0.001+$BL$2)*Comanda!F168,\"\")","v":""},{"$f":"IF(Comanda!K168=2,(Comanda!E168*0.001+$BL$2)*Comanda!F168,\"\")","v":""},null,{"$f":"IF(Comanda!H168=3,(Comanda!D168*0.001+$BL$2)*Comanda!F168,\"\")","v":""},{"$f":"IF(Comanda!I168=3,(Comanda!D168*0.001+$BL$2)*Comanda!F168,\"\")","v":""},{"$f":"IF(Comanda!J168=3,(Comanda!E168*0.001+$BL$2)*Comanda!F168,\"\")","v":""},{"$f":"IF(Comanda!K168=3,(Comanda!E168*0.001+$BL$2)*Comanda!F168,\"\")","v":""},null,{"$f":"IF(Comanda!H168=4,(Comanda!D168*0.001+$BL$2)*Comanda!F168,\"\")","v":""},{"$f":"IF(Comanda!I168=4,(Comanda!D168*0.001+$BL$2)*Comanda!F168,\"\")","v":""},{"$f":"IF(Comanda!J168=4,(Comanda!E168*0.001+$BL$2)*Comanda!F168,\"\")","v":""},{"$f":"IF(Comanda!K168=4,(Comanda!E168*0.001+$BL$2)*Comanda!F168,\"\")","v":""}]
[150,{"$f":"IF(Comanda!B169<>0,Comanda!B169,\"\")","v":""},{"$f":"IF(Comanda!C169<>0,Comanda!C169,\"\")","v":""},{"$f":"IF(Comanda!D169<>0,Comanda!D169,\"\")","v":""},{"$f":"IF(Comanda!E169<>0,Comanda!E169,\"\")","v":""},{"$f":"IF(Comanda!F169<>0,Comanda!F169,\"\")","v":""},{"$f":"IF(Comanda!G169<>0,1,0)","v":0},{"$f":"IF(Comanda!H169=1,Comanda!$C$13,IF(Comanda!H169=2,Comanda!$C$14,IF(Comanda!$H169=3,Comanda!$C$15,IF(Comanda!$H169=4,Comanda!$C$16,0))))","v":0},{"$f":"IF(Comanda!I169=1,Comanda!$C$13,IF(Comanda!I169=2,Comanda!$C$14,IF(Comanda!$I169=3,Comanda!$C$15,IF(Comanda!$I169=4,Comanda!$C$16,0))))","v":0},{"$f":"IF(Comanda!J169=1,Comanda!$C$13,IF(Comanda!J169=2,Comanda!$C$14,IF(Comanda!$J169=3,Comanda!$C$15,IF(Comanda!$J169=4,Comanda!$C$16,0))))","v":0},{"$f":"IF(Comanda!K169=1,Comanda!$C$13,IF(Comanda!K169=2,Comanda!$C$14,IF(Comanda!$K169=3,Comanda!$C$15,IF(Comanda!$K169=4,Comanda!$C$16,0))))","v":0},{"$f":"IF(Comanda!B169<>0,Comanda!$C$2,\"\")","v":""},{"$f":"IF(Comanda!B169<>0,Comanda!$C$5,\"\")","v":""},{"$f":"IF(Comanda!B169<>0,Comanda!$G$2,\"\")","v":""},{"$f":"IF(Comanda!B169<>0,Comanda!L169,\"\")","v":""},{"$f":"IF(Comanda!D169<>0,VLOOKUP('Formula Cant'!F152,'Grafica Cant'!$G$2:$H$25,2,FALSE),\"\")","v":""},{"$nulls":8},{"$f":"IF(Comanda!B169<>0,Comanda!$C$9,\"\")","v":""},{"$f":"IF(Comanda!B169<>0,VLOOKUP(Comanda!$C$12,PRETURI!$A$2:$C$500,3,FALSE),\"\")","v":""},"",{"$f":"IF(H152<>0,VLOOKUP(H152,PRETURI!$D$2:$F$1093,3,FALSE),\"\")","v":""},{"v":0,"d":"0.00"},{"$f":"IF(I152<>0,VLOOKUP(I152,PRETURI!$D$2:$F$1093,3,FALSE),\"\")","v":""},{"v":0,"d":"0.00"},{"$f":"IF(J152<>0,VLOOKUP(J152,PRETURI!$D$2:$F$1093,3,FALSE),\"\")","v":""},{"v":0,"d":"0.00"},{"$f":"IF(K152<>0,VLOOKUP(K152,PRETURI!$D$2:$F$1093,3,FALSE),\"\")","v":""},{"v":0,"d":"0.00"},{"$nulls":6},{"$f":"(Comanda!D169*Comanda!E169*Comanda!F169)*0.000001","v":{"v":0,"d":"0.00"}},null,{"$f":"IF(Comanda!H169=1,(Comanda!D169*0.001+$BL$2)*Comanda!F169,\"\")","v":""},{"$f":"IF(Comanda!I169=1,(Comanda!D169*0.001+$BL$2)*Comanda!F169,\"\")","v":""},{"$f":"IF(Comanda!J169=1,(Comanda!E169*0.001+$BL$2)*Comanda!F169,\"\")","v":""},{"$f":"IF(Comanda!K169=1,(Comanda!E169*0.001+$BL$2)*Comanda!F169,\"\")","v":""},null,{"$f":"IF(Comanda!H169=2,(Comanda!D169*0.001+$BL$2)*Comanda!F169,\"\")","v":""},{"$f":"IF(Comanda!I169=2,(Comanda!D169*0.001+$BL$2)*Comanda!F169,\"\")","v":""},{"$f":"IF(Comanda!J169=2,(Comanda!E169*0.001+$BL$2)*Comanda!F169,\"\")","v":""},{"$f":"IF(Comanda!K169=2,(Comanda!E169*0.001+$BL$2)*Comanda!F169,\"\")","v":""},null,{"$f":"IF(Comanda!H169=3,(Comanda!D169*0.001+$BL$2)*Comanda!F169,\"\")","v":""},{"$f":"IF(Comanda!I169=3,(Comanda!D169*0.001+$BL$2)*Comanda!F169,\"\")","v":""},{"$f":"IF(Comanda!J169=3,(Comanda!E169*0.001+$BL$2)*Comanda!F169,\"\")","v":""},{"$f":"IF(Comanda!K169=3,(Comanda!E169*0.001+$BL$2)*Comanda!F169,\"\")","v":""},null,{"$f":"IF(Comanda!H169=4,(Comanda!D169*0.001+$BL$2)*Comanda!F169,\"\")","v":""},{"$f":"IF(Comanda!I169=4,(Comanda!D169*0.001+$BL$2)*Comanda!F169,\"\")","v":""},{"$f":"IF(Comanda!J169=4,(Comanda!E169*0.001+$BL$2)*Comanda!F169,\"\")","v":""},{"$f":"IF(Comanda!K169=4,(Comanda!E169*0.001+$BL$2)*Comanda!F169,\"\")","v":""}]
[151,{"$f":"IF(Comanda!B170<>0,Comanda!B170,\"\")","v":""},{"$f":"IF(Comanda!C170<>0,Comanda!C170,\"\")","v":""},{"$f":"IF(Comanda!D170<>0,Comanda!D170,\"\")","v":""},{"$f":"IF(Comanda!E170<>0,Comanda!E170,\"\")","v":""},{"$f":"IF(Comanda!F170<>0,Comanda!F170,\"\")","v":""},{"$f":"IF(Comanda!G170<>0,1,0)","v":0},{"$f":"IF(Comanda!H170=1,Comanda!$C$13,IF(Comanda!H170=2,Comanda!$C$14,IF(Comanda!$H170=3,Comanda!$C$15,IF(Comanda!$H170=4,Comanda!$C$16,0))))","v":0},{"$f":"IF(Comanda!I170=1,Comanda!$C$13,IF(Comanda!I170=2,Comanda!$C$14,IF(Comanda!$I170=3,Comanda!$C$15,IF(Comanda!$I170=4,Comanda!$C$16,0))))","v":0},{"$f":"IF(Comanda!J170=1,Comanda!$C$13,IF(Comanda!J170=2,Comanda!$C$14,IF(Comanda!$J170=3,Comanda!$C$15,IF(Comanda!$J170=4,Comanda!$C$16,0))))","v":0},{"$f":"IF(Comanda!K170=1,Comanda!$C$13,IF(Comanda!K170=2,Comanda!$C$14,IF(Comanda!$K170=3,Comanda!$C$15,IF(Comanda!$K170=4,Comanda!$C$16,0))))","v":0},{"$f":"IF(Comanda!B170<>0,Comanda!$C$2,\"\")","v":""},{"$f":"IF(Comanda!B170<>0,Comanda!$C$5,\"\")","v":""},{"$f":"IF(Comanda!B170<>0,Comanda!$G$2,\"\")","v":""},{"$f":"IF(Comanda!B170<>0,Comanda!L170,\"\")","v":""},{"$f":"IF(Comanda!D170<>0,VLOOKUP('Formula Cant'!F153,'Grafica Cant'!$G$2:$H$25,2,FALSE),\"\")","v":""},{"$nulls":8},{"$f":"IF(Comanda!B170<>0,Comanda!$C$9,\"\")","v":""},{"$f":"IF(Comanda!B170<>0,VLOOKUP(Comanda!$C$12,PRETURI!$A$2:$C$500,3,FALSE),\"\")","v":""},"",{"$f":"IF(H153<>0,VLOOKUP(H153,PRETURI!$D$2:$F$1093,3,FALSE),\"\")","v":""},{"v":0,"d":"0.00"},{"$f":"IF(I153<>0,VLOOKUP(I153,PRETURI!$D$2:$F$1093,3,FALSE),\"\")","v":""},{"v":0,"d":"0.00"},{"$f":"IF(J153<>0,VLOOKUP(J153,PRETURI!$D$2:$F$1093,3,FALSE),\"\")","v":""},{"v":0,"d":"0.00"},{"$f":"IF(K153<>0,VLOOKUP(K153,PRETURI!$D$2:$F$1093,3,FALSE),\"\")","v":""},{"v":0,"d":"0.00"},{"$nulls":6},{"$f":"(Comanda!D170*Comanda!E170*Comanda!F170)*0.000001","v":{"v":0,"d":"0.00"}},null,{"$f":"IF(Comanda!H170=1,(Comanda!D170*0.001+$BL$2)*Comanda!F170,\"\")","v":""},{"$f":"IF(Comanda!I170=1,(Comanda!D170*0.001+$BL$2)*Comanda!F170,\"\")","v":""},{"$f":"IF(Comanda!J170=1,(Comanda!E170*0.001+$BL$2)*Comanda!F170,\"\")","v":""},{"$f":"IF(Comanda!K170=1,(Comanda!E170*0.001+$BL$2)*Comanda!F170,\"\")","v":""},null,{"$f":"IF(Comanda!H170=2,(Comanda!D170*0.001+$BL$2)*Comanda!F170,\"\")","v":""},{"$f":"IF(Comanda!I170=2,(Comanda!D170*0.001+$BL$2)*Comanda!F170,\"\")","v":""},{"$f":"IF(Comanda!J170=2,(Comanda!E170*0.001+$BL$2)*Comanda!F170,\"\")","v":""},{"$f":"IF(Comanda!K170=2,(Comanda!E170*0.001+$BL$2)*Comanda!F170,\"\")","v":""},null,{"$f":"IF(Comanda!H170=3,(Comanda!D170*0.001+$BL$2)*Comanda!F170,\"\")","v":""},{"$f":"IF(Comanda!I170=3,(Comanda!D170*0.001+$BL$2)*Comanda!F170,\"\")","v":""},{"$f":"IF(Comanda!J170=3,(Comanda!E170*0.001+$BL$2)*Comanda!F170,\"\")","v":""},{"$f":"IF(Comanda!K170=3,(Comanda!E170*0.001+$BL$2)*Comanda!F170,\"\")","v":""},null,{"$f":"IF(Comanda!H170=4,(Comanda!D170*0.001+$BL$2)*Comanda!F170,\"\")","v":""},{"$f":"IF(Comanda!I170=4,(Comanda!D170*0.001+$BL$2)*Comanda!F170,\"\")","v":""},{"$f":"IF(Comanda!J170=4,(Comanda!E170*0.001+$BL$2)*Comanda!F170,\"\")","v":""},{"$f":"IF(Comanda!K170=4,(Comanda!E170*0.001+$BL$2)*Comanda!F170,\"\")","v":""}]
[152,{"$f":"IF(Comanda!B171<>0,Comanda!B171,\"\")","v":""},{"$f":"IF(Comanda!C171<>0,Comanda!C171,\"\")","v":""},{"$f":"IF(Comanda!D171<>0,Comanda!D171,\"\")","v":""},{"$f":"IF(Comanda!E171<>0,Comanda!E171,\"\")","v":""},{"$f":"IF(Comanda!F171<>0,Comanda!F171,\"\")","v":""},{"$f":"IF(Comanda!G171<>0,1,0)","v":0},{"$f":"IF(Comanda!H171=1,Comanda!$C$13,IF(Comanda!H171=2,Comanda!$C$14,IF(Comanda!$H171=3,Comanda!$C$15,IF(Comanda!$H171=4,Comanda!$C$16,0))))","v":0},{"$f":"IF(Comanda!I171=1,Comanda!$C$13,IF(Comanda!I171=2,Comanda!$C$14,IF(Comanda!$I171=3,Comanda!$C$15,IF(Comanda!$I171=4,Comanda!$C$16,0))))","v":0},{"$f":"IF(Comanda!J171=1,Comanda!$C$13,IF(Comanda!J171=2,Comanda!$C$14,IF(Comanda!$J171=3,Comanda!$C$15,IF(Comanda!$J171=4,Comanda!$C$16,0))))","v":0},{"$f":"IF(Comanda!K171=1,Comanda!$C$13,IF(Comanda!K171=2,Comanda!$C$14,IF(Comanda!$K171=3,Comanda!$C$15,IF(Comanda!$K171=4,Comanda!$C$16,0))))","v":0},{"$f":"IF(Comanda!B171<>0,Comanda!$C$2,\"\")","v":""},{"$f":"IF(Comanda!B171<>0,Comanda!$C$5,\"\")","v":""},{"$f":"IF(Comanda!B171<>0,Comanda!$G$2,\"\")","v":""},{"$f":"IF(Comanda!B171<>0,Comanda!L171,\"\")","v":""},{"$f":"IF(Comanda!D171<>0,VLOOKUP('Formula Cant'!F154,'Grafica Cant'!$G$2:$H$25,2,FALSE),\"\")","v":""},{"$nulls":8},{"$f":"IF(Comanda!B171<>0,Comanda!$C$9,\"\")","v":""},{"$f":"IF(Comanda!B171<>0,VLOOKUP(Comanda!$C$12,PRETURI!$A$2:$C$500,3,FALSE),\"\")","v":""},"",{"$f":"IF(H154<>0,VLOOKUP(H154,PRETURI!$D$2:$F$1093,3,FALSE),\"\")","v":""},{"v":0,"d":"0.00"},{"$f":"IF(I154<>0,VLOOKUP(I154,PRETURI!$D$2:$F$1093,3,FALSE),\"\")","v":""},{"v":0,"d":"0.00"},{"$f":"IF(J154<>0,VLOOKUP(J154,PRETURI!$D$2:$F$1093,3,FALSE),\"\")","v":""},{"v":0,"d":"0.00"},{"$f":"IF(K154<>0,VLOOKUP(K154,PRETURI!$D$2:$F$1093,3,FALSE),\"\")","v":""},{"v":0,"d":"0.00"},{"$nulls":6},{"$f":"(Comanda!D171*Comanda!E171*Comanda!F171)*0.000001","v":{"v":0,"d":"0.00"}},null,{"$f":"IF(Comanda!H171=1,(Comanda!D171*0.001+$BL$2)*Comanda!F171,\"\")","v":""},{"$f":"IF(Comanda!I171=1,(Comanda!D171*0.001+$BL$2)*Comanda!F171,\"\")","v":""},{"$f":"IF(Comanda!J171=1,(Comanda!E171*0.001+$BL$2)*Comanda!F171,\"\")","v":""},{"$f":"IF(Comanda!K171=1,(Comanda!E171*0.001+$BL$2)*Comanda!F171,\"\")","v":""},null,{"$f":"IF(Comanda!H171=2,(Comanda!D171*0.001+$BL$2)*Comanda!F171,\"\")","v":""},{"$f":"IF(Comanda!I171=2,(Comanda!D171*0.001+$BL$2)*Comanda!F171,\"\")","v":""},{"$f":"IF(Comanda!J171=2,(Comanda!E171*0.001+$BL$2)*Comanda!F171,\"\")","v":""},{"$f":"IF(Comanda!K171=2,(Comanda!E171*0.001+$BL$2)*Comanda!F171,\"\")","v":""},null,{"$f":"IF(Comanda!H171=3,(Comanda!D171*0.001+$BL$2)*Comanda!F171,\"\")","v":""},{"$f":"IF(Comanda!I171=3,(Comanda!D171*0.001+$BL$2)*Comanda!F171,\"\")","v":""},{"$f":"IF(Comanda!J171=3,(Comanda!E171*0.001+$BL$2)*Comanda!F171,\"\")","v":""},{"$f":"IF(Comanda!K171=3,(Comanda!E171*0.001+$BL$2)*Comanda!F171,\"\")","v":""},null,{"$f":"IF(Comanda!H171=4,(Comanda!D171*0.001+$BL$2)*Comanda!F171,\"\")","v":""},{"$f":"IF(Comanda!I171=4,(Comanda!D171*0.001+$BL$2)*Comanda!F171,\"\")","v":""},{"$f":"IF(Comanda!J171=4,(Comanda!E171*0.001+$BL$2)*Comanda!F171,\"\")","v":""},{"$f":"IF(Comanda!K171=4,(Comanda!E171*0.001+$BL$2)*Comanda!F171,\"\")","v":""}]
[153,{"$f":"IF(Comanda!B172<>0,Comanda!B172,\"\")","v":""},{"$f":"IF(Comanda!C172<>0,Comanda!C172,\"\")","v":""},{"$f":"IF(Comanda!D172<>0,Comanda!D172,\"\")","v":""},{"$f":"IF(Comanda!E172<>0,Comanda!E172,\"\")","v":""},{"$f":"IF(Comanda!F172<>0,Comanda!F172,\"\")","v":""},{"$f":"IF(Comanda!G172<>0,1,0)","v":0},{"$f":"IF(Comanda!H172=1,Comanda!$C$13,IF(Comanda!H172=2,Comanda!$C$14,IF(Comanda!$H172=3,Comanda!$C$15,IF(Comanda!$H172=4,Comanda!$C$16,0))))","v":0},{"$f":"IF(Comanda!I172=1,Comanda!$C$13,IF(Comanda!I172=2,Comanda!$C$14,IF(Comanda!$I172=3,Comanda!$C$15,IF(Comanda!$I172=4,Comanda!$C$16,0))))","v":0},{"$f":"IF(Comanda!J172=1,Comanda!$C$13,IF(Comanda!J172=2,Comanda!$C$14,IF(Comanda!$J172=3,Comanda!$C$15,IF(Comanda!$J172=4,Comanda!$C$16,0))))","v":0},{"$f":"IF(Comanda!K172=1,Comanda!$C$13,IF(Comanda!K172=2,Comanda!$C$14,IF(Comanda!$K172=3,Comanda!$C$15,IF(Comanda!$K172=4,Comanda!$C$16,0))))","v":0},{"$f":"IF(Comanda!B172<>0,Comanda!$C$2,\"\")","v":""},{"$f":"IF(Comanda!B172<>0,Comanda!$C$5,\"\")","v":""},{"$f":"IF(Comanda!B172<>0,Comanda!$G$2,\"\")","v":""},{"$f":"IF(Comanda!B172<>0,Comanda!L172,\"\")","v":""},{"$f":"IF(Comanda!D172<>0,VLOOKUP('Formula Cant'!F155,'Grafica Cant'!$G$2:$H$25,2,FALSE),\"\")","v":""},{"$nulls":8},{"$f":"IF(Comanda!B172<>0,Comanda!$C$9,\"\")","v":""},{"$f":"IF(Comanda!B172<>0,VLOOKUP(Comanda!$C$12,PRETURI!$A$2:$C$500,3,FALSE),\"\")","v":""},"",{"$f":"IF(H155<>0,VLOOKUP(H155,PRETURI!$D$2:$F$1093,3,FALSE),\"\")","v":""},{"v":0,"d":"0.00"},{"$f":"IF(I155<>0,VLOOKUP(I155,PRETURI!$D$2:$F$1093,3,FALSE),\"\")","v":""},{"v":0,"d":"0.00"},{"$f":"IF(J155<>0,VLOOKUP(J155,PRETURI!$D$2:$F$1093,3,FALSE),\"\")","v":""},{"v":0,"d":"0.00"},{"$f":"IF(K155<>0,VLOOKUP(K155,PRETURI!$D$2:$F$1093,3,FALSE),\"\")","v":""},{"v":0,"d":"0.00"},{"$nulls":6},{"$f":"(Comanda!D172*Comanda!E172*Comanda!F172)*0.000001","v":{"v":0,"d":"0.00"}},null,{"$f":"IF(Comanda!H172=1,(Comanda!D172*0.001+$BL$2)*Comanda!F172,\"\")","v":""},{"$f":"IF(Comanda!I172=1,(Comanda!D172*0.001+$BL$2)*Comanda!F172,\"\")","v":""},{"$f":"IF(Comanda!J172=1,(Comanda!E172*0.001+$BL$2)*Comanda!F172,\"\")","v":""},{"$f":"IF(Comanda!K172=1,(Comanda!E172*0.001+$BL$2)*Comanda!F172,\"\")","v":""},null,{"$f":"IF(Comanda!H172=2,(Comanda!D172*0.001+$BL$2)*Comanda!F172,\"\")","v":""},{"$f":"IF(Comanda!I172=2,(Comanda!D172*0.001+$BL$2)*Comanda!F172,\"\")","v":""},{"$f":"IF(Comanda!J172=2,(Comanda!E172*0.001+$BL$2)*Comanda!F172,\"\")","v":""},{"$f":"IF(Comanda!K172=2,(Comanda!E172*0.001+$BL$2)*Comanda!F172,\"\")","v":""},null,{"$f":"IF(Comanda!H172=3,(Comanda!D172*0.001+$BL$2)*Comanda!F172,\"\")","v":""},{"$f":"IF(Comanda!I172=3,(Comanda!D172*0.001+$BL$2)*Comanda!F172,\"\")","v":""},{"$f":"IF(Comanda!J172=3,(Comanda!E172*0.001+$BL$2)*Comanda!F172,\"\")","v":""},{"$f":"IF(Comanda!K172=3,(Comanda!E172*0.001+$BL$2)*Comanda!F172,\"\")","v":""},null,{"$f":"IF(Comanda!H172=4,(Comanda!D172*0.001+$BL$2)*Comanda!F172,\"\")","v":""},{"$f":"IF(Comanda!I172=4,(Comanda!D172*0.001+$BL$2)*Comanda!F172,\"\")","v":""},{"$f":"IF(Comanda!J172=4,(Comanda!E172*0.001+$BL$2)*Comanda!F172,\"\")","v":""},{"$f":"IF(Comanda!K172=4,(Comanda!E172*0.001+$BL$2)*Comanda!F172,\"\")","v":""}]
[154,{"$f":"IF(Comanda!B173<>0,Comanda!B173,\"\")","v":""},{"$f":"IF(Comanda!C173<>0,Comanda!C173,\"\")","v":""},{"$f":"IF(Comanda!D173<>0,Comanda!D173,\"\")","v":""},{"$f":"IF(Comanda!E173<>0,Comanda!E173,\"\")","v":""},{"$f":"IF(Comanda!F173<>0,Comanda!F173,\"\")","v":""},{"$f":"IF(Comanda!G173<>0,1,0)","v":0},{"$f":"IF(Comanda!H173=1,Comanda!$C$13,IF(Comanda!H173=2,Comanda!$C$14,IF(Comanda!$H173=3,Comanda!$C$15,IF(Comanda!$H173=4,Comanda!$C$16,0))))","v":0},{"$f":"IF(Comanda!I173=1,Comanda!$C$13,IF(Comanda!I173=2,Comanda!$C$14,IF(Comanda!$I173=3,Comanda!$C$15,IF(Comanda!$I173=4,Comanda!$C$16,0))))","v":0},{"$f":"IF(Comanda!J173=1,Comanda!$C$13,IF(Comanda!J173=2,Comanda!$C$14,IF(Comanda!$J173=3,Comanda!$C$15,IF(Comanda!$J173=4,Comanda!$C$16,0))))","v":0},{"$f":"IF(Comanda!K173=1,Comanda!$C$13,IF(Comanda!K173=2,Comanda!$C$14,IF(Comanda!$K173=3,Comanda!$C$15,IF(Comanda!$K173=4,Comanda!$C$16,0))))","v":0},{"$f":"IF(Comanda!B173<>0,Comanda!$C$2,\"\")","v":""},{"$f":"IF(Comanda!B173<>0,Comanda!$C$5,\"\")","v":""},{"$f":"IF(Comanda!B173<>0,Comanda!$G$2,\"\")","v":""},{"$f":"IF(Comanda!B173<>0,Comanda!L173,\"\")","v":""},{"$f":"IF(Comanda!D173<>0,VLOOKUP('Formula Cant'!F156,'Grafica Cant'!$G$2:$H$25,2,FALSE),\"\")","v":""},{"$nulls":8},{"$f":"IF(Comanda!B173<>0,Comanda!$C$9,\"\")","v":""},{"$f":"IF(Comanda!B173<>0,VLOOKUP(Comanda!$C$12,PRETURI!$A$2:$C$500,3,FALSE),\"\")","v":""},"",{"$f":"IF(H156<>0,VLOOKUP(H156,PRETURI!$D$2:$F$1093,3,FALSE),\"\")","v":""},{"v":0,"d":"0.00"},{"$f":"IF(I156<>0,VLOOKUP(I156,PRETURI!$D$2:$F$1093,3,FALSE),\"\")","v":""},{"v":0,"d":"0.00"},{"$f":"IF(J156<>0,VLOOKUP(J156,PRETURI!$D$2:$F$1093,3,FALSE),\"\")","v":""},{"v":0,"d":"0.00"},{"$f":"IF(K156<>0,VLOOKUP(K156,PRETURI!$D$2:$F$1093,3,FALSE),\"\")","v":""},{"v":0,"d":"0.00"},{"$nulls":6},{"$f":"(Comanda!D173*Comanda!E173*Comanda!F173)*0.000001","v":{"v":0,"d":"0.00"}},null,{"$f":"IF(Comanda!H173=1,(Comanda!D173*0.001+$BL$2)*Comanda!F173,\"\")","v":""},{"$f":"IF(Comanda!I173=1,(Comanda!D173*0.001+$BL$2)*Comanda!F173,\"\")","v":""},{"$f":"IF(Comanda!J173=1,(Comanda!E173*0.001+$BL$2)*Comanda!F173,\"\")","v":""},{"$f":"IF(Comanda!K173=1,(Comanda!E173*0.001+$BL$2)*Comanda!F173,\"\")","v":""},null,{"$f":"IF(Comanda!H173=2,(Comanda!D173*0.001+$BL$2)*Comanda!F173,\"\")","v":""},{"$f":"IF(Comanda!I173=2,(Comanda!D173*0.001+$BL$2)*Comanda!F173,\"\")","v":""},{"$f":"IF(Comanda!J173=2,(Comanda!E173*0.001+$BL$2)*Comanda!F173,\"\")","v":""},{"$f":"IF(Comanda!K173=2,(Comanda!E173*0.001+$BL$2)*Comanda!F173,\"\")","v":""},null,{"$f":"IF(Comanda!H173=3,(Comanda!D173*0.001+$BL$2)*Comanda!F173,\"\")","v":""},{"$f":"IF(Comanda!I173=3,(Comanda!D173*0.001+$BL$2)*Comanda!F173,\"\")","v":""},{"$f":"IF(Comanda!J173=3,(Comanda!E173*0.001+$BL$2)*Comanda!F173,\"\")","v":""},{"$f":"IF(Comanda!K173=3,(Comanda!E173*0.001+$BL$2)*Comanda!F173,\"\")","v":""},null,{"$f":"IF(Comanda!H173=4,(Comanda!D173*0.001+$BL$2)*Comanda!F173,\"\")","v":""},{"$f":"IF(Comanda!I173=4,(Comanda!D173*0.001+$BL$2)*Comanda!F173,\"\")","v":""},{"$f":"IF(Comanda!J173=4,(Comanda!E173*0.001+$BL$2)*Comanda!F173,\"\")","v":""},{"$f":"IF(Comanda!K173=4,(Comanda!E173*0.001+$BL$2)*Comanda!F173,\"\")","v":""}]
[155,{"$f":"IF(Comanda!B174<>0,Comanda!B174,\"\")","v":""},{"$f":"IF(Comanda!C174<>0,Comanda!C174,\"\")","v":""},{"$f":"IF(Comanda!D174<>0,Comanda!D174,\"\")","v":""},{"$f":"IF(Comanda!E174<>0,Comanda!E174,\"\")","v":""},{"$f":"IF(Comanda!F174<>0,Comanda!F174,\"\")","v":""},{"$f":"IF(Comanda!G174<>0,1,0)","v":0},{"$f":"IF(Comanda!H174=1,Comanda!$C$13,IF(Comanda!H174=2,Comanda!$C$14,IF(Comanda!$H174=3,Comanda!$C$15,IF(Comanda!$H174=4,Comanda!$C$16,0))))","v":0},{"$f":"IF(Comanda!I174=1,Comanda!$C$13,IF(Comanda!I174=2,Comanda!$C$14,IF(Comanda!$I174=3,Comanda!$C$15,IF(Comanda!$I174=4,Comanda!$C$16,0))))","v":0},{"$f":"IF(Comanda!J174=1,Comanda!$C$13,IF(Comanda!J174=2,Comanda!$C$14,IF(Comanda!$J174=3,Comanda!$C$15,IF(Comanda!$J174=4,Comanda!$C$16,0))))","v":0},{"$f":"IF(Comanda!K174=1,Comanda!$C$13,IF(Comanda!K174=2,Comanda!$C$14,IF(Comanda!$K174=3,Comanda!$C$15,IF(Comanda!$K174=4,Comanda!$C$16,0))))","v":0},{"$f":"IF(Comanda!B174<>0,Comanda!$C$2,\"\")","v":""},{"$f":"IF(Comanda!B174<>0,Comanda!$C$5,\"\")","v":""},{"$f":"IF(Comanda!B174<>0,Comanda!$G$2,\"\")","v":""},{"$f":"IF(Comanda!B174<>0,Comanda!L174,\"\")","v":""},{"$f":"IF(Comanda!D174<>0,VLOOKUP('Formula Cant'!F157,'Grafica Cant'!$G$2:$H$25,2,FALSE),\"\")","v":""},{"$nulls":8},{"$f":"IF(Comanda!B174<>0,Comanda!$C$9,\"\")","v":""},{"$f":"IF(Comanda!B174<>0,VLOOKUP(Comanda!$C$12,PRETURI!$A$2:$C$500,3,FALSE),\"\")","v":""},"",{"$f":"IF(H157<>0,VLOOKUP(H157,PRETURI!$D$2:$F$1093,3,FALSE),\"\")","v":""},{"v":0,"d":"0.00"},{"$f":"IF(I157<>0,VLOOKUP(I157,PRETURI!$D$2:$F$1093,3,FALSE),\"\")","v":""},{"v":0,"d":"0.00"},{"$f":"IF(J157<>0,VLOOKUP(J157,PRETURI!$D$2:$F$1093,3,FALSE),\"\")","v":""},{"v":0,"d":"0.00"},{"$f":"IF(K157<>0,VLOOKUP(K157,PRETURI!$D$2:$F$1093,3,FALSE),\"\")","v":""},{"v":0,"d":"0.00"},{"$nulls":6},{"$f":"(Comanda!D174*Comanda!E174*Comanda!F174)*0.000001","v":{"v":0,"d":"0.00"}},null,{"$f":"IF(Comanda!H174=1,(Comanda!D174*0.001+$BL$2)*Comanda!F174,\"\")","v":""},{"$f":"IF(Comanda!I174=1,(Comanda!D174*0.001+$BL$2)*Comanda!F174,\"\")","v":""},{"$f":"IF(Comanda!J174=1,(Comanda!E174*0.001+$BL$2)*Comanda!F174,\"\")","v":""},{"$f":"IF(Comanda!K174=1,(Comanda!E174*0.001+$BL$2)*Comanda!F174,\"\")","v":""},null,{"$f":"IF(Comanda!H174=2,(Comanda!D174*0.001+$BL$2)*Comanda!F174,\"\")","v":""},{"$f":"IF(Comanda!I174=2,(Comanda!D174*0.001+$BL$2)*Comanda!F174,\"\")","v":""},{"$f":"IF(Comanda!J174=2,(Comanda!E174*0.001+$BL$2)*Comanda!F174,\"\")","v":""},{"$f":"IF(Comanda!K174=2,(Comanda!E174*0.001+$BL$2)*Comanda!F174,\"\")","v":""},null,{"$f":"IF(Comanda!H174=3,(Comanda!D174*0.001+$BL$2)*Comanda!F174,\"\")","v":""},{"$f":"IF(Comanda!I174=3,(Comanda!D174*0.001+$BL$2)*Comanda!F174,\"\")","v":""},{"$f":"IF(Comanda!J174=3,(Comanda!E174*0.001+$BL$2)*Comanda!F174,\"\")","v":""},{"$f":"IF(Comanda!K174=3,(Comanda!E174*0.001+$BL$2)*Comanda!F174,\"\")","v":""},null,{"$f":"IF(Comanda!H174=4,(Comanda!D174*0.001+$BL$2)*Comanda!F174,\"\")","v":""},{"$f":"IF(Comanda!I174=4,(Comanda!D174*0.001+$BL$2)*Comanda!F174,\"\")","v":""},{"$f":"IF(Comanda!J174=4,(Comanda!E174*0.001+$BL$2)*Comanda!F174,\"\")","v":""},{"$f":"IF(Comanda!K174=4,(Comanda!E174*0.001+$BL$2)*Comanda!F174,\"\")","v":""}]
[156,{"$f":"IF(Comanda!B175<>0,Comanda!B175,\"\")","v":""},{"$f":"IF(Comanda!C175<>0,Comanda!C175,\"\")","v":""},{"$f":"IF(Comanda!D175<>0,Comanda!D175,\"\")","v":""},{"$f":"IF(Comanda!E175<>0,Comanda!E175,\"\")","v":""},{"$f":"IF(Comanda!F175<>0,Comanda!F175,\"\")","v":""},{"$f":"IF(Comanda!G175<>0,1,0)","v":0},{"$f":"IF(Comanda!H175=1,Comanda!$C$13,IF(Comanda!H175=2,Comanda!$C$14,IF(Comanda!$H175=3,Comanda!$C$15,IF(Comanda!$H175=4,Comanda!$C$16,0))))","v":0},{"$f":"IF(Comanda!I175=1,Comanda!$C$13,IF(Comanda!I175=2,Comanda!$C$14,IF(Comanda!$I175=3,Comanda!$C$15,IF(Comanda!$I175=4,Comanda!$C$16,0))))","v":0},{"$f":"IF(Comanda!J175=1,Comanda!$C$13,IF(Comanda!J175=2,Comanda!$C$14,IF(Comanda!$J175=3,Comanda!$C$15,IF(Comanda!$J175=4,Comanda!$C$16,0))))","v":0},{"$f":"IF(Comanda!K175=1,Comanda!$C$13,IF(Comanda!K175=2,Comanda!$C$14,IF(Comanda!$K175=3,Comanda!$C$15,IF(Comanda!$K175=4,Comanda!$C$16,0))))","v":0},{"$f":"IF(Comanda!B175<>0,Comanda!$C$2,\"\")","v":""},{"$f":"IF(Comanda!B175<>0,Comanda!$C$5,\"\")","v":""},{"$f":"IF(Comanda!B175<>0,Comanda!$G$2,\"\")","v":""},{"$f":"IF(Comanda!B175<>0,Comanda!L175,\"\")","v":""},{"$f":"IF(Comanda!D175<>0,VLOOKUP('Formula Cant'!F158,'Grafica Cant'!$G$2:$H$25,2,FALSE),\"\")","v":""},{"$nulls":8},{"$f":"IF(Comanda!B175<>0,Comanda!$C$9,\"\")","v":""},{"$f":"IF(Comanda!B175<>0,VLOOKUP(Comanda!$C$12,PRETURI!$A$2:$C$500,3,FALSE),\"\")","v":""},"",{"$f":"IF(H158<>0,VLOOKUP(H158,PRETURI!$D$2:$F$1093,3,FALSE),\"\")","v":""},{"v":0,"d":"0.00"},{"$f":"IF(I158<>0,VLOOKUP(I158,PRETURI!$D$2:$F$1093,3,FALSE),\"\")","v":""},{"v":0,"d":"0.00"},{"$f":"IF(J158<>0,VLOOKUP(J158,PRETURI!$D$2:$F$1093,3,FALSE),\"\")","v":""},{"v":0,"d":"0.00"},{"$f":"IF(K158<>0,VLOOKUP(K158,PRETURI!$D$2:$F$1093,3,FALSE),\"\")","v":""},{"v":0,"d":"0.00"},{"$nulls":6},{"$f":"(Comanda!D175*Comanda!E175*Comanda!F175)*0.000001","v":{"v":0,"d":"0.00"}},null,{"$f":"IF(Comanda!H175=1,(Comanda!D175*0.001+$BL$2)*Comanda!F175,\"\")","v":""},{"$f":"IF(Comanda!I175=1,(Comanda!D175*0.001+$BL$2)*Comanda!F175,\"\")","v":""},{"$f":"IF(Comanda!J175=1,(Comanda!E175*0.001+$BL$2)*Comanda!F175,\"\")","v":""},{"$f":"IF(Comanda!K175=1,(Comanda!E175*0.001+$BL$2)*Comanda!F175,\"\")","v":""},null,{"$f":"IF(Comanda!H175=2,(Comanda!D175*0.001+$BL$2)*Comanda!F175,\"\")","v":""},{"$f":"IF(Comanda!I175=2,(Comanda!D175*0.001+$BL$2)*Comanda!F175,\"\")","v":""},{"$f":"IF(Comanda!J175=2,(Comanda!E175*0.001+$BL$2)*Comanda!F175,\"\")","v":""},{"$f":"IF(Comanda!K175=2,(Comanda!E175*0.001+$BL$2)*Comanda!F175,\"\")","v":""},null,{"$f":"IF(Comanda!H175=3,(Comanda!D175*0.001+$BL$2)*Comanda!F175,\"\")","v":""},{"$f":"IF(Comanda!I175=3,(Comanda!D175*0.001+$BL$2)*Comanda!F175,\"\")","v":""},{"$f":"IF(Comanda!J175=3,(Comanda!E175*0.001+$BL$2)*Comanda!F175,\"\")","v":""},{"$f":"IF(Comanda!K175=3,(Comanda!E175*0.001+$BL$2)*Comanda!F175,\"\")","v":""},null,{"$f":"IF(Comanda!H175=4,(Comanda!D175*0.001+$BL$2)*Comanda!F175,\"\")","v":""},{"$f":"IF(Comanda!I175=4,(Comanda!D175*0.001+$BL$2)*Comanda!F175,\"\")","v":""},{"$f":"IF(Comanda!J175=4,(Comanda!E175*0.001+$BL$2)*Comanda!F175,\"\")","v":""},{"$f":"IF(Comanda!K175=4,(Comanda!E175*0.001+$BL$2)*Comanda!F175,\"\")","v":""}]
[157,{"$f":"IF(Comanda!B176<>0,Comanda!B176,\"\")","v":""},{"$f":"IF(Comanda!C176<>0,Comanda!C176,\"\")","v":""},{"$f":"IF(Comanda!D176<>0,Comanda!D176,\"\")","v":""},{"$f":"IF(Comanda!E176<>0,Comanda!E176,\"\")","v":""},{"$f":"IF(Comanda!F176<>0,Comanda!F176,\"\")","v":""},{"$f":"IF(Comanda!G176<>0,1,0)","v":0},{"$f":"IF(Comanda!H176=1,Comanda!$C$13,IF(Comanda!H176=2,Comanda!$C$14,IF(Comanda!$H176=3,Comanda!$C$15,IF(Comanda!$H176=4,Comanda!$C$16,0))))","v":0},{"$f":"IF(Comanda!I176=1,Comanda!$C$13,IF(Comanda!I176=2,Comanda!$C$14,IF(Comanda!$I176=3,Comanda!$C$15,IF(Comanda!$I176=4,Comanda!$C$16,0))))","v":0},{"$f":"IF(Comanda!J176=1,Comanda!$C$13,IF(Comanda!J176=2,Comanda!$C$14,IF(Comanda!$J176=3,Comanda!$C$15,IF(Comanda!$J176=4,Comanda!$C$16,0))))","v":0},{"$f":"IF(Comanda!K176=1,Comanda!$C$13,IF(Comanda!K176=2,Comanda!$C$14,IF(Comanda!$K176=3,Comanda!$C$15,IF(Comanda!$K176=4,Comanda!$C$16,0))))","v":0},{"$f":"IF(Comanda!B176<>0,Comanda!$C$2,\"\")","v":""},{"$f":"IF(Comanda!B176<>0,Comanda!$C$5,\"\")","v":""},{"$f":"IF(Comanda!B176<>0,Comanda!$G$2,\"\")","v":""},{"$f":"IF(Comanda!B176<>0,Comanda!L176,\"\")","v":""},{"$f":"IF(Comanda!D176<>0,VLOOKUP('Formula Cant'!F159,'Grafica Cant'!$G$2:$H$25,2,FALSE),\"\")","v":""},{"$nulls":8},{"$f":"IF(Comanda!B176<>0,Comanda!$C$9,\"\")","v":""},{"$f":"IF(Comanda!B176<>0,VLOOKUP(Comanda!$C$12,PRETURI!$A$2:$C$500,3,FALSE),\"\")","v":""},"",{"$f":"IF(H159<>0,VLOOKUP(H159,PRETURI!$D$2:$F$1093,3,FALSE),\"\")","v":""},{"v":0,"d":"0.00"},{"$f":"IF(I159<>0,VLOOKUP(I159,PRETURI!$D$2:$F$1093,3,FALSE),\"\")","v":""},{"v":0,"d":"0.00"},{"$f":"IF(J159<>0,VLOOKUP(J159,PRETURI!$D$2:$F$1093,3,FALSE),\"\")","v":""},{"v":0,"d":"0.00"},{"$f":"IF(K159<>0,VLOOKUP(K159,PRETURI!$D$2:$F$1093,3,FALSE),\"\")","v":""},{"v":0,"d":"0.00"},{"$nulls":6},{"$f":"(Comanda!D176*Comanda!E176*Comanda!F176)*0.000001","v":{"v":0,"d":"0.00"}},null,{"$f":"IF(Comanda!H176=1,(Comanda!D176*0.001+$BL$2)*Comanda!F176,\"\")","v":""},{"$f":"IF(Comanda!I176=1,(Comanda!D176*0.001+$BL$2)*Comanda!F176,\"\")","v":""},{"$f":"IF(Comanda!J176=1,(Comanda!E176*0.001+$BL$2)*Comanda!F176,\"\")","v":""},{"$f":"IF(Comanda!K176=1,(Comanda!E176*0.001+$BL$2)*Comanda!F176,\"\")","v":""},null,{"$f":"IF(Comanda!H176=2,(Comanda!D176*0.001+$BL$2)*Comanda!F176,\"\")","v":""},{"$f":"IF(Comanda!I176=2,(Comanda!D176*0.001+$BL$2)*Comanda!F176,\"\")","v":""},{"$f":"IF(Comanda!J176=2,(Comanda!E176*0.001+$BL$2)*Comanda!F176,\"\")","v":""},{"$f":"IF(Comanda!K176=2,(Comanda!E176*0.001+$BL$2)*Comanda!F176,\"\")","v":""},null,{"$f":"IF(Comanda!H176=3,(Comanda!D176*0.001+$BL$2)*Comanda!F176,\"\")","v":""},{"$f":"IF(Comanda!I176=3,(Comanda!D176*0.001+$BL$2)*Comanda!F176,\"\")","v":""},{"$f":"IF(Comanda!J176=3,(Comanda!E176*0.001+$BL$2)*Comanda!F176,\"\")","v":""},{"$f":"IF(Comanda!K176=3,(Comanda!E176*0.001+$BL$2)*Comanda!F176,\"\")","v":""},null,{"$f":"IF(Comanda!H176=4,(Comanda!D176*0.001+$BL$2)*Comanda!F176,\"\")","v":""},{"$f":"IF(Comanda!I176=4,(Comanda!D176*0.001+$BL$2)*Comanda!F176,\"\")","v":""},{"$f":"IF(Comanda!J176=4,(Comanda!E176*0.001+$BL$2)*Comanda!F176,\"\")","v":""},{"$f":"IF(Comanda!K176=4,(Comanda!E176*0.001+$BL$2)*Comanda!F176,\"\")","v":""}]
[158,{"$f":"IF(Comanda!B177<>0,Comanda!B177,\"\")","v":""},{"$f":"IF(Comanda!C177<>0,Comanda!C177,\"\")","v":""},{"$f":"IF(Comanda!D177<>0,Comanda!D177,\"\")","v":""},{"$f":"IF(Comanda!E177<>0,Comanda!E177,\"\")","v":""},{"$f":"IF(Comanda!F177<>0,Comanda!F177,\"\")","v":""},{"$f":"IF(Comanda!G177<>0,1,0)","v":0},{"$f":"IF(Comanda!H177=1,Comanda!$C$13,IF(Comanda!H177=2,Comanda!$C$14,IF(Comanda!$H177=3,Comanda!$C$15,IF(Comanda!$H177=4,Comanda!$C$16,0))))","v":0},{"$f":"IF(Comanda!I177=1,Comanda!$C$13,IF(Comanda!I177=2,Comanda!$C$14,IF(Comanda!$I177=3,Comanda!$C$15,IF(Comanda!$I177=4,Comanda!$C$16,0))))","v":0},{"$f":"IF(Comanda!J177=1,Comanda!$C$13,IF(Comanda!J177=2,Comanda!$C$14,IF(Comanda!$J177=3,Comanda!$C$15,IF(Comanda!$J177=4,Comanda!$C$16,0))))","v":0},{"$f":"IF(Comanda!K177=1,Comanda!$C$13,IF(Comanda!K177=2,Comanda!$C$14,IF(Comanda!$K177=3,Comanda!$C$15,IF(Comanda!$K177=4,Comanda!$C$16,0))))","v":0},{"$f":"IF(Comanda!B177<>0,Comanda!$C$2,\"\")","v":""},{"$f":"IF(Comanda!B177<>0,Comanda!$C$5,\"\")","v":""},{"$f":"IF(Comanda!B177<>0,Comanda!$G$2,\"\")","v":""},{"$f":"IF(Comanda!B177<>0,Comanda!L177,\"\")","v":""},{"$f":"IF(Comanda!D177<>0,VLOOKUP('Formula Cant'!F160,'Grafica Cant'!$G$2:$H$25,2,FALSE),\"\")","v":""},{"$nulls":8},{"$f":"IF(Comanda!B177<>0,Comanda!$C$9,\"\")","v":""},{"$f":"IF(Comanda!B177<>0,VLOOKUP(Comanda!$C$12,PRETURI!$A$2:$C$500,3,FALSE),\"\")","v":""},"",{"$f":"IF(H160<>0,VLOOKUP(H160,PRETURI!$D$2:$F$1093,3,FALSE),\"\")","v":""},{"v":0,"d":"0.00"},{"$f":"IF(I160<>0,VLOOKUP(I160,PRETURI!$D$2:$F$1093,3,FALSE),\"\")","v":""},{"v":0,"d":"0.00"},{"$f":"IF(J160<>0,VLOOKUP(J160,PRETURI!$D$2:$F$1093,3,FALSE),\"\")","v":""},{"v":0,"d":"0.00"},{"$f":"IF(K160<>0,VLOOKUP(K160,PRETURI!$D$2:$F$1093,3,FALSE),\"\")","v":""},{"v":0,"d":"0.00"},{"$nulls":6},{"$f":"(Comanda!D177*Comanda!E177*Comanda!F177)*0.000001","v":{"v":0,"d":"0.00"}},null,{"$f":"IF(Comanda!H177=1,(Comanda!D177*0.001+$BL$2)*Comanda!F177,\"\")","v":""},{"$f":"IF(Comanda!I177=1,(Comanda!D177*0.001+$BL$2)*Comanda!F177,\"\")","v":""},{"$f":"IF(Comanda!J177=1,(Comanda!E177*0.001+$BL$2)*Comanda!F177,\"\")","v":""},{"$f":"IF(Comanda!K177=1,(Comanda!E177*0.001+$BL$2)*Comanda!F177,\"\")","v":""},null,{"$f":"IF(Comanda!H177=2,(Comanda!D177*0.001+$BL$2)*Comanda!F177,\"\")","v":""},{"$f":"IF(Comanda!I177=2,(Comanda!D177*0.001+$BL$2)*Comanda!F177,\"\")","v":""},{"$f":"IF(Comanda!J177=2,(Comanda!E177*0.001+$BL$2)*Comanda!F177,\"\")","v":""},{"$f":"IF(Comanda!K177=2,(Comanda!E177*0.001+$BL$2)*Comanda!F177,\"\")","v":""},null,{"$f":"IF(Comanda!H177=3,(Comanda!D177*0.001+$BL$2)*Comanda!F177,\"\")","v":""},{"$f":"IF(Comanda!I177=3,(Comanda!D177*0.001+$BL$2)*Comanda!F177,\"\")","v":""},{"$f":"IF(Comanda!J177=3,(Comanda!E177*0.001+$BL$2)*Comanda!F177,\"\")","v":""},{"$f":"IF(Comanda!K177=3,(Comanda!E177*0.001+$BL$2)*Comanda!F177,\"\")","v":""},null,{"$f":"IF(Comanda!H177=4,(Comanda!D177*0.001+$BL$2)*Comanda!F177,\"\")","v":""},{"$f":"IF(Comanda!I177=4,(Comanda!D177*0.001+$BL$2)*Comanda!F177,\"\")","v":""},{"$f":"IF(Comanda!J177=4,(Comanda!E177*0.001+$BL$2)*Comanda!F177,\"\")","v":""},{"$f":"IF(Comanda!K177=4,(Comanda!E177*0.001+$BL$2)*Comanda!F177,\"\")","v":""}]
[159,{"$f":"IF(Comanda!B178<>0,Comanda!B178,\"\")","v":""},{"$f":"IF(Comanda!C178<>0,Comanda!C178,\"\")","v":""},{"$f":"IF(Comanda!D178<>0,Comanda!D178,\"\")","v":""},{"$f":"IF(Comanda!E178<>0,Comanda!E178,\"\")","v":""},{"$f":"IF(Comanda!F178<>0,Comanda!F178,\"\")","v":""},{"$f":"IF(Comanda!G178<>0,1,0)","v":0},{"$f":"IF(Comanda!H178=1,Comanda!$C$13,IF(Comanda!H178=2,Comanda!$C$14,IF(Comanda!$H178=3,Comanda!$C$15,IF(Comanda!$H178=4,Comanda!$C$16,0))))","v":0},{"$f":"IF(Comanda!I178=1,Comanda!$C$13,IF(Comanda!I178=2,Comanda!$C$14,IF(Comanda!$I178=3,Comanda!$C$15,IF(Comanda!$I178=4,Comanda!$C$16,0))))","v":0},{"$f":"IF(Comanda!J178=1,Comanda!$C$13,IF(Comanda!J178=2,Comanda!$C$14,IF(Comanda!$J178=3,Comanda!$C$15,IF(Comanda!$J178=4,Comanda!$C$16,0))))","v":0},{"$f":"IF(Comanda!K178=1,Comanda!$C$13,IF(Comanda!K178=2,Comanda!$C$14,IF(Comanda!$K178=3,Comanda!$C$15,IF(Comanda!$K178=4,Comanda!$C$16,0))))","v":0},{"$f":"IF(Comanda!B178<>0,Comanda!$C$2,\"\")","v":""},{"$f":"IF(Comanda!B178<>0,Comanda!$C$5,\"\")","v":""},{"$f":"IF(Comanda!B178<>0,Comanda!$G$2,\"\")","v":""},{"$f":"IF(Comanda!B178<>0,Comanda!L178,\"\")","v":""},{"$f":"IF(Comanda!D178<>0,VLOOKUP('Formula Cant'!F161,'Grafica Cant'!$G$2:$H$25,2,FALSE),\"\")","v":""},{"$nulls":8},{"$f":"IF(Comanda!B178<>0,Comanda!$C$9,\"\")","v":""},{"$f":"IF(Comanda!B178<>0,VLOOKUP(Comanda!$C$12,PRETURI!$A$2:$C$500,3,FALSE),\"\")","v":""},"",{"$f":"IF(H161<>0,VLOOKUP(H161,PRETURI!$D$2:$F$1093,3,FALSE),\"\")","v":""},{"v":0,"d":"0.00"},{"$f":"IF(I161<>0,VLOOKUP(I161,PRETURI!$D$2:$F$1093,3,FALSE),\"\")","v":""},{"v":0,"d":"0.00"},{"$f":"IF(J161<>0,VLOOKUP(J161,PRETURI!$D$2:$F$1093,3,FALSE),\"\")","v":""},{"v":0,"d":"0.00"},{"$f":"IF(K161<>0,VLOOKUP(K161,PRETURI!$D$2:$F$1093,3,FALSE),\"\")","v":""},{"v":0,"d":"0.00"},{"$nulls":6},{"$f":"(Comanda!D178*Comanda!E178*Comanda!F178)*0.000001","v":{"v":0,"d":"0.00"}},null,{"$f":"IF(Comanda!H178=1,(Comanda!D178*0.001+$BL$2)*Comanda!F178,\"\")","v":""},{"$f":"IF(Comanda!I178=1,(Comanda!D178*0.001+$BL$2)*Comanda!F178,\"\")","v":""},{"$f":"IF(Comanda!J178=1,(Comanda!E178*0.001+$BL$2)*Comanda!F178,\"\")","v":""},{"$f":"IF(Comanda!K178=1,(Comanda!E178*0.001+$BL$2)*Comanda!F178,\"\")","v":""},null,{"$f":"IF(Comanda!H178=2,(Comanda!D178*0.001+$BL$2)*Comanda!F178,\"\")","v":""},{"$f":"IF(Comanda!I178=2,(Comanda!D178*0.001+$BL$2)*Comanda!F178,\"\")","v":""},{"$f":"IF(Comanda!J178=2,(Comanda!E178*0.001+$BL$2)*Comanda!F178,\"\")","v":""},{"$f":"IF(Comanda!K178=2,(Comanda!E178*0.001+$BL$2)*Comanda!F178,\"\")","v":""},null,{"$f":"IF(Comanda!H178=3,(Comanda!D178*0.001+$BL$2)*Comanda!F178,\"\")","v":""},{"$f":"IF(Comanda!I178=3,(Comanda!D178*0.001+$BL$2)*Comanda!F178,\"\")","v":""},{"$f":"IF(Comanda!J178=3,(Comanda!E178*0.001+$BL$2)*Comanda!F178,\"\")","v":""},{"$f":"IF(Comanda!K178=3,(Comanda!E178*0.001+$BL$2)*Comanda!F178,\"\")","v":""},null,{"$f":"IF(Comanda!H178=4,(Comanda!D178*0.001+$BL$2)*Comanda!F178,\"\")","v":""},{"$f":"IF(Comanda!I178=4,(Comanda!D178*0.001+$BL$2)*Comanda!F178,\"\")","v":""},{"$f":"IF(Comanda!J178=4,(Comanda!E178*0.001+$BL$2)*Comanda!F178,\"\")","v":""},{"$f":"IF(Comanda!K178=4,(Comanda!E178*0.001+$BL$2)*Comanda!F178,\"\")","v":""}]
[160,{"$f":"IF(Comanda!B179<>0,Comanda!B179,\"\")","v":""},{"$f":"IF(Comanda!C179<>0,Comanda!C179,\"\")","v":""},{"$f":"IF(Comanda!D179<>0,Comanda!D179,\"\")","v":""},{"$f":"IF(Comanda!E179<>0,Comanda!E179,\"\")","v":""},{"$f":"IF(Comanda!F179<>0,Comanda!F179,\"\")","v":""},{"$f":"IF(Comanda!G179<>0,1,0)","v":0},{"$f":"IF(Comanda!H179=1,Comanda!$C$13,IF(Comanda!H179=2,Comanda!$C$14,IF(Comanda!$H179=3,Comanda!$C$15,IF(Comanda!$H179=4,Comanda!$C$16,0))))","v":0},{"$f":"IF(Comanda!I179=1,Comanda!$C$13,IF(Comanda!I179=2,Comanda!$C$14,IF(Comanda!$I179=3,Comanda!$C$15,IF(Comanda!$I179=4,Comanda!$C$16,0))))","v":0},{"$f":"IF(Comanda!J179=1,Comanda!$C$13,IF(Comanda!J179=2,Comanda!$C$14,IF(Comanda!$J179=3,Comanda!$C$15,IF(Comanda!$J179=4,Comanda!$C$16,0))))","v":0},{"$f":"IF(Comanda!K179=1,Comanda!$C$13,IF(Comanda!K179=2,Comanda!$C$14,IF(Comanda!$K179=3,Comanda!$C$15,IF(Comanda!$K179=4,Comanda!$C$16,0))))","v":0},{"$f":"IF(Comanda!B179<>0,Comanda!$C$2,\"\")","v":""},{"$f":"IF(Comanda!B179<>0,Comanda!$C$5,\"\")","v":""},{"$f":"IF(Comanda!B179<>0,Comanda!$G$2,\"\")","v":""},{"$f":"IF(Comanda!B179<>0,Comanda!L179,\"\")","v":""},{"$f":"IF(Comanda!D179<>0,VLOOKUP('Formula Cant'!F162,'Grafica Cant'!$G$2:$H$25,2,FALSE),\"\")","v":""},{"$nulls":8},{"$f":"IF(Comanda!B179<>0,Comanda!$C$9,\"\")","v":""},{"$f":"IF(Comanda!B179<>0,VLOOKUP(Comanda!$C$12,PRETURI!$A$2:$C$500,3,FALSE),\"\")","v":""},"",{"$f":"IF(H162<>0,VLOOKUP(H162,PRETURI!$D$2:$F$1093,3,FALSE),\"\")","v":""},{"v":0,"d":"0.00"},{"$f":"IF(I162<>0,VLOOKUP(I162,PRETURI!$D$2:$F$1093,3,FALSE),\"\")","v":""},{"v":0,"d":"0.00"},{"$f":"IF(J162<>0,VLOOKUP(J162,PRETURI!$D$2:$F$1093,3,FALSE),\"\")","v":""},{"v":0,"d":"0.00"},{"$f":"IF(K162<>0,VLOOKUP(K162,PRETURI!$D$2:$F$1093,3,FALSE),\"\")","v":""},{"v":0,"d":"0.00"},{"$nulls":6},{"$f":"(Comanda!D179*Comanda!E179*Comanda!F179)*0.000001","v":{"v":0,"d":"0.00"}},null,{"$f":"IF(Comanda!H179=1,(Comanda!D179*0.001+$BL$2)*Comanda!F179,\"\")","v":""},{"$f":"IF(Comanda!I179=1,(Comanda!D179*0.001+$BL$2)*Comanda!F179,\"\")","v":""},{"$f":"IF(Comanda!J179=1,(Comanda!E179*0.001+$BL$2)*Comanda!F179,\"\")","v":""},{"$f":"IF(Comanda!K179=1,(Comanda!E179*0.001+$BL$2)*Comanda!F179,\"\")","v":""},null,{"$f":"IF(Comanda!H179=2,(Comanda!D179*0.001+$BL$2)*Comanda!F179,\"\")","v":""},{"$f":"IF(Comanda!I179=2,(Comanda!D179*0.001+$BL$2)*Comanda!F179,\"\")","v":""},{"$f":"IF(Comanda!J179=2,(Comanda!E179*0.001+$BL$2)*Comanda!F179,\"\")","v":""},{"$f":"IF(Comanda!K179=2,(Comanda!E179*0.001+$BL$2)*Comanda!F179,\"\")","v":""},null,{"$f":"IF(Comanda!H179=3,(Comanda!D179*0.001+$BL$2)*Comanda!F179,\"\")","v":""},{"$f":"IF(Comanda!I179=3,(Comanda!D179*0.001+$BL$2)*Comanda!F179,\"\")","v":""},{"$f":"IF(Comanda!J179=3,(Comanda!E179*0.001+$BL$2)*Comanda!F179,\"\")","v":""},{"$f":"IF(Comanda!K179=3,(Comanda!E179*0.001+$BL$2)*Comanda!F179,\"\")","v":""},null,{"$f":"IF(Comanda!H179=4,(Comanda!D179*0.001+$BL$2)*Comanda!F179,\"\")","v":""},{"$f":"IF(Comanda!I179=4,(Comanda!D179*0.001+$BL$2)*Comanda!F179,\"\")","v":""},{"$f":"IF(Comanda!J179=4,(Comanda!E179*0.001+$BL$2)*Comanda!F179,\"\")","v":""},{"$f":"IF(Comanda!K179=4,(Comanda!E179*0.001+$BL$2)*Comanda!F179,\"\")","v":""}]
[161,{"$f":"IF(Comanda!B180<>0,Comanda!B180,\"\")","v":""},{"$f":"IF(Comanda!C180<>0,Comanda!C180,\"\")","v":""},{"$f":"IF(Comanda!D180<>0,Comanda!D180,\"\")","v":""},{"$f":"IF(Comanda!E180<>0,Comanda!E180,\"\")","v":""},{"$f":"IF(Comanda!F180<>0,Comanda!F180,\"\")","v":""},{"$f":"IF(Comanda!G180<>0,1,0)","v":0},{"$f":"IF(Comanda!H180=1,Comanda!$C$13,IF(Comanda!H180=2,Comanda!$C$14,IF(Comanda!$H180=3,Comanda!$C$15,IF(Comanda!$H180=4,Comanda!$C$16,0))))","v":0},{"$f":"IF(Comanda!I180=1,Comanda!$C$13,IF(Comanda!I180=2,Comanda!$C$14,IF(Comanda!$I180=3,Comanda!$C$15,IF(Comanda!$I180=4,Comanda!$C$16,0))))","v":0},{"$f":"IF(Comanda!J180=1,Comanda!$C$13,IF(Comanda!J180=2,Comanda!$C$14,IF(Comanda!$J180=3,Comanda!$C$15,IF(Comanda!$J180=4,Comanda!$C$16,0))))","v":0},{"$f":"IF(Comanda!K180=1,Comanda!$C$13,IF(Comanda!K180=2,Comanda!$C$14,IF(Comanda!$K180=3,Comanda!$C$15,IF(Comanda!$K180=4,Comanda!$C$16,0))))","v":0},{"$f":"IF(Comanda!B180<>0,Comanda!$C$2,\"\")","v":""},{"$f":"IF(Comanda!B180<>0,Comanda!$C$5,\"\")","v":""},{"$f":"IF(Comanda!B180<>0,Comanda!$G$2,\"\")","v":""},{"$f":"IF(Comanda!B180<>0,Comanda!L180,\"\")","v":""},{"$f":"IF(Comanda!D180<>0,VLOOKUP('Formula Cant'!F163,'Grafica Cant'!$G$2:$H$25,2,FALSE),\"\")","v":""},{"$nulls":8},{"$f":"IF(Comanda!B180<>0,Comanda!$C$9,\"\")","v":""},{"$f":"IF(Comanda!B180<>0,VLOOKUP(Comanda!$C$12,PRETURI!$A$2:$C$500,3,FALSE),\"\")","v":""},"",{"$f":"IF(H163<>0,VLOOKUP(H163,PRETURI!$D$2:$F$1093,3,FALSE),\"\")","v":""},{"v":0,"d":"0.00"},{"$f":"IF(I163<>0,VLOOKUP(I163,PRETURI!$D$2:$F$1093,3,FALSE),\"\")","v":""},{"v":0,"d":"0.00"},{"$f":"IF(J163<>0,VLOOKUP(J163,PRETURI!$D$2:$F$1093,3,FALSE),\"\")","v":""},{"v":0,"d":"0.00"},{"$f":"IF(K163<>0,VLOOKUP(K163,PRETURI!$D$2:$F$1093,3,FALSE),\"\")","v":""},{"v":0,"d":"0.00"},{"$nulls":6},{"$f":"(Comanda!D180*Comanda!E180*Comanda!F180)*0.000001","v":{"v":0,"d":"0.00"}},null,{"$f":"IF(Comanda!H180=1,(Comanda!D180*0.001+$BL$2)*Comanda!F180,\"\")","v":""},{"$f":"IF(Comanda!I180=1,(Comanda!D180*0.001+$BL$2)*Comanda!F180,\"\")","v":""},{"$f":"IF(Comanda!J180=1,(Comanda!E180*0.001+$BL$2)*Comanda!F180,\"\")","v":""},{"$f":"IF(Comanda!K180=1,(Comanda!E180*0.001+$BL$2)*Comanda!F180,\"\")","v":""},null,{"$f":"IF(Comanda!H180=2,(Comanda!D180*0.001+$BL$2)*Comanda!F180,\"\")","v":""},{"$f":"IF(Comanda!I180=2,(Comanda!D180*0.001+$BL$2)*Comanda!F180,\"\")","v":""},{"$f":"IF(Comanda!J180=2,(Comanda!E180*0.001+$BL$2)*Comanda!F180,\"\")","v":""},{"$f":"IF(Comanda!K180=2,(Comanda!E180*0.001+$BL$2)*Comanda!F180,\"\")","v":""},null,{"$f":"IF(Comanda!H180=3,(Comanda!D180*0.001+$BL$2)*Comanda!F180,\"\")","v":""},{"$f":"IF(Comanda!I180=3,(Comanda!D180*0.001+$BL$2)*Comanda!F180,\"\")","v":""},{"$f":"IF(Comanda!J180=3,(Comanda!E180*0.001+$BL$2)*Comanda!F180,\"\")","v":""},{"$f":"IF(Comanda!K180=3,(Comanda!E180*0.001+$BL$2)*Comanda!F180,\"\")","v":""},null,{"$f":"IF(Comanda!H180=4,(Comanda!D180*0.001+$BL$2)*Comanda!F180,\"\")","v":""},{"$f":"IF(Comanda!I180=4,(Comanda!D180*0.001+$BL$2)*Comanda!F180,\"\")","v":""},{"$f":"IF(Comanda!J180=4,(Comanda!E180*0.001+$BL$2)*Comanda!F180,\"\")","v":""},{"$f":"IF(Comanda!K180=4,(Comanda!E180*0.001+$BL$2)*Comanda!F180,\"\")","v":""}]
[162,{"$f":"IF(Comanda!B181<>0,Comanda!B181,\"\")","v":""},{"$f":"IF(Comanda!C181<>0,Comanda!C181,\"\")","v":""},{"$f":"IF(Comanda!D181<>0,Comanda!D181,\"\")","v":""},{"$f":"IF(Comanda!E181<>0,Comanda!E181,\"\")","v":""},{"$f":"IF(Comanda!F181<>0,Comanda!F181,\"\")","v":""},{"$f":"IF(Comanda!G181<>0,1,0)","v":0},{"$f":"IF(Comanda!H181=1,Comanda!$C$13,IF(Comanda!H181=2,Comanda!$C$14,IF(Comanda!$H181=3,Comanda!$C$15,IF(Comanda!$H181=4,Comanda!$C$16,0))))","v":0},{"$f":"IF(Comanda!I181=1,Comanda!$C$13,IF(Comanda!I181=2,Comanda!$C$14,IF(Comanda!$I181=3,Comanda!$C$15,IF(Comanda!$I181=4,Comanda!$C$16,0))))","v":0},{"$f":"IF(Comanda!J181=1,Comanda!$C$13,IF(Comanda!J181=2,Comanda!$C$14,IF(Comanda!$J181=3,Comanda!$C$15,IF(Comanda!$J181=4,Comanda!$C$16,0))))","v":0},{"$f":"IF(Comanda!K181=1,Comanda!$C$13,IF(Comanda!K181=2,Comanda!$C$14,IF(Comanda!$K181=3,Comanda!$C$15,IF(Comanda!$K181=4,Comanda!$C$16,0))))","v":0},{"$f":"IF(Comanda!B181<>0,Comanda!$C$2,\"\")","v":""},{"$f":"IF(Comanda!B181<>0,Comanda!$C$5,\"\")","v":""},{"$f":"IF(Comanda!B181<>0,Comanda!$G$2,\"\")","v":""},{"$f":"IF(Comanda!B181<>0,Comanda!L181,\"\")","v":""},{"$f":"IF(Comanda!D181<>0,VLOOKUP('Formula Cant'!F164,'Grafica Cant'!$G$2:$H$25,2,FALSE),\"\")","v":""},{"$nulls":8},{"$f":"IF(Comanda!B181<>0,Comanda!$C$9,\"\")","v":""},{"$f":"IF(Comanda!B181<>0,VLOOKUP(Comanda!$C$12,PRETURI!$A$2:$C$500,3,FALSE),\"\")","v":""},"",{"$f":"IF(H164<>0,VLOOKUP(H164,PRETURI!$D$2:$F$1093,3,FALSE),\"\")","v":""},{"v":0,"d":"0.00"},{"$f":"IF(I164<>0,VLOOKUP(I164,PRETURI!$D$2:$F$1093,3,FALSE),\"\")","v":""},{"v":0,"d":"0.00"},{"$f":"IF(J164<>0,VLOOKUP(J164,PRETURI!$D$2:$F$1093,3,FALSE),\"\")","v":""},{"v":0,"d":"0.00"},{"$f":"IF(K164<>0,VLOOKUP(K164,PRETURI!$D$2:$F$1093,3,FALSE),\"\")","v":""},{"v":0,"d":"0.00"},{"$nulls":6},{"$f":"(Comanda!D181*Comanda!E181*Comanda!F181)*0.000001","v":{"v":0,"d":"0.00"}},null,{"$f":"IF(Comanda!H181=1,(Comanda!D181*0.001+$BL$2)*Comanda!F181,\"\")","v":""},{"$f":"IF(Comanda!I181=1,(Comanda!D181*0.001+$BL$2)*Comanda!F181,\"\")","v":""},{"$f":"IF(Comanda!J181=1,(Comanda!E181*0.001+$BL$2)*Comanda!F181,\"\")","v":""},{"$f":"IF(Comanda!K181=1,(Comanda!E181*0.001+$BL$2)*Comanda!F181,\"\")","v":""},null,{"$f":"IF(Comanda!H181=2,(Comanda!D181*0.001+$BL$2)*Comanda!F181,\"\")","v":""},{"$f":"IF(Comanda!I181=2,(Comanda!D181*0.001+$BL$2)*Comanda!F181,\"\")","v":""},{"$f":"IF(Comanda!J181=2,(Comanda!E181*0.001+$BL$2)*Comanda!F181,\"\")","v":""},{"$f":"IF(Comanda!K181=2,(Comanda!E181*0.001+$BL$2)*Comanda!F181,\"\")","v":""},null,{"$f":"IF(Comanda!H181=3,(Comanda!D181*0.001+$BL$2)*Comanda!F181,\"\")","v":""},{"$f":"IF(Comanda!I181=3,(Comanda!D181*0.001+$BL$2)*Comanda!F181,\"\")","v":""},{"$f":"IF(Comanda!J181=3,(Comanda!E181*0.001+$BL$2)*Comanda!F181,\"\")","v":""},{"$f":"IF(Comanda!K181=3,(Comanda!E181*0.001+$BL$2)*Comanda!F181,\"\")","v":""},null,{"$f":"IF(Comanda!H181=4,(Comanda!D181*0.001+$BL$2)*Comanda!F181,\"\")","v":""},{"$f":"IF(Comanda!I181=4,(Comanda!D181*0.001+$BL$2)*Comanda!F181,\"\")","v":""},{"$f":"IF(Comanda!J181=4,(Comanda!E181*0.001+$BL$2)*Comanda!F181,\"\")","v":""},{"$f":"IF(Comanda!K181=4,(Comanda!E181*0.001+$BL$2)*Comanda!F181,\"\")","v":""}]
[163,{"$f":"IF(Comanda!B182<>0,Comanda!B182,\"\")","v":""},{"$f":"IF(Comanda!C182<>0,Comanda!C182,\"\")","v":""},{"$f":"IF(Comanda!D182<>0,Comanda!D182,\"\")","v":""},{"$f":"IF(Comanda!E182<>0,Comanda!E182,\"\")","v":""},{"$f":"IF(Comanda!F182<>0,Comanda!F182,\"\")","v":""},{"$f":"IF(Comanda!G182<>0,1,0)","v":0},{"$f":"IF(Comanda!H182=1,Comanda!$C$13,IF(Comanda!H182=2,Comanda!$C$14,IF(Comanda!$H182=3,Comanda!$C$15,IF(Comanda!$H182=4,Comanda!$C$16,0))))","v":0},{"$f":"IF(Comanda!I182=1,Comanda!$C$13,IF(Comanda!I182=2,Comanda!$C$14,IF(Comanda!$I182=3,Comanda!$C$15,IF(Comanda!$I182=4,Comanda!$C$16,0))))","v":0},{"$f":"IF(Comanda!J182=1,Comanda!$C$13,IF(Comanda!J182=2,Comanda!$C$14,IF(Comanda!$J182=3,Comanda!$C$15,IF(Comanda!$J182=4,Comanda!$C$16,0))))","v":0},{"$f":"IF(Comanda!K182=1,Comanda!$C$13,IF(Comanda!K182=2,Comanda!$C$14,IF(Comanda!$K182=3,Comanda!$C$15,IF(Comanda!$K182=4,Comanda!$C$16,0))))","v":0},{"$f":"IF(Comanda!B182<>0,Comanda!$C$2,\"\")","v":""},{"$f":"IF(Comanda!B182<>0,Comanda!$C$5,\"\")","v":""},{"$f":"IF(Comanda!B182<>0,Comanda!$G$2,\"\")","v":""},{"$f":"IF(Comanda!B182<>0,Comanda!L182,\"\")","v":""},{"$f":"IF(Comanda!D182<>0,VLOOKUP('Formula Cant'!F165,'Grafica Cant'!$G$2:$H$25,2,FALSE),\"\")","v":""},{"$nulls":8},{"$f":"IF(Comanda!B182<>0,Comanda!$C$9,\"\")","v":""},{"$f":"IF(Comanda!B182<>0,VLOOKUP(Comanda!$C$12,PRETURI!$A$2:$C$500,3,FALSE),\"\")","v":""},"",{"$f":"IF(H165<>0,VLOOKUP(H165,PRETURI!$D$2:$F$1093,3,FALSE),\"\")","v":""},{"v":0,"d":"0.00"},{"$f":"IF(I165<>0,VLOOKUP(I165,PRETURI!$D$2:$F$1093,3,FALSE),\"\")","v":""},{"v":0,"d":"0.00"},{"$f":"IF(J165<>0,VLOOKUP(J165,PRETURI!$D$2:$F$1093,3,FALSE),\"\")","v":""},{"v":0,"d":"0.00"},{"$f":"IF(K165<>0,VLOOKUP(K165,PRETURI!$D$2:$F$1093,3,FALSE),\"\")","v":""},{"v":0,"d":"0.00"},{"$nulls":6},{"$f":"(Comanda!D182*Comanda!E182*Comanda!F182)*0.000001","v":{"v":0,"d":"0.00"}},null,{"$f":"IF(Comanda!H182=1,(Comanda!D182*0.001+$BL$2)*Comanda!F182,\"\")","v":""},{"$f":"IF(Comanda!I182=1,(Comanda!D182*0.001+$BL$2)*Comanda!F182,\"\")","v":""},{"$f":"IF(Comanda!J182=1,(Comanda!E182*0.001+$BL$2)*Comanda!F182,\"\")","v":""},{"$f":"IF(Comanda!K182=1,(Comanda!E182*0.001+$BL$2)*Comanda!F182,\"\")","v":""},null,{"$f":"IF(Comanda!H182=2,(Comanda!D182*0.001+$BL$2)*Comanda!F182,\"\")","v":""},{"$f":"IF(Comanda!I182=2,(Comanda!D182*0.001+$BL$2)*Comanda!F182,\"\")","v":""},{"$f":"IF(Comanda!J182=2,(Comanda!E182*0.001+$BL$2)*Comanda!F182,\"\")","v":""},{"$f":"IF(Comanda!K182=2,(Comanda!E182*0.001+$BL$2)*Comanda!F182,\"\")","v":""},null,{"$f":"IF(Comanda!H182=3,(Comanda!D182*0.001+$BL$2)*Comanda!F182,\"\")","v":""},{"$f":"IF(Comanda!I182=3,(Comanda!D182*0.001+$BL$2)*Comanda!F182,\"\")","v":""},{"$f":"IF(Comanda!J182=3,(Comanda!E182*0.001+$BL$2)*Comanda!F182,\"\")","v":""},{"$f":"IF(Comanda!K182=3,(Comanda!E182*0.001+$BL$2)*Comanda!F182,\"\")","v":""},null,{"$f":"IF(Comanda!H182=4,(Comanda!D182*0.001+$BL$2)*Comanda!F182,\"\")","v":""},{"$f":"IF(Comanda!I182=4,(Comanda!D182*0.001+$BL$2)*Comanda!F182,\"\")","v":""},{"$f":"IF(Comanda!J182=4,(Comanda!E182*0.001+$BL$2)*Comanda!F182,\"\")","v":""},{"$f":"IF(Comanda!K182=4,(Comanda!E182*0.001+$BL$2)*Comanda!F182,\"\")","v":""}]
[164,{"$f":"IF(Comanda!B183<>0,Comanda!B183,\"\")","v":""},{"$f":"IF(Comanda!C183<>0,Comanda!C183,\"\")","v":""},{"$f":"IF(Comanda!D183<>0,Comanda!D183,\"\")","v":""},{"$f":"IF(Comanda!E183<>0,Comanda!E183,\"\")","v":""},{"$f":"IF(Comanda!F183<>0,Comanda!F183,\"\")","v":""},{"$f":"IF(Comanda!G183<>0,1,0)","v":0},{"$f":"IF(Comanda!H183=1,Comanda!$C$13,IF(Comanda!H183=2,Comanda!$C$14,IF(Comanda!$H183=3,Comanda!$C$15,IF(Comanda!$H183=4,Comanda!$C$16,0))))","v":0},{"$f":"IF(Comanda!I183=1,Comanda!$C$13,IF(Comanda!I183=2,Comanda!$C$14,IF(Comanda!$I183=3,Comanda!$C$15,IF(Comanda!$I183=4,Comanda!$C$16,0))))","v":0},{"$f":"IF(Comanda!J183=1,Comanda!$C$13,IF(Comanda!J183=2,Comanda!$C$14,IF(Comanda!$J183=3,Comanda!$C$15,IF(Comanda!$J183=4,Comanda!$C$16,0))))","v":0},{"$f":"IF(Comanda!K183=1,Comanda!$C$13,IF(Comanda!K183=2,Comanda!$C$14,IF(Comanda!$K183=3,Comanda!$C$15,IF(Comanda!$K183=4,Comanda!$C$16,0))))","v":0},{"$f":"IF(Comanda!B183<>0,Comanda!$C$2,\"\")","v":""},{"$f":"IF(Comanda!B183<>0,Comanda!$C$5,\"\")","v":""},{"$f":"IF(Comanda!B183<>0,Comanda!$G$2,\"\")","v":""},{"$f":"IF(Comanda!B183<>0,Comanda!L183,\"\")","v":""},{"$f":"IF(Comanda!D183<>0,VLOOKUP('Formula Cant'!F166,'Grafica Cant'!$G$2:$H$25,2,FALSE),\"\")","v":""},{"$nulls":8},{"$f":"IF(Comanda!B183<>0,Comanda!$C$9,\"\")","v":""},{"$f":"IF(Comanda!B183<>0,VLOOKUP(Comanda!$C$12,PRETURI!$A$2:$C$500,3,FALSE),\"\")","v":""},"",{"$f":"IF(H166<>0,VLOOKUP(H166,PRETURI!$D$2:$F$1093,3,FALSE),\"\")","v":""},{"v":0,"d":"0.00"},{"$f":"IF(I166<>0,VLOOKUP(I166,PRETURI!$D$2:$F$1093,3,FALSE),\"\")","v":""},{"v":0,"d":"0.00"},{"$f":"IF(J166<>0,VLOOKUP(J166,PRETURI!$D$2:$F$1093,3,FALSE),\"\")","v":""},{"v":0,"d":"0.00"},{"$f":"IF(K166<>0,VLOOKUP(K166,PRETURI!$D$2:$F$1093,3,FALSE),\"\")","v":""},{"v":0,"d":"0.00"},{"$nulls":6},{"$f":"(Comanda!D183*Comanda!E183*Comanda!F183)*0.000001","v":{"v":0,"d":"0.00"}},null,{"$f":"IF(Comanda!H183=1,(Comanda!D183*0.001+$BL$2)*Comanda!F183,\"\")","v":""},{"$f":"IF(Comanda!I183=1,(Comanda!D183*0.001+$BL$2)*Comanda!F183,\"\")","v":""},{"$f":"IF(Comanda!J183=1,(Comanda!E183*0.001+$BL$2)*Comanda!F183,\"\")","v":""},{"$f":"IF(Comanda!K183=1,(Comanda!E183*0.001+$BL$2)*Comanda!F183,\"\")","v":""},null,{"$f":"IF(Comanda!H183=2,(Comanda!D183*0.001+$BL$2)*Comanda!F183,\"\")","v":""},{"$f":"IF(Comanda!I183=2,(Comanda!D183*0.001+$BL$2)*Comanda!F183,\"\")","v":""},{"$f":"IF(Comanda!J183=2,(Comanda!E183*0.001+$BL$2)*Comanda!F183,\"\")","v":""},{"$f":"IF(Comanda!K183=2,(Comanda!E183*0.001+$BL$2)*Comanda!F183,\"\")","v":""},null,{"$f":"IF(Comanda!H183=3,(Comanda!D183*0.001+$BL$2)*Comanda!F183,\"\")","v":""},{"$f":"IF(Comanda!I183=3,(Comanda!D183*0.001+$BL$2)*Comanda!F183,\"\")","v":""},{"$f":"IF(Comanda!J183=3,(Comanda!E183*0.001+$BL$2)*Comanda!F183,\"\")","v":""},{"$f":"IF(Comanda!K183=3,(Comanda!E183*0.001+$BL$2)*Comanda!F183,\"\")","v":""},null,{"$f":"IF(Comanda!H183=4,(Comanda!D183*0.001+$BL$2)*Comanda!F183,\"\")","v":""},{"$f":"IF(Comanda!I183=4,(Comanda!D183*0.001+$BL$2)*Comanda!F183,\"\")","v":""},{"$f":"IF(Comanda!J183=4,(Comanda!E183*0.001+$BL$2)*Comanda!F183,\"\")","v":""},{"$f":"IF(Comanda!K183=4,(Comanda!E183*0.001+$BL$2)*Comanda!F183,\"\")","v":""}]
[165,{"$f":"IF(Comanda!B184<>0,Comanda!B184,\"\")","v":""},{"$f":"IF(Comanda!C184<>0,Comanda!C184,\"\")","v":""},{"$f":"IF(Comanda!D184<>0,Comanda!D184,\"\")","v":""},{"$f":"IF(Comanda!E184<>0,Comanda!E184,\"\")","v":""},{"$f":"IF(Comanda!F184<>0,Comanda!F184,\"\")","v":""},{"$f":"IF(Comanda!G184<>0,1,0)","v":0},{"$f":"IF(Comanda!H184=1,Comanda!$C$13,IF(Comanda!H184=2,Comanda!$C$14,IF(Comanda!$H184=3,Comanda!$C$15,IF(Comanda!$H184=4,Comanda!$C$16,0))))","v":0},{"$f":"IF(Comanda!I184=1,Comanda!$C$13,IF(Comanda!I184=2,Comanda!$C$14,IF(Comanda!$I184=3,Comanda!$C$15,IF(Comanda!$I184=4,Comanda!$C$16,0))))","v":0},{"$f":"IF(Comanda!J184=1,Comanda!$C$13,IF(Comanda!J184=2,Comanda!$C$14,IF(Comanda!$J184=3,Comanda!$C$15,IF(Comanda!$J184=4,Comanda!$C$16,0))))","v":0},{"$f":"IF(Comanda!K184=1,Comanda!$C$13,IF(Comanda!K184=2,Comanda!$C$14,IF(Comanda!$K184=3,Comanda!$C$15,IF(Comanda!$K184=4,Comanda!$C$16,0))))","v":0},{"$f":"IF(Comanda!B184<>0,Comanda!$C$2,\"\")","v":""},{"$f":"IF(Comanda!B184<>0,Comanda!$C$5,\"\")","v":""},{"$f":"IF(Comanda!B184<>0,Comanda!$G$2,\"\")","v":""},{"$f":"IF(Comanda!B184<>0,Comanda!L184,\"\")","v":""},{"$f":"IF(Comanda!D184<>0,VLOOKUP('Formula Cant'!F167,'Grafica Cant'!$G$2:$H$25,2,FALSE),\"\")","v":""},{"$nulls":8},{"$f":"IF(Comanda!B184<>0,Comanda!$C$9,\"\")","v":""},{"$f":"IF(Comanda!B184<>0,VLOOKUP(Comanda!$C$12,PRETURI!$A$2:$C$500,3,FALSE),\"\")","v":""},"",{"$f":"IF(H167<>0,VLOOKUP(H167,PRETURI!$D$2:$F$1093,3,FALSE),\"\")","v":""},{"v":0,"d":"0.00"},{"$f":"IF(I167<>0,VLOOKUP(I167,PRETURI!$D$2:$F$1093,3,FALSE),\"\")","v":""},{"v":0,"d":"0.00"},{"$f":"IF(J167<>0,VLOOKUP(J167,PRETURI!$D$2:$F$1093,3,FALSE),\"\")","v":""},{"v":0,"d":"0.00"},{"$f":"IF(K167<>0,VLOOKUP(K167,PRETURI!$D$2:$F$1093,3,FALSE),\"\")","v":""},{"v":0,"d":"0.00"},{"$nulls":6},{"$f":"(Comanda!D184*Comanda!E184*Comanda!F184)*0.000001","v":{"v":0,"d":"0.00"}},null,{"$f":"IF(Comanda!H184=1,(Comanda!D184*0.001+$BL$2)*Comanda!F184,\"\")","v":""},{"$f":"IF(Comanda!I184=1,(Comanda!D184*0.001+$BL$2)*Comanda!F184,\"\")","v":""},{"$f":"IF(Comanda!J184=1,(Comanda!E184*0.001+$BL$2)*Comanda!F184,\"\")","v":""},{"$f":"IF(Comanda!K184=1,(Comanda!E184*0.001+$BL$2)*Comanda!F184,\"\")","v":""},null,{"$f":"IF(Comanda!H184=2,(Comanda!D184*0.001+$BL$2)*Comanda!F184,\"\")","v":""},{"$f":"IF(Comanda!I184=2,(Comanda!D184*0.001+$BL$2)*Comanda!F184,\"\")","v":""},{"$f":"IF(Comanda!J184=2,(Comanda!E184*0.001+$BL$2)*Comanda!F184,\"\")","v":""},{"$f":"IF(Comanda!K184=2,(Comanda!E184*0.001+$BL$2)*Comanda!F184,\"\")","v":""},null,{"$f":"IF(Comanda!H184=3,(Comanda!D184*0.001+$BL$2)*Comanda!F184,\"\")","v":""},{"$f":"IF(Comanda!I184=3,(Comanda!D184*0.001+$BL$2)*Comanda!F184,\"\")","v":""},{"$f":"IF(Comanda!J184=3,(Comanda!E184*0.001+$BL$2)*Comanda!F184,\"\")","v":""},{"$f":"IF(Comanda!K184=3,(Comanda!E184*0.001+$BL$2)*Comanda!F184,\"\")","v":""},null,{"$f":"IF(Comanda!H184=4,(Comanda!D184*0.001+$BL$2)*Comanda!F184,\"\")","v":""},{"$f":"IF(Comanda!I184=4,(Comanda!D184*0.001+$BL$2)*Comanda!F184,\"\")","v":""},{"$f":"IF(Comanda!J184=4,(Comanda!E184*0.001+$BL$2)*Comanda!F184,\"\")","v":""},{"$f":"IF(Comanda!K184=4,(Comanda!E184*0.001+$BL$2)*Comanda!F184,\"\")","v":""}]
[166,{"$f":"IF(Comanda!B185<>0,Comanda!B185,\"\")","v":""},{"$f":"IF(Comanda!C185<>0,Comanda!C185,\"\")","v":""},{"$f":"IF(Comanda!D185<>0,Comanda!D185,\"\")","v":""},{"$f":"IF(Comanda!E185<>0,Comanda!E185,\"\")","v":""},{"$f":"IF(Comanda!F185<>0,Comanda!F185,\"\")","v":""},{"$f":"IF(Comanda!G185<>0,1,0)","v":0},{"$f":"IF(Comanda!H185=1,Comanda!$C$13,IF(Comanda!H185=2,Comanda!$C$14,IF(Comanda!$H185=3,Comanda!$C$15,IF(Comanda!$H185=4,Comanda!$C$16,0))))","v":0},{"$f":"IF(Comanda!I185=1,Comanda!$C$13,IF(Comanda!I185=2,Comanda!$C$14,IF(Comanda!$I185=3,Comanda!$C$15,IF(Comanda!$I185=4,Comanda!$C$16,0))))","v":0},{"$f":"IF(Comanda!J185=1,Comanda!$C$13,IF(Comanda!J185=2,Comanda!$C$14,IF(Comanda!$J185=3,Comanda!$C$15,IF(Comanda!$J185=4,Comanda!$C$16,0))))","v":0},{"$f":"IF(Comanda!K185=1,Comanda!$C$13,IF(Comanda!K185=2,Comanda!$C$14,IF(Comanda!$K185=3,Comanda!$C$15,IF(Comanda!$K185=4,Comanda!$C$16,0))))","v":0},{"$f":"IF(Comanda!B185<>0,Comanda!$C$2,\"\")","v":""},{"$f":"IF(Comanda!B185<>0,Comanda!$C$5,\"\")","v":""},{"$f":"IF(Comanda!B185<>0,Comanda!$G$2,\"\")","v":""},{"$f":"IF(Comanda!B185<>0,Comanda!L185,\"\")","v":""},{"$f":"IF(Comanda!D185<>0,VLOOKUP('Formula Cant'!F168,'Grafica Cant'!$G$2:$H$25,2,FALSE),\"\")","v":""},{"$nulls":8},{"$f":"IF(Comanda!B185<>0,Comanda!$C$9,\"\")","v":""},{"$f":"IF(Comanda!B185<>0,VLOOKUP(Comanda!$C$12,PRETURI!$A$2:$C$500,3,FALSE),\"\")","v":""},"",{"$f":"IF(H168<>0,VLOOKUP(H168,PRETURI!$D$2:$F$1093,3,FALSE),\"\")","v":""},{"v":0,"d":"0.00"},{"$f":"IF(I168<>0,VLOOKUP(I168,PRETURI!$D$2:$F$1093,3,FALSE),\"\")","v":""},{"v":0,"d":"0.00"},{"$f":"IF(J168<>0,VLOOKUP(J168,PRETURI!$D$2:$F$1093,3,FALSE),\"\")","v":""},{"v":0,"d":"0.00"},{"$f":"IF(K168<>0,VLOOKUP(K168,PRETURI!$D$2:$F$1093,3,FALSE),\"\")","v":""},{"v":0,"d":"0.00"},{"$nulls":6},{"$f":"(Comanda!D185*Comanda!E185*Comanda!F185)*0.000001","v":{"v":0,"d":"0.00"}},null,{"$f":"IF(Comanda!H185=1,(Comanda!D185*0.001+$BL$2)*Comanda!F185,\"\")","v":""},{"$f":"IF(Comanda!I185=1,(Comanda!D185*0.001+$BL$2)*Comanda!F185,\"\")","v":""},{"$f":"IF(Comanda!J185=1,(Comanda!E185*0.001+$BL$2)*Comanda!F185,\"\")","v":""},{"$f":"IF(Comanda!K185=1,(Comanda!E185*0.001+$BL$2)*Comanda!F185,\"\")","v":""},null,{"$f":"IF(Comanda!H185=2,(Comanda!D185*0.001+$BL$2)*Comanda!F185,\"\")","v":""},{"$f":"IF(Comanda!I185=2,(Comanda!D185*0.001+$BL$2)*Comanda!F185,\"\")","v":""},{"$f":"IF(Comanda!J185=2,(Comanda!E185*0.001+$BL$2)*Comanda!F185,\"\")","v":""},{"$f":"IF(Comanda!K185=2,(Comanda!E185*0.001+$BL$2)*Comanda!F185,\"\")","v":""},null,{"$f":"IF(Comanda!H185=3,(Comanda!D185*0.001+$BL$2)*Comanda!F185,\"\")","v":""},{"$f":"IF(Comanda!I185=3,(Comanda!D185*0.001+$BL$2)*Comanda!F185,\"\")","v":""},{"$f":"IF(Comanda!J185=3,(Comanda!E185*0.001+$BL$2)*Comanda!F185,\"\")","v":""},{"$f":"IF(Comanda!K185=3,(Comanda!E185*0.001+$BL$2)*Comanda!F185,\"\")","v":""},null,{"$f":"IF(Comanda!H185=4,(Comanda!D185*0.001+$BL$2)*Comanda!F185,\"\")","v":""},{"$f":"IF(Comanda!I185=4,(Comanda!D185*0.001+$BL$2)*Comanda!F185,\"\")","v":""},{"$f":"IF(Comanda!J185=4,(Comanda!E185*0.001+$BL$2)*Comanda!F185,\"\")","v":""},{"$f":"IF(Comanda!K185=4,(Comanda!E185*0.001+$BL$2)*Comanda!F185,\"\")","v":""}]
[167,{"$f":"IF(Comanda!B186<>0,Comanda!B186,\"\")","v":""},{"$f":"IF(Comanda!C186<>0,Comanda!C186,\"\")","v":""},{"$f":"IF(Comanda!D186<>0,Comanda!D186,\"\")","v":""},{"$f":"IF(Comanda!E186<>0,Comanda!E186,\"\")","v":""},{"$f":"IF(Comanda!F186<>0,Comanda!F186,\"\")","v":""},{"$f":"IF(Comanda!G186<>0,1,0)","v":0},{"$f":"IF(Comanda!H186=1,Comanda!$C$13,IF(Comanda!H186=2,Comanda!$C$14,IF(Comanda!$H186=3,Comanda!$C$15,IF(Comanda!$H186=4,Comanda!$C$16,0))))","v":0},{"$f":"IF(Comanda!I186=1,Comanda!$C$13,IF(Comanda!I186=2,Comanda!$C$14,IF(Comanda!$I186=3,Comanda!$C$15,IF(Comanda!$I186=4,Comanda!$C$16,0))))","v":0},{"$f":"IF(Comanda!J186=1,Comanda!$C$13,IF(Comanda!J186=2,Comanda!$C$14,IF(Comanda!$J186=3,Comanda!$C$15,IF(Comanda!$J186=4,Comanda!$C$16,0))))","v":0},{"$f":"IF(Comanda!K186=1,Comanda!$C$13,IF(Comanda!K186=2,Comanda!$C$14,IF(Comanda!$K186=3,Comanda!$C$15,IF(Comanda!$K186=4,Comanda!$C$16,0))))","v":0},{"$f":"IF(Comanda!B186<>0,Comanda!$C$2,\"\")","v":""},{"$f":"IF(Comanda!B186<>0,Comanda!$C$5,\"\")","v":""},{"$f":"IF(Comanda!B186<>0,Comanda!$G$2,\"\")","v":""},{"$f":"IF(Comanda!B186<>0,Comanda!L186,\"\")","v":""},{"$f":"IF(Comanda!D186<>0,VLOOKUP('Formula Cant'!F169,'Grafica Cant'!$G$2:$H$25,2,FALSE),\"\")","v":""},{"$nulls":8},{"$f":"IF(Comanda!B186<>0,Comanda!$C$9,\"\")","v":""},{"$f":"IF(Comanda!B186<>0,VLOOKUP(Comanda!$C$12,PRETURI!$A$2:$C$500,3,FALSE),\"\")","v":""},"",{"$f":"IF(H169<>0,VLOOKUP(H169,PRETURI!$D$2:$F$1093,3,FALSE),\"\")","v":""},{"v":0,"d":"0.00"},{"$f":"IF(I169<>0,VLOOKUP(I169,PRETURI!$D$2:$F$1093,3,FALSE),\"\")","v":""},{"v":0,"d":"0.00"},{"$f":"IF(J169<>0,VLOOKUP(J169,PRETURI!$D$2:$F$1093,3,FALSE),\"\")","v":""},{"v":0,"d":"0.00"},{"$f":"IF(K169<>0,VLOOKUP(K169,PRETURI!$D$2:$F$1093,3,FALSE),\"\")","v":""},{"v":0,"d":"0.00"},{"$nulls":6},{"$f":"(Comanda!D186*Comanda!E186*Comanda!F186)*0.000001","v":{"v":0,"d":"0.00"}},null,{"$f":"IF(Comanda!H186=1,(Comanda!D186*0.001+$BL$2)*Comanda!F186,\"\")","v":""},{"$f":"IF(Comanda!I186=1,(Comanda!D186*0.001+$BL$2)*Comanda!F186,\"\")","v":""},{"$f":"IF(Comanda!J186=1,(Comanda!E186*0.001+$BL$2)*Comanda!F186,\"\")","v":""},{"$f":"IF(Comanda!K186=1,(Comanda!E186*0.001+$BL$2)*Comanda!F186,\"\")","v":""},null,{"$f":"IF(Comanda!H186=2,(Comanda!D186*0.001+$BL$2)*Comanda!F186,\"\")","v":""},{"$f":"IF(Comanda!I186=2,(Comanda!D186*0.001+$BL$2)*Comanda!F186,\"\")","v":""},{"$f":"IF(Comanda!J186=2,(Comanda!E186*0.001+$BL$2)*Comanda!F186,\"\")","v":""},{"$f":"IF(Comanda!K186=2,(Comanda!E186*0.001+$BL$2)*Comanda!F186,\"\")","v":""},null,{"$f":"IF(Comanda!H186=3,(Comanda!D186*0.001+$BL$2)*Comanda!F186,\"\")","v":""},{"$f":"IF(Comanda!I186=3,(Comanda!D186*0.001+$BL$2)*Comanda!F186,\"\")","v":""},{"$f":"IF(Comanda!J186=3,(Comanda!E186*0.001+$BL$2)*Comanda!F186,\"\")","v":""},{"$f":"IF(Comanda!K186=3,(Comanda!E186*0.001+$BL$2)*Comanda!F186,\"\")","v":""},null,{"$f":"IF(Comanda!H186=4,(Comanda!D186*0.001+$BL$2)*Comanda!F186,\"\")","v":""},{"$f":"IF(Comanda!I186=4,(Comanda!D186*0.001+$BL$2)*Comanda!F186,\"\")","v":""},{"$f":"IF(Comanda!J186=4,(Comanda!E186*0.001+$BL$2)*Comanda!F186,\"\")","v":""},{"$f":"IF(Comanda!K186=4,(Comanda!E186*0.001+$BL$2)*Comanda!F186,\"\")","v":""}]
[168,{"$f":"IF(Comanda!B187<>0,Comanda!B187,\"\")","v":""},{"$f":"IF(Comanda!C187<>0,Comanda!C187,\"\")","v":""},{"$f":"IF(Comanda!D187<>0,Comanda!D187,\"\")","v":""},{"$f":"IF(Comanda!E187<>0,Comanda!E187,\"\")","v":""},{"$f":"IF(Comanda!F187<>0,Comanda!F187,\"\")","v":""},{"$f":"IF(Comanda!G187<>0,1,0)","v":0},{"$f":"IF(Comanda!H187=1,Comanda!$C$13,IF(Comanda!H187=2,Comanda!$C$14,IF(Comanda!$H187=3,Comanda!$C$15,IF(Comanda!$H187=4,Comanda!$C$16,0))))","v":0},{"$f":"IF(Comanda!I187=1,Comanda!$C$13,IF(Comanda!I187=2,Comanda!$C$14,IF(Comanda!$I187=3,Comanda!$C$15,IF(Comanda!$I187=4,Comanda!$C$16,0))))","v":0},{"$f":"IF(Comanda!J187=1,Comanda!$C$13,IF(Comanda!J187=2,Comanda!$C$14,IF(Comanda!$J187=3,Comanda!$C$15,IF(Comanda!$J187=4,Comanda!$C$16,0))))","v":0},{"$f":"IF(Comanda!K187=1,Comanda!$C$13,IF(Comanda!K187=2,Comanda!$C$14,IF(Comanda!$K187=3,Comanda!$C$15,IF(Comanda!$K187=4,Comanda!$C$16,0))))","v":0},{"$f":"IF(Comanda!B187<>0,Comanda!$C$2,\"\")","v":""},{"$f":"IF(Comanda!B187<>0,Comanda!$C$5,\"\")","v":""},{"$f":"IF(Comanda!B187<>0,Comanda!$G$2,\"\")","v":""},{"$f":"IF(Comanda!B187<>0,Comanda!L187,\"\")","v":""},{"$f":"IF(Comanda!D187<>0,VLOOKUP('Formula Cant'!F170,'Grafica Cant'!$G$2:$H$25,2,FALSE),\"\")","v":""},{"$nulls":8},{"$f":"IF(Comanda!B187<>0,Comanda!$C$9,\"\")","v":""},{"$f":"IF(Comanda!B187<>0,VLOOKUP(Comanda!$C$12,PRETURI!$A$2:$C$500,3,FALSE),\"\")","v":""},"",{"$f":"IF(H170<>0,VLOOKUP(H170,PRETURI!$D$2:$F$1093,3,FALSE),\"\")","v":""},{"v":0,"d":"0.00"},{"$f":"IF(I170<>0,VLOOKUP(I170,PRETURI!$D$2:$F$1093,3,FALSE),\"\")","v":""},{"v":0,"d":"0.00"},{"$f":"IF(J170<>0,VLOOKUP(J170,PRETURI!$D$2:$F$1093,3,FALSE),\"\")","v":""},{"v":0,"d":"0.00"},{"$f":"IF(K170<>0,VLOOKUP(K170,PRETURI!$D$2:$F$1093,3,FALSE),\"\")","v":""},{"v":0,"d":"0.00"},{"$nulls":6},{"$f":"(Comanda!D187*Comanda!E187*Comanda!F187)*0.000001","v":{"v":0,"d":"0.00"}},null,{"$f":"IF(Comanda!H187=1,(Comanda!D187*0.001+$BL$2)*Comanda!F187,\"\")","v":""},{"$f":"IF(Comanda!I187=1,(Comanda!D187*0.001+$BL$2)*Comanda!F187,\"\")","v":""},{"$f":"IF(Comanda!J187=1,(Comanda!E187*0.001+$BL$2)*Comanda!F187,\"\")","v":""},{"$f":"IF(Comanda!K187=1,(Comanda!E187*0.001+$BL$2)*Comanda!F187,\"\")","v":""},null,{"$f":"IF(Comanda!H187=2,(Comanda!D187*0.001+$BL$2)*Comanda!F187,\"\")","v":""},{"$f":"IF(Comanda!I187=2,(Comanda!D187*0.001+$BL$2)*Comanda!F187,\"\")","v":""},{"$f":"IF(Comanda!J187=2,(Comanda!E187*0.001+$BL$2)*Comanda!F187,\"\")","v":""},{"$f":"IF(Comanda!K187=2,(Comanda!E187*0.001+$BL$2)*Comanda!F187,\"\")","v":""},null,{"$f":"IF(Comanda!H187=3,(Comanda!D187*0.001+$BL$2)*Comanda!F187,\"\")","v":""},{"$f":"IF(Comanda!I187=3,(Comanda!D187*0.001+$BL$2)*Comanda!F187,\"\")","v":""},{"$f":"IF(Comanda!J187=3,(Comanda!E187*0.001+$BL$2)*Comanda!F187,\"\")","v":""},{"$f":"IF(Comanda!K187=3,(Comanda!E187*0.001+$BL$2)*Comanda!F187,\"\")","v":""},null,{"$f":"IF(Comanda!H187=4,(Comanda!D187*0.001+$BL$2)*Comanda!F187,\"\")","v":""},{"$f":"IF(Comanda!I187=4,(Comanda!D187*0.001+$BL$2)*Comanda!F187,\"\")","v":""},{"$f":"IF(Comanda!J187=4,(Comanda!E187*0.001+$BL$2)*Comanda!F187,\"\")","v":""},{"$f":"IF(Comanda!K187=4,(Comanda!E187*0.001+$BL$2)*Comanda!F187,\"\")","v":""}]
[169,{"$f":"IF(Comanda!B188<>0,Comanda!B188,\"\")","v":""},{"$f":"IF(Comanda!C188<>0,Comanda!C188,\"\")","v":""},{"$f":"IF(Comanda!D188<>0,Comanda!D188,\"\")","v":""},{"$f":"IF(Comanda!E188<>0,Comanda!E188,\"\")","v":""},{"$f":"IF(Comanda!F188<>0,Comanda!F188,\"\")","v":""},{"$f":"IF(Comanda!G188<>0,1,0)","v":0},{"$f":"IF(Comanda!H188=1,Comanda!$C$13,IF(Comanda!H188=2,Comanda!$C$14,IF(Comanda!$H188=3,Comanda!$C$15,IF(Comanda!$H188=4,Comanda!$C$16,0))))","v":0},{"$f":"IF(Comanda!I188=1,Comanda!$C$13,IF(Comanda!I188=2,Comanda!$C$14,IF(Comanda!$I188=3,Comanda!$C$15,IF(Comanda!$I188=4,Comanda!$C$16,0))))","v":0},{"$f":"IF(Comanda!J188=1,Comanda!$C$13,IF(Comanda!J188=2,Comanda!$C$14,IF(Comanda!$J188=3,Comanda!$C$15,IF(Comanda!$J188=4,Comanda!$C$16,0))))","v":0},{"$f":"IF(Comanda!K188=1,Comanda!$C$13,IF(Comanda!K188=2,Comanda!$C$14,IF(Comanda!$K188=3,Comanda!$C$15,IF(Comanda!$K188=4,Comanda!$C$16,0))))","v":0},{"$f":"IF(Comanda!B188<>0,Comanda!$C$2,\"\")","v":""},{"$f":"IF(Comanda!B188<>0,Comanda!$C$5,\"\")","v":""},{"$f":"IF(Comanda!B188<>0,Comanda!$G$2,\"\")","v":""},{"$f":"IF(Comanda!B188<>0,Comanda!L188,\"\")","v":""},{"$f":"IF(Comanda!D188<>0,VLOOKUP('Formula Cant'!F171,'Grafica Cant'!$G$2:$H$25,2,FALSE),\"\")","v":""},{"$nulls":8},{"$f":"IF(Comanda!B188<>0,Comanda!$C$9,\"\")","v":""},{"$f":"IF(Comanda!B188<>0,VLOOKUP(Comanda!$C$12,PRETURI!$A$2:$C$500,3,FALSE),\"\")","v":""},"",{"$f":"IF(H171<>0,VLOOKUP(H171,PRETURI!$D$2:$F$1093,3,FALSE),\"\")","v":""},{"v":0,"d":"0.00"},{"$f":"IF(I171<>0,VLOOKUP(I171,PRETURI!$D$2:$F$1093,3,FALSE),\"\")","v":""},{"v":0,"d":"0.00"},{"$f":"IF(J171<>0,VLOOKUP(J171,PRETURI!$D$2:$F$1093,3,FALSE),\"\")","v":""},{"v":0,"d":"0.00"},{"$f":"IF(K171<>0,VLOOKUP(K171,PRETURI!$D$2:$F$1093,3,FALSE),\"\")","v":""},{"v":0,"d":"0.00"},{"$nulls":6},{"$f":"(Comanda!D188*Comanda!E188*Comanda!F188)*0.000001","v":{"v":0,"d":"0.00"}},null,{"$f":"IF(Comanda!H188=1,(Comanda!D188*0.001+$BL$2)*Comanda!F188,\"\")","v":""},{"$f":"IF(Comanda!I188=1,(Comanda!D188*0.001+$BL$2)*Comanda!F188,\"\")","v":""},{"$f":"IF(Comanda!J188=1,(Comanda!E188*0.001+$BL$2)*Comanda!F188,\"\")","v":""},{"$f":"IF(Comanda!K188=1,(Comanda!E188*0.001+$BL$2)*Comanda!F188,\"\")","v":""},null,{"$f":"IF(Comanda!H188=2,(Comanda!D188*0.001+$BL$2)*Comanda!F188,\"\")","v":""},{"$f":"IF(Comanda!I188=2,(Comanda!D188*0.001+$BL$2)*Comanda!F188,\"\")","v":""},{"$f":"IF(Comanda!J188=2,(Comanda!E188*0.001+$BL$2)*Comanda!F188,\"\")","v":""},{"$f":"IF(Comanda!K188=2,(Comanda!E188*0.001+$BL$2)*Comanda!F188,\"\")","v":""},null,{"$f":"IF(Comanda!H188=3,(Comanda!D188*0.001+$BL$2)*Comanda!F188,\"\")","v":""},{"$f":"IF(Comanda!I188=3,(Comanda!D188*0.001+$BL$2)*Comanda!F188,\"\")","v":""},{"$f":"IF(Comanda!J188=3,(Comanda!E188*0.001+$BL$2)*Comanda!F188,\"\")","v":""},{"$f":"IF(Comanda!K188=3,(Comanda!E188*0.001+$BL$2)*Comanda!F188,\"\")","v":""},null,{"$f":"IF(Comanda!H188=4,(Comanda!D188*0.001+$BL$2)*Comanda!F188,\"\")","v":""},{"$f":"IF(Comanda!I188=4,(Comanda!D188*0.001+$BL$2)*Comanda!F188,\"\")","v":""},{"$f":"IF(Comanda!J188=4,(Comanda!E188*0.001+$BL$2)*Comanda!F188,\"\")","v":""},{"$f":"IF(Comanda!K188=4,(Comanda!E188*0.001+$BL$2)*Comanda!F188,\"\")","v":""}]
[170,{"$f":"IF(Comanda!B189<>0,Comanda!B189,\"\")","v":""},{"$f":"IF(Comanda!C189<>0,Comanda!C189,\"\")","v":""},{"$f":"IF(Comanda!D189<>0,Comanda!D189,\"\")","v":""},{"$f":"IF(Comanda!E189<>0,Comanda!E189,\"\")","v":""},{"$f":"IF(Comanda!F189<>0,Comanda!F189,\"\")","v":""},{"$f":"IF(Comanda!G189<>0,1,0)","v":0},{"$f":"IF(Comanda!H189=1,Comanda!$C$13,IF(Comanda!H189=2,Comanda!$C$14,IF(Comanda!$H189=3,Comanda!$C$15,IF(Comanda!$H189=4,Comanda!$C$16,0))))","v":0},{"$f":"IF(Comanda!I189=1,Comanda!$C$13,IF(Comanda!I189=2,Comanda!$C$14,IF(Comanda!$I189=3,Comanda!$C$15,IF(Comanda!$I189=4,Comanda!$C$16,0))))","v":0},{"$f":"IF(Comanda!J189=1,Comanda!$C$13,IF(Comanda!J189=2,Comanda!$C$14,IF(Comanda!$J189=3,Comanda!$C$15,IF(Comanda!$J189=4,Comanda!$C$16,0))))","v":0},{"$f":"IF(Comanda!K189=1,Comanda!$C$13,IF(Comanda!K189=2,Comanda!$C$14,IF(Comanda!$K189=3,Comanda!$C$15,IF(Comanda!$K189=4,Comanda!$C$16,0))))","v":0},{"$f":"IF(Comanda!B189<>0,Comanda!$C$2,\"\")","v":""},{"$f":"IF(Comanda!B189<>0,Comanda!$C$5,\"\")","v":""},{"$f":"IF(Comanda!B189<>0,Comanda!$G$2,\"\")","v":""},{"$f":"IF(Comanda!B189<>0,Comanda!L189,\"\")","v":""},{"$f":"IF(Comanda!D189<>0,VLOOKUP('Formula Cant'!F172,'Grafica Cant'!$G$2:$H$25,2,FALSE),\"\")","v":""},{"$nulls":8},{"$f":"IF(Comanda!B189<>0,Comanda!$C$9,\"\")","v":""},{"$f":"IF(Comanda!B189<>0,VLOOKUP(Comanda!$C$12,PRETURI!$A$2:$C$500,3,FALSE),\"\")","v":""},"",{"$f":"IF(H172<>0,VLOOKUP(H172,PRETURI!$D$2:$F$1093,3,FALSE),\"\")","v":""},{"v":0,"d":"0.00"},{"$f":"IF(I172<>0,VLOOKUP(I172,PRETURI!$D$2:$F$1093,3,FALSE),\"\")","v":""},{"v":0,"d":"0.00"},{"$f":"IF(J172<>0,VLOOKUP(J172,PRETURI!$D$2:$F$1093,3,FALSE),\"\")","v":""},{"v":0,"d":"0.00"},{"$f":"IF(K172<>0,VLOOKUP(K172,PRETURI!$D$2:$F$1093,3,FALSE),\"\")","v":""},{"v":0,"d":"0.00"},{"$nulls":6},{"$f":"(Comanda!D189*Comanda!E189*Comanda!F189)*0.000001","v":{"v":0,"d":"0.00"}},null,{"$f":"IF(Comanda!H189=1,(Comanda!D189*0.001+$BL$2)*Comanda!F189,\"\")","v":""},{"$f":"IF(Comanda!I189=1,(Comanda!D189*0.001+$BL$2)*Comanda!F189,\"\")","v":""},{"$f":"IF(Comanda!J189=1,(Comanda!E189*0.001+$BL$2)*Comanda!F189,\"\")","v":""},{"$f":"IF(Comanda!K189=1,(Comanda!E189*0.001+$BL$2)*Comanda!F189,\"\")","v":""},null,{"$f":"IF(Comanda!H189=2,(Comanda!D189*0.001+$BL$2)*Comanda!F189,\"\")","v":""},{"$f":"IF(Comanda!I189=2,(Comanda!D189*0.001+$BL$2)*Comanda!F189,\"\")","v":""},{"$f":"IF(Comanda!J189=2,(Comanda!E189*0.001+$BL$2)*Comanda!F189,\"\")","v":""},{"$f":"IF(Comanda!K189=2,(Comanda!E189*0.001+$BL$2)*Comanda!F189,\"\")","v":""},null,{"$f":"IF(Comanda!H189=3,(Comanda!D189*0.001+$BL$2)*Comanda!F189,\"\")","v":""},{"$f":"IF(Comanda!I189=3,(Comanda!D189*0.001+$BL$2)*Comanda!F189,\"\")","v":""},{"$f":"IF(Comanda!J189=3,(Comanda!E189*0.001+$BL$2)*Comanda!F189,\"\")","v":""},{"$f":"IF(Comanda!K189=3,(Comanda!E189*0.001+$BL$2)*Comanda!F189,\"\")","v":""},null,{"$f":"IF(Comanda!H189=4,(Comanda!D189*0.001+$BL$2)*Comanda!F189,\"\")","v":""},{"$f":"IF(Comanda!I189=4,(Comanda!D189*0.001+$BL$2)*Comanda!F189,\"\")","v":""},{"$f":"IF(Comanda!J189=4,(Comanda!E189*0.001+$BL$2)*Comanda!F189,\"\")","v":""},{"$f":"IF(Comanda!K189=4,(Comanda!E189*0.001+$BL$2)*Comanda!F189,\"\")","v":""}]
[171,{"$f":"IF(Comanda!B190<>0,Comanda!B190,\"\")","v":""},{"$f":"IF(Comanda!C190<>0,Comanda!C190,\"\")","v":""},{"$f":"IF(Comanda!D190<>0,Comanda!D190,\"\")","v":""},{"$f":"IF(Comanda!E190<>0,Comanda!E190,\"\")","v":""},{"$f":"IF(Comanda!F190<>0,Comanda!F190,\"\")","v":""},{"$f":"IF(Comanda!G190<>0,1,0)","v":0},{"$f":"IF(Comanda!H190=1,Comanda!$C$13,IF(Comanda!H190=2,Comanda!$C$14,IF(Comanda!$H190=3,Comanda!$C$15,IF(Comanda!$H190=4,Comanda!$C$16,0))))","v":0},{"$f":"IF(Comanda!I190=1,Comanda!$C$13,IF(Comanda!I190=2,Comanda!$C$14,IF(Comanda!$I190=3,Comanda!$C$15,IF(Comanda!$I190=4,Comanda!$C$16,0))))","v":0},{"$f":"IF(Comanda!J190=1,Comanda!$C$13,IF(Comanda!J190=2,Comanda!$C$14,IF(Comanda!$J190=3,Comanda!$C$15,IF(Comanda!$J190=4,Comanda!$C$16,0))))","v":0},{"$f":"IF(Comanda!K190=1,Comanda!$C$13,IF(Comanda!K190=2,Comanda!$C$14,IF(Comanda!$K190=3,Comanda!$C$15,IF(Comanda!$K190=4,Comanda!$C$16,0))))","v":0},{"$f":"IF(Comanda!B190<>0,Comanda!$C$2,\"\")","v":""},{"$f":"IF(Comanda!B190<>0,Comanda!$C$5,\"\")","v":""},{"$f":"IF(Comanda!B190<>0,Comanda!$G$2,\"\")","v":""},{"$f":"IF(Comanda!B190<>0,Comanda!L190,\"\")","v":""},{"$f":"IF(Comanda!D190<>0,VLOOKUP('Formula Cant'!F173,'Grafica Cant'!$G$2:$H$25,2,FALSE),\"\")","v":""},{"$nulls":8},{"$f":"IF(Comanda!B190<>0,Comanda!$C$9,\"\")","v":""},{"$f":"IF(Comanda!B190<>0,VLOOKUP(Comanda!$C$12,PRETURI!$A$2:$C$500,3,FALSE),\"\")","v":""},"",{"$f":"IF(H173<>0,VLOOKUP(H173,PRETURI!$D$2:$F$1093,3,FALSE),\"\")","v":""},{"v":0,"d":"0.00"},{"$f":"IF(I173<>0,VLOOKUP(I173,PRETURI!$D$2:$F$1093,3,FALSE),\"\")","v":""},{"v":0,"d":"0.00"},{"$f":"IF(J173<>0,VLOOKUP(J173,PRETURI!$D$2:$F$1093,3,FALSE),\"\")","v":""},{"v":0,"d":"0.00"},{"$f":"IF(K173<>0,VLOOKUP(K173,PRETURI!$D$2:$F$1093,3,FALSE),\"\")","v":""},{"v":0,"d":"0.00"},{"$nulls":6},{"$f":"(Comanda!D190*Comanda!E190*Comanda!F190)*0.000001","v":{"v":0,"d":"0.00"}},null,{"$f":"IF(Comanda!H190=1,(Comanda!D190*0.001+$BL$2)*Comanda!F190,\"\")","v":""},{"$f":"IF(Comanda!I190=1,(Comanda!D190*0.001+$BL$2)*Comanda!F190,\"\")","v":""},{"$f":"IF(Comanda!J190=1,(Comanda!E190*0.001+$BL$2)*Comanda!F190,\"\")","v":""},{"$f":"IF(Comanda!K190=1,(Comanda!E190*0.001+$BL$2)*Comanda!F190,\"\")","v":""},null,{"$f":"IF(Comanda!H190=2,(Comanda!D190*0.001+$BL$2)*Comanda!F190,\"\")","v":""},{"$f":"IF(Comanda!I190=2,(Comanda!D190*0.001+$BL$2)*Comanda!F190,\"\")","v":""},{"$f":"IF(Comanda!J190=2,(Comanda!E190*0.001+$BL$2)*Comanda!F190,\"\")","v":""},{"$f":"IF(Comanda!K190=2,(Comanda!E190*0.001+$BL$2)*Comanda!F190,\"\")","v":""},null,{"$f":"IF(Comanda!H190=3,(Comanda!D190*0.001+$BL$2)*Comanda!F190,\"\")","v":""},{"$f":"IF(Comanda!I190=3,(Comanda!D190*0.001+$BL$2)*Comanda!F190,\"\")","v":""},{"$f":"IF(Comanda!J190=3,(Comanda!E190*0.001+$BL$2)*Comanda!F190,\"\")","v":""},{"$f":"IF(Comanda!K190=3,(Comanda!E190*0.001+$BL$2)*Comanda!F190,\"\")","v":""},null,{"$f":"IF(Comanda!H190=4,(Comanda!D190*0.001+$BL$2)*Comanda!F190,\"\")","v":""},{"$f":"IF(Comanda!I190=4,(Comanda!D190*0.001+$BL$2)*Comanda!F190,\"\")","v":""},{"$f":"IF(Comanda!J190=4,(Comanda!E190*0.001+$BL$2)*Comanda!F190,\"\")","v":""},{"$f":"IF(Comanda!K190=4,(Comanda!E190*0.001+$BL$2)*Comanda!F190,\"\")","v":""}]
[172,{"$f":"IF(Comanda!B191<>0,Comanda!B191,\"\")","v":""},{"$f":"IF(Comanda!C191<>0,Comanda!C191,\"\")","v":""},{"$f":"IF(Comanda!D191<>0,Comanda!D191,\"\")","v":""},{"$f":"IF(Comanda!E191<>0,Comanda!E191,\"\")","v":""},{"$f":"IF(Comanda!F191<>0,Comanda!F191,\"\")","v":""},{"$f":"IF(Comanda!G191<>0,1,0)","v":0},{"$f":"IF(Comanda!H191=1,Comanda!$C$13,IF(Comanda!H191=2,Comanda!$C$14,IF(Comanda!$H191=3,Comanda!$C$15,IF(Comanda!$H191=4,Comanda!$C$16,0))))","v":0},{"$f":"IF(Comanda!I191=1,Comanda!$C$13,IF(Comanda!I191=2,Comanda!$C$14,IF(Comanda!$I191=3,Comanda!$C$15,IF(Comanda!$I191=4,Comanda!$C$16,0))))","v":0},{"$f":"IF(Comanda!J191=1,Comanda!$C$13,IF(Comanda!J191=2,Comanda!$C$14,IF(Comanda!$J191=3,Comanda!$C$15,IF(Comanda!$J191=4,Comanda!$C$16,0))))","v":0},{"$f":"IF(Comanda!K191=1,Comanda!$C$13,IF(Comanda!K191=2,Comanda!$C$14,IF(Comanda!$K191=3,Comanda!$C$15,IF(Comanda!$K191=4,Comanda!$C$16,0))))","v":0},{"$f":"IF(Comanda!B191<>0,Comanda!$C$2,\"\")","v":""},{"$f":"IF(Comanda!B191<>0,Comanda!$C$5,\"\")","v":""},{"$f":"IF(Comanda!B191<>0,Comanda!$G$2,\"\")","v":""},{"$f":"IF(Comanda!B191<>0,Comanda!L191,\"\")","v":""},{"$f":"IF(Comanda!D191<>0,VLOOKUP('Formula Cant'!F174,'Grafica Cant'!$G$2:$H$25,2,FALSE),\"\")","v":""},{"$nulls":8},{"$f":"IF(Comanda!B191<>0,Comanda!$C$9,\"\")","v":""},{"$f":"IF(Comanda!B191<>0,VLOOKUP(Comanda!$C$12,PRETURI!$A$2:$C$500,3,FALSE),\"\")","v":""},"",{"$f":"IF(H174<>0,VLOOKUP(H174,PRETURI!$D$2:$F$1093,3,FALSE),\"\")","v":""},{"v":0,"d":"0.00"},{"$f":"IF(I174<>0,VLOOKUP(I174,PRETURI!$D$2:$F$1093,3,FALSE),\"\")","v":""},{"v":0,"d":"0.00"},{"$f":"IF(J174<>0,VLOOKUP(J174,PRETURI!$D$2:$F$1093,3,FALSE),\"\")","v":""},{"v":0,"d":"0.00"},{"$f":"IF(K174<>0,VLOOKUP(K174,PRETURI!$D$2:$F$1093,3,FALSE),\"\")","v":""},{"v":0,"d":"0.00"},{"$nulls":6},{"$f":"(Comanda!D191*Comanda!E191*Comanda!F191)*0.000001","v":{"v":0,"d":"0.00"}},null,{"$f":"IF(Comanda!H191=1,(Comanda!D191*0.001+$BL$2)*Comanda!F191,\"\")","v":""},{"$f":"IF(Comanda!I191=1,(Comanda!D191*0.001+$BL$2)*Comanda!F191,\"\")","v":""},{"$f":"IF(Comanda!J191=1,(Comanda!E191*0.001+$BL$2)*Comanda!F191,\"\")","v":""},{"$f":"IF(Comanda!K191=1,(Comanda!E191*0.001+$BL$2)*Comanda!F191,\"\")","v":""},null,{"$f":"IF(Comanda!H191=2,(Comanda!D191*0.001+$BL$2)*Comanda!F191,\"\")","v":""},{"$f":"IF(Comanda!I191=2,(Comanda!D191*0.001+$BL$2)*Comanda!F191,\"\")","v":""},{"$f":"IF(Comanda!J191=2,(Comanda!E191*0.001+$BL$2)*Comanda!F191,\"\")","v":""},{"$f":"IF(Comanda!K191=2,(Comanda!E191*0.001+$BL$2)*Comanda!F191,\"\")","v":""},null,{"$f":"IF(Comanda!H191=3,(Comanda!D191*0.001+$BL$2)*Comanda!F191,\"\")","v":""},{"$f":"IF(Comanda!I191=3,(Comanda!D191*0.001+$BL$2)*Comanda!F191,\"\")","v":""},{"$f":"IF(Comanda!J191=3,(Comanda!E191*0.001+$BL$2)*Comanda!F191,\"\")","v":""},{"$f":"IF(Comanda!K191=3,(Comanda!E191*0.001+$BL$2)*Comanda!F191,\"\")","v":""},null,{"$f":"IF(Comanda!H191=4,(Comanda!D191*0.001+$BL$2)*Comanda!F191,\"\")","v":""},{"$f":"IF(Comanda!I191=4,(Comanda!D191*0.001+$BL$2)*Comanda!F191,\"\")","v":""},{"$f":"IF(Comanda!J191=4,(Comanda!E191*0.001+$BL$2)*Comanda!F191,\"\")","v":""},{"$f":"IF(Comanda!K191=4,(Comanda!E191*0.001+$BL$2)*Comanda!F191,\"\")","v":""}]
[173,{"$f":"IF(Comanda!B192<>0,Comanda!B192,\"\")","v":""},{"$f":"IF(Comanda!C192<>0,Comanda!C192,\"\")","v":""},{"$f":"IF(Comanda!D192<>0,Comanda!D192,\"\")","v":""},{"$f":"IF(Comanda!E192<>0,Comanda!E192,\"\")","v":""},{"$f":"IF(Comanda!F192<>0,Comanda!F192,\"\")","v":""},{"$f":"IF(Comanda!G192<>0,1,0)","v":0},{"$f":"IF(Comanda!H192=1,Comanda!$C$13,IF(Comanda!H192=2,Comanda!$C$14,IF(Comanda!$H192=3,Comanda!$C$15,IF(Comanda!$H192=4,Comanda!$C$16,0))))","v":0},{"$f":"IF(Comanda!I192=1,Comanda!$C$13,IF(Comanda!I192=2,Comanda!$C$14,IF(Comanda!$I192=3,Comanda!$C$15,IF(Comanda!$I192=4,Comanda!$C$16,0))))","v":0},{"$f":"IF(Comanda!J192=1,Comanda!$C$13,IF(Comanda!J192=2,Comanda!$C$14,IF(Comanda!$J192=3,Comanda!$C$15,IF(Comanda!$J192=4,Comanda!$C$16,0))))","v":0},{"$f":"IF(Comanda!K192=1,Comanda!$C$13,IF(Comanda!K192=2,Comanda!$C$14,IF(Comanda!$K192=3,Comanda!$C$15,IF(Comanda!$K192=4,Comanda!$C$16,0))))","v":0},{"$f":"IF(Comanda!B192<>0,Comanda!$C$2,\"\")","v":""},{"$f":"IF(Comanda!B192<>0,Comanda!$C$5,\"\")","v":""},{"$f":"IF(Comanda!B192<>0,Comanda!$G$2,\"\")","v":""},{"$f":"IF(Comanda!B192<>0,Comanda!L192,\"\")","v":""},{"$f":"IF(Comanda!D192<>0,VLOOKUP('Formula Cant'!F175,'Grafica Cant'!$G$2:$H$25,2,FALSE),\"\")","v":""},{"$nulls":8},{"$f":"IF(Comanda!B192<>0,Comanda!$C$9,\"\")","v":""},{"$f":"IF(Comanda!B192<>0,VLOOKUP(Comanda!$C$12,PRETURI!$A$2:$C$500,3,FALSE),\"\")","v":""},"",{"$f":"IF(H175<>0,VLOOKUP(H175,PRETURI!$D$2:$F$1093,3,FALSE),\"\")","v":""},{"v":0,"d":"0.00"},{"$f":"IF(I175<>0,VLOOKUP(I175,PRETURI!$D$2:$F$1093,3,FALSE),\"\")","v":""},{"v":0,"d":"0.00"},{"$f":"IF(J175<>0,VLOOKUP(J175,PRETURI!$D$2:$F$1093,3,FALSE),\"\")","v":""},{"v":0,"d":"0.00"},{"$f":"IF(K175<>0,VLOOKUP(K175,PRETURI!$D$2:$F$1093,3,FALSE),\"\")","v":""},{"v":0,"d":"0.00"},{"$nulls":6},{"$f":"(Comanda!D192*Comanda!E192*Comanda!F192)*0.000001","v":{"v":0,"d":"0.00"}},null,{"$f":"IF(Comanda!H192=1,(Comanda!D192*0.001+$BL$2)*Comanda!F192,\"\")","v":""},{"$f":"IF(Comanda!I192=1,(Comanda!D192*0.001+$BL$2)*Comanda!F192,\"\")","v":""},{"$f":"IF(Comanda!J192=1,(Comanda!E192*0.001+$BL$2)*Comanda!F192,\"\")","v":""},{"$f":"IF(Comanda!K192=1,(Comanda!E192*0.001+$BL$2)*Comanda!F192,\"\")","v":""},null,{"$f":"IF(Comanda!H192=2,(Comanda!D192*0.001+$BL$2)*Comanda!F192,\"\")","v":""},{"$f":"IF(Comanda!I192=2,(Comanda!D192*0.001+$BL$2)*Comanda!F192,\"\")","v":""},{"$f":"IF(Comanda!J192=2,(Comanda!E192*0.001+$BL$2)*Comanda!F192,\"\")","v":""},{"$f":"IF(Comanda!K192=2,(Comanda!E192*0.001+$BL$2)*Comanda!F192,\"\")","v":""},null,{"$f":"IF(Comanda!H192=3,(Comanda!D192*0.001+$BL$2)*Comanda!F192,\"\")","v":""},{"$f":"IF(Comanda!I192=3,(Comanda!D192*0.001+$BL$2)*Comanda!F192,\"\")","v":""},{"$f":"IF(Comanda!J192=3,(Comanda!E192*0.001+$BL$2)*Comanda!F192,\"\")","v":""},{"$f":"IF(Comanda!K192=3,(Comanda!E192*0.001+$BL$2)*Comanda!F192,\"\")","v":""},null,{"$f":"IF(Comanda!H192=4,(Comanda!D192*0.001+$BL$2)*Comanda!F192,\"\")","v":""},{"$f":"IF(Comanda!I192=4,(Comanda!D192*0.001+$BL$2)*Comanda!F192,\"\")","v":""},{"$f":"IF(Comanda!J192=4,(Comanda!E192*0.001+$BL$2)*Comanda!F192,\"\")","v":""},{"$f":"IF(Comanda!K192=4,(Comanda!E192*0.001+$BL$2)*Comanda!F192,\"\")","v":""}]
[174,{"$f":"IF(Comanda!B193<>0,Comanda!B193,\"\")","v":""},{"$f":"IF(Comanda!C193<>0,Comanda!C193,\"\")","v":""},{"$f":"IF(Comanda!D193<>0,Comanda!D193,\"\")","v":""},{"$f":"IF(Comanda!E193<>0,Comanda!E193,\"\")","v":""},{"$f":"IF(Comanda!F193<>0,Comanda!F193,\"\")","v":""},{"$f":"IF(Comanda!G193<>0,1,0)","v":0},{"$f":"IF(Comanda!H193=1,Comanda!$C$13,IF(Comanda!H193=2,Comanda!$C$14,IF(Comanda!$H193=3,Comanda!$C$15,IF(Comanda!$H193=4,Comanda!$C$16,0))))","v":0},{"$f":"IF(Comanda!I193=1,Comanda!$C$13,IF(Comanda!I193=2,Comanda!$C$14,IF(Comanda!$I193=3,Comanda!$C$15,IF(Comanda!$I193=4,Comanda!$C$16,0))))","v":0},{"$f":"IF(Comanda!J193=1,Comanda!$C$13,IF(Comanda!J193=2,Comanda!$C$14,IF(Comanda!$J193=3,Comanda!$C$15,IF(Comanda!$J193=4,Comanda!$C$16,0))))","v":0},{"$f":"IF(Comanda!K193=1,Comanda!$C$13,IF(Comanda!K193=2,Comanda!$C$14,IF(Comanda!$K193=3,Comanda!$C$15,IF(Comanda!$K193=4,Comanda!$C$16,0))))","v":0},{"$f":"IF(Comanda!B193<>0,Comanda!$C$2,\"\")","v":""},{"$f":"IF(Comanda!B193<>0,Comanda!$C$5,\"\")","v":""},{"$f":"IF(Comanda!B193<>0,Comanda!$G$2,\"\")","v":""},{"$f":"IF(Comanda!B193<>0,Comanda!L193,\"\")","v":""},{"$f":"IF(Comanda!D193<>0,VLOOKUP('Formula Cant'!F176,'Grafica Cant'!$G$2:$H$25,2,FALSE),\"\")","v":""},{"$nulls":8},{"$f":"IF(Comanda!B193<>0,Comanda!$C$9,\"\")","v":""},{"$f":"IF(Comanda!B193<>0,VLOOKUP(Comanda!$C$12,PRETURI!$A$2:$C$500,3,FALSE),\"\")","v":""},"",{"$f":"IF(H176<>0,VLOOKUP(H176,PRETURI!$D$2:$F$1093,3,FALSE),\"\")","v":""},{"v":0,"d":"0.00"},{"$f":"IF(I176<>0,VLOOKUP(I176,PRETURI!$D$2:$F$1093,3,FALSE),\"\")","v":""},{"v":0,"d":"0.00"},{"$f":"IF(J176<>0,VLOOKUP(J176,PRETURI!$D$2:$F$1093,3,FALSE),\"\")","v":""},{"v":0,"d":"0.00"},{"$f":"IF(K176<>0,VLOOKUP(K176,PRETURI!$D$2:$F$1093,3,FALSE),\"\")","v":""},{"v":0,"d":"0.00"},{"$nulls":6},{"$f":"(Comanda!D193*Comanda!E193*Comanda!F193)*0.000001","v":{"v":0,"d":"0.00"}},null,{"$f":"IF(Comanda!H193=1,(Comanda!D193*0.001+$BL$2)*Comanda!F193,\"\")","v":""},{"$f":"IF(Comanda!I193=1,(Comanda!D193*0.001+$BL$2)*Comanda!F193,\"\")","v":""},{"$f":"IF(Comanda!J193=1,(Comanda!E193*0.001+$BL$2)*Comanda!F193,\"\")","v":""},{"$f":"IF(Comanda!K193=1,(Comanda!E193*0.001+$BL$2)*Comanda!F193,\"\")","v":""},null,{"$f":"IF(Comanda!H193=2,(Comanda!D193*0.001+$BL$2)*Comanda!F193,\"\")","v":""},{"$f":"IF(Comanda!I193=2,(Comanda!D193*0.001+$BL$2)*Comanda!F193,\"\")","v":""},{"$f":"IF(Comanda!J193=2,(Comanda!E193*0.001+$BL$2)*Comanda!F193,\"\")","v":""},{"$f":"IF(Comanda!K193=2,(Comanda!E193*0.001+$BL$2)*Comanda!F193,\"\")","v":""},null,{"$f":"IF(Comanda!H193=3,(Comanda!D193*0.001+$BL$2)*Comanda!F193,\"\")","v":""},{"$f":"IF(Comanda!I193=3,(Comanda!D193*0.001+$BL$2)*Comanda!F193,\"\")","v":""},{"$f":"IF(Comanda!J193=3,(Comanda!E193*0.001+$BL$2)*Comanda!F193,\"\")","v":""},{"$f":"IF(Comanda!K193=3,(Comanda!E193*0.001+$BL$2)*Comanda!F193,\"\")","v":""},null,{"$f":"IF(Comanda!H193=4,(Comanda!D193*0.001+$BL$2)*Comanda!F193,\"\")","v":""},{"$f":"IF(Comanda!I193=4,(Comanda!D193*0.001+$BL$2)*Comanda!F193,\"\")","v":""},{"$f":"IF(Comanda!J193=4,(Comanda!E193*0.001+$BL$2)*Comanda!F193,\"\")","v":""},{"$f":"IF(Comanda!K193=4,(Comanda!E193*0.001+$BL$2)*Comanda!F193,\"\")","v":""}]
[175,{"$f":"IF(Comanda!B194<>0,Comanda!B194,\"\")","v":""},{"$f":"IF(Comanda!C194<>0,Comanda!C194,\"\")","v":""},{"$f":"IF(Comanda!D194<>0,Comanda!D194,\"\")","v":""},{"$f":"IF(Comanda!E194<>0,Comanda!E194,\"\")","v":""},{"$f":"IF(Comanda!F194<>0,Comanda!F194,\"\")","v":""},{"$f":"IF(Comanda!G194<>0,1,0)","v":0},{"$f":"IF(Comanda!H194=1,Comanda!$C$13,IF(Comanda!H194=2,Comanda!$C$14,IF(Comanda!$H194=3,Comanda!$C$15,IF(Comanda!$H194=4,Comanda!$C$16,0))))","v":0},{"$f":"IF(Comanda!I194=1,Comanda!$C$13,IF(Comanda!I194=2,Comanda!$C$14,IF(Comanda!$I194=3,Comanda!$C$15,IF(Comanda!$I194=4,Comanda!$C$16,0))))","v":0},{"$f":"IF(Comanda!J194=1,Comanda!$C$13,IF(Comanda!J194=2,Comanda!$C$14,IF(Comanda!$J194=3,Comanda!$C$15,IF(Comanda!$J194=4,Comanda!$C$16,0))))","v":0},{"$f":"IF(Comanda!K194=1,Comanda!$C$13,IF(Comanda!K194=2,Comanda!$C$14,IF(Comanda!$K194=3,Comanda!$C$15,IF(Comanda!$K194=4,Comanda!$C$16,0))))","v":0},{"$f":"IF(Comanda!B194<>0,Comanda!$C$2,\"\")","v":""},{"$f":"IF(Comanda!B194<>0,Comanda!$C$5,\"\")","v":""},{"$f":"IF(Comanda!B194<>0,Comanda!$G$2,\"\")","v":""},{"$f":"IF(Comanda!B194<>0,Comanda!L194,\"\")","v":""},{"$f":"IF(Comanda!D194<>0,VLOOKUP('Formula Cant'!F177,'Grafica Cant'!$G$2:$H$25,2,FALSE),\"\")","v":""},{"$nulls":8},{"$f":"IF(Comanda!B194<>0,Comanda!$C$9,\"\")","v":""},{"$f":"IF(Comanda!B194<>0,VLOOKUP(Comanda!$C$12,PRETURI!$A$2:$C$500,3,FALSE),\"\")","v":""},"",{"$f":"IF(H177<>0,VLOOKUP(H177,PRETURI!$D$2:$F$1093,3,FALSE),\"\")","v":""},{"v":0,"d":"0.00"},{"$f":"IF(I177<>0,VLOOKUP(I177,PRETURI!$D$2:$F$1093,3,FALSE),\"\")","v":""},{"v":0,"d":"0.00"},{"$f":"IF(J177<>0,VLOOKUP(J177,PRETURI!$D$2:$F$1093,3,FALSE),\"\")","v":""},{"v":0,"d":"0.00"},{"$f":"IF(K177<>0,VLOOKUP(K177,PRETURI!$D$2:$F$1093,3,FALSE),\"\")","v":""},{"v":0,"d":"0.00"},{"$nulls":6},{"$f":"(Comanda!D194*Comanda!E194*Comanda!F194)*0.000001","v":{"v":0,"d":"0.00"}},null,{"$f":"IF(Comanda!H194=1,(Comanda!D194*0.001+$BL$2)*Comanda!F194,\"\")","v":""},{"$f":"IF(Comanda!I194=1,(Comanda!D194*0.001+$BL$2)*Comanda!F194,\"\")","v":""},{"$f":"IF(Comanda!J194=1,(Comanda!E194*0.001+$BL$2)*Comanda!F194,\"\")","v":""},{"$f":"IF(Comanda!K194=1,(Comanda!E194*0.001+$BL$2)*Comanda!F194,\"\")","v":""},null,{"$f":"IF(Comanda!H194=2,(Comanda!D194*0.001+$BL$2)*Comanda!F194,\"\")","v":""},{"$f":"IF(Comanda!I194=2,(Comanda!D194*0.001+$BL$2)*Comanda!F194,\"\")","v":""},{"$f":"IF(Comanda!J194=2,(Comanda!E194*0.001+$BL$2)*Comanda!F194,\"\")","v":""},{"$f":"IF(Comanda!K194=2,(Comanda!E194*0.001+$BL$2)*Comanda!F194,\"\")","v":""},null,{"$f":"IF(Comanda!H194=3,(Comanda!D194*0.001+$BL$2)*Comanda!F194,\"\")","v":""},{"$f":"IF(Comanda!I194=3,(Comanda!D194*0.001+$BL$2)*Comanda!F194,\"\")","v":""},{"$f":"IF(Comanda!J194=3,(Comanda!E194*0.001+$BL$2)*Comanda!F194,\"\")","v":""},{"$f":"IF(Comanda!K194=3,(Comanda!E194*0.001+$BL$2)*Comanda!F194,\"\")","v":""},null,{"$f":"IF(Comanda!H194=4,(Comanda!D194*0.001+$BL$2)*Comanda!F194,\"\")","v":""},{"$f":"IF(Comanda!I194=4,(Comanda!D194*0.001+$BL$2)*Comanda!F194,\"\")","v":""},{"$f":"IF(Comanda!J194=4,(Comanda!E194*0.001+$BL$2)*Comanda!F194,\"\")","v":""},{"$f":"IF(Comanda!K194=4,(Comanda!E194*0.001+$BL$2)*Comanda!F194,\"\")","v":""}]
[176,{"$f":"IF(Comanda!B195<>0,Comanda!B195,\"\")","v":""},{"$f":"IF(Comanda!C195<>0,Comanda!C195,\"\")","v":""},{"$f":"IF(Comanda!D195<>0,Comanda!D195,\"\")","v":""},{"$f":"IF(Comanda!E195<>0,Comanda!E195,\"\")","v":""},{"$f":"IF(Comanda!F195<>0,Comanda!F195,\"\")","v":""},{"$f":"IF(Comanda!G195<>0,1,0)","v":0},{"$f":"IF(Comanda!H195=1,Comanda!$C$13,IF(Comanda!H195=2,Comanda!$C$14,IF(Comanda!$H195=3,Comanda!$C$15,IF(Comanda!$H195=4,Comanda!$C$16,0))))","v":0},{"$f":"IF(Comanda!I195=1,Comanda!$C$13,IF(Comanda!I195=2,Comanda!$C$14,IF(Comanda!$I195=3,Comanda!$C$15,IF(Comanda!$I195=4,Comanda!$C$16,0))))","v":0},{"$f":"IF(Comanda!J195=1,Comanda!$C$13,IF(Comanda!J195=2,Comanda!$C$14,IF(Comanda!$J195=3,Comanda!$C$15,IF(Comanda!$J195=4,Comanda!$C$16,0))))","v":0},{"$f":"IF(Comanda!K195=1,Comanda!$C$13,IF(Comanda!K195=2,Comanda!$C$14,IF(Comanda!$K195=3,Comanda!$C$15,IF(Comanda!$K195=4,Comanda!$C$16,0))))","v":0},{"$f":"IF(Comanda!B195<>0,Comanda!$C$2,\"\")","v":""},{"$f":"IF(Comanda!B195<>0,Comanda!$C$5,\"\")","v":""},{"$f":"IF(Comanda!B195<>0,Comanda!$G$2,\"\")","v":""},{"$f":"IF(Comanda!B195<>0,Comanda!L195,\"\")","v":""},{"$f":"IF(Comanda!D195<>0,VLOOKUP('Formula Cant'!F178,'Grafica Cant'!$G$2:$H$25,2,FALSE),\"\")","v":""},{"$nulls":8},{"$f":"IF(Comanda!B195<>0,Comanda!$C$9,\"\")","v":""},{"$f":"IF(Comanda!B195<>0,VLOOKUP(Comanda!$C$12,PRETURI!$A$2:$C$500,3,FALSE),\"\")","v":""},"",{"$f":"IF(H178<>0,VLOOKUP(H178,PRETURI!$D$2:$F$1093,3,FALSE),\"\")","v":""},{"v":0,"d":"0.00"},{"$f":"IF(I178<>0,VLOOKUP(I178,PRETURI!$D$2:$F$1093,3,FALSE),\"\")","v":""},{"v":0,"d":"0.00"},{"$f":"IF(J178<>0,VLOOKUP(J178,PRETURI!$D$2:$F$1093,3,FALSE),\"\")","v":""},{"v":0,"d":"0.00"},{"$f":"IF(K178<>0,VLOOKUP(K178,PRETURI!$D$2:$F$1093,3,FALSE),\"\")","v":""},{"v":0,"d":"0.00"},{"$nulls":6},{"$f":"(Comanda!D195*Comanda!E195*Comanda!F195)*0.000001","v":{"v":0,"d":"0.00"}},null,{"$f":"IF(Comanda!H195=1,(Comanda!D195*0.001+$BL$2)*Comanda!F195,\"\")","v":""},{"$f":"IF(Comanda!I195=1,(Comanda!D195*0.001+$BL$2)*Comanda!F195,\"\")","v":""},{"$f":"IF(Comanda!J195=1,(Comanda!E195*0.001+$BL$2)*Comanda!F195,\"\")","v":""},{"$f":"IF(Comanda!K195=1,(Comanda!E195*0.001+$BL$2)*Comanda!F195,\"\")","v":""},null,{"$f":"IF(Comanda!H195=2,(Comanda!D195*0.001+$BL$2)*Comanda!F195,\"\")","v":""},{"$f":"IF(Comanda!I195=2,(Comanda!D195*0.001+$BL$2)*Comanda!F195,\"\")","v":""},{"$f":"IF(Comanda!J195=2,(Comanda!E195*0.001+$BL$2)*Comanda!F195,\"\")","v":""},{"$f":"IF(Comanda!K195=2,(Comanda!E195*0.001+$BL$2)*Comanda!F195,\"\")","v":""},null,{"$f":"IF(Comanda!H195=3,(Comanda!D195*0.001+$BL$2)*Comanda!F195,\"\")","v":""},{"$f":"IF(Comanda!I195=3,(Comanda!D195*0.001+$BL$2)*Comanda!F195,\"\")","v":""},{"$f":"IF(Comanda!J195=3,(Comanda!E195*0.001+$BL$2)*Comanda!F195,\"\")","v":""},{"$f":"IF(Comanda!K195=3,(Comanda!E195*0.001+$BL$2)*Comanda!F195,\"\")","v":""},null,{"$f":"IF(Comanda!H195=4,(Comanda!D195*0.001+$BL$2)*Comanda!F195,\"\")","v":""},{"$f":"IF(Comanda!I195=4,(Comanda!D195*0.001+$BL$2)*Comanda!F195,\"\")","v":""},{"$f":"IF(Comanda!J195=4,(Comanda!E195*0.001+$BL$2)*Comanda!F195,\"\")","v":""},{"$f":"IF(Comanda!K195=4,(Comanda!E195*0.001+$BL$2)*Comanda!F195,\"\")","v":""}]
[177,{"$f":"IF(Comanda!B196<>0,Comanda!B196,\"\")","v":""},{"$f":"IF(Comanda!C196<>0,Comanda!C196,\"\")","v":""},{"$f":"IF(Comanda!D196<>0,Comanda!D196,\"\")","v":""},{"$f":"IF(Comanda!E196<>0,Comanda!E196,\"\")","v":""},{"$f":"IF(Comanda!F196<>0,Comanda!F196,\"\")","v":""},{"$f":"IF(Comanda!G196<>0,1,0)","v":0},{"$f":"IF(Comanda!H196=1,Comanda!$C$13,IF(Comanda!H196=2,Comanda!$C$14,IF(Comanda!$H196=3,Comanda!$C$15,IF(Comanda!$H196=4,Comanda!$C$16,0))))","v":0},{"$f":"IF(Comanda!I196=1,Comanda!$C$13,IF(Comanda!I196=2,Comanda!$C$14,IF(Comanda!$I196=3,Comanda!$C$15,IF(Comanda!$I196=4,Comanda!$C$16,0))))","v":0},{"$f":"IF(Comanda!J196=1,Comanda!$C$13,IF(Comanda!J196=2,Comanda!$C$14,IF(Comanda!$J196=3,Comanda!$C$15,IF(Comanda!$J196=4,Comanda!$C$16,0))))","v":0},{"$f":"IF(Comanda!K196=1,Comanda!$C$13,IF(Comanda!K196=2,Comanda!$C$14,IF(Comanda!$K196=3,Comanda!$C$15,IF(Comanda!$K196=4,Comanda!$C$16,0))))","v":0},{"$f":"IF(Comanda!B196<>0,Comanda!$C$2,\"\")","v":""},{"$f":"IF(Comanda!B196<>0,Comanda!$C$5,\"\")","v":""},{"$f":"IF(Comanda!B196<>0,Comanda!$G$2,\"\")","v":""},{"$f":"IF(Comanda!B196<>0,Comanda!L196,\"\")","v":""},{"$f":"IF(Comanda!D196<>0,VLOOKUP('Formula Cant'!F179,'Grafica Cant'!$G$2:$H$25,2,FALSE),\"\")","v":""},{"$nulls":8},{"$f":"IF(Comanda!B196<>0,Comanda!$C$9,\"\")","v":""},{"$f":"IF(Comanda!B196<>0,VLOOKUP(Comanda!$C$12,PRETURI!$A$2:$C$500,3,FALSE),\"\")","v":""},"",{"$f":"IF(H179<>0,VLOOKUP(H179,PRETURI!$D$2:$F$1093,3,FALSE),\"\")","v":""},{"v":0,"d":"0.00"},{"$f":"IF(I179<>0,VLOOKUP(I179,PRETURI!$D$2:$F$1093,3,FALSE),\"\")","v":""},{"v":0,"d":"0.00"},{"$f":"IF(J179<>0,VLOOKUP(J179,PRETURI!$D$2:$F$1093,3,FALSE),\"\")","v":""},{"v":0,"d":"0.00"},{"$f":"IF(K179<>0,VLOOKUP(K179,PRETURI!$D$2:$F$1093,3,FALSE),\"\")","v":""},{"v":0,"d":"0.00"},{"$nulls":6},{"$f":"(Comanda!D196*Comanda!E196*Comanda!F196)*0.000001","v":{"v":0,"d":"0.00"}},null,{"$f":"IF(Comanda!H196=1,(Comanda!D196*0.001+$BL$2)*Comanda!F196,\"\")","v":""},{"$f":"IF(Comanda!I196=1,(Comanda!D196*0.001+$BL$2)*Comanda!F196,\"\")","v":""},{"$f":"IF(Comanda!J196=1,(Comanda!E196*0.001+$BL$2)*Comanda!F196,\"\")","v":""},{"$f":"IF(Comanda!K196=1,(Comanda!E196*0.001+$BL$2)*Comanda!F196,\"\")","v":""},null,{"$f":"IF(Comanda!H196=2,(Comanda!D196*0.001+$BL$2)*Comanda!F196,\"\")","v":""},{"$f":"IF(Comanda!I196=2,(Comanda!D196*0.001+$BL$2)*Comanda!F196,\"\")","v":""},{"$f":"IF(Comanda!J196=2,(Comanda!E196*0.001+$BL$2)*Comanda!F196,\"\")","v":""},{"$f":"IF(Comanda!K196=2,(Comanda!E196*0.001+$BL$2)*Comanda!F196,\"\")","v":""},null,{"$f":"IF(Comanda!H196=3,(Comanda!D196*0.001+$BL$2)*Comanda!F196,\"\")","v":""},{"$f":"IF(Comanda!I196=3,(Comanda!D196*0.001+$BL$2)*Comanda!F196,\"\")","v":""},{"$f":"IF(Comanda!J196=3,(Comanda!E196*0.001+$BL$2)*Comanda!F196,\"\")","v":""},{"$f":"IF(Comanda!K196=3,(Comanda!E196*0.001+$BL$2)*Comanda!F196,\"\")","v":""},null,{"$f":"IF(Comanda!H196=4,(Comanda!D196*0.001+$BL$2)*Comanda!F196,\"\")","v":""},{"$f":"IF(Comanda!I196=4,(Comanda!D196*0.001+$BL$2)*Comanda!F196,\"\")","v":""},{"$f":"IF(Comanda!J196=4,(Comanda!E196*0.001+$BL$2)*Comanda!F196,\"\")","v":""},{"$f":"IF(Comanda!K196=4,(Comanda!E196*0.001+$BL$2)*Comanda!F196,\"\")","v":""}]
[178,{"$f":"IF(Comanda!B197<>0,Comanda!B197,\"\")","v":""},{"$f":"IF(Comanda!C197<>0,Comanda!C197,\"\")","v":""},{"$f":"IF(Comanda!D197<>0,Comanda!D197,\"\")","v":""},{"$f":"IF(Comanda!E197<>0,Comanda!E197,\"\")","v":""},{"$f":"IF(Comanda!F197<>0,Comanda!F197,\"\")","v":""},{"$f":"IF(Comanda!G197<>0,1,0)","v":0},{"$f":"IF(Comanda!H197=1,Comanda!$C$13,IF(Comanda!H197=2,Comanda!$C$14,IF(Comanda!$H197=3,Comanda!$C$15,IF(Comanda!$H197=4,Comanda!$C$16,0))))","v":0},{"$f":"IF(Comanda!I197=1,Comanda!$C$13,IF(Comanda!I197=2,Comanda!$C$14,IF(Comanda!$I197=3,Comanda!$C$15,IF(Comanda!$I197=4,Comanda!$C$16,0))))","v":0},{"$f":"IF(Comanda!J197=1,Comanda!$C$13,IF(Comanda!J197=2,Comanda!$C$14,IF(Comanda!$J197=3,Comanda!$C$15,IF(Comanda!$J197=4,Comanda!$C$16,0))))","v":0},{"$f":"IF(Comanda!K197=1,Comanda!$C$13,IF(Comanda!K197=2,Comanda!$C$14,IF(Comanda!$K197=3,Comanda!$C$15,IF(Comanda!$K197=4,Comanda!$C$16,0))))","v":0},{"$f":"IF(Comanda!B197<>0,Comanda!$C$2,\"\")","v":""},{"$f":"IF(Comanda!B197<>0,Comanda!$C$5,\"\")","v":""},{"$f":"IF(Comanda!B197<>0,Comanda!$G$2,\"\")","v":""},{"$f":"IF(Comanda!B197<>0,Comanda!L197,\"\")","v":""},{"$f":"IF(Comanda!D197<>0,VLOOKUP('Formula Cant'!F180,'Grafica Cant'!$G$2:$H$25,2,FALSE),\"\")","v":""},{"$nulls":8},{"$f":"IF(Comanda!B197<>0,Comanda!$C$9,\"\")","v":""},{"$f":"IF(Comanda!B197<>0,VLOOKUP(Comanda!$C$12,PRETURI!$A$2:$C$500,3,FALSE),\"\")","v":""},"",{"$f":"IF(H180<>0,VLOOKUP(H180,PRETURI!$D$2:$F$1093,3,FALSE),\"\")","v":""},{"v":0,"d":"0.00"},{"$f":"IF(I180<>0,VLOOKUP(I180,PRETURI!$D$2:$F$1093,3,FALSE),\"\")","v":""},{"v":0,"d":"0.00"},{"$f":"IF(J180<>0,VLOOKUP(J180,PRETURI!$D$2:$F$1093,3,FALSE),\"\")","v":""},{"v":0,"d":"0.00"},{"$f":"IF(K180<>0,VLOOKUP(K180,PRETURI!$D$2:$F$1093,3,FALSE),\"\")","v":""},{"v":0,"d":"0.00"},{"$nulls":6},{"$f":"(Comanda!D197*Comanda!E197*Comanda!F197)*0.000001","v":{"v":0,"d":"0.00"}},null,{"$f":"IF(Comanda!H197=1,(Comanda!D197*0.001+$BL$2)*Comanda!F197,\"\")","v":""},{"$f":"IF(Comanda!I197=1,(Comanda!D197*0.001+$BL$2)*Comanda!F197,\"\")","v":""},{"$f":"IF(Comanda!J197=1,(Comanda!E197*0.001+$BL$2)*Comanda!F197,\"\")","v":""},{"$f":"IF(Comanda!K197=1,(Comanda!E197*0.001+$BL$2)*Comanda!F197,\"\")","v":""},null,{"$f":"IF(Comanda!H197=2,(Comanda!D197*0.001+$BL$2)*Comanda!F197,\"\")","v":""},{"$f":"IF(Comanda!I197=2,(Comanda!D197*0.001+$BL$2)*Comanda!F197,\"\")","v":""},{"$f":"IF(Comanda!J197=2,(Comanda!E197*0.001+$BL$2)*Comanda!F197,\"\")","v":""},{"$f":"IF(Comanda!K197=2,(Comanda!E197*0.001+$BL$2)*Comanda!F197,\"\")","v":""},null,{"$f":"IF(Comanda!H197=3,(Comanda!D197*0.001+$BL$2)*Comanda!F197,\"\")","v":""},{"$f":"IF(Comanda!I197=3,(Comanda!D197*0.001+$BL$2)*Comanda!F197,\"\")","v":""},{"$f":"IF(Comanda!J197=3,(Comanda!E197*0.001+$BL$2)*Comanda!F197,\"\")","v":""},{"$f":"IF(Comanda!K197=3,(Comanda!E197*0.001+$BL$2)*Comanda!F197,\"\")","v":""},null,{"$f":"IF(Comanda!H197=4,(Comanda!D197*0.001+$BL$2)*Comanda!F197,\"\")","v":""},{"$f":"IF(Comanda!I197=4,(Comanda!D197*0.001+$BL$2)*Comanda!F197,\"\")","v":""},{"$f":"IF(Comanda!J197=4,(Comanda!E197*0.001+$BL$2)*Comanda!F197,\"\")","v":""},{"$f":"IF(Comanda!K197=4,(Comanda!E197*0.001+$BL$2)*Comanda!F197,\"\")","v":""}]
[179,{"$f":"IF(Comanda!B198<>0,Comanda!B198,\"\")","v":""},{"$f":"IF(Comanda!C198<>0,Comanda!C198,\"\")","v":""},{"$f":"IF(Comanda!D198<>0,Comanda!D198,\"\")","v":""},{"$f":"IF(Comanda!E198<>0,Comanda!E198,\"\")","v":""},{"$f":"IF(Comanda!F198<>0,Comanda!F198,\"\")","v":""},{"$f":"IF(Comanda!G198<>0,1,0)","v":0},{"$f":"IF(Comanda!H198=1,Comanda!$C$13,IF(Comanda!H198=2,Comanda!$C$14,IF(Comanda!$H198=3,Comanda!$C$15,IF(Comanda!$H198=4,Comanda!$C$16,0))))","v":0},{"$f":"IF(Comanda!I198=1,Comanda!$C$13,IF(Comanda!I198=2,Comanda!$C$14,IF(Comanda!$I198=3,Comanda!$C$15,IF(Comanda!$I198=4,Comanda!$C$16,0))))","v":0},{"$f":"IF(Comanda!J198=1,Comanda!$C$13,IF(Comanda!J198=2,Comanda!$C$14,IF(Comanda!$J198=3,Comanda!$C$15,IF(Comanda!$J198=4,Comanda!$C$16,0))))","v":0},{"$f":"IF(Comanda!K198=1,Comanda!$C$13,IF(Comanda!K198=2,Comanda!$C$14,IF(Comanda!$K198=3,Comanda!$C$15,IF(Comanda!$K198=4,Comanda!$C$16,0))))","v":0},{"$f":"IF(Comanda!B198<>0,Comanda!$C$2,\"\")","v":""},{"$f":"IF(Comanda!B198<>0,Comanda!$C$5,\"\")","v":""},{"$f":"IF(Comanda!B198<>0,Comanda!$G$2,\"\")","v":""},{"$f":"IF(Comanda!B198<>0,Comanda!L198,\"\")","v":""},{"$f":"IF(Comanda!D198<>0,VLOOKUP('Formula Cant'!F181,'Grafica Cant'!$G$2:$H$25,2,FALSE),\"\")","v":""},{"$nulls":8},{"$f":"IF(Comanda!B198<>0,Comanda!$C$9,\"\")","v":""},{"$f":"IF(Comanda!B198<>0,VLOOKUP(Comanda!$C$12,PRETURI!$A$2:$C$500,3,FALSE),\"\")","v":""},"",{"$f":"IF(H181<>0,VLOOKUP(H181,PRETURI!$D$2:$F$1093,3,FALSE),\"\")","v":""},{"v":0,"d":"0.00"},{"$f":"IF(I181<>0,VLOOKUP(I181,PRETURI!$D$2:$F$1093,3,FALSE),\"\")","v":""},{"v":0,"d":"0.00"},{"$f":"IF(J181<>0,VLOOKUP(J181,PRETURI!$D$2:$F$1093,3,FALSE),\"\")","v":""},{"v":0,"d":"0.00"},{"$f":"IF(K181<>0,VLOOKUP(K181,PRETURI!$D$2:$F$1093,3,FALSE),\"\")","v":""},{"v":0,"d":"0.00"},{"$nulls":6},{"$f":"(Comanda!D198*Comanda!E198*Comanda!F198)*0.000001","v":{"v":0,"d":"0.00"}},null,{"$f":"IF(Comanda!H198=1,(Comanda!D198*0.001+$BL$2)*Comanda!F198,\"\")","v":""},{"$f":"IF(Comanda!I198=1,(Comanda!D198*0.001+$BL$2)*Comanda!F198,\"\")","v":""},{"$f":"IF(Comanda!J198=1,(Comanda!E198*0.001+$BL$2)*Comanda!F198,\"\")","v":""},{"$f":"IF(Comanda!K198=1,(Comanda!E198*0.001+$BL$2)*Comanda!F198,\"\")","v":""},null,{"$f":"IF(Comanda!H198=2,(Comanda!D198*0.001+$BL$2)*Comanda!F198,\"\")","v":""},{"$f":"IF(Comanda!I198=2,(Comanda!D198*0.001+$BL$2)*Comanda!F198,\"\")","v":""},{"$f":"IF(Comanda!J198=2,(Comanda!E198*0.001+$BL$2)*Comanda!F198,\"\")","v":""},{"$f":"IF(Comanda!K198=2,(Comanda!E198*0.001+$BL$2)*Comanda!F198,\"\")","v":""},null,{"$f":"IF(Comanda!H198=3,(Comanda!D198*0.001+$BL$2)*Comanda!F198,\"\")","v":""},{"$f":"IF(Comanda!I198=3,(Comanda!D198*0.001+$BL$2)*Comanda!F198,\"\")","v":""},{"$f":"IF(Comanda!J198=3,(Comanda!E198*0.001+$BL$2)*Comanda!F198,\"\")","v":""},{"$f":"IF(Comanda!K198=3,(Comanda!E198*0.001+$BL$2)*Comanda!F198,\"\")","v":""},null,{"$f":"IF(Comanda!H198=4,(Comanda!D198*0.001+$BL$2)*Comanda!F198,\"\")","v":""},{"$f":"IF(Comanda!I198=4,(Comanda!D198*0.001+$BL$2)*Comanda!F198,\"\")","v":""},{"$f":"IF(Comanda!J198=4,(Comanda!E198*0.001+$BL$2)*Comanda!F198,\"\")","v":""},{"$f":"IF(Comanda!K198=4,(Comanda!E198*0.001+$BL$2)*Comanda!F198,\"\")","v":""}]
[180,{"$f":"IF(Comanda!B199<>0,Comanda!B199,\"\")","v":""},{"$f":"IF(Comanda!C199<>0,Comanda!C199,\"\")","v":""},{"$f":"IF(Comanda!D199<>0,Comanda!D199,\"\")","v":""},{"$f":"IF(Comanda!E199<>0,Comanda!E199,\"\")","v":""},{"$f":"IF(Comanda!F199<>0,Comanda!F199,\"\")","v":""},{"$f":"IF(Comanda!G199<>0,1,0)","v":0},{"$f":"IF(Comanda!H199=1,Comanda!$C$13,IF(Comanda!H199=2,Comanda!$C$14,IF(Comanda!$H199=3,Comanda!$C$15,IF(Comanda!$H199=4,Comanda!$C$16,0))))","v":0},{"$f":"IF(Comanda!I199=1,Comanda!$C$13,IF(Comanda!I199=2,Comanda!$C$14,IF(Comanda!$I199=3,Comanda!$C$15,IF(Comanda!$I199=4,Comanda!$C$16,0))))","v":0},{"$f":"IF(Comanda!J199=1,Comanda!$C$13,IF(Comanda!J199=2,Comanda!$C$14,IF(Comanda!$J199=3,Comanda!$C$15,IF(Comanda!$J199=4,Comanda!$C$16,0))))","v":0},{"$f":"IF(Comanda!K199=1,Comanda!$C$13,IF(Comanda!K199=2,Comanda!$C$14,IF(Comanda!$K199=3,Comanda!$C$15,IF(Comanda!$K199=4,Comanda!$C$16,0))))","v":0},{"$f":"IF(Comanda!B199<>0,Comanda!$C$2,\"\")","v":""},{"$f":"IF(Comanda!B199<>0,Comanda!$C$5,\"\")","v":""},{"$f":"IF(Comanda!B199<>0,Comanda!$G$2,\"\")","v":""},{"$f":"IF(Comanda!B199<>0,Comanda!L199,\"\")","v":""},{"$f":"IF(Comanda!D199<>0,VLOOKUP('Formula Cant'!F182,'Grafica Cant'!$G$2:$H$25,2,FALSE),\"\")","v":""},{"$nulls":8},{"$f":"IF(Comanda!B199<>0,Comanda!$C$9,\"\")","v":""},{"$f":"IF(Comanda!B199<>0,VLOOKUP(Comanda!$C$12,PRETURI!$A$2:$C$500,3,FALSE),\"\")","v":""},"",{"$f":"IF(H182<>0,VLOOKUP(H182,PRETURI!$D$2:$F$1093,3,FALSE),\"\")","v":""},{"v":0,"d":"0.00"},{"$f":"IF(I182<>0,VLOOKUP(I182,PRETURI!$D$2:$F$1093,3,FALSE),\"\")","v":""},{"v":0,"d":"0.00"},{"$f":"IF(J182<>0,VLOOKUP(J182,PRETURI!$D$2:$F$1093,3,FALSE),\"\")","v":""},{"v":0,"d":"0.00"},{"$f":"IF(K182<>0,VLOOKUP(K182,PRETURI!$D$2:$F$1093,3,FALSE),\"\")","v":""},{"v":0,"d":"0.00"},{"$nulls":6},{"$f":"(Comanda!D199*Comanda!E199*Comanda!F199)*0.000001","v":{"v":0,"d":"0.00"}},null,{"$f":"IF(Comanda!H199=1,(Comanda!D199*0.001+$BL$2)*Comanda!F199,\"\")","v":""},{"$f":"IF(Comanda!I199=1,(Comanda!D199*0.001+$BL$2)*Comanda!F199,\"\")","v":""},{"$f":"IF(Comanda!J199=1,(Comanda!E199*0.001+$BL$2)*Comanda!F199,\"\")","v":""},{"$f":"IF(Comanda!K199=1,(Comanda!E199*0.001+$BL$2)*Comanda!F199,\"\")","v":""},null,{"$f":"IF(Comanda!H199=2,(Comanda!D199*0.001+$BL$2)*Comanda!F199,\"\")","v":""},{"$f":"IF(Comanda!I199=2,(Comanda!D199*0.001+$BL$2)*Comanda!F199,\"\")","v":""},{"$f":"IF(Comanda!J199=2,(Comanda!E199*0.001+$BL$2)*Comanda!F199,\"\")","v":""},{"$f":"IF(Comanda!K199=2,(Comanda!E199*0.001+$BL$2)*Comanda!F199,\"\")","v":""},null,{"$f":"IF(Comanda!H199=3,(Comanda!D199*0.001+$BL$2)*Comanda!F199,\"\")","v":""},{"$f":"IF(Comanda!I199=3,(Comanda!D199*0.001+$BL$2)*Comanda!F199,\"\")","v":""},{"$f":"IF(Comanda!J199=3,(Comanda!E199*0.001+$BL$2)*Comanda!F199,\"\")","v":""},{"$f":"IF(Comanda!K199=3,(Comanda!E199*0.001+$BL$2)*Comanda!F199,\"\")","v":""},null,{"$f":"IF(Comanda!H199=4,(Comanda!D199*0.001+$BL$2)*Comanda!F199,\"\")","v":""},{"$f":"IF(Comanda!I199=4,(Comanda!D199*0.001+$BL$2)*Comanda!F199,\"\")","v":""},{"$f":"IF(Comanda!J199=4,(Comanda!E199*0.001+$BL$2)*Comanda!F199,\"\")","v":""},{"$f":"IF(Comanda!K199=4,(Comanda!E199*0.001+$BL$2)*Comanda!F199,\"\")","v":""}]
[181,{"$f":"IF(Comanda!B200<>0,Comanda!B200,\"\")","v":""},{"$f":"IF(Comanda!C200<>0,Comanda!C200,\"\")","v":""},{"$f":"IF(Comanda!D200<>0,Comanda!D200,\"\")","v":""},{"$f":"IF(Comanda!E200<>0,Comanda!E200,\"\")","v":""},{"$f":"IF(Comanda!F200<>0,Comanda!F200,\"\")","v":""},{"$f":"IF(Comanda!G200<>0,1,0)","v":0},{"$f":"IF(Comanda!H200=1,Comanda!$C$13,IF(Comanda!H200=2,Comanda!$C$14,IF(Comanda!$H200=3,Comanda!$C$15,IF(Comanda!$H200=4,Comanda!$C$16,0))))","v":0},{"$f":"IF(Comanda!I200=1,Comanda!$C$13,IF(Comanda!I200=2,Comanda!$C$14,IF(Comanda!$I200=3,Comanda!$C$15,IF(Comanda!$I200=4,Comanda!$C$16,0))))","v":0},{"$f":"IF(Comanda!J200=1,Comanda!$C$13,IF(Comanda!J200=2,Comanda!$C$14,IF(Comanda!$J200=3,Comanda!$C$15,IF(Comanda!$J200=4,Comanda!$C$16,0))))","v":0},{"$f":"IF(Comanda!K200=1,Comanda!$C$13,IF(Comanda!K200=2,Comanda!$C$14,IF(Comanda!$K200=3,Comanda!$C$15,IF(Comanda!$K200=4,Comanda!$C$16,0))))","v":0},{"$f":"IF(Comanda!B200<>0,Comanda!$C$2,\"\")","v":""},{"$f":"IF(Comanda!B200<>0,Comanda!$C$5,\"\")","v":""},{"$f":"IF(Comanda!B200<>0,Comanda!$G$2,\"\")","v":""},{"$f":"IF(Comanda!B200<>0,Comanda!L200,\"\")","v":""},{"$f":"IF(Comanda!D200<>0,VLOOKUP('Formula Cant'!F183,'Grafica Cant'!$G$2:$H$25,2,FALSE),\"\")","v":""},{"$nulls":8},{"$f":"IF(Comanda!B200<>0,Comanda!$C$9,\"\")","v":""},{"$f":"IF(Comanda!B200<>0,VLOOKUP(Comanda!$C$12,PRETURI!$A$2:$C$500,3,FALSE),\"\")","v":""},"",{"$f":"IF(H183<>0,VLOOKUP(H183,PRETURI!$D$2:$F$1093,3,FALSE),\"\")","v":""},{"v":0,"d":"0.00"},{"$f":"IF(I183<>0,VLOOKUP(I183,PRETURI!$D$2:$F$1093,3,FALSE),\"\")","v":""},{"v":0,"d":"0.00"},{"$f":"IF(J183<>0,VLOOKUP(J183,PRETURI!$D$2:$F$1093,3,FALSE),\"\")","v":""},{"v":0,"d":"0.00"},{"$f":"IF(K183<>0,VLOOKUP(K183,PRETURI!$D$2:$F$1093,3,FALSE),\"\")","v":""},{"v":0,"d":"0.00"},{"$nulls":6},{"$f":"(Comanda!D200*Comanda!E200*Comanda!F200)*0.000001","v":{"v":0,"d":"0.00"}},null,{"$f":"IF(Comanda!H200=1,(Comanda!D200*0.001+$BL$2)*Comanda!F200,\"\")","v":""},{"$f":"IF(Comanda!I200=1,(Comanda!D200*0.001+$BL$2)*Comanda!F200,\"\")","v":""},{"$f":"IF(Comanda!J200=1,(Comanda!E200*0.001+$BL$2)*Comanda!F200,\"\")","v":""},{"$f":"IF(Comanda!K200=1,(Comanda!E200*0.001+$BL$2)*Comanda!F200,\"\")","v":""},null,{"$f":"IF(Comanda!H200=2,(Comanda!D200*0.001+$BL$2)*Comanda!F200,\"\")","v":""},{"$f":"IF(Comanda!I200=2,(Comanda!D200*0.001+$BL$2)*Comanda!F200,\"\")","v":""},{"$f":"IF(Comanda!J200=2,(Comanda!E200*0.001+$BL$2)*Comanda!F200,\"\")","v":""},{"$f":"IF(Comanda!K200=2,(Comanda!E200*0.001+$BL$2)*Comanda!F200,\"\")","v":""},null,{"$f":"IF(Comanda!H200=3,(Comanda!D200*0.001+$BL$2)*Comanda!F200,\"\")","v":""},{"$f":"IF(Comanda!I200=3,(Comanda!D200*0.001+$BL$2)*Comanda!F200,\"\")","v":""},{"$f":"IF(Comanda!J200=3,(Comanda!E200*0.001+$BL$2)*Comanda!F200,\"\")","v":""},{"$f":"IF(Comanda!K200=3,(Comanda!E200*0.001+$BL$2)*Comanda!F200,\"\")","v":""},null,{"$f":"IF(Comanda!H200=4,(Comanda!D200*0.001+$BL$2)*Comanda!F200,\"\")","v":""},{"$f":"IF(Comanda!I200=4,(Comanda!D200*0.001+$BL$2)*Comanda!F200,\"\")","v":""},{"$f":"IF(Comanda!J200=4,(Comanda!E200*0.001+$BL$2)*Comanda!F200,\"\")","v":""},{"$f":"IF(Comanda!K200=4,(Comanda!E200*0.001+$BL$2)*Comanda!F200,\"\")","v":""}]
[182,{"$f":"IF(Comanda!B201<>0,Comanda!B201,\"\")","v":""},{"$f":"IF(Comanda!C201<>0,Comanda!C201,\"\")","v":""},{"$f":"IF(Comanda!D201<>0,Comanda!D201,\"\")","v":""},{"$f":"IF(Comanda!E201<>0,Comanda!E201,\"\")","v":""},{"$f":"IF(Comanda!F201<>0,Comanda!F201,\"\")","v":""},{"$f":"IF(Comanda!G201<>0,1,0)","v":0},{"$f":"IF(Comanda!H201=1,Comanda!$C$13,IF(Comanda!H201=2,Comanda!$C$14,IF(Comanda!$H201=3,Comanda!$C$15,IF(Comanda!$H201=4,Comanda!$C$16,0))))","v":0},{"$f":"IF(Comanda!I201=1,Comanda!$C$13,IF(Comanda!I201=2,Comanda!$C$14,IF(Comanda!$I201=3,Comanda!$C$15,IF(Comanda!$I201=4,Comanda!$C$16,0))))","v":0},{"$f":"IF(Comanda!J201=1,Comanda!$C$13,IF(Comanda!J201=2,Comanda!$C$14,IF(Comanda!$J201=3,Comanda!$C$15,IF(Comanda!$J201=4,Comanda!$C$16,0))))","v":0},{"$f":"IF(Comanda!K201=1,Comanda!$C$13,IF(Comanda!K201=2,Comanda!$C$14,IF(Comanda!$K201=3,Comanda!$C$15,IF(Comanda!$K201=4,Comanda!$C$16,0))))","v":0},{"$f":"IF(Comanda!B201<>0,Comanda!$C$2,\"\")","v":""},{"$f":"IF(Comanda!B201<>0,Comanda!$C$5,\"\")","v":""},{"$f":"IF(Comanda!B201<>0,Comanda!$G$2,\"\")","v":""},{"$f":"IF(Comanda!B201<>0,Comanda!L201,\"\")","v":""},{"$f":"IF(Comanda!D201<>0,VLOOKUP('Formula Cant'!F184,'Grafica Cant'!$G$2:$H$25,2,FALSE),\"\")","v":""},{"$nulls":8},{"$f":"IF(Comanda!B201<>0,Comanda!$C$9,\"\")","v":""},{"$f":"IF(Comanda!B201<>0,VLOOKUP(Comanda!$C$12,PRETURI!$A$2:$C$500,3,FALSE),\"\")","v":""},"",{"$f":"IF(H184<>0,VLOOKUP(H184,PRETURI!$D$2:$F$1093,3,FALSE),\"\")","v":""},{"v":0,"d":"0.00"},{"$f":"IF(I184<>0,VLOOKUP(I184,PRETURI!$D$2:$F$1093,3,FALSE),\"\")","v":""},{"v":0,"d":"0.00"},{"$f":"IF(J184<>0,VLOOKUP(J184,PRETURI!$D$2:$F$1093,3,FALSE),\"\")","v":""},{"v":0,"d":"0.00"},{"$f":"IF(K184<>0,VLOOKUP(K184,PRETURI!$D$2:$F$1093,3,FALSE),\"\")","v":""},{"v":0,"d":"0.00"},{"$nulls":6},{"$f":"(Comanda!D201*Comanda!E201*Comanda!F201)*0.000001","v":{"v":0,"d":"0.00"}},null,{"$f":"IF(Comanda!H201=1,(Comanda!D201*0.001+$BL$2)*Comanda!F201,\"\")","v":""},{"$f":"IF(Comanda!I201=1,(Comanda!D201*0.001+$BL$2)*Comanda!F201,\"\")","v":""},{"$f":"IF(Comanda!J201=1,(Comanda!E201*0.001+$BL$2)*Comanda!F201,\"\")","v":""},{"$f":"IF(Comanda!K201=1,(Comanda!E201*0.001+$BL$2)*Comanda!F201,\"\")","v":""},null,{"$f":"IF(Comanda!H201=2,(Comanda!D201*0.001+$BL$2)*Comanda!F201,\"\")","v":""},{"$f":"IF(Comanda!I201=2,(Comanda!D201*0.001+$BL$2)*Comanda!F201,\"\")","v":""},{"$f":"IF(Comanda!J201=2,(Comanda!E201*0.001+$BL$2)*Comanda!F201,\"\")","v":""},{"$f":"IF(Comanda!K201=2,(Comanda!E201*0.001+$BL$2)*Comanda!F201,\"\")","v":""},null,{"$f":"IF(Comanda!H201=3,(Comanda!D201*0.001+$BL$2)*Comanda!F201,\"\")","v":""},{"$f":"IF(Comanda!I201=3,(Comanda!D201*0.001+$BL$2)*Comanda!F201,\"\")","v":""},{"$f":"IF(Comanda!J201=3,(Comanda!E201*0.001+$BL$2)*Comanda!F201,\"\")","v":""},{"$f":"IF(Comanda!K201=3,(Comanda!E201*0.001+$BL$2)*Comanda!F201,\"\")","v":""},null,{"$f":"IF(Comanda!H201=4,(Comanda!D201*0.001+$BL$2)*Comanda!F201,\"\")","v":""},{"$f":"IF(Comanda!I201=4,(Comanda!D201*0.001+$BL$2)*Comanda!F201,\"\")","v":""},{"$f":"IF(Comanda!J201=4,(Comanda!E201*0.001+$BL$2)*Comanda!F201,\"\")","v":""},{"$f":"IF(Comanda!K201=4,(Comanda!E201*0.001+$BL$2)*Comanda!F201,\"\")","v":""}]
[183,{"$f":"IF(Comanda!B202<>0,Comanda!B202,\"\")","v":""},{"$f":"IF(Comanda!C202<>0,Comanda!C202,\"\")","v":""},{"$f":"IF(Comanda!D202<>0,Comanda!D202,\"\")","v":""},{"$f":"IF(Comanda!E202<>0,Comanda!E202,\"\")","v":""},{"$f":"IF(Comanda!F202<>0,Comanda!F202,\"\")","v":""},{"$f":"IF(Comanda!G202<>0,1,0)","v":0},{"$f":"IF(Comanda!H202=1,Comanda!$C$13,IF(Comanda!H202=2,Comanda!$C$14,IF(Comanda!$H202=3,Comanda!$C$15,IF(Comanda!$H202=4,Comanda!$C$16,0))))","v":0},{"$f":"IF(Comanda!I202=1,Comanda!$C$13,IF(Comanda!I202=2,Comanda!$C$14,IF(Comanda!$I202=3,Comanda!$C$15,IF(Comanda!$I202=4,Comanda!$C$16,0))))","v":0},{"$f":"IF(Comanda!J202=1,Comanda!$C$13,IF(Comanda!J202=2,Comanda!$C$14,IF(Comanda!$J202=3,Comanda!$C$15,IF(Comanda!$J202=4,Comanda!$C$16,0))))","v":0},{"$f":"IF(Comanda!K202=1,Comanda!$C$13,IF(Comanda!K202=2,Comanda!$C$14,IF(Comanda!$K202=3,Comanda!$C$15,IF(Comanda!$K202=4,Comanda!$C$16,0))))","v":0},{"$f":"IF(Comanda!B202<>0,Comanda!$C$2,\"\")","v":""},{"$f":"IF(Comanda!B202<>0,Comanda!$C$5,\"\")","v":""},{"$f":"IF(Comanda!B202<>0,Comanda!$G$2,\"\")","v":""},{"$f":"IF(Comanda!B202<>0,Comanda!L202,\"\")","v":""},{"$f":"IF(Comanda!D202<>0,VLOOKUP('Formula Cant'!F185,'Grafica Cant'!$G$2:$H$25,2,FALSE),\"\")","v":""},{"$nulls":8},{"$f":"IF(Comanda!B202<>0,Comanda!$C$9,\"\")","v":""},{"$f":"IF(Comanda!B202<>0,VLOOKUP(Comanda!$C$12,PRETURI!$A$2:$C$500,3,FALSE),\"\")","v":""},"",{"$f":"IF(H185<>0,VLOOKUP(H185,PRETURI!$D$2:$F$1093,3,FALSE),\"\")","v":""},{"v":0,"d":"0.00"},{"$f":"IF(I185<>0,VLOOKUP(I185,PRETURI!$D$2:$F$1093,3,FALSE),\"\")","v":""},{"v":0,"d":"0.00"},{"$f":"IF(J185<>0,VLOOKUP(J185,PRETURI!$D$2:$F$1093,3,FALSE),\"\")","v":""},{"v":0,"d":"0.00"},{"$f":"IF(K185<>0,VLOOKUP(K185,PRETURI!$D$2:$F$1093,3,FALSE),\"\")","v":""},{"v":0,"d":"0.00"},{"$nulls":6},{"$f":"(Comanda!D202*Comanda!E202*Comanda!F202)*0.000001","v":{"v":0,"d":"0.00"}},null,{"$f":"IF(Comanda!H202=1,(Comanda!D202*0.001+$BL$2)*Comanda!F202,\"\")","v":""},{"$f":"IF(Comanda!I202=1,(Comanda!D202*0.001+$BL$2)*Comanda!F202,\"\")","v":""},{"$f":"IF(Comanda!J202=1,(Comanda!E202*0.001+$BL$2)*Comanda!F202,\"\")","v":""},{"$f":"IF(Comanda!K202=1,(Comanda!E202*0.001+$BL$2)*Comanda!F202,\"\")","v":""},null,{"$f":"IF(Comanda!H202=2,(Comanda!D202*0.001+$BL$2)*Comanda!F202,\"\")","v":""},{"$f":"IF(Comanda!I202=2,(Comanda!D202*0.001+$BL$2)*Comanda!F202,\"\")","v":""},{"$f":"IF(Comanda!J202=2,(Comanda!E202*0.001+$BL$2)*Comanda!F202,\"\")","v":""},{"$f":"IF(Comanda!K202=2,(Comanda!E202*0.001+$BL$2)*Comanda!F202,\"\")","v":""},null,{"$f":"IF(Comanda!H202=3,(Comanda!D202*0.001+$BL$2)*Comanda!F202,\"\")","v":""},{"$f":"IF(Comanda!I202=3,(Comanda!D202*0.001+$BL$2)*Comanda!F202,\"\")","v":""},{"$f":"IF(Comanda!J202=3,(Comanda!E202*0.001+$BL$2)*Comanda!F202,\"\")","v":""},{"$f":"IF(Comanda!K202=3,(Comanda!E202*0.001+$BL$2)*Comanda!F202,\"\")","v":""},null,{"$f":"IF(Comanda!H202=4,(Comanda!D202*0.001+$BL$2)*Comanda!F202,\"\")","v":""},{"$f":"IF(Comanda!I202=4,(Comanda!D202*0.001+$BL$2)*Comanda!F202,\"\")","v":""},{"$f":"IF(Comanda!J202=4,(Comanda!E202*0.001+$BL$2)*Comanda!F202,\"\")","v":""},{"$f":"IF(Comanda!K202=4,(Comanda!E202*0.001+$BL$2)*Comanda!F202,\"\")","v":""}]
[184,{"$f":"IF(Comanda!B203<>0,Comanda!B203,\"\")","v":""},{"$f":"IF(Comanda!C203<>0,Comanda!C203,\"\")","v":""},{"$f":"IF(Comanda!D203<>0,Comanda!D203,\"\")","v":""},{"$f":"IF(Comanda!E203<>0,Comanda!E203,\"\")","v":""},{"$f":"IF(Comanda!F203<>0,Comanda!F203,\"\")","v":""},{"$f":"IF(Comanda!G203<>0,1,0)","v":0},{"$f":"IF(Comanda!H203=1,Comanda!$C$13,IF(Comanda!H203=2,Comanda!$C$14,IF(Comanda!$H203=3,Comanda!$C$15,IF(Comanda!$H203=4,Comanda!$C$16,0))))","v":0},{"$f":"IF(Comanda!I203=1,Comanda!$C$13,IF(Comanda!I203=2,Comanda!$C$14,IF(Comanda!$I203=3,Comanda!$C$15,IF(Comanda!$I203=4,Comanda!$C$16,0))))","v":0},{"$f":"IF(Comanda!J203=1,Comanda!$C$13,IF(Comanda!J203=2,Comanda!$C$14,IF(Comanda!$J203=3,Comanda!$C$15,IF(Comanda!$J203=4,Comanda!$C$16,0))))","v":0},{"$f":"IF(Comanda!K203=1,Comanda!$C$13,IF(Comanda!K203=2,Comanda!$C$14,IF(Comanda!$K203=3,Comanda!$C$15,IF(Comanda!$K203=4,Comanda!$C$16,0))))","v":0},{"$f":"IF(Comanda!B203<>0,Comanda!$C$2,\"\")","v":""},{"$f":"IF(Comanda!B203<>0,Comanda!$C$5,\"\")","v":""},{"$f":"IF(Comanda!B203<>0,Comanda!$G$2,\"\")","v":""},{"$f":"IF(Comanda!B203<>0,Comanda!L203,\"\")","v":""},{"$f":"IF(Comanda!D203<>0,VLOOKUP('Formula Cant'!F186,'Grafica Cant'!$G$2:$H$25,2,FALSE),\"\")","v":""},{"$nulls":8},{"$f":"IF(Comanda!B203<>0,Comanda!$C$9,\"\")","v":""},{"$f":"IF(Comanda!B203<>0,VLOOKUP(Comanda!$C$12,PRETURI!$A$2:$C$500,3,FALSE),\"\")","v":""},"",{"$f":"IF(H186<>0,VLOOKUP(H186,PRETURI!$D$2:$F$1093,3,FALSE),\"\")","v":""},{"v":0,"d":"0.00"},{"$f":"IF(I186<>0,VLOOKUP(I186,PRETURI!$D$2:$F$1093,3,FALSE),\"\")","v":""},{"v":0,"d":"0.00"},{"$f":"IF(J186<>0,VLOOKUP(J186,PRETURI!$D$2:$F$1093,3,FALSE),\"\")","v":""},{"v":0,"d":"0.00"},{"$f":"IF(K186<>0,VLOOKUP(K186,PRETURI!$D$2:$F$1093,3,FALSE),\"\")","v":""},{"v":0,"d":"0.00"},{"$nulls":6},{"$f":"(Comanda!D203*Comanda!E203*Comanda!F203)*0.000001","v":{"v":0,"d":"0.00"}},null,{"$f":"IF(Comanda!H203=1,(Comanda!D203*0.001+$BL$2)*Comanda!F203,\"\")","v":""},{"$f":"IF(Comanda!I203=1,(Comanda!D203*0.001+$BL$2)*Comanda!F203,\"\")","v":""},{"$f":"IF(Comanda!J203=1,(Comanda!E203*0.001+$BL$2)*Comanda!F203,\"\")","v":""},{"$f":"IF(Comanda!K203=1,(Comanda!E203*0.001+$BL$2)*Comanda!F203,\"\")","v":""},null,{"$f":"IF(Comanda!H203=2,(Comanda!D203*0.001+$BL$2)*Comanda!F203,\"\")","v":""},{"$f":"IF(Comanda!I203=2,(Comanda!D203*0.001+$BL$2)*Comanda!F203,\"\")","v":""},{"$f":"IF(Comanda!J203=2,(Comanda!E203*0.001+$BL$2)*Comanda!F203,\"\")","v":""},{"$f":"IF(Comanda!K203=2,(Comanda!E203*0.001+$BL$2)*Comanda!F203,\"\")","v":""},null,{"$f":"IF(Comanda!H203=3,(Comanda!D203*0.001+$BL$2)*Comanda!F203,\"\")","v":""},{"$f":"IF(Comanda!I203=3,(Comanda!D203*0.001+$BL$2)*Comanda!F203,\"\")","v":""},{"$f":"IF(Comanda!J203=3,(Comanda!E203*0.001+$BL$2)*Comanda!F203,\"\")","v":""},{"$f":"IF(Comanda!K203=3,(Comanda!E203*0.001+$BL$2)*Comanda!F203,\"\")","v":""},null,{"$f":"IF(Comanda!H203=4,(Comanda!D203*0.001+$BL$2)*Comanda!F203,\"\")","v":""},{"$f":"IF(Comanda!I203=4,(Comanda!D203*0.001+$BL$2)*Comanda!F203,\"\")","v":""},{"$f":"IF(Comanda!J203=4,(Comanda!E203*0.001+$BL$2)*Comanda!F203,\"\")","v":""},{"$f":"IF(Comanda!K203=4,(Comanda!E203*0.001+$BL$2)*Comanda!F203,\"\")","v":""}]
[185,{"$f":"IF(Comanda!B204<>0,Comanda!B204,\"\")","v":""},{"$f":"IF(Comanda!C204<>0,Comanda!C204,\"\")","v":""},{"$f":"IF(Comanda!D204<>0,Comanda!D204,\"\")","v":""},{"$f":"IF(Comanda!E204<>0,Comanda!E204,\"\")","v":""},{"$f":"IF(Comanda!F204<>0,Comanda!F204,\"\")","v":""},{"$f":"IF(Comanda!G204<>0,1,0)","v":0},{"$f":"IF(Comanda!H204=1,Comanda!$C$13,IF(Comanda!H204=2,Comanda!$C$14,IF(Comanda!$H204=3,Comanda!$C$15,IF(Comanda!$H204=4,Comanda!$C$16,0))))","v":0},{"$f":"IF(Comanda!I204=1,Comanda!$C$13,IF(Comanda!I204=2,Comanda!$C$14,IF(Comanda!$I204=3,Comanda!$C$15,IF(Comanda!$I204=4,Comanda!$C$16,0))))","v":0},{"$f":"IF(Comanda!J204=1,Comanda!$C$13,IF(Comanda!J204=2,Comanda!$C$14,IF(Comanda!$J204=3,Comanda!$C$15,IF(Comanda!$J204=4,Comanda!$C$16,0))))","v":0},{"$f":"IF(Comanda!K204=1,Comanda!$C$13,IF(Comanda!K204=2,Comanda!$C$14,IF(Comanda!$K204=3,Comanda!$C$15,IF(Comanda!$K204=4,Comanda!$C$16,0))))","v":0},{"$f":"IF(Comanda!B204<>0,Comanda!$C$2,\"\")","v":""},{"$f":"IF(Comanda!B204<>0,Comanda!$C$5,\"\")","v":""},{"$f":"IF(Comanda!B204<>0,Comanda!$G$2,\"\")","v":""},{"$f":"IF(Comanda!B204<>0,Comanda!L204,\"\")","v":""},{"$f":"IF(Comanda!D204<>0,VLOOKUP('Formula Cant'!F187,'Grafica Cant'!$G$2:$H$25,2,FALSE),\"\")","v":""},{"$nulls":8},{"$f":"IF(Comanda!B204<>0,Comanda!$C$9,\"\")","v":""},{"$f":"IF(Comanda!B204<>0,VLOOKUP(Comanda!$C$12,PRETURI!$A$2:$C$500,3,FALSE),\"\")","v":""},"",{"$f":"IF(H187<>0,VLOOKUP(H187,PRETURI!$D$2:$F$1093,3,FALSE),\"\")","v":""},{"v":0,"d":"0.00"},{"$f":"IF(I187<>0,VLOOKUP(I187,PRETURI!$D$2:$F$1093,3,FALSE),\"\")","v":""},{"v":0,"d":"0.00"},{"$f":"IF(J187<>0,VLOOKUP(J187,PRETURI!$D$2:$F$1093,3,FALSE),\"\")","v":""},{"v":0,"d":"0.00"},{"$f":"IF(K187<>0,VLOOKUP(K187,PRETURI!$D$2:$F$1093,3,FALSE),\"\")","v":""},{"v":0,"d":"0.00"},{"$nulls":6},{"$f":"(Comanda!D204*Comanda!E204*Comanda!F204)*0.000001","v":{"v":0,"d":"0.00"}},null,{"$f":"IF(Comanda!H204=1,(Comanda!D204*0.001+$BL$2)*Comanda!F204,\"\")","v":""},{"$f":"IF(Comanda!I204=1,(Comanda!D204*0.001+$BL$2)*Comanda!F204,\"\")","v":""},{"$f":"IF(Comanda!J204=1,(Comanda!E204*0.001+$BL$2)*Comanda!F204,\"\")","v":""},{"$f":"IF(Comanda!K204=1,(Comanda!E204*0.001+$BL$2)*Comanda!F204,\"\")","v":""},null,{"$f":"IF(Comanda!H204=2,(Comanda!D204*0.001+$BL$2)*Comanda!F204,\"\")","v":""},{"$f":"IF(Comanda!I204=2,(Comanda!D204*0.001+$BL$2)*Comanda!F204,\"\")","v":""},{"$f":"IF(Comanda!J204=2,(Comanda!E204*0.001+$BL$2)*Comanda!F204,\"\")","v":""},{"$f":"IF(Comanda!K204=2,(Comanda!E204*0.001+$BL$2)*Comanda!F204,\"\")","v":""},null,{"$f":"IF(Comanda!H204=3,(Comanda!D204*0.001+$BL$2)*Comanda!F204,\"\")","v":""},{"$f":"IF(Comanda!I204=3,(Comanda!D204*0.001+$BL$2)*Comanda!F204,\"\")","v":""},{"$f":"IF(Comanda!J204=3,(Comanda!E204*0.001+$BL$2)*Comanda!F204,\"\")","v":""},{"$f":"IF(Comanda!K204=3,(Comanda!E204*0.001+$BL$2)*Comanda!F204,\"\")","v":""},null,{"$f":"IF(Comanda!H204=4,(Comanda!D204*0.001+$BL$2)*Comanda!F204,\"\")","v":""},{"$f":"IF(Comanda!I204=4,(Comanda!D204*0.001+$BL$2)*Comanda!F204,\"\")","v":""},{"$f":"IF(Comanda!J204=4,(Comanda!E204*0.001+$BL$2)*Comanda!F204,\"\")","v":""},{"$f":"IF(Comanda!K204=4,(Comanda!E204*0.001+$BL$2)*Comanda!F204,\"\")","v":""}]
[186,{"$f":"IF(Comanda!B205<>0,Comanda!B205,\"\")","v":""},{"$f":"IF(Comanda!C205<>0,Comanda!C205,\"\")","v":""},{"$f":"IF(Comanda!D205<>0,Comanda!D205,\"\")","v":""},{"$f":"IF(Comanda!E205<>0,Comanda!E205,\"\")","v":""},{"$f":"IF(Comanda!F205<>0,Comanda!F205,\"\")","v":""},{"$f":"IF(Comanda!G205<>0,1,0)","v":0},{"$f":"IF(Comanda!H205=1,Comanda!$C$13,IF(Comanda!H205=2,Comanda!$C$14,IF(Comanda!$H205=3,Comanda!$C$15,IF(Comanda!$H205=4,Comanda!$C$16,0))))","v":0},{"$f":"IF(Comanda!I205=1,Comanda!$C$13,IF(Comanda!I205=2,Comanda!$C$14,IF(Comanda!$I205=3,Comanda!$C$15,IF(Comanda!$I205=4,Comanda!$C$16,0))))","v":0},{"$f":"IF(Comanda!J205=1,Comanda!$C$13,IF(Comanda!J205=2,Comanda!$C$14,IF(Comanda!$J205=3,Comanda!$C$15,IF(Comanda!$J205=4,Comanda!$C$16,0))))","v":0},{"$f":"IF(Comanda!K205=1,Comanda!$C$13,IF(Comanda!K205=2,Comanda!$C$14,IF(Comanda!$K205=3,Comanda!$C$15,IF(Comanda!$K205=4,Comanda!$C$16,0))))","v":0},{"$f":"IF(Comanda!B205<>0,Comanda!$C$2,\"\")","v":""},{"$f":"IF(Comanda!B205<>0,Comanda!$C$5,\"\")","v":""},{"$f":"IF(Comanda!B205<>0,Comanda!$G$2,\"\")","v":""},{"$f":"IF(Comanda!B205<>0,Comanda!L205,\"\")","v":""},{"$f":"IF(Comanda!D205<>0,VLOOKUP('Formula Cant'!F188,'Grafica Cant'!$G$2:$H$25,2,FALSE),\"\")","v":""},{"$nulls":8},{"$f":"IF(Comanda!B205<>0,Comanda!$C$9,\"\")","v":""},{"$f":"IF(Comanda!B205<>0,VLOOKUP(Comanda!$C$12,PRETURI!$A$2:$C$500,3,FALSE),\"\")","v":""},"",{"$f":"IF(H188<>0,VLOOKUP(H188,PRETURI!$D$2:$F$1093,3,FALSE),\"\")","v":""},{"v":0,"d":"0.00"},{"$f":"IF(I188<>0,VLOOKUP(I188,PRETURI!$D$2:$F$1093,3,FALSE),\"\")","v":""},{"v":0,"d":"0.00"},{"$f":"IF(J188<>0,VLOOKUP(J188,PRETURI!$D$2:$F$1093,3,FALSE),\"\")","v":""},{"v":0,"d":"0.00"},{"$f":"IF(K188<>0,VLOOKUP(K188,PRETURI!$D$2:$F$1093,3,FALSE),\"\")","v":""},{"v":0,"d":"0.00"},{"$nulls":6},{"$f":"(Comanda!D205*Comanda!E205*Comanda!F205)*0.000001","v":{"v":0,"d":"0.00"}},null,{"$f":"IF(Comanda!H205=1,(Comanda!D205*0.001+$BL$2)*Comanda!F205,\"\")","v":""},{"$f":"IF(Comanda!I205=1,(Comanda!D205*0.001+$BL$2)*Comanda!F205,\"\")","v":""},{"$f":"IF(Comanda!J205=1,(Comanda!E205*0.001+$BL$2)*Comanda!F205,\"\")","v":""},{"$f":"IF(Comanda!K205=1,(Comanda!E205*0.001+$BL$2)*Comanda!F205,\"\")","v":""},null,{"$f":"IF(Comanda!H205=2,(Comanda!D205*0.001+$BL$2)*Comanda!F205,\"\")","v":""},{"$f":"IF(Comanda!I205=2,(Comanda!D205*0.001+$BL$2)*Comanda!F205,\"\")","v":""},{"$f":"IF(Comanda!J205=2,(Comanda!E205*0.001+$BL$2)*Comanda!F205,\"\")","v":""},{"$f":"IF(Comanda!K205=2,(Comanda!E205*0.001+$BL$2)*Comanda!F205,\"\")","v":""},null,{"$f":"IF(Comanda!H205=3,(Comanda!D205*0.001+$BL$2)*Comanda!F205,\"\")","v":""},{"$f":"IF(Comanda!I205=3,(Comanda!D205*0.001+$BL$2)*Comanda!F205,\"\")","v":""},{"$f":"IF(Comanda!J205=3,(Comanda!E205*0.001+$BL$2)*Comanda!F205,\"\")","v":""},{"$f":"IF(Comanda!K205=3,(Comanda!E205*0.001+$BL$2)*Comanda!F205,\"\")","v":""},null,{"$f":"IF(Comanda!H205=4,(Comanda!D205*0.001+$BL$2)*Comanda!F205,\"\")","v":""},{"$f":"IF(Comanda!I205=4,(Comanda!D205*0.001+$BL$2)*Comanda!F205,\"\")","v":""},{"$f":"IF(Comanda!J205=4,(Comanda!E205*0.001+$BL$2)*Comanda!F205,\"\")","v":""},{"$f":"IF(Comanda!K205=4,(Comanda!E205*0.001+$BL$2)*Comanda!F205,\"\")","v":""}]
[187,{"$f":"IF(Comanda!B206<>0,Comanda!B206,\"\")","v":""},{"$f":"IF(Comanda!C206<>0,Comanda!C206,\"\")","v":""},{"$f":"IF(Comanda!D206<>0,Comanda!D206,\"\")","v":""},{"$f":"IF(Comanda!E206<>0,Comanda!E206,\"\")","v":""},{"$f":"IF(Comanda!F206<>0,Comanda!F206,\"\")","v":""},{"$f":"IF(Comanda!G206<>0,1,0)","v":0},{"$f":"IF(Comanda!H206=1,Comanda!$C$13,IF(Comanda!H206=2,Comanda!$C$14,IF(Comanda!$H206=3,Comanda!$C$15,IF(Comanda!$H206=4,Comanda!$C$16,0))))","v":0},{"$f":"IF(Comanda!I206=1,Comanda!$C$13,IF(Comanda!I206=2,Comanda!$C$14,IF(Comanda!$I206=3,Comanda!$C$15,IF(Comanda!$I206=4,Comanda!$C$16,0))))","v":0},{"$f":"IF(Comanda!J206=1,Comanda!$C$13,IF(Comanda!J206=2,Comanda!$C$14,IF(Comanda!$J206=3,Comanda!$C$15,IF(Comanda!$J206=4,Comanda!$C$16,0))))","v":0},{"$f":"IF(Comanda!K206=1,Comanda!$C$13,IF(Comanda!K206=2,Comanda!$C$14,IF(Comanda!$K206=3,Comanda!$C$15,IF(Comanda!$K206=4,Comanda!$C$16,0))))","v":0},{"$f":"IF(Comanda!B206<>0,Comanda!$C$2,\"\")","v":""},{"$f":"IF(Comanda!B206<>0,Comanda!$C$5,\"\")","v":""},{"$f":"IF(Comanda!B206<>0,Comanda!$G$2,\"\")","v":""},{"$f":"IF(Comanda!B206<>0,Comanda!L206,\"\")","v":""},{"$f":"IF(Comanda!D206<>0,VLOOKUP('Formula Cant'!F189,'Grafica Cant'!$G$2:$H$25,2,FALSE),\"\")","v":""},{"$nulls":8},{"$f":"IF(Comanda!B206<>0,Comanda!$C$9,\"\")","v":""},{"$f":"IF(Comanda!B206<>0,VLOOKUP(Comanda!$C$12,PRETURI!$A$2:$C$500,3,FALSE),\"\")","v":""},"",{"$f":"IF(H189<>0,VLOOKUP(H189,PRETURI!$D$2:$F$1093,3,FALSE),\"\")","v":""},{"v":0,"d":"0.00"},{"$f":"IF(I189<>0,VLOOKUP(I189,PRETURI!$D$2:$F$1093,3,FALSE),\"\")","v":""},{"v":0,"d":"0.00"},{"$f":"IF(J189<>0,VLOOKUP(J189,PRETURI!$D$2:$F$1093,3,FALSE),\"\")","v":""},{"v":0,"d":"0.00"},{"$f":"IF(K189<>0,VLOOKUP(K189,PRETURI!$D$2:$F$1093,3,FALSE),\"\")","v":""},{"v":0,"d":"0.00"},{"$nulls":6},{"$f":"(Comanda!D206*Comanda!E206*Comanda!F206)*0.000001","v":{"v":0,"d":"0.00"}},null,{"$f":"IF(Comanda!H206=1,(Comanda!D206*0.001+$BL$2)*Comanda!F206,\"\")","v":""},{"$f":"IF(Comanda!I206=1,(Comanda!D206*0.001+$BL$2)*Comanda!F206,\"\")","v":""},{"$f":"IF(Comanda!J206=1,(Comanda!E206*0.001+$BL$2)*Comanda!F206,\"\")","v":""},{"$f":"IF(Comanda!K206=1,(Comanda!E206*0.001+$BL$2)*Comanda!F206,\"\")","v":""},null,{"$f":"IF(Comanda!H206=2,(Comanda!D206*0.001+$BL$2)*Comanda!F206,\"\")","v":""},{"$f":"IF(Comanda!I206=2,(Comanda!D206*0.001+$BL$2)*Comanda!F206,\"\")","v":""},{"$f":"IF(Comanda!J206=2,(Comanda!E206*0.001+$BL$2)*Comanda!F206,\"\")","v":""},{"$f":"IF(Comanda!K206=2,(Comanda!E206*0.001+$BL$2)*Comanda!F206,\"\")","v":""},null,{"$f":"IF(Comanda!H206=3,(Comanda!D206*0.001+$BL$2)*Comanda!F206,\"\")","v":""},{"$f":"IF(Comanda!I206=3,(Comanda!D206*0.001+$BL$2)*Comanda!F206,\"\")","v":""},{"$f":"IF(Comanda!J206=3,(Comanda!E206*0.001+$BL$2)*Comanda!F206,\"\")","v":""},{"$f":"IF(Comanda!K206=3,(Comanda!E206*0.001+$BL$2)*Comanda!F206,\"\")","v":""},null,{"$f":"IF(Comanda!H206=4,(Comanda!D206*0.001+$BL$2)*Comanda!F206,\"\")","v":""},{"$f":"IF(Comanda!I206=4,(Comanda!D206*0.001+$BL$2)*Comanda!F206,\"\")","v":""},{"$f":"IF(Comanda!J206=4,(Comanda!E206*0.001+$BL$2)*Comanda!F206,\"\")","v":""},{"$f":"IF(Comanda!K206=4,(Comanda!E206*0.001+$BL$2)*Comanda!F206,\"\")","v":""}]
[188,{"$f":"IF(Comanda!B207<>0,Comanda!B207,\"\")","v":""},{"$f":"IF(Comanda!C207<>0,Comanda!C207,\"\")","v":""},{"$f":"IF(Comanda!D207<>0,Comanda!D207,\"\")","v":""},{"$f":"IF(Comanda!E207<>0,Comanda!E207,\"\")","v":""},{"$f":"IF(Comanda!F207<>0,Comanda!F207,\"\")","v":""},{"$f":"IF(Comanda!G207<>0,1,0)","v":0},{"$f":"IF(Comanda!H207=1,Comanda!$C$13,IF(Comanda!H207=2,Comanda!$C$14,IF(Comanda!$H207=3,Comanda!$C$15,IF(Comanda!$H207=4,Comanda!$C$16,0))))","v":0},{"$f":"IF(Comanda!I207=1,Comanda!$C$13,IF(Comanda!I207=2,Comanda!$C$14,IF(Comanda!$I207=3,Comanda!$C$15,IF(Comanda!$I207=4,Comanda!$C$16,0))))","v":0},{"$f":"IF(Comanda!J207=1,Comanda!$C$13,IF(Comanda!J207=2,Comanda!$C$14,IF(Comanda!$J207=3,Comanda!$C$15,IF(Comanda!$J207=4,Comanda!$C$16,0))))","v":0},{"$f":"IF(Comanda!K207=1,Comanda!$C$13,IF(Comanda!K207=2,Comanda!$C$14,IF(Comanda!$K207=3,Comanda!$C$15,IF(Comanda!$K207=4,Comanda!$C$16,0))))","v":0},{"$f":"IF(Comanda!B207<>0,Comanda!$C$2,\"\")","v":""},{"$f":"IF(Comanda!B207<>0,Comanda!$C$5,\"\")","v":""},{"$f":"IF(Comanda!B207<>0,Comanda!$G$2,\"\")","v":""},{"$f":"IF(Comanda!B207<>0,Comanda!L207,\"\")","v":""},{"$f":"IF(Comanda!D207<>0,VLOOKUP('Formula Cant'!F190,'Grafica Cant'!$G$2:$H$25,2,FALSE),\"\")","v":""},{"$nulls":8},{"$f":"IF(Comanda!B207<>0,Comanda!$C$9,\"\")","v":""},{"$f":"IF(Comanda!B207<>0,VLOOKUP(Comanda!$C$12,PRETURI!$A$2:$C$500,3,FALSE),\"\")","v":""},"",{"$f":"IF(H190<>0,VLOOKUP(H190,PRETURI!$D$2:$F$1093,3,FALSE),\"\")","v":""},{"v":0,"d":"0.00"},{"$f":"IF(I190<>0,VLOOKUP(I190,PRETURI!$D$2:$F$1093,3,FALSE),\"\")","v":""},{"v":0,"d":"0.00"},{"$f":"IF(J190<>0,VLOOKUP(J190,PRETURI!$D$2:$F$1093,3,FALSE),\"\")","v":""},{"v":0,"d":"0.00"},{"$f":"IF(K190<>0,VLOOKUP(K190,PRETURI!$D$2:$F$1093,3,FALSE),\"\")","v":""},{"v":0,"d":"0.00"},{"$nulls":6},{"$f":"(Comanda!D207*Comanda!E207*Comanda!F207)*0.000001","v":{"v":0,"d":"0.00"}},null,{"$f":"IF(Comanda!H207=1,(Comanda!D207*0.001+$BL$2)*Comanda!F207,\"\")","v":""},{"$f":"IF(Comanda!I207=1,(Comanda!D207*0.001+$BL$2)*Comanda!F207,\"\")","v":""},{"$f":"IF(Comanda!J207=1,(Comanda!E207*0.001+$BL$2)*Comanda!F207,\"\")","v":""},{"$f":"IF(Comanda!K207=1,(Comanda!E207*0.001+$BL$2)*Comanda!F207,\"\")","v":""},null,{"$f":"IF(Comanda!H207=2,(Comanda!D207*0.001+$BL$2)*Comanda!F207,\"\")","v":""},{"$f":"IF(Comanda!I207=2,(Comanda!D207*0.001+$BL$2)*Comanda!F207,\"\")","v":""},{"$f":"IF(Comanda!J207=2,(Comanda!E207*0.001+$BL$2)*Comanda!F207,\"\")","v":""},{"$f":"IF(Comanda!K207=2,(Comanda!E207*0.001+$BL$2)*Comanda!F207,\"\")","v":""},null,{"$f":"IF(Comanda!H207=3,(Comanda!D207*0.001+$BL$2)*Comanda!F207,\"\")","v":""},{"$f":"IF(Comanda!I207=3,(Comanda!D207*0.001+$BL$2)*Comanda!F207,\"\")","v":""},{"$f":"IF(Comanda!J207=3,(Comanda!E207*0.001+$BL$2)*Comanda!F207,\"\")","v":""},{"$f":"IF(Comanda!K207=3,(Comanda!E207*0.001+$BL$2)*Comanda!F207,\"\")","v":""},null,{"$f":"IF(Comanda!H207=4,(Comanda!D207*0.001+$BL$2)*Comanda!F207,\"\")","v":""},{"$f":"IF(Comanda!I207=4,(Comanda!D207*0.001+$BL$2)*Comanda!F207,\"\")","v":""},{"$f":"IF(Comanda!J207=4,(Comanda!E207*0.001+$BL$2)*Comanda!F207,\"\")","v":""},{"$f":"IF(Comanda!K207=4,(Comanda!E207*0.001+$BL$2)*Comanda!F207,\"\")","v":""}]
[189,{"$f":"IF(Comanda!B208<>0,Comanda!B208,\"\")","v":""},{"$f":"IF(Comanda!C208<>0,Comanda!C208,\"\")","v":""},{"$f":"IF(Comanda!D208<>0,Comanda!D208,\"\")","v":""},{"$f":"IF(Comanda!E208<>0,Comanda!E208,\"\")","v":""},{"$f":"IF(Comanda!F208<>0,Comanda!F208,\"\")","v":""},{"$f":"IF(Comanda!G208<>0,1,0)","v":0},{"$f":"IF(Comanda!H208=1,Comanda!$C$13,IF(Comanda!H208=2,Comanda!$C$14,IF(Comanda!$H208=3,Comanda!$C$15,IF(Comanda!$H208=4,Comanda!$C$16,0))))","v":0},{"$f":"IF(Comanda!I208=1,Comanda!$C$13,IF(Comanda!I208=2,Comanda!$C$14,IF(Comanda!$I208=3,Comanda!$C$15,IF(Comanda!$I208=4,Comanda!$C$16,0))))","v":0},{"$f":"IF(Comanda!J208=1,Comanda!$C$13,IF(Comanda!J208=2,Comanda!$C$14,IF(Comanda!$J208=3,Comanda!$C$15,IF(Comanda!$J208=4,Comanda!$C$16,0))))","v":0},{"$f":"IF(Comanda!K208=1,Comanda!$C$13,IF(Comanda!K208=2,Comanda!$C$14,IF(Comanda!$K208=3,Comanda!$C$15,IF(Comanda!$K208=4,Comanda!$C$16,0))))","v":0},{"$f":"IF(Comanda!B208<>0,Comanda!$C$2,\"\")","v":""},{"$f":"IF(Comanda!B208<>0,Comanda!$C$5,\"\")","v":""},{"$f":"IF(Comanda!B208<>0,Comanda!$G$2,\"\")","v":""},{"$f":"IF(Comanda!B208<>0,Comanda!L208,\"\")","v":""},{"$f":"IF(Comanda!D208<>0,VLOOKUP('Formula Cant'!F191,'Grafica Cant'!$G$2:$H$25,2,FALSE),\"\")","v":""},{"$nulls":8},{"$f":"IF(Comanda!B208<>0,Comanda!$C$9,\"\")","v":""},{"$f":"IF(Comanda!B208<>0,VLOOKUP(Comanda!$C$12,PRETURI!$A$2:$C$500,3,FALSE),\"\")","v":""},"",{"$f":"IF(H191<>0,VLOOKUP(H191,PRETURI!$D$2:$F$1093,3,FALSE),\"\")","v":""},{"v":0,"d":"0.00"},{"$f":"IF(I191<>0,VLOOKUP(I191,PRETURI!$D$2:$F$1093,3,FALSE),\"\")","v":""},{"v":0,"d":"0.00"},{"$f":"IF(J191<>0,VLOOKUP(J191,PRETURI!$D$2:$F$1093,3,FALSE),\"\")","v":""},{"v":0,"d":"0.00"},{"$f":"IF(K191<>0,VLOOKUP(K191,PRETURI!$D$2:$F$1093,3,FALSE),\"\")","v":""},{"v":0,"d":"0.00"},{"$nulls":6},{"$f":"(Comanda!D208*Comanda!E208*Comanda!F208)*0.000001","v":{"v":0,"d":"0.00"}},null,{"$f":"IF(Comanda!H208=1,(Comanda!D208*0.001+$BL$2)*Comanda!F208,\"\")","v":""},{"$f":"IF(Comanda!I208=1,(Comanda!D208*0.001+$BL$2)*Comanda!F208,\"\")","v":""},{"$f":"IF(Comanda!J208=1,(Comanda!E208*0.001+$BL$2)*Comanda!F208,\"\")","v":""},{"$f":"IF(Comanda!K208=1,(Comanda!E208*0.001+$BL$2)*Comanda!F208,\"\")","v":""},null,{"$f":"IF(Comanda!H208=2,(Comanda!D208*0.001+$BL$2)*Comanda!F208,\"\")","v":""},{"$f":"IF(Comanda!I208=2,(Comanda!D208*0.001+$BL$2)*Comanda!F208,\"\")","v":""},{"$f":"IF(Comanda!J208=2,(Comanda!E208*0.001+$BL$2)*Comanda!F208,\"\")","v":""},{"$f":"IF(Comanda!K208=2,(Comanda!E208*0.001+$BL$2)*Comanda!F208,\"\")","v":""},null,{"$f":"IF(Comanda!H208=3,(Comanda!D208*0.001+$BL$2)*Comanda!F208,\"\")","v":""},{"$f":"IF(Comanda!I208=3,(Comanda!D208*0.001+$BL$2)*Comanda!F208,\"\")","v":""},{"$f":"IF(Comanda!J208=3,(Comanda!E208*0.001+$BL$2)*Comanda!F208,\"\")","v":""},{"$f":"IF(Comanda!K208=3,(Comanda!E208*0.001+$BL$2)*Comanda!F208,\"\")","v":""},null,{"$f":"IF(Comanda!H208=4,(Comanda!D208*0.001+$BL$2)*Comanda!F208,\"\")","v":""},{"$f":"IF(Comanda!I208=4,(Comanda!D208*0.001+$BL$2)*Comanda!F208,\"\")","v":""},{"$f":"IF(Comanda!J208=4,(Comanda!E208*0.001+$BL$2)*Comanda!F208,\"\")","v":""},{"$f":"IF(Comanda!K208=4,(Comanda!E208*0.001+$BL$2)*Comanda!F208,\"\")","v":""}]
[190,{"$f":"IF(Comanda!B209<>0,Comanda!B209,\"\")","v":""},{"$f":"IF(Comanda!C209<>0,Comanda!C209,\"\")","v":""},{"$f":"IF(Comanda!D209<>0,Comanda!D209,\"\")","v":""},{"$f":"IF(Comanda!E209<>0,Comanda!E209,\"\")","v":""},{"$f":"IF(Comanda!F209<>0,Comanda!F209,\"\")","v":""},{"$f":"IF(Comanda!G209<>0,1,0)","v":0},{"$f":"IF(Comanda!H209=1,Comanda!$C$13,IF(Comanda!H209=2,Comanda!$C$14,IF(Comanda!$H209=3,Comanda!$C$15,IF(Comanda!$H209=4,Comanda!$C$16,0))))","v":0},{"$f":"IF(Comanda!I209=1,Comanda!$C$13,IF(Comanda!I209=2,Comanda!$C$14,IF(Comanda!$I209=3,Comanda!$C$15,IF(Comanda!$I209=4,Comanda!$C$16,0))))","v":0},{"$f":"IF(Comanda!J209=1,Comanda!$C$13,IF(Comanda!J209=2,Comanda!$C$14,IF(Comanda!$J209=3,Comanda!$C$15,IF(Comanda!$J209=4,Comanda!$C$16,0))))","v":0},{"$f":"IF(Comanda!K209=1,Comanda!$C$13,IF(Comanda!K209=2,Comanda!$C$14,IF(Comanda!$K209=3,Comanda!$C$15,IF(Comanda!$K209=4,Comanda!$C$16,0))))","v":0},{"$f":"IF(Comanda!B209<>0,Comanda!$C$2,\"\")","v":""},{"$f":"IF(Comanda!B209<>0,Comanda!$C$5,\"\")","v":""},{"$f":"IF(Comanda!B209<>0,Comanda!$G$2,\"\")","v":""},{"$f":"IF(Comanda!B209<>0,Comanda!L209,\"\")","v":""},{"$f":"IF(Comanda!D209<>0,VLOOKUP('Formula Cant'!F192,'Grafica Cant'!$G$2:$H$25,2,FALSE),\"\")","v":""},{"$nulls":8},{"$f":"IF(Comanda!B209<>0,Comanda!$C$9,\"\")","v":""},{"$f":"IF(Comanda!B209<>0,VLOOKUP(Comanda!$C$12,PRETURI!$A$2:$C$500,3,FALSE),\"\")","v":""},"",{"$f":"IF(H192<>0,VLOOKUP(H192,PRETURI!$D$2:$F$1093,3,FALSE),\"\")","v":""},{"v":0,"d":"0.00"},{"$f":"IF(I192<>0,VLOOKUP(I192,PRETURI!$D$2:$F$1093,3,FALSE),\"\")","v":""},{"v":0,"d":"0.00"},{"$f":"IF(J192<>0,VLOOKUP(J192,PRETURI!$D$2:$F$1093,3,FALSE),\"\")","v":""},{"v":0,"d":"0.00"},{"$f":"IF(K192<>0,VLOOKUP(K192,PRETURI!$D$2:$F$1093,3,FALSE),\"\")","v":""},{"v":0,"d":"0.00"},{"$nulls":6},{"$f":"(Comanda!D209*Comanda!E209*Comanda!F209)*0.000001","v":{"v":0,"d":"0.00"}},null,{"$f":"IF(Comanda!H209=1,(Comanda!D209*0.001+$BL$2)*Comanda!F209,\"\")","v":""},{"$f":"IF(Comanda!I209=1,(Comanda!D209*0.001+$BL$2)*Comanda!F209,\"\")","v":""},{"$f":"IF(Comanda!J209=1,(Comanda!E209*0.001+$BL$2)*Comanda!F209,\"\")","v":""},{"$f":"IF(Comanda!K209=1,(Comanda!E209*0.001+$BL$2)*Comanda!F209,\"\")","v":""},null,{"$f":"IF(Comanda!H209=2,(Comanda!D209*0.001+$BL$2)*Comanda!F209,\"\")","v":""},{"$f":"IF(Comanda!I209=2,(Comanda!D209*0.001+$BL$2)*Comanda!F209,\"\")","v":""},{"$f":"IF(Comanda!J209=2,(Comanda!E209*0.001+$BL$2)*Comanda!F209,\"\")","v":""},{"$f":"IF(Comanda!K209=2,(Comanda!E209*0.001+$BL$2)*Comanda!F209,\"\")","v":""},null,{"$f":"IF(Comanda!H209=3,(Comanda!D209*0.001+$BL$2)*Comanda!F209,\"\")","v":""},{"$f":"IF(Comanda!I209=3,(Comanda!D209*0.001+$BL$2)*Comanda!F209,\"\")","v":""},{"$f":"IF(Comanda!J209=3,(Comanda!E209*0.001+$BL$2)*Comanda!F209,\"\")","v":""},{"$f":"IF(Comanda!K209=3,(Comanda!E209*0.001+$BL$2)*Comanda!F209,\"\")","v":""},null,{"$f":"IF(Comanda!H209=4,(Comanda!D209*0.001+$BL$2)*Comanda!F209,\"\")","v":""},{"$f":"IF(Comanda!I209=4,(Comanda!D209*0.001+$BL$2)*Comanda!F209,\"\")","v":""},{"$f":"IF(Comanda!J209=4,(Comanda!E209*0.001+$BL$2)*Comanda!F209,\"\")","v":""},{"$f":"IF(Comanda!K209=4,(Comanda!E209*0.001+$BL$2)*Comanda!F209,\"\")","v":""}]
[191,{"$f":"IF(Comanda!B210<>0,Comanda!B210,\"\")","v":""},{"$f":"IF(Comanda!C210<>0,Comanda!C210,\"\")","v":""},{"$f":"IF(Comanda!D210<>0,Comanda!D210,\"\")","v":""},{"$f":"IF(Comanda!E210<>0,Comanda!E210,\"\")","v":""},{"$f":"IF(Comanda!F210<>0,Comanda!F210,\"\")","v":""},{"$f":"IF(Comanda!G210<>0,1,0)","v":0},{"$f":"IF(Comanda!H210=1,Comanda!$C$13,IF(Comanda!H210=2,Comanda!$C$14,IF(Comanda!$H210=3,Comanda!$C$15,IF(Comanda!$H210=4,Comanda!$C$16,0))))","v":0},{"$f":"IF(Comanda!I210=1,Comanda!$C$13,IF(Comanda!I210=2,Comanda!$C$14,IF(Comanda!$I210=3,Comanda!$C$15,IF(Comanda!$I210=4,Comanda!$C$16,0))))","v":0},{"$f":"IF(Comanda!J210=1,Comanda!$C$13,IF(Comanda!J210=2,Comanda!$C$14,IF(Comanda!$J210=3,Comanda!$C$15,IF(Comanda!$J210=4,Comanda!$C$16,0))))","v":0},{"$f":"IF(Comanda!K210=1,Comanda!$C$13,IF(Comanda!K210=2,Comanda!$C$14,IF(Comanda!$K210=3,Comanda!$C$15,IF(Comanda!$K210=4,Comanda!$C$16,0))))","v":0},{"$f":"IF(Comanda!B210<>0,Comanda!$C$2,\"\")","v":""},{"$f":"IF(Comanda!B210<>0,Comanda!$C$5,\"\")","v":""},{"$f":"IF(Comanda!B210<>0,Comanda!$G$2,\"\")","v":""},{"$f":"IF(Comanda!B210<>0,Comanda!L210,\"\")","v":""},{"$f":"IF(Comanda!D210<>0,VLOOKUP('Formula Cant'!F193,'Grafica Cant'!$G$2:$H$25,2,FALSE),\"\")","v":""},{"$nulls":8},{"$f":"IF(Comanda!B210<>0,Comanda!$C$9,\"\")","v":""},{"$f":"IF(Comanda!B210<>0,VLOOKUP(Comanda!$C$12,PRETURI!$A$2:$C$500,3,FALSE),\"\")","v":""},"",{"$f":"IF(H193<>0,VLOOKUP(H193,PRETURI!$D$2:$F$1093,3,FALSE),\"\")","v":""},{"v":0,"d":"0.00"},{"$f":"IF(I193<>0,VLOOKUP(I193,PRETURI!$D$2:$F$1093,3,FALSE),\"\")","v":""},{"v":0,"d":"0.00"},{"$f":"IF(J193<>0,VLOOKUP(J193,PRETURI!$D$2:$F$1093,3,FALSE),\"\")","v":""},{"v":0,"d":"0.00"},{"$f":"IF(K193<>0,VLOOKUP(K193,PRETURI!$D$2:$F$1093,3,FALSE),\"\")","v":""},{"v":0,"d":"0.00"},{"$nulls":6},{"$f":"(Comanda!D210*Comanda!E210*Comanda!F210)*0.000001","v":{"v":0,"d":"0.00"}},null,{"$f":"IF(Comanda!H210=1,(Comanda!D210*0.001+$BL$2)*Comanda!F210,\"\")","v":""},{"$f":"IF(Comanda!I210=1,(Comanda!D210*0.001+$BL$2)*Comanda!F210,\"\")","v":""},{"$f":"IF(Comanda!J210=1,(Comanda!E210*0.001+$BL$2)*Comanda!F210,\"\")","v":""},{"$f":"IF(Comanda!K210=1,(Comanda!E210*0.001+$BL$2)*Comanda!F210,\"\")","v":""},null,{"$f":"IF(Comanda!H210=2,(Comanda!D210*0.001+$BL$2)*Comanda!F210,\"\")","v":""},{"$f":"IF(Comanda!I210=2,(Comanda!D210*0.001+$BL$2)*Comanda!F210,\"\")","v":""},{"$f":"IF(Comanda!J210=2,(Comanda!E210*0.001+$BL$2)*Comanda!F210,\"\")","v":""},{"$f":"IF(Comanda!K210=2,(Comanda!E210*0.001+$BL$2)*Comanda!F210,\"\")","v":""},null,{"$f":"IF(Comanda!H210=3,(Comanda!D210*0.001+$BL$2)*Comanda!F210,\"\")","v":""},{"$f":"IF(Comanda!I210=3,(Comanda!D210*0.001+$BL$2)*Comanda!F210,\"\")","v":""},{"$f":"IF(Comanda!J210=3,(Comanda!E210*0.001+$BL$2)*Comanda!F210,\"\")","v":""},{"$f":"IF(Comanda!K210=3,(Comanda!E210*0.001+$BL$2)*Comanda!F210,\"\")","v":""},null,{"$f":"IF(Comanda!H210=4,(Comanda!D210*0.001+$BL$2)*Comanda!F210,\"\")","v":""},{"$f":"IF(Comanda!I210=4,(Comanda!D210*0.001+$BL$2)*Comanda!F210,\"\")","v":""},{"$f":"IF(Comanda!J210=4,(Comanda!E210*0.001+$BL$2)*Comanda!F210,\"\")","v":""},{"$f":"IF(Comanda!K210=4,(Comanda!E210*0.001+$BL$2)*Comanda!F210,\"\")","v":""}]
[192,{"$f":"IF(Comanda!B211<>0,Comanda!B211,\"\")","v":""},{"$f":"IF(Comanda!C211<>0,Comanda!C211,\"\")","v":""},{"$f":"IF(Comanda!D211<>0,Comanda!D211,\"\")","v":""},{"$f":"IF(Comanda!E211<>0,Comanda!E211,\"\")","v":""},{"$f":"IF(Comanda!F211<>0,Comanda!F211,\"\")","v":""},{"$f":"IF(Comanda!G211<>0,1,0)","v":0},{"$f":"IF(Comanda!H211=1,Comanda!$C$13,IF(Comanda!H211=2,Comanda!$C$14,IF(Comanda!$H211=3,Comanda!$C$15,IF(Comanda!$H211=4,Comanda!$C$16,0))))","v":0},{"$f":"IF(Comanda!I211=1,Comanda!$C$13,IF(Comanda!I211=2,Comanda!$C$14,IF(Comanda!$I211=3,Comanda!$C$15,IF(Comanda!$I211=4,Comanda!$C$16,0))))","v":0},{"$f":"IF(Comanda!J211=1,Comanda!$C$13,IF(Comanda!J211=2,Comanda!$C$14,IF(Comanda!$J211=3,Comanda!$C$15,IF(Comanda!$J211=4,Comanda!$C$16,0))))","v":0},{"$f":"IF(Comanda!K211=1,Comanda!$C$13,IF(Comanda!K211=2,Comanda!$C$14,IF(Comanda!$K211=3,Comanda!$C$15,IF(Comanda!$K211=4,Comanda!$C$16,0))))","v":0},{"$f":"IF(Comanda!B211<>0,Comanda!$C$2,\"\")","v":""},{"$f":"IF(Comanda!B211<>0,Comanda!$C$5,\"\")","v":""},{"$f":"IF(Comanda!B211<>0,Comanda!$G$2,\"\")","v":""},{"$f":"IF(Comanda!B211<>0,Comanda!L211,\"\")","v":""},{"$f":"IF(Comanda!D211<>0,VLOOKUP('Formula Cant'!F194,'Grafica Cant'!$G$2:$H$25,2,FALSE),\"\")","v":""},{"$nulls":8},{"$f":"IF(Comanda!B211<>0,Comanda!$C$9,\"\")","v":""},{"$f":"IF(Comanda!B211<>0,VLOOKUP(Comanda!$C$12,PRETURI!$A$2:$C$500,3,FALSE),\"\")","v":""},"",{"$f":"IF(H194<>0,VLOOKUP(H194,PRETURI!$D$2:$F$1093,3,FALSE),\"\")","v":""},{"v":0,"d":"0.00"},{"$f":"IF(I194<>0,VLOOKUP(I194,PRETURI!$D$2:$F$1093,3,FALSE),\"\")","v":""},{"v":0,"d":"0.00"},{"$f":"IF(J194<>0,VLOOKUP(J194,PRETURI!$D$2:$F$1093,3,FALSE),\"\")","v":""},{"v":0,"d":"0.00"},{"$f":"IF(K194<>0,VLOOKUP(K194,PRETURI!$D$2:$F$1093,3,FALSE),\"\")","v":""},{"v":0,"d":"0.00"},{"$nulls":6},{"$f":"(Comanda!D211*Comanda!E211*Comanda!F211)*0.000001","v":{"v":0,"d":"0.00"}},null,{"$f":"IF(Comanda!H211=1,(Comanda!D211*0.001+$BL$2)*Comanda!F211,\"\")","v":""},{"$f":"IF(Comanda!I211=1,(Comanda!D211*0.001+$BL$2)*Comanda!F211,\"\")","v":""},{"$f":"IF(Comanda!J211=1,(Comanda!E211*0.001+$BL$2)*Comanda!F211,\"\")","v":""},{"$f":"IF(Comanda!K211=1,(Comanda!E211*0.001+$BL$2)*Comanda!F211,\"\")","v":""},null,{"$f":"IF(Comanda!H211=2,(Comanda!D211*0.001+$BL$2)*Comanda!F211,\"\")","v":""},{"$f":"IF(Comanda!I211=2,(Comanda!D211*0.001+$BL$2)*Comanda!F211,\"\")","v":""},{"$f":"IF(Comanda!J211=2,(Comanda!E211*0.001+$BL$2)*Comanda!F211,\"\")","v":""},{"$f":"IF(Comanda!K211=2,(Comanda!E211*0.001+$BL$2)*Comanda!F211,\"\")","v":""},null,{"$f":"IF(Comanda!H211=3,(Comanda!D211*0.001+$BL$2)*Comanda!F211,\"\")","v":""},{"$f":"IF(Comanda!I211=3,(Comanda!D211*0.001+$BL$2)*Comanda!F211,\"\")","v":""},{"$f":"IF(Comanda!J211=3,(Comanda!E211*0.001+$BL$2)*Comanda!F211,\"\")","v":""},{"$f":"IF(Comanda!K211=3,(Comanda!E211*0.001+$BL$2)*Comanda!F211,\"\")","v":""},null,{"$f":"IF(Comanda!H211=4,(Comanda!D211*0.001+$BL$2)*Comanda!F211,\"\")","v":""},{"$f":"IF(Comanda!I211=4,(Comanda!D211*0.001+$BL$2)*Comanda!F211,\"\")","v":""},{"$f":"IF(Comanda!J211=4,(Comanda!E211*0.001+$BL$2)*Comanda!F211,\"\")","v":""},{"$f":"IF(Comanda!K211=4,(Comanda!E211*0.001+$BL$2)*Comanda!F211,\"\")","v":""}]
[193,{"$f":"IF(Comanda!B212<>0,Comanda!B212,\"\")","v":""},{"$f":"IF(Comanda!C212<>0,Comanda!C212,\"\")","v":""},{"$f":"IF(Comanda!D212<>0,Comanda!D212,\"\")","v":""},{"$f":"IF(Comanda!E212<>0,Comanda!E212,\"\")","v":""},{"$f":"IF(Comanda!F212<>0,Comanda!F212,\"\")","v":""},{"$f":"IF(Comanda!G212<>0,1,0)","v":0},{"$f":"IF(Comanda!H212=1,Comanda!$C$13,IF(Comanda!H212=2,Comanda!$C$14,IF(Comanda!$H212=3,Comanda!$C$15,IF(Comanda!$H212=4,Comanda!$C$16,0))))","v":0},{"$f":"IF(Comanda!I212=1,Comanda!$C$13,IF(Comanda!I212=2,Comanda!$C$14,IF(Comanda!$I212=3,Comanda!$C$15,IF(Comanda!$I212=4,Comanda!$C$16,0))))","v":0},{"$f":"IF(Comanda!J212=1,Comanda!$C$13,IF(Comanda!J212=2,Comanda!$C$14,IF(Comanda!$J212=3,Comanda!$C$15,IF(Comanda!$J212=4,Comanda!$C$16,0))))","v":0},{"$f":"IF(Comanda!K212=1,Comanda!$C$13,IF(Comanda!K212=2,Comanda!$C$14,IF(Comanda!$K212=3,Comanda!$C$15,IF(Comanda!$K212=4,Comanda!$C$16,0))))","v":0},{"$f":"IF(Comanda!B212<>0,Comanda!$C$2,\"\")","v":""},{"$f":"IF(Comanda!B212<>0,Comanda!$C$5,\"\")","v":""},{"$f":"IF(Comanda!B212<>0,Comanda!$G$2,\"\")","v":""},{"$f":"IF(Comanda!B212<>0,Comanda!L212,\"\")","v":""},{"$f":"IF(Comanda!D212<>0,VLOOKUP('Formula Cant'!F195,'Grafica Cant'!$G$2:$H$25,2,FALSE),\"\")","v":""},{"$nulls":8},{"$f":"IF(Comanda!B212<>0,Comanda!$C$9,\"\")","v":""},{"$f":"IF(Comanda!B212<>0,VLOOKUP(Comanda!$C$12,PRETURI!$A$2:$C$500,3,FALSE),\"\")","v":""},"",{"$f":"IF(H195<>0,VLOOKUP(H195,PRETURI!$D$2:$F$1093,3,FALSE),\"\")","v":""},{"v":0,"d":"0.00"},{"$f":"IF(I195<>0,VLOOKUP(I195,PRETURI!$D$2:$F$1093,3,FALSE),\"\")","v":""},{"v":0,"d":"0.00"},{"$f":"IF(J195<>0,VLOOKUP(J195,PRETURI!$D$2:$F$1093,3,FALSE),\"\")","v":""},{"v":0,"d":"0.00"},{"$f":"IF(K195<>0,VLOOKUP(K195,PRETURI!$D$2:$F$1093,3,FALSE),\"\")","v":""},{"v":0,"d":"0.00"},{"$nulls":6},{"$f":"(Comanda!D212*Comanda!E212*Comanda!F212)*0.000001","v":{"v":0,"d":"0.00"}},null,{"$f":"IF(Comanda!H212=1,(Comanda!D212*0.001+$BL$2)*Comanda!F212,\"\")","v":""},{"$f":"IF(Comanda!I212=1,(Comanda!D212*0.001+$BL$2)*Comanda!F212,\"\")","v":""},{"$f":"IF(Comanda!J212=1,(Comanda!E212*0.001+$BL$2)*Comanda!F212,\"\")","v":""},{"$f":"IF(Comanda!K212=1,(Comanda!E212*0.001+$BL$2)*Comanda!F212,\"\")","v":""},null,{"$f":"IF(Comanda!H212=2,(Comanda!D212*0.001+$BL$2)*Comanda!F212,\"\")","v":""},{"$f":"IF(Comanda!I212=2,(Comanda!D212*0.001+$BL$2)*Comanda!F212,\"\")","v":""},{"$f":"IF(Comanda!J212=2,(Comanda!E212*0.001+$BL$2)*Comanda!F212,\"\")","v":""},{"$f":"IF(Comanda!K212=2,(Comanda!E212*0.001+$BL$2)*Comanda!F212,\"\")","v":""},null,{"$f":"IF(Comanda!H212=3,(Comanda!D212*0.001+$BL$2)*Comanda!F212,\"\")","v":""},{"$f":"IF(Comanda!I212=3,(Comanda!D212*0.001+$BL$2)*Comanda!F212,\"\")","v":""},{"$f":"IF(Comanda!J212=3,(Comanda!E212*0.001+$BL$2)*Comanda!F212,\"\")","v":""},{"$f":"IF(Comanda!K212=3,(Comanda!E212*0.001+$BL$2)*Comanda!F212,\"\")","v":""},null,{"$f":"IF(Comanda!H212=4,(Comanda!D212*0.001+$BL$2)*Comanda!F212,\"\")","v":""},{"$f":"IF(Comanda!I212=4,(Comanda!D212*0.001+$BL$2)*Comanda!F212,\"\")","v":""},{"$f":"IF(Comanda!J212=4,(Comanda!E212*0.001+$BL$2)*Comanda!F212,\"\")","v":""},{"$f":"IF(Comanda!K212=4,(Comanda!E212*0.001+$BL$2)*Comanda!F212,\"\")","v":""}]
[194,{"$f":"IF(Comanda!B213<>0,Comanda!B213,\"\")","v":""},{"$f":"IF(Comanda!C213<>0,Comanda!C213,\"\")","v":""},{"$f":"IF(Comanda!D213<>0,Comanda!D213,\"\")","v":""},{"$f":"IF(Comanda!E213<>0,Comanda!E213,\"\")","v":""},{"$f":"IF(Comanda!F213<>0,Comanda!F213,\"\")","v":""},{"$f":"IF(Comanda!G213<>0,1,0)","v":0},{"$f":"IF(Comanda!H213=1,Comanda!$C$13,IF(Comanda!H213=2,Comanda!$C$14,IF(Comanda!$H213=3,Comanda!$C$15,IF(Comanda!$H213=4,Comanda!$C$16,0))))","v":0},{"$f":"IF(Comanda!I213=1,Comanda!$C$13,IF(Comanda!I213=2,Comanda!$C$14,IF(Comanda!$I213=3,Comanda!$C$15,IF(Comanda!$I213=4,Comanda!$C$16,0))))","v":0},{"$f":"IF(Comanda!J213=1,Comanda!$C$13,IF(Comanda!J213=2,Comanda!$C$14,IF(Comanda!$J213=3,Comanda!$C$15,IF(Comanda!$J213=4,Comanda!$C$16,0))))","v":0},{"$f":"IF(Comanda!K213=1,Comanda!$C$13,IF(Comanda!K213=2,Comanda!$C$14,IF(Comanda!$K213=3,Comanda!$C$15,IF(Comanda!$K213=4,Comanda!$C$16,0))))","v":0},{"$f":"IF(Comanda!B213<>0,Comanda!$C$2,\"\")","v":""},{"$f":"IF(Comanda!B213<>0,Comanda!$C$5,\"\")","v":""},{"$f":"IF(Comanda!B213<>0,Comanda!$G$2,\"\")","v":""},{"$f":"IF(Comanda!B213<>0,Comanda!L213,\"\")","v":""},{"$f":"IF(Comanda!D213<>0,VLOOKUP('Formula Cant'!F196,'Grafica Cant'!$G$2:$H$25,2,FALSE),\"\")","v":""},{"$nulls":8},{"$f":"IF(Comanda!B213<>0,Comanda!$C$9,\"\")","v":""},{"$f":"IF(Comanda!B213<>0,VLOOKUP(Comanda!$C$12,PRETURI!$A$2:$C$500,3,FALSE),\"\")","v":""},{"$f":"IFERROR(D196*E196*F196*0.000001,\"\")","v":""},{"$f":"IF(H196<>0,VLOOKUP(H196,PRETURI!$D$2:$F$1093,3,FALSE),\"\")","v":""},{"$f":"SUM(AR196:AU196)","v":{"v":0,"d":"0.00"}},{"$f":"IF(I196<>0,VLOOKUP(I196,PRETURI!$D$2:$F$1093,3,FALSE),\"\")","v":""},{"$f":"SUM(AW196:AZ196)","v":{"v":0,"d":"0.00"}},{"$f":"IF(J196<>0,VLOOKUP(J196,PRETURI!$D$2:$F$1093,3,FALSE),\"\")","v":""},{"$f":"SUM(BB196:BE196)","v":{"v":0,"d":"0.00"}},{"$f":"IF(K196<>0,VLOOKUP(K196,PRETURI!$D$2:$F$1093,3,FALSE),\"\")","v":""},{"$f":"SUM(BG196:BJ196)","v":{"v":0,"d":"0.00"}},{"$nulls":6},{"$f":"(Comanda!D213*Comanda!E213*Comanda!F213)*0.000001","v":{"v":0,"d":"0.00"}},null,{"$f":"IF(Comanda!H213=1,(Comanda!D213*0.001+$BL$2)*Comanda!F213,\"\")","v":""},{"$f":"IF(Comanda!I213=1,(Comanda!D213*0.001+$BL$2)*Comanda!F213,\"\")","v":""},{"$f":"IF(Comanda!J213=1,(Comanda!E213*0.001+$BL$2)*Comanda!F213,\"\")","v":""},{"$f":"IF(Comanda!K213=1,(Comanda!E213*0.001+$BL$2)*Comanda!F213,\"\")","v":""},null,{"$f":"IF(Comanda!H213=2,(Comanda!D213*0.001+$BL$2)*Comanda!F213,\"\")","v":""},{"$f":"IF(Comanda!I213=2,(Comanda!D213*0.001+$BL$2)*Comanda!F213,\"\")","v":""},{"$f":"IF(Comanda!J213=2,(Comanda!E213*0.001+$BL$2)*Comanda!F213,\"\")","v":""},{"$f":"IF(Comanda!K213=2,(Comanda!E213*0.001+$BL$2)*Comanda!F213,\"\")","v":""},null,{"$f":"IF(Comanda!H213=3,(Comanda!D213*0.001+$BL$2)*Comanda!F213,\"\")","v":""},{"$f":"IF(Comanda!I213=3,(Comanda!D213*0.001+$BL$2)*Comanda!F213,\"\")","v":""},{"$f":"IF(Comanda!J213=3,(Comanda!E213*0.001+$BL$2)*Comanda!F213,\"\")","v":""},{"$f":"IF(Comanda!K213=3,(Comanda!E213*0.001+$BL$2)*Comanda!F213,\"\")","v":""},null,{"$f":"IF(Comanda!H213=4,(Comanda!D213*0.001+$BL$2)*Comanda!F213,\"\")","v":""},{"$f":"IF(Comanda!I213=4,(Comanda!D213*0.001+$BL$2)*Comanda!F213,\"\")","v":""},{"$f":"IF(Comanda!J213=4,(Comanda!E213*0.001+$BL$2)*Comanda!F213,\"\")","v":""},{"$f":"IF(Comanda!K213=4,(Comanda!E213*0.001+$BL$2)*Comanda!F213,\"\")","v":""}]
[195,{"$f":"IF(Comanda!B214<>0,Comanda!B214,\"\")","v":""},{"$f":"IF(Comanda!C214<>0,Comanda!C214,\"\")","v":""},{"$f":"IF(Comanda!D214<>0,Comanda!D214,\"\")","v":""},{"$f":"IF(Comanda!E214<>0,Comanda!E214,\"\")","v":""},{"$f":"IF(Comanda!F214<>0,Comanda!F214,\"\")","v":""},{"$f":"IF(Comanda!G214<>0,1,0)","v":0},{"$f":"IF(Comanda!H214=1,Comanda!$C$13,IF(Comanda!H214=2,Comanda!$C$14,IF(Comanda!$H214=3,Comanda!$C$15,IF(Comanda!$H214=4,Comanda!$C$16,0))))","v":0},{"$f":"IF(Comanda!I214=1,Comanda!$C$13,IF(Comanda!I214=2,Comanda!$C$14,IF(Comanda!$I214=3,Comanda!$C$15,IF(Comanda!$I214=4,Comanda!$C$16,0))))","v":0},{"$f":"IF(Comanda!J214=1,Comanda!$C$13,IF(Comanda!J214=2,Comanda!$C$14,IF(Comanda!$J214=3,Comanda!$C$15,IF(Comanda!$J214=4,Comanda!$C$16,0))))","v":0},{"$f":"IF(Comanda!K214=1,Comanda!$C$13,IF(Comanda!K214=2,Comanda!$C$14,IF(Comanda!$K214=3,Comanda!$C$15,IF(Comanda!$K214=4,Comanda!$C$16,0))))","v":0},{"$f":"IF(Comanda!B214<>0,Comanda!$C$2,\"\")","v":""},{"$f":"IF(Comanda!B214<>0,Comanda!$C$5,\"\")","v":""},{"$f":"IF(Comanda!B214<>0,Comanda!$G$2,\"\")","v":""},{"$f":"IF(Comanda!B214<>0,Comanda!L214,\"\")","v":""},{"$f":"IF(Comanda!D214<>0,VLOOKUP('Formula Cant'!F197,'Grafica Cant'!$G$2:$H$25,2,FALSE),\"\")","v":""},{"$nulls":8},{"$f":"IF(Comanda!B214<>0,Comanda!$C$9,\"\")","v":""},{"$f":"IF(Comanda!B214<>0,VLOOKUP(Comanda!$C$12,PRETURI!$A$2:$C$500,3,FALSE),\"\")","v":""},"",{"$f":"IF(H197<>0,VLOOKUP(H197,PRETURI!$D$2:$F$1093,3,FALSE),\"\")","v":""},{"v":0,"d":"0.00"},{"$f":"IF(I197<>0,VLOOKUP(I197,PRETURI!$D$2:$F$1093,3,FALSE),\"\")","v":""},{"v":0,"d":"0.00"},{"$f":"IF(J197<>0,VLOOKUP(J197,PRETURI!$D$2:$F$1093,3,FALSE),\"\")","v":""},{"v":0,"d":"0.00"},{"$f":"IF(K197<>0,VLOOKUP(K197,PRETURI!$D$2:$F$1093,3,FALSE),\"\")","v":""},{"v":0,"d":"0.00"},{"$nulls":6},{"$f":"(Comanda!D214*Comanda!E214*Comanda!F214)*0.000001","v":{"v":0,"d":"0.00"}},null,{"$f":"IF(Comanda!H214=1,(Comanda!D214*0.001+$BL$2)*Comanda!F214,\"\")","v":""},{"$f":"IF(Comanda!I214=1,(Comanda!D214*0.001+$BL$2)*Comanda!F214,\"\")","v":""},{"$f":"IF(Comanda!J214=1,(Comanda!E214*0.001+$BL$2)*Comanda!F214,\"\")","v":""},{"$f":"IF(Comanda!K214=1,(Comanda!E214*0.001+$BL$2)*Comanda!F214,\"\")","v":""},null,{"$f":"IF(Comanda!H214=2,(Comanda!D214*0.001+$BL$2)*Comanda!F214,\"\")","v":""},{"$f":"IF(Comanda!I214=2,(Comanda!D214*0.001+$BL$2)*Comanda!F214,\"\")","v":""},{"$f":"IF(Comanda!J214=2,(Comanda!E214*0.001+$BL$2)*Comanda!F214,\"\")","v":""},{"$f":"IF(Comanda!K214=2,(Comanda!E214*0.001+$BL$2)*Comanda!F214,\"\")","v":""},null,{"$f":"IF(Comanda!H214=3,(Comanda!D214*0.001+$BL$2)*Comanda!F214,\"\")","v":""},{"$f":"IF(Comanda!I214=3,(Comanda!D214*0.001+$BL$2)*Comanda!F214,\"\")","v":""},{"$f":"IF(Comanda!J214=3,(Comanda!E214*0.001+$BL$2)*Comanda!F214,\"\")","v":""},{"$f":"IF(Comanda!K214=3,(Comanda!E214*0.001+$BL$2)*Comanda!F214,\"\")","v":""},null,{"$f":"IF(Comanda!H214=4,(Comanda!D214*0.001+$BL$2)*Comanda!F214,\"\")","v":""},{"$f":"IF(Comanda!I214=4,(Comanda!D214*0.001+$BL$2)*Comanda!F214,\"\")","v":""},{"$f":"IF(Comanda!J214=4,(Comanda!E214*0.001+$BL$2)*Comanda!F214,\"\")","v":""},{"$f":"IF(Comanda!K214=4,(Comanda!E214*0.001+$BL$2)*Comanda!F214,\"\")","v":""}]
[196,{"$f":"IF(Comanda!B215<>0,Comanda!B215,\"\")","v":""},{"$f":"IF(Comanda!C215<>0,Comanda!C215,\"\")","v":""},{"$f":"IF(Comanda!D215<>0,Comanda!D215,\"\")","v":""},{"$f":"IF(Comanda!E215<>0,Comanda!E215,\"\")","v":""},{"$f":"IF(Comanda!F215<>0,Comanda!F215,\"\")","v":""},{"$f":"IF(Comanda!G215<>0,1,0)","v":0},{"$f":"IF(Comanda!H215=1,Comanda!$C$13,IF(Comanda!H215=2,Comanda!$C$14,IF(Comanda!$H215=3,Comanda!$C$15,IF(Comanda!$H215=4,Comanda!$C$16,0))))","v":0},{"$f":"IF(Comanda!I215=1,Comanda!$C$13,IF(Comanda!I215=2,Comanda!$C$14,IF(Comanda!$I215=3,Comanda!$C$15,IF(Comanda!$I215=4,Comanda!$C$16,0))))","v":0},{"$f":"IF(Comanda!J215=1,Comanda!$C$13,IF(Comanda!J215=2,Comanda!$C$14,IF(Comanda!$J215=3,Comanda!$C$15,IF(Comanda!$J215=4,Comanda!$C$16,0))))","v":0},{"$f":"IF(Comanda!K215=1,Comanda!$C$13,IF(Comanda!K215=2,Comanda!$C$14,IF(Comanda!$K215=3,Comanda!$C$15,IF(Comanda!$K215=4,Comanda!$C$16,0))))","v":0},{"$f":"IF(Comanda!B215<>0,Comanda!$C$2,\"\")","v":""},{"$f":"IF(Comanda!B215<>0,Comanda!$C$5,\"\")","v":""},{"$f":"IF(Comanda!B215<>0,Comanda!$G$2,\"\")","v":""},{"$f":"IF(Comanda!B215<>0,Comanda!L215,\"\")","v":""},{"$f":"IF(Comanda!D215<>0,VLOOKUP('Formula Cant'!F198,'Grafica Cant'!$G$2:$H$25,2,FALSE),\"\")","v":""},{"$nulls":8},{"$f":"IF(Comanda!B215<>0,Comanda!$C$9,\"\")","v":""},{"$f":"IF(Comanda!B215<>0,VLOOKUP(Comanda!$C$12,PRETURI!$A$2:$C$500,3,FALSE),\"\")","v":""},"",{"$f":"IF(H198<>0,VLOOKUP(H198,PRETURI!$D$2:$F$1093,3,FALSE),\"\")","v":""},{"v":0,"d":"0.00"},{"$f":"IF(I198<>0,VLOOKUP(I198,PRETURI!$D$2:$F$1093,3,FALSE),\"\")","v":""},{"v":0,"d":"0.00"},{"$f":"IF(J198<>0,VLOOKUP(J198,PRETURI!$D$2:$F$1093,3,FALSE),\"\")","v":""},{"v":0,"d":"0.00"},{"$f":"IF(K198<>0,VLOOKUP(K198,PRETURI!$D$2:$F$1093,3,FALSE),\"\")","v":""},{"v":0,"d":"0.00"},{"$nulls":6},{"$f":"(Comanda!D215*Comanda!E215*Comanda!F215)*0.000001","v":{"v":0,"d":"0.00"}},null,{"$f":"IF(Comanda!H215=1,(Comanda!D215*0.001+$BL$2)*Comanda!F215,\"\")","v":""},{"$f":"IF(Comanda!I215=1,(Comanda!D215*0.001+$BL$2)*Comanda!F215,\"\")","v":""},{"$f":"IF(Comanda!J215=1,(Comanda!E215*0.001+$BL$2)*Comanda!F215,\"\")","v":""},{"$f":"IF(Comanda!K215=1,(Comanda!E215*0.001+$BL$2)*Comanda!F215,\"\")","v":""},null,{"$f":"IF(Comanda!H215=2,(Comanda!D215*0.001+$BL$2)*Comanda!F215,\"\")","v":""},{"$f":"IF(Comanda!I215=2,(Comanda!D215*0.001+$BL$2)*Comanda!F215,\"\")","v":""},{"$f":"IF(Comanda!J215=2,(Comanda!E215*0.001+$BL$2)*Comanda!F215,\"\")","v":""},{"$f":"IF(Comanda!K215=2,(Comanda!E215*0.001+$BL$2)*Comanda!F215,\"\")","v":""},null,{"$f":"IF(Comanda!H215=3,(Comanda!D215*0.001+$BL$2)*Comanda!F215,\"\")","v":""},{"$f":"IF(Comanda!I215=3,(Comanda!D215*0.001+$BL$2)*Comanda!F215,\"\")","v":""},{"$f":"IF(Comanda!J215=3,(Comanda!E215*0.001+$BL$2)*Comanda!F215,\"\")","v":""},{"$f":"IF(Comanda!K215=3,(Comanda!E215*0.001+$BL$2)*Comanda!F215,\"\")","v":""},null,{"$f":"IF(Comanda!H215=4,(Comanda!D215*0.001+$BL$2)*Comanda!F215,\"\")","v":""},{"$f":"IF(Comanda!I215=4,(Comanda!D215*0.001+$BL$2)*Comanda!F215,\"\")","v":""},{"$f":"IF(Comanda!J215=4,(Comanda!E215*0.001+$BL$2)*Comanda!F215,\"\")","v":""},{"$f":"IF(Comanda!K215=4,(Comanda!E215*0.001+$BL$2)*Comanda!F215,\"\")","v":""}]
[197,{"$f":"IF(Comanda!B216<>0,Comanda!B216,\"\")","v":""},{"$f":"IF(Comanda!C216<>0,Comanda!C216,\"\")","v":""},{"$f":"IF(Comanda!D216<>0,Comanda!D216,\"\")","v":""},{"$f":"IF(Comanda!E216<>0,Comanda!E216,\"\")","v":""},{"$f":"IF(Comanda!F216<>0,Comanda!F216,\"\")","v":""},{"$f":"IF(Comanda!G216<>0,1,0)","v":0},{"$f":"IF(Comanda!H216=1,Comanda!$C$13,IF(Comanda!H216=2,Comanda!$C$14,IF(Comanda!$H216=3,Comanda!$C$15,IF(Comanda!$H216=4,Comanda!$C$16,0))))","v":0},{"$f":"IF(Comanda!I216=1,Comanda!$C$13,IF(Comanda!I216=2,Comanda!$C$14,IF(Comanda!$I216=3,Comanda!$C$15,IF(Comanda!$I216=4,Comanda!$C$16,0))))","v":0},{"$f":"IF(Comanda!J216=1,Comanda!$C$13,IF(Comanda!J216=2,Comanda!$C$14,IF(Comanda!$J216=3,Comanda!$C$15,IF(Comanda!$J216=4,Comanda!$C$16,0))))","v":0},{"$f":"IF(Comanda!K216=1,Comanda!$C$13,IF(Comanda!K216=2,Comanda!$C$14,IF(Comanda!$K216=3,Comanda!$C$15,IF(Comanda!$K216=4,Comanda!$C$16,0))))","v":0},{"$f":"IF(Comanda!B216<>0,Comanda!$C$2,\"\")","v":""},{"$f":"IF(Comanda!B216<>0,Comanda!$C$5,\"\")","v":""},{"$f":"IF(Comanda!B216<>0,Comanda!$G$2,\"\")","v":""},{"$f":"IF(Comanda!B216<>0,Comanda!L216,\"\")","v":""},{"$f":"IF(Comanda!D216<>0,VLOOKUP('Formula Cant'!F199,'Grafica Cant'!$G$2:$H$25,2,FALSE),\"\")","v":""},{"$nulls":8},{"$f":"IF(Comanda!B216<>0,Comanda!$C$9,\"\")","v":""},{"$f":"IF(Comanda!B216<>0,VLOOKUP(Comanda!$C$12,PRETURI!$A$2:$C$500,3,FALSE),\"\")","v":""},"",{"$f":"IF(H199<>0,VLOOKUP(H199,PRETURI!$D$2:$F$1093,3,FALSE),\"\")","v":""},{"v":0,"d":"0.00"},{"$f":"IF(I199<>0,VLOOKUP(I199,PRETURI!$D$2:$F$1093,3,FALSE),\"\")","v":""},{"v":0,"d":"0.00"},{"$f":"IF(J199<>0,VLOOKUP(J199,PRETURI!$D$2:$F$1093,3,FALSE),\"\")","v":""},{"v":0,"d":"0.00"},{"$f":"IF(K199<>0,VLOOKUP(K199,PRETURI!$D$2:$F$1093,3,FALSE),\"\")","v":""},{"v":0,"d":"0.00"},{"$nulls":6},{"$f":"(Comanda!D216*Comanda!E216*Comanda!F216)*0.000001","v":{"v":0,"d":"0.00"}},null,{"$f":"IF(Comanda!H216=1,(Comanda!D216*0.001+$BL$2)*Comanda!F216,\"\")","v":""},{"$f":"IF(Comanda!I216=1,(Comanda!D216*0.001+$BL$2)*Comanda!F216,\"\")","v":""},{"$f":"IF(Comanda!J216=1,(Comanda!E216*0.001+$BL$2)*Comanda!F216,\"\")","v":""},{"$f":"IF(Comanda!K216=1,(Comanda!E216*0.001+$BL$2)*Comanda!F216,\"\")","v":""},null,{"$f":"IF(Comanda!H216=2,(Comanda!D216*0.001+$BL$2)*Comanda!F216,\"\")","v":""},{"$f":"IF(Comanda!I216=2,(Comanda!D216*0.001+$BL$2)*Comanda!F216,\"\")","v":""},{"$f":"IF(Comanda!J216=2,(Comanda!E216*0.001+$BL$2)*Comanda!F216,\"\")","v":""},{"$f":"IF(Comanda!K216=2,(Comanda!E216*0.001+$BL$2)*Comanda!F216,\"\")","v":""},null,{"$f":"IF(Comanda!H216=3,(Comanda!D216*0.001+$BL$2)*Comanda!F216,\"\")","v":""},{"$f":"IF(Comanda!I216=3,(Comanda!D216*0.001+$BL$2)*Comanda!F216,\"\")","v":""},{"$f":"IF(Comanda!J216=3,(Comanda!E216*0.001+$BL$2)*Comanda!F216,\"\")","v":""},{"$f":"IF(Comanda!K216=3,(Comanda!E216*0.001+$BL$2)*Comanda!F216,\"\")","v":""},null,{"$f":"IF(Comanda!H216=4,(Comanda!D216*0.001+$BL$2)*Comanda!F216,\"\")","v":""},{"$f":"IF(Comanda!I216=4,(Comanda!D216*0.001+$BL$2)*Comanda!F216,\"\")","v":""},{"$f":"IF(Comanda!J216=4,(Comanda!E216*0.001+$BL$2)*Comanda!F216,\"\")","v":""},{"$f":"IF(Comanda!K216=4,(Comanda!E216*0.001+$BL$2)*Comanda!F216,\"\")","v":""}]
[198,{"$f":"IF(Comanda!B217<>0,Comanda!B217,\"\")","v":""},{"$f":"IF(Comanda!C217<>0,Comanda!C217,\"\")","v":""},{"$f":"IF(Comanda!D217<>0,Comanda!D217,\"\")","v":""},{"$f":"IF(Comanda!E217<>0,Comanda!E217,\"\")","v":""},{"$f":"IF(Comanda!F217<>0,Comanda!F217,\"\")","v":""},{"$f":"IF(Comanda!G217<>0,1,0)","v":0},{"$f":"IF(Comanda!H217=1,Comanda!$C$13,IF(Comanda!H217=2,Comanda!$C$14,IF(Comanda!$H217=3,Comanda!$C$15,IF(Comanda!$H217=4,Comanda!$C$16,0))))","v":0},{"$f":"IF(Comanda!I217=1,Comanda!$C$13,IF(Comanda!I217=2,Comanda!$C$14,IF(Comanda!$I217=3,Comanda!$C$15,IF(Comanda!$I217=4,Comanda!$C$16,0))))","v":0},{"$f":"IF(Comanda!J217=1,Comanda!$C$13,IF(Comanda!J217=2,Comanda!$C$14,IF(Comanda!$J217=3,Comanda!$C$15,IF(Comanda!$J217=4,Comanda!$C$16,0))))","v":0},{"$f":"IF(Comanda!K217=1,Comanda!$C$13,IF(Comanda!K217=2,Comanda!$C$14,IF(Comanda!$K217=3,Comanda!$C$15,IF(Comanda!$K217=4,Comanda!$C$16,0))))","v":0},{"$f":"IF(Comanda!B217<>0,Comanda!$C$2,\"\")","v":""},{"$f":"IF(Comanda!B217<>0,Comanda!$C$5,\"\")","v":""},{"$f":"IF(Comanda!B217<>0,Comanda!$G$2,\"\")","v":""},{"$f":"IF(Comanda!B217<>0,Comanda!L217,\"\")","v":""},{"$f":"IF(Comanda!D217<>0,VLOOKUP('Formula Cant'!F200,'Grafica Cant'!$G$2:$H$25,2,FALSE),\"\")","v":""},{"$nulls":8},{"$f":"IF(Comanda!B217<>0,Comanda!$C$9,\"\")","v":""},{"$f":"IF(Comanda!B217<>0,VLOOKUP(Comanda!$C$12,PRETURI!$A$2:$C$500,3,FALSE),\"\")","v":""},"",{"$f":"IF(H200<>0,VLOOKUP(H200,PRETURI!$D$2:$F$1093,3,FALSE),\"\")","v":""},{"v":0,"d":"0.00"},{"$f":"IF(I200<>0,VLOOKUP(I200,PRETURI!$D$2:$F$1093,3,FALSE),\"\")","v":""},{"v":0,"d":"0.00"},{"$f":"IF(J200<>0,VLOOKUP(J200,PRETURI!$D$2:$F$1093,3,FALSE),\"\")","v":""},{"v":0,"d":"0.00"},{"$f":"IF(K200<>0,VLOOKUP(K200,PRETURI!$D$2:$F$1093,3,FALSE),\"\")","v":""},{"v":0,"d":"0.00"},{"$nulls":6},{"$f":"(Comanda!D217*Comanda!E217*Comanda!F217)*0.000001","v":{"v":0,"d":"0.00"}},null,{"$f":"IF(Comanda!H217=1,(Comanda!D217*0.001+$BL$2)*Comanda!F217,\"\")","v":""},{"$f":"IF(Comanda!I217=1,(Comanda!D217*0.001+$BL$2)*Comanda!F217,\"\")","v":""},{"$f":"IF(Comanda!J217=1,(Comanda!E217*0.001+$BL$2)*Comanda!F217,\"\")","v":""},{"$f":"IF(Comanda!K217=1,(Comanda!E217*0.001+$BL$2)*Comanda!F217,\"\")","v":""},null,{"$f":"IF(Comanda!H217=2,(Comanda!D217*0.001+$BL$2)*Comanda!F217,\"\")","v":""},{"$f":"IF(Comanda!I217=2,(Comanda!D217*0.001+$BL$2)*Comanda!F217,\"\")","v":""},{"$f":"IF(Comanda!J217=2,(Comanda!E217*0.001+$BL$2)*Comanda!F217,\"\")","v":""},{"$f":"IF(Comanda!K217=2,(Comanda!E217*0.001+$BL$2)*Comanda!F217,\"\")","v":""},null,{"$f":"IF(Comanda!H217=3,(Comanda!D217*0.001+$BL$2)*Comanda!F217,\"\")","v":""},{"$f":"IF(Comanda!I217=3,(Comanda!D217*0.001+$BL$2)*Comanda!F217,\"\")","v":""},{"$f":"IF(Comanda!J217=3,(Comanda!E217*0.001+$BL$2)*Comanda!F217,\"\")","v":""},{"$f":"IF(Comanda!K217=3,(Comanda!E217*0.001+$BL$2)*Comanda!F217,\"\")","v":""},null,{"$f":"IF(Comanda!H217=4,(Comanda!D217*0.001+$BL$2)*Comanda!F217,\"\")","v":""},{"$f":"IF(Comanda!I217=4,(Comanda!D217*0.001+$BL$2)*Comanda!F217,\"\")","v":""},{"$f":"IF(Comanda!J217=4,(Comanda!E217*0.001+$BL$2)*Comanda!F217,\"\")","v":""},{"$f":"IF(Comanda!K217=4,(Comanda!E217*0.001+$BL$2)*Comanda!F217,\"\")","v":""}]
[199,{"$f":"IF(Comanda!B218<>0,Comanda!B218,\"\")","v":""},{"$f":"IF(Comanda!C218<>0,Comanda!C218,\"\")","v":""},{"$f":"IF(Comanda!D218<>0,Comanda!D218,\"\")","v":""},{"$f":"IF(Comanda!E218<>0,Comanda!E218,\"\")","v":""},{"$f":"IF(Comanda!F218<>0,Comanda!F218,\"\")","v":""},{"$f":"IF(Comanda!G218<>0,1,0)","v":0},{"$f":"IF(Comanda!H218=1,Comanda!$C$13,IF(Comanda!H218=2,Comanda!$C$14,IF(Comanda!$H218=3,Comanda!$C$15,IF(Comanda!$H218=4,Comanda!$C$16,0))))","v":0},{"$f":"IF(Comanda!I218=1,Comanda!$C$13,IF(Comanda!I218=2,Comanda!$C$14,IF(Comanda!$I218=3,Comanda!$C$15,IF(Comanda!$I218=4,Comanda!$C$16,0))))","v":0},{"$f":"IF(Comanda!J218=1,Comanda!$C$13,IF(Comanda!J218=2,Comanda!$C$14,IF(Comanda!$J218=3,Comanda!$C$15,IF(Comanda!$J218=4,Comanda!$C$16,0))))","v":0},{"$f":"IF(Comanda!K218=1,Comanda!$C$13,IF(Comanda!K218=2,Comanda!$C$14,IF(Comanda!$K218=3,Comanda!$C$15,IF(Comanda!$K218=4,Comanda!$C$16,0))))","v":0},{"$f":"IF(Comanda!B218<>0,Comanda!$C$2,\"\")","v":""},{"$f":"IF(Comanda!B218<>0,Comanda!$C$5,\"\")","v":""},{"$f":"IF(Comanda!B218<>0,Comanda!$G$2,\"\")","v":""},{"$f":"IF(Comanda!B218<>0,Comanda!L218,\"\")","v":""},{"$f":"IF(Comanda!D218<>0,VLOOKUP('Formula Cant'!F201,'Grafica Cant'!$G$2:$H$25,2,FALSE),\"\")","v":""},{"$nulls":8},{"$f":"IF(Comanda!B218<>0,Comanda!$C$9,\"\")","v":""},{"$f":"IF(Comanda!B218<>0,VLOOKUP(Comanda!$C$12,PRETURI!$A$2:$C$500,3,FALSE),\"\")","v":""},"",{"$f":"IF(H201<>0,VLOOKUP(H201,PRETURI!$D$2:$F$1093,3,FALSE),\"\")","v":""},{"v":0,"d":"0.00"},{"$f":"IF(I201<>0,VLOOKUP(I201,PRETURI!$D$2:$F$1093,3,FALSE),\"\")","v":""},{"v":0,"d":"0.00"},{"$f":"IF(J201<>0,VLOOKUP(J201,PRETURI!$D$2:$F$1093,3,FALSE),\"\")","v":""},{"v":0,"d":"0.00"},{"$f":"IF(K201<>0,VLOOKUP(K201,PRETURI!$D$2:$F$1093,3,FALSE),\"\")","v":""},{"v":0,"d":"0.00"},{"$nulls":6},{"$f":"(Comanda!D218*Comanda!E218*Comanda!F218)*0.000001","v":{"v":0,"d":"0.00"}},null,{"$f":"IF(Comanda!H218=1,(Comanda!D218*0.001+$BL$2)*Comanda!F218,\"\")","v":""},{"$f":"IF(Comanda!I218=1,(Comanda!D218*0.001+$BL$2)*Comanda!F218,\"\")","v":""},{"$f":"IF(Comanda!J218=1,(Comanda!E218*0.001+$BL$2)*Comanda!F218,\"\")","v":""},{"$f":"IF(Comanda!K218=1,(Comanda!E218*0.001+$BL$2)*Comanda!F218,\"\")","v":""},null,{"$f":"IF(Comanda!H218=2,(Comanda!D218*0.001+$BL$2)*Comanda!F218,\"\")","v":""},{"$f":"IF(Comanda!I218=2,(Comanda!D218*0.001+$BL$2)*Comanda!F218,\"\")","v":""},{"$f":"IF(Comanda!J218=2,(Comanda!E218*0.001+$BL$2)*Comanda!F218,\"\")","v":""},{"$f":"IF(Comanda!K218=2,(Comanda!E218*0.001+$BL$2)*Comanda!F218,\"\")","v":""},null,{"$f":"IF(Comanda!H218=3,(Comanda!D218*0.001+$BL$2)*Comanda!F218,\"\")","v":""},{"$f":"IF(Comanda!I218=3,(Comanda!D218*0.001+$BL$2)*Comanda!F218,\"\")","v":""},{"$f":"IF(Comanda!J218=3,(Comanda!E218*0.001+$BL$2)*Comanda!F218,\"\")","v":""},{"$f":"IF(Comanda!K218=3,(Comanda!E218*0.001+$BL$2)*Comanda!F218,\"\")","v":""},null,{"$f":"IF(Comanda!H218=4,(Comanda!D218*0.001+$BL$2)*Comanda!F218,\"\")","v":""},{"$f":"IF(Comanda!I218=4,(Comanda!D218*0.001+$BL$2)*Comanda!F218,\"\")","v":""},{"$f":"IF(Comanda!J218=4,(Comanda!E218*0.001+$BL$2)*Comanda!F218,\"\")","v":""},{"$f":"IF(Comanda!K218=4,(Comanda!E218*0.001+$BL$2)*Comanda!F218,\"\")","v":""}]
[200,{"$f":"IF(Comanda!B219<>0,Comanda!B219,\"\")","v":""},{"$f":"IF(Comanda!C219<>0,Comanda!C219,\"\")","v":""},{"$f":"IF(Comanda!D219<>0,Comanda!D219,\"\")","v":""},{"$f":"IF(Comanda!E219<>0,Comanda!E219,\"\")","v":""},{"$f":"IF(Comanda!F219<>0,Comanda!F219,\"\")","v":""},{"$f":"IF(Comanda!G219<>0,1,0)","v":0},{"$f":"IF(Comanda!H219=1,Comanda!$C$13,IF(Comanda!H219=2,Comanda!$C$14,IF(Comanda!$H219=3,Comanda!$C$15,IF(Comanda!$H219=4,Comanda!$C$16,0))))","v":0},{"$f":"IF(Comanda!I219=1,Comanda!$C$13,IF(Comanda!I219=2,Comanda!$C$14,IF(Comanda!$I219=3,Comanda!$C$15,IF(Comanda!$I219=4,Comanda!$C$16,0))))","v":0},{"$f":"IF(Comanda!J219=1,Comanda!$C$13,IF(Comanda!J219=2,Comanda!$C$14,IF(Comanda!$J219=3,Comanda!$C$15,IF(Comanda!$J219=4,Comanda!$C$16,0))))","v":0},{"$f":"IF(Comanda!K219=1,Comanda!$C$13,IF(Comanda!K219=2,Comanda!$C$14,IF(Comanda!$K219=3,Comanda!$C$15,IF(Comanda!$K219=4,Comanda!$C$16,0))))","v":0},{"$f":"IF(Comanda!B219<>0,Comanda!$C$2,\"\")","v":""},{"$f":"IF(Comanda!B219<>0,Comanda!$C$5,\"\")","v":""},{"$f":"IF(Comanda!B219<>0,Comanda!$G$2,\"\")","v":""},{"$f":"IF(Comanda!B219<>0,Comanda!L219,\"\")","v":""},{"$f":"IF(Comanda!D219<>0,VLOOKUP('Formula Cant'!F202,'Grafica Cant'!$G$2:$H$25,2,FALSE),\"\")","v":""},{"$nulls":8},{"$f":"IF(Comanda!B219<>0,Comanda!$C$9,\"\")","v":""},{"$f":"IF(Comanda!B219<>0,VLOOKUP(Comanda!$C$12,PRETURI!$A$2:$C$500,3,FALSE),\"\")","v":""},"",{"$f":"IF(H202<>0,VLOOKUP(H202,PRETURI!$D$2:$F$1093,3,FALSE),\"\")","v":""},{"v":0,"d":"0.00"},{"$f":"IF(I202<>0,VLOOKUP(I202,PRETURI!$D$2:$F$1093,3,FALSE),\"\")","v":""},{"v":0,"d":"0.00"},{"$f":"IF(J202<>0,VLOOKUP(J202,PRETURI!$D$2:$F$1093,3,FALSE),\"\")","v":""},{"v":0,"d":"0.00"},{"$f":"IF(K202<>0,VLOOKUP(K202,PRETURI!$D$2:$F$1093,3,FALSE),\"\")","v":""},{"v":0,"d":"0.00"},{"$nulls":6},{"$f":"(Comanda!D219*Comanda!E219*Comanda!F219)*0.000001","v":{"v":0,"d":"0.00"}},null,{"$f":"IF(Comanda!H219=1,(Comanda!D219*0.001+$BL$2)*Comanda!F219,\"\")","v":""},{"$f":"IF(Comanda!I219=1,(Comanda!D219*0.001+$BL$2)*Comanda!F219,\"\")","v":""},{"$f":"IF(Comanda!J219=1,(Comanda!E219*0.001+$BL$2)*Comanda!F219,\"\")","v":""},{"$f":"IF(Comanda!K219=1,(Comanda!E219*0.001+$BL$2)*Comanda!F219,\"\")","v":""},null,{"$f":"IF(Comanda!H219=2,(Comanda!D219*0.001+$BL$2)*Comanda!F219,\"\")","v":""},{"$f":"IF(Comanda!I219=2,(Comanda!D219*0.001+$BL$2)*Comanda!F219,\"\")","v":""},{"$f":"IF(Comanda!J219=2,(Comanda!E219*0.001+$BL$2)*Comanda!F219,\"\")","v":""},{"$f":"IF(Comanda!K219=2,(Comanda!E219*0.001+$BL$2)*Comanda!F219,\"\")","v":""},null,{"$f":"IF(Comanda!H219=3,(Comanda!D219*0.001+$BL$2)*Comanda!F219,\"\")","v":""},{"$f":"IF(Comanda!I219=3,(Comanda!D219*0.001+$BL$2)*Comanda!F219,\"\")","v":""},{"$f":"IF(Comanda!J219=3,(Comanda!E219*0.001+$BL$2)*Comanda!F219,\"\")","v":""},{"$f":"IF(Comanda!K219=3,(Comanda!E219*0.001+$BL$2)*Comanda!F219,\"\")","v":""},null,{"$f":"IF(Comanda!H219=4,(Comanda!D219*0.001+$BL$2)*Comanda!F219,\"\")","v":""},{"$f":"IF(Comanda!I219=4,(Comanda!D219*0.001+$BL$2)*Comanda!F219,\"\")","v":""},{"$f":"IF(Comanda!J219=4,(Comanda!E219*0.001+$BL$2)*Comanda!F219,\"\")","v":""},{"$f":"IF(Comanda!K219=4,(Comanda!E219*0.001+$BL$2)*Comanda!F219,\"\")","v":""}]
[{"$nulls":4},"TOTAL",{"$f":"SUM(F3:F202)","v":0},{"$nulls":35},{"$f":"IFERROR(SUM(AP3:AP202),\"\")","v":0},null,"TOTAL CANT TIP 1",null,{"$f":"SUM(AR3:AU202)","v":0},null,null,"TOTAL CANT TIP 2",null,{"$f":"SUM(AW3:AZ202)","v":0},null,null,"TOTAL CANT TIP 3",null,{"$f":"SUM(BB3:BE202)","v":0},null,null,"TOTAL CANT TIP 4",null,{"$f":"SUM(BG3:BJ202)","v":0}]

{"sheet":"NOMECLATOR PARTENERI","index":6,"n_rows":8839,"n_cols":2,"rows_kept":8839,"hidden":true,"merged":[[8840,0,8840,1]]}
["Partener","Cod Fiscal"]
[" CHIRIAC I. MARIANA ÎNTREPRINDERE INDIVIDUALA","RO32086132"]
["2 B Group S.R.L.","RO16310946"]
["2 GAM S.R.L.","RO15419857"]
["24 EVONESS SRL","RO25728965"]
["24 Wood S.R.L.","RO22208291"]
["247 PRODUCTION ZONE S.R.L.","RO31833558"]
["292 DE LEMNE MEGAPROIECT DESIGN S.R.L.","34071383"]
["2A MOBILI S.R.L.-D","32900469"]
["300 BARIL PETROLEUM SRL","36448944"]
["353 NETWORKS PROFESSIONAL S.R.L.","RO29727377"]
["3D DESIRE CONCEPT S.R.L.","RO16833082"]
["3P DESIGN S.R.L.","RO17633996"]
["3m Performing S.R.L.","23723147"]
["4 Anotimpuri Turism S.R.L.","RO26403597"]
["4interior Amenajari S.R.L.","RO24431698"]
["7 Even S.R.L.","RO14750827"]
["A & B ACTIV GRUP SISTEM SRL","34043553"]
["A B Design S.R.L.","21955051"]
["A BLAST S.R.L.","RO44119438"]
["A GROUP & FOREST CT COMPANY S.R.L.","RO36489626"]
["A&M IMOB S.R.L.","RO24188980"]
["A&M TOTAL MOB S.R.L.","35545175"]
["A&O IMPORT EXPORT S.R.L.","RO4056098"]
["A.C.A. S.R.L.","RO8138140"]
["A.D. TEHNIC S.R.L.","RO6601204"]
["A.c.i. Lucrari Speciale S.R.L.","RO17725186"]
["A.m.c.-prodex S.R.L.","RO6717293"]
["A.v.a.m. S.R.L.","RO14756056"]
["AACS-CASA TRANS S.R.L.","RO12685021"]
["AAMI MOB PRODUCTION S.R.L.","RO37760617"]
["AB CONCRET S.R.L.","RO15825235"]
["ABABNEH DUMITROVICI","1840516124934"]
["ABAGIU DUMITRU-DAN","1790923034968"]
["ABALASEI MIHAELA","2680902335027"]
["ABAZA VALERIU","1731128216196"]
["ABC CAR SRL","RO16446710"]
["ABC PROIECT S.R.L","RO23978329"]
["ABICULESEI OVIDIU-DANIEL","1961111330201"]
["ABOUT OFFICE FURNITURE S.R.L.","RO6823979"]
["ABP ALINA CLUB SRL","RO11883896"]
["ABY MOB SOLUTIONS S.R.L.","RO28196579"]
["ABY-ANDY COM SRL","RO11176801"]
["AC MOBILE S.R.L.","RO15909492"]
["ACATRINEI A. ANGELA - I.I.","19426180"]
["ACCENT DESIGN S.R.L.","RO16700213"]
["ACCENT PRINT S.R.L.","RO14506530"]
["ACCES INVEST MOBILI S.R.L.","42096273"]
["ACCESMOB LINE S.R.L.","RO34788508"]
["ACCESORIA GROUP S.R.L.","RO17635849"]
["ACCESORIA S.R.L.","RO18586507"]
["ACCESORII PREMIUM S.R.L.","36991338"]
["ACEMI IMPEX S.R.L.","35223242"]
["ACHIRICAI MARIAN-CORNEL","5010305330251"]
["ACHITEI DANIEL","1810202070021"]
["ACHITEI FLORINELA","2950411336378"]
["ACIOBANITEI CARMEN","2810911070013"]
["ACIOCANESEI MELANIA","nedef."]
["ACROITORITEI IULIANA-MIHAELA","2870928336370"]
["ACSA PROIECT SRL","RO3221138"]
["ACSINTE VICTOR","1850319070057"]
["ACTUAL DESIGN S.R.L.","RO15937344"]
["ACTUAL TREND CREATIVE S.R.L.","39982970"]
["ACVA PROD ALBA SRL","RO27720852"]
["ACVABANC S.R.L.","RO14003910"]
["AD 94 GROUP SRL","RO31824398"]
["AD INTERIOR DESIGN STUDIO S.R.L.","44266501"]
["AD MONTAJ SOLUTION S.R.L.","RO29140495"]
["AD NIC PROD S.R.L.","24440874"]
["AD SKETCHES S.R.L.","RO37829599"]
["ADA INTERMAX  DECOR S.R.L.","RO29402731"]
["ADAM ADRIAN","1880731330252"]
["ADAM VASILE","1950225331907"]
["ADAN-PRODIMEX S.R.L.","3855348"]
["ADAPTIVA DESIGN S.R.L.","RO39833367"]
["ADASCALITEI CONSTANTIN","1770425073536"]
["ADATEROM S.R.L.","RO2052928"]
["ADATON LEX SRL ","RO33348380"]
["ADAVLAS SRL","RO30196074"]
["ADCON RENT SRL","RO39420310"]
["ADDA GRUP S.R.L.","RO15799047"]
["ADEBODY DESIGN PERFORMANCE S.R.L.","40587746"]
["ADECO GENERAL DISTRIB S.R.L.","RO36518268"]
["ADECOMOB DESIGN AMD S.R.L.","40321875"]
["ADELANTE ELITE DESIGN S.R.L.","RO27873350"]
["ADELINA CRACIUN BEAUTY CENTER SRL","39913571"]
["ADELMOB-DEMETER S.R.L.","16312378"]
["ADERA FURNITURE S.R.L.","39258871"]
["ADI & BALOG S.R.L.","RO37968970"]
["ADI CENTER LOGISTIC SRL","RO34050798"]
["ADI DOORS STYLE S.R.L.","40808707"]
["ADIGHERIN SRL","RO11360510"]
["ADIM 2012 SRL","RO29275298"]
["ADIMADA S.R.L.","RO14939363"]
["ADINA LEX MOB S.R.L.","RO21787683"]
["ADINAWOOD DESIGN S.R.L.","RO30488133"]
["ADIRA ART DESIGN S.R.L.","RO27945006"]
["ADIVALEX SRL","RO17730654"]
["ADIX TECHNIK S.R.L.","RO25191470"]
["ADM INSTAL SERVICE SRL","RO32348772"]
["ADMA DESIGN S.R.L.","RO24072870"]
["ADNAN OZCAN","1660116335026"]
["ADOBE SYSTEMS SOFTWARE IRELAND LTD","IE6364992H"]
["ADOC ADRIAN - IOSIF \"ADOC - A.I.\" P.F.A.","RO21086960"]
["ADOCHITEI P. PAVEL-LIVIU - DIRIGINTE DE  SANTIER","39109179"]
["ADOMNITEI ANCA","nedef."]
["ADOMNITEI CONSTANTIN","1481112334992"]
["ADOR MOBILA S.R.L.","RO30377160"]
["ADR CON PROIECT SRL","34082382"]
["ADRAVI SRL","RO22508019"]
["ADRIA SRL","RO718613"]
["ADRIAN MAROCICO","1820116134236"]
["ADRIANA PROD SRL","RO11190873"]
["ADSIMI-MOB S.R.L.","RO34210171"]
["ADUMITROAEI ALIN IONUT","1880201336371"]
["ADY PROFESSIONAL CONSTRUCT S.R.L.","RO23611224"]
["ADY TOMA SRL","RO7389933"]
["AER MOB LINE S.R.L.","37437960"]
["AEROSQUASH SRL","RO31712661"]
["AFACERI DE SUCCES ÎN DIVERTISMENT S.R.L.","35713570"]
["AFANASOV ANA MARIA","2980615330214"]
["AFI CAR UTILAJE SRL ","RO25328926"]
["AFI EXPRESS FIL S.R.L.","RO38127690"]
["AFI MEG S.R.L.","RO8508900"]
["AFIN REAL ESTATE ROMANIA S.R.L.","RO16001266"]
["AFLOAREI FLORIN ","1830316336525"]
["AFORM S.R.L.","RO16272931"]
["AGA MDA DESIGN S.R.L.","15830150"]
["AGACHE CONSTANTIN","1820901324828"]
["AGAFITEI IOAN","1730209078324"]
["AGAPE SPERANTA '96 SRL ","RO8432691"]
["AGD 2018 S.R.L.","RO39422108"]
["AGECOMSERVIS SRL","RO1381698"]
["AGENTIA NATIONALA DE ADMINISTRARE FISCALA","RO36878828"]
["AGEVIS TONY S.R.L.","13884154"]
["AGI MOB PROIECT S.R.L.","RO23966758"]
["AGIMOB CLASS S.R.L.","RO28630383"]
["AGNES MOBILI SRL","RO36423850"]
["AGO CONCEPT LINE S.R.L.","RO39847168"]
["AGPAV SRL","RO2008299"]
["AGREABIL COMIMPEX S.R.L","RO9588681"]
["AGRESSMOB S.R.L.","RO9182410"]
["AGRICOLA CHIOREAN S.R.L.","RO17182225"]
["AGRII ROMANIA SRL","RO1827872"]
["AGRIMPROD SRL","RO1416915"]
["AGRIRENT SRL","RO32466565"]
["AGRISTAR S.R.L.","RO974280"]
["AGRO CORONINI S.R.L.","RO15306475"]
["AGROLAND BUSINESS SYSTEM S.A.","RO25165241"]
["AGROTUR ART S.R.L.","RO28774133"]
["AGUIA SPEED S.R.L.","RO38358112"]
["AHAB-MOB S.R.L.-D.","37735931"]
["AIDIN PROIECT CONSTRUCT S.R.L.","RO38348240"]
["AILENEI CATALIN","1680605221197"]
["AILENEI LUCIA","2840721336388"]
["AILENI GEORGEL- SERGIU","1760410335000"]
["AILINCAI ANDREI ","nedef."]
["AILISOAEI ANDREI MIHAI","1881110330223"]
["AILOAE LUMINITA","2690522335021"]
["AILOAIE DUMITRU","1430920334991"]
["AIN DREAM TEAM S.R.L.","39304188"]
["AIOANEI BOGDAN","1790713330769"]
["AIOANEI PAUL-PETRU P.F.A.","36724861"]
["AIOANEI RAMONA","nedef."]
["AIOV SERVICE S.R.L.","RO30547817"]
["AIR FLEX SRL","RO15459525"]
["AIR TECH CONSULTING SRL","RO26916630"]
["AIX CASAMOBILI S.R.L.","RO30473337"]
["AKA DECORI S.R.L.","18911390"]
["AKE TOOLS S.R.L.","RO10635787"]
["AKT ROM STAR SRL","RO16943913"]
["AKU INVEST IMPORT-EXPORT S.R.L.","RO6544451"]
["ALBERGO PIEMONTESE S.P.A.","1409950167"]
["ALBERT ESTETIC DESIGN S.R.L.","RO27169932"]
["ALBINA RESTAURANTE SRL","RO40147443"]
["ALBIS MIHAELA MARIA","2770507270599"]
["ALBO CONSTRUCT AG S.R.L.","38189552"]
["ALBU DAN","1830503011177"]
["ALBUMO DECOR S.R.L.","RO39485831"]
["ALDEA ANISOARA","2530906330777"]
["ALDINI INVESTIMENTI S.R.L.","RO16395314"]
["ALDOMOB S.R.L.","20868755"]
["ALECSANDRESCU ANDREEA","2850505330521"]
["ALEJANDRA CONCEPT S.R.L","35204062"]
["ALERT IMPEX PROD COM SRL","RO9384010"]
["ALEVALI MOB S.R.L.","RO29829849"]
["ALEX & BIANCA AUTO STYLE SRL","RO23202521"]
["ALEX IULIANA","2620708334991"]
["ALEX MOBILIER S.R.L.","43203130"]
["ALEXA ALIN","1720314335031"]
["ALEXA CATALIN","1820405330257"]
["ALEXA FLORIN","1740329335000"]
["ALEXA IULIANA","2620708334991"]
["ALEXANDRU CRISTIAN","1760911070016"]
["ALEXANDRU I. PAUL I.I.","32997419"]
["ALEXANDRU MARIAN","1680718284451"]
["ALEXANDRU NISTOR","1861209324780"]
["ALEXBAU S.R.L.","RO31198049"]
["ALEXIA & MARA EXCLUSIV S.R.L.","29410920"]
["ALEXIANA GROUP S.R.L.","RO12059923"]
["ALEXIANA TIM S.R.L.","RO41887024"]
["ALEXIT & C S.R.L.","RO17402649"]
["ALEXSOR SRL","RO14456210"]
["ALEXUC MARIA ANCUTA","2910228336380"]
["ALFA-GEO-FOREST S.R.L.","RO20524050"]
["ALGA NOVA COMEX S.R.L.","RO8285477"]
["ALGIDA CENTER S.R.L.","RO15848999"]
["ALI DANGELO S.R.L.","RO33188017"]
["ALI GENERAL MOB S.R.L.","RO21970949"]
["ALIATUD MOB S.R.L.","RO41912500"]
["ALIMAR TRACTARI LAND S.R.L","27291467"]
["ALIMARI ROMPERFECT S.R.L.","RO29888012"]
["ALIMAS S.R.L.","16158806"]
["ALIMONI TURISM SRL","RO13121667"]
["ALINA APOPEI","nedef."]
["ALITOP SERVAUTO SRL","34314989"]
["ALL DESIGN TRADING S.R.L.","RO18194201"]
["ALL FOR HOME S.R.L.","17348736"]
["ALL SAB SRL D","35317355"]
["ALL SEASONS DESIGN S.R.L.","RO17837341"]
["ALL WOOD CONSTRUCT S.R.L.","RO41845746"]
["ALLEGRIA DESIGN S.R.L.","RO21357040"]
["ALLFORM GROUP S.R.L.","41778620"]
["ALLMONDOCAR","RO17423390"]
["ALLTRADE IDEALSERV S.R.L.","RO17535106"]
["ALMA BOREAL MOB S.R.L.","RO27781213"]
["ALMET CREATIV GRUP S.R.L.","RO29997516"]
["ALMET GRUP S.R.L.","RO11504780"]
["ALMIMOB S.R.L.","RO16188785"]
["ALNOOR COMPANY S.R.L.","21201996"]
["ALPHA CARGO EXPRESS SRL","RO31991523"]
["ALPHA CONSTRUCT SISTEM S.A.","RO14854372"]
["ALPIN 2003 SRL","RO15530765"]
["ALPIN 57 LUX S.R.L.","RO5900631"]
["ALPO S.R.L.","RO10757040"]
["ALROCO IMPEX","RO10099565"]
["ALRODY COM S.R.L.","RO7696482"]
["ALSIM RETAIL S.R.L.","RO39963820"]
["ALTA CONSULTING S.R.L.","17443940"]
["ALTERNATIV MOB S.R.L.","RO15734056"]
["ALTEX ROMANIA SRL","RO2864518"]
["ALTRIXMOBEL S.R.L.","32599588"]
["ALUCAI DANIELA","2750318335045"]
["ALUP AIR KOMPRESSOREN S.R.L.","RO27803761"]
["ALUPOAIE DORIN","1650610400357"]
["ALVEUS ROMANIA SRL","RO12034287"]
["ALVID PRODUCTIE S.R.L.","RO4599868"]
["ALWO THERM S.R.L.","RO13451177"]
["ALYDAN S.R.L.","RO15669756"]
["ALYDAVMOB  ART S.R.L.","38116321"]
["ALYOM PLUS","RO19044270"]
["AMA BUSINESS 2005 S.R.L.","17418858"]
["AMA FORTUNA SPORTS SRL","RO34310553"]
["AMA IMPEX S.R.L.","RO8442164"]
["AMA-TEX DISTRIBUTION S.R.L.","RO29968855"]
["AMANOLESEI DANIEL-IONUT","1830107330217"]
["AMARANDEI ADRIANA","2901227336671"]
["AMARAWOOD S.R.L.","RO35066261"]
["AMARIE ANDREI","1910306330553"]
["AMARIEI IRINA","2850510330216"]
["AMARILLO COMUNICACIONES SRL","RO38468409"]
["AMARIUTEI VASILE VLADIMIR","1820101047809"]
["AMBAFIN GRUP SRL","RO23310663"]
["AMBIENT DESIGN S.R.L.","17531406"]
["AMBIENT MOBILI S.R.L.","44645076"]
["AMBIENTAL DELUX MOB S.R.L.","39363893"]
["AMBIENTIC THERM S.R.L.","45111475"]
["AMBITERMO S.R.L.","25280038"]
["AMC TEHNOUTIL CONSTRUCT SRL","38769541"]
["AMERICAN RESTAURANT SYSTEM SA","RO6331682"]
["AMET BIRSEN","1641027131213"]
["AMET REMZI","1780621135599"]
["AMETART S.R.L.","37408450"]
["AMI-RAN COMPANY SRL","RO34880066"]
["AMI-TEAM CONCEPT LINE S.R.L.","44947708"]
["AMIGO JUNIOR S.R.L.","RO16787830"]
["AMITEL IMPEX S.R.L.","RO10003438"]
["AMORF CONS SRL","30453780"]
["AMP REST STYL SRL","RO25393207"]
["AMRO AUTO S.R.L.","RO19379879"]
["AMVEKO INDUSTRY SRL","RO30027237"]
["AN-DOR CONT EXPERT ASIG SRL","27693820"]
["ANA FABRIQUE S.R.L.","40236508"]
["ANA HOTELS SA","RO5479061"]
["ANA MOBILA LUX S.R.L.","27163344"]
["ANA NEDEA","2840807460059"]
["ANAIRA ART MOB S.R.L.-D","37614875"]
["ANALUX FREE DESIGN S.R.L.","33179434"]
["ANANIA AUTO CENTER SRL","RO28731612"]
["ANASTASIA DESIGNE S.R.L.","36285324"]
["ANASTASIU ANDREI","1820217420143"]
["ANASTEMAR SRL-D","RO35779222"]
["ANAVAS S.R.L.","RO15999525"]
["ANCA FARM S.R.L.","RO13150581"]
["ANCA MORARIU","2880207330205"]
["ANCHIDIN DORU","nedef."]
["ANCROMA PROD S.R.L.","RO6683573"]
["ANCUTA ANCA-NADIA P.F.A","30745563"]
["ANDACIO SRL","RO15855481"]
["ANDOR CONTEXPERT SRL","33099815"]
["ANDOR INTERNATIONAL SRL","RO3405106"]
["ANDORA STYLE S.R.L.","RO18934288"]
["ANDRADA MOB S.R.L.","RO15324579"]
["ANDREAS MOB S.R.L.","41344451"]
["ANDREI CAMELIA","2671014070024"]
["ANDREI IULIAN","1820817330535"]
["ANDREI NARCIS-GEORGIAN I.I.","41161039"]
["ANDREICA RAZVAN","1660602120681"]
["ANDREICA VASILE","1620522120641"]
["ANDRIES ANA-MARIA","2790905272707"]
["ANDRIES MIHAELA","2760806221244"]
["ANDRIES VASILE","1791231440072"]
["ANDRISAN MADALINA ELENA","2830525336391"]
["ANDRONACHE IULIAN","1810108297258"]
["ANDRONACHE ONOREL","nedef."]
["ANDRONACHE VASILE","1510203334991"]
["ANDRONIC IOAN","1561124334993"]
["ANDRONICESCU ANA","nedef."]
["ANDRUSCA CONSTANTIN","nedef."]
["ANDRUSCA IONUT-CONSTANTIN","1951201244058"]
["ANDRUSCA MIHAELA","2800213332777"]
["ANDU IOANA SRL","RO16971565"]
["ANEMONE SRL","RO22588832"]
["ANEMONICA PARK S.R.L.","RO38889173"]
["ANGAPA PROD S.R.L.","40618249"]
["ANGELTRANS S.R.L.","RO18289549"]
["ANGHELACHE MARIAN","1701122390680"]
["ANGHELACHE NICOLETA","2750724290095"]
["ANGHELINEI ANDREI","1931203330233"]
["ANGHELUS LUMINITA","nedef."]
["ANGHELUTA ADRIAN","1750131370048"]
["ANGHELUTA CRISTIAN","1770116080067"]
["ANGI-GAB SRL","RO20821248"]
["ANIDA S.R.L.","4248050"]
["ANIMA MUSIC SRL","35337115"]
["ANIMA VISION SRL","RO27645955"]
["ANIROS MOBEX S.R.L.","30257198"]
["ANIS CONSULTING SRL","17906948"]
["ANISIA DANA","nedef."]
["ANISIA WORLD GSM 2012 S.R.L.","RO31004096"]
["ANISIE MIHAELA","2791022335039"]
["ANITEI IONUT","1891122071369"]
["ANKYS MOB S.R.L.","RO26220824"]
["ANOA S.R.L.","RO32369988"]
["ANSERO MOB S.R.L.","31423922"]
["ANTADA COM S.R.L.","RO17967295"]
["ANTARES ROMANIA S.R.L.","RO10868022"]
["ANTEMIUC VASILE","1831223336693"]
["ANTENA TV GROUP SA","RO1599030"]
["ANTO ORIGINAL DESIGN S.R.L.","RO26678806"]
["ANTOCI IOAN","1820619336390"]
["ANTON  DUMITRU-IOAN","1861007330227"]
["ANTONESCU ALEXANDRU","1870320336375"]
["ANTONESCU ALEXANDRU-OCTAVIAN","1890304440014"]
["ANTONESCU LARISA ","nedef."]
["ANTONESCU NICOLETA","nedef."]
["ANTONESEI CIPRIAN","nedef."]
["ANTONIAC LUCIAN","1870212330215"]
["ANTONORD S.R.L.","RO11118410"]
["ANTONOVICI ANCA","nedef."]
["ANTONOVICI GHEORGHE","1481229334990"]
["ANTOSICA DOREL","1750925070065"]
["ANTRA PROD. S.R.L.","RO13215621"]
["ANTRAMICONS SRL","31645856"]
["ANVELO CENTER SRL","RO4705772"]
["ANVELOSTEF S.R.L.","RO18641067"]
["ANY PLACE MEDIA S.R.L.","RO24172712"]
["AP COMMERCIAL S.R.L.","RO30285481"]
["APAN MOTORS SRL","RO13680057"]
["APARECE GHEORGHE FLORIN","1790327335102"]
["APARTAMENTUL S.R.L. (BOTOSANI)","RO7744083"]
["APARTAMENTUL S.R.L. (IASI)","RO1995795"]
["APATEAN RAMONA","nedef."]
["APAVALOAIE ION","1750823334991"]
["APETREI ANDREI","nedef."]
["APETREI CATALIN ","nedef."]
["APETREI CRISTIAN","1830328335866"]
["APETREI NICOLAE","1761206205682"]
["APETREI NICUSOR","1941205330210"]
["APETREI OVIDIU","1830408330800"]
["APETRI MIHAI","1860520330541"]
["APETROAEI EMERENTIAN","1861220270933"]
["APETROAEI LILIANA","2670707075098"]
["APIMOND S.R.L.","RO1952506"]
["APIUM CORPORATION S.R.L.","RO36491383"]
["APOPEI GABRIEL","1880605336385"]
["APOPEI GEORGE-TUDOR P.F.A.","32354316"]
["APOPEI PAVEL","nedef."]
["APOSTOAIE EMIL","nedef."]
["APOSTOL GEORGE ALEXANDRU","1880824330224"]
["APOSTOL ION","nedef."]
["APOSTOL IONUT","1780120226378"]
["APOSTOL SORIN","1760602335032"]
["APPLE MOB DESIGN S.R.L.","RO41388377"]
["APULUM ARTMOB S.R.L.","38102490"]
["APUSENI MOB S.R.L.","35761217"]
["AQUA AUTI SRL","38443102"]
["AQUA ELECTRIC GROUP S.R.L.","RO17984644"]
["AQUAREFINISH EST S.R.L.","RO22389511"]
["ARABESQUE SRL","RO5340801"]
["ARAMIS FEELING S.R.L","RO7437437"]
["ARC TOUR BUSINESS S.R.L.","RO25822988"]
["ARCA HOBBER SRL","RO32194495"]
["ARCADE CAFE S.R.L.","RO15966927"]
["ARCADIA CARDIO SRL","26333149"]
["ARCADIA HOSPITAL SRL","24948610"]
["ARCADIA POLICLINIC SRL","26181750"]
["ARCADIO FILITTI BOUTIQUE S.R.L.","RO40546711"]
["ARCAS - WOOD S.R.L","24698092"]
["ARCH S.R.L.","RO9478670"]
["ARCOFRUCHT SAFT BUCOVINA SRL","6908706"]
["ARDELEAN ALEXANDRU","nedef."]
["ARDELEAN ANDREI","1850325245066"]
["ARDELEAN MARIOARA","nedef."]
["ARDELEAN NICOLAE \"ARDELEAN\" P.F.A.","20330607"]
["ARDELEANA TISA FLEXIBLOC  S.R.L.","RO33323890"]
["ARDELEANU MIHAI","nedef."]
["ARDELEANU SANDA MARIA","2540810334997"]
["ARDUDANA S.R.L.","RO6043507"]
["AREDO. LIV. S.R.L.","RO36244928"]
["AREMYS LAND SRL","RO30420316"]
["ARENTAL EXIM S.R.L.","RO7099980"]
["ARGATU DANIEL","1791028335009"]
["ARGATU GAVRIL","1701017330796"]
["ARGENTINE BAR & RESTAURANT SRL ","RO12409034"]
["ARHCORB S.R.L.","RO34511328"]
["ARHEXPERT STUDIO S.R.L.","RO30702406"]
["ARHIMAR SERV S.R.L.","RO10390873"]
["ARHIMODUS SERV S.R.L.","30414667"]
["ARI'S S.R.L.","RO2309410"]
["ARIAMOB S.R.L.","RO17127778"]
["ARICIUC CATALIN","1830305460012"]
["ARINVEST HOLDING S.R.L.","RO38635841"]
["ARIONESEI NICU","1830131070028"]
["ARISERIC MOB S.R.L.","30830294"]
["ARMANU CRINA","2840518336384"]
["ARMAX S.R.L.","6581395"]
["ARMER STEFAN","nedef."]
["ARNIA TOURISM SRL","RO34050666"]
["AROND S.R.L.","RO14576594"]
["AROX EQUIPMENT S.R.L.","RO23646540"]
["ARPY SERVICE SRL","17099562"]
["ARRIBA S.R.L.","RO11435299"]
["ARSENAL EXPO S.R.L.","RO11476515"]
["ARSIS TRADING SRL","RO436787"]
["ART & CONSULT ENGINEERING S.R.L.","RO22457160"]
["ART DECOR CONCEPT DESIGN S.R.L.","RO29486597"]
["ART DECOR S.R.L.","RO15578542"]
["ART ENTER S.R.L.","RO11820987"]
["ART MOB DESIGN S.R.L.","RO15721781"]
["ARTA IN LEMN SZASZ S.R.L.","5458182"]
["ARTA LURATO S.R.L.","RO387692"]
["ARTA SI DESIGN DORNA ADD S.R.L.","RO30667120"]
["ARTEMOB INTERNATIONAL S.R.L.","RO8102405"]
["ARTEZAN S.R.L.","RO11998543"]
["ARTGRANIT SRL","RO32311811"]
["ARTICOLOR S.R.L.","RO25660851"]
["ARTISMOB INVEST S.R.L.","30549265"]
["ARTIST MOB COLOR S.R.L.","RO42297749"]
["ARTITAL PRODUCTION S.R.L.","12445142"]
["ARTMOB S.R.L. (CONSTANTA)","RO22385862"]
["ARTTEK WOOD DESIGN S.R.L.","RO28396330"]
["ARVA S.R.L.","RO3589319"]
["ARVAI EUGEN","1460927336049"]
["ARY & DAVID EXIMCOM S.R.L.","RO36956560"]
["AS AUTOSTARTER PARTS S.R.L.","RO24540520"]
["AS SERGMOB S.R.L.","35055726"]
["AS-COR BAR S.R.L.","RO4841596"]
["ASAFTEI IULIAN-CIPRIAN","1840713330221"]
["ASANDEI ROZALIA","2770712334996"]
["ASC DESIGN S.R.L.","32626100"]
["ASCEND SALES S.R.L.","RO27952526"]
["ASCENDIS WELLNESS SRL","RO37259803"]
["ASCENT HUMAN CAPITAL SRL","RO25092220"]
["ASCON FURNITURE S.R.L.","29834888"]
["ASCONF SRL","RO 7143440"]
["ASHENY SRL","RO33989350"]
["ASIG ADES S.R.L.","18282672"]
["ASIMODA IMPEX S.R.L.","RO12496740"]
["ASISGER S.R.L.","RO34948978"]
["ASIVALS E&E S.R.L.","RO25271048"]
["ASMOBDESIGN S.R.L.","35370464"]
["ASMU Vasile Andriu","19179838"]
["ASOCIATIA \"ALFRED FRONIUS\" ","22055996"]
["ASOCIATIA \"JUNIOR C. SUCEAVA\" - JCS","26382907"]
["ASOCIATIA DE STANDARDIZARE DIN ROMANIA","RO11134288"]
["ASOCIATIA EDU MAX","27072408"]
["ASOCIATIA EDUCATIE PENTRU TOTI COPIII","RO29467862"]
["ASOCIATIA MISSION KWASIZABANTU SUCEAVA","30627754"]
["ASOCIATIA RADACINI SI ARIPI","15153860"]
["ASPAD COM S.R.L.","RO12863889"]
["ASPECTO FURNITURE S.R.L.","RO32898458"]
["ASSERAF NINA","2500403335011"]
["ASTEL MOBILE SRL","RO30262950"]
["ASTRID MEDIA PRODUCTION SRL ","RO28313253"]
["ASU SMART DISTRIBUTION S.R.L.","RO33218657"]
["ATELIER 79 FURNITURE S.R.L","41228759"]
["ATELIER CARSOPH DESIGN S.R.L.","41422606"]
["ATELIER DE CREATIE CUBO S.R.L.","39527597"]
["ATELIER GOGY S.R.L.","RO5964953"]
["ATELIER GRAPHIC LINE S.R.L.","RO40587550"]
["ATELIER I & G ARTMOB S.R.L.","41737728"]
["ATELIER PIXEL DESIGN S.R.L.","41021361"]
["ATELIER RETRODRAFT S.R.L.","RO25787899"]
["ATELIER WOOD FACTORY S.R.L.","RO40278015"]
["ATELIERELE COSOVANU S.R.L.","RO37930436"]
["ATELIERELE DE BUCATARII CANGUR S.R.L.","41048235"]
["ATELIERELE NOD S.R.L.","37938804"]
["ATELIERELE PAP S.R.L.","36213794"]
["ATELIERUL DE DESIGN IMPEX S.R.L.","RO31471032"]
["ATELIERUL DE MOBILA S.R.L.","RO29098943"]
["ATELIERUL MESTESUGARILOR PRICEPUTI S.R.L.","40728713"]
["ATELIERUL STEFAN MOB S.R.L.","34985321"]
["ATIFRANK S.R.L.","23508386"]
["ATIP DESIGN S.R.L.","RO10726222"]
["ATL ECOSISTEM S.R.L.","32172802"]
["ATLANTIC TRAVELS INTERNATIONAL SRL","RO21979506"]
["ATLASROM S.R.L.","23319174"]
["ATM DECOR MOBILI S.R.L.","RO34979702"]
["ATODIRESEI CONSTANTIN","nedef."]
["ATOZ BEST SERVICES S.R.L.","RO28639137"]
["ATRIUM CREATIV S.R.L.","RO31178696"]
["ATRIUM S.R.L.","RO17781020"]
["ATRIX DECORATION S.R.L.","RO17354835"]
["ATTI CREATIVE S.R.L.","RO17684370"]
["ATTRIUS DEVELOPMENTS SRL","RO37160477"]
["ATU INTERNATIONAL S.R.L.","RO13658653"]
["ATU TECH S.R.L.","RO 29104875"]
["AUGMENT SRL","RO13521272"]
["AUGSBURG INTERNATIONAL","34616006"]
["AUGSBURG INTERNATIONAL IMPEX SRL","RO7904419"]
["AUGUSTIN FURNITURE S.R.L.","42596317"]
["AUGUSTIN PRODUCTION S.R.L.","RO30196210"]
["AUR BOGDAN DRAGOS","1870926375506"]
["AUR DANUT","1650223370010"]
["AURDECO S.R.L.","20629952"]
["AUROCON COMPEC S.R.L.","RO11489566"]
["AUTHENTISYS SRL","RO21459333"]
["AUTO ADRIA S.R.L.","RO16144169"]
["AUTO ALBINA SRL","RO30376679"]
["AUTO ART FASHION S.R.L.","RO23151509"]
["AUTO COM TOTAL SRL","RO8845442"]
["AUTO DANIVAL S.R.L.","16911148"]
["AUTO DRIVE CARS SRL","40311120"]
["AUTO ELECTRICA","RO23102735"]
["AUTO EUROPE","800596891"]
["AUTO MAK PROFESIONAL SRL","RO31212798"]
["AUTO MALL SERVICE SRL","RO18284223"]
["AUTO MASTER DEAL SRL","RO35262489"]
["AUTO MEDIAZIV SRL","RO9063142"]
["AUTO NAHARNEAC SRL","RO712254"]
["AUTO PROTECT SRL","RO24459427"]
["AUTO SCHUNN S.R.L.","RO6336590"]
["AUTO SERVICE IULIUS SRL","RO17912982"]
["AUTO SPA CONCEPT S.R.L.","40444614"]
["AUTO TEILE S.R.L.","RO18356036"]
["AUTO TEST BUCOVINA SRL","RO29780567"]
["AUTO TRANS COM SRL","RO13930293"]
["AUTO VOICU SRL ","RO13340675"]
["AUTO-MOTO S.R.L.","RO739390"]
["AUTO3P(EUROPE) ROMANIA SRL","RO27827370"]
["AUTOCONTACT PIESE IMPORT","RO26546805"]
["AUTODIAS IMPEX SRL","RO7849314"]
["AUTOFARM ZONE SRL","RO31669464"]
["AUTOFULL SERVICE","RO14377460"]
["AUTOFYG SRL","RO28880258"]
["AUTOHUT ONLINE","RO30160259"]
["AUTOKLASS CENTER SRL","RO15134434"]
["AUTOMATIC CONTROL SRL","RO22525966"]
["AUTOMATIST S.R.L.","RO33211535"]
["AUTOMOB ALBA S.R.L.","40382597"]
["AUTOMOBILE JURIC","DE250946915"]
["AUTONET SRL","RO11170051"]
["AUTOPARBRIZ","RO30297559"]
["AUTOROL PLUS SRL","RO28643928"]
["AUTOROM SERV SRL","RO7874490"]
["AUTOSERV ZIMBRU S.R.L","34100470"]
["AUTOSERVICE S.R.L.","RO739438"]
["AUTOSLIM SV SRL","RO27994785"]
["AUTOZIAN G&G SRL","RO31974719"]
["AVA DESIGN GROUP S.R.L.","RO22387480"]
["AVA GROUP CONTRACT S.R.L.","RO43501439"]
["AVADANEI NATALIA","2540607274787"]
["AVANGARD CONCEPT SOLUTIONS S.R.L.","37403703"]
["AVANGARD MOB CLASS S.R.L.","RO36049560"]
["AVANTAGE S.R.L.","RO1119973"]
["AVANTAJ TEXTIL ONLINE S.R.L.","RO32800281"]
["AVANTI CONSTRUCT S.R.L.","RO22421221"]
["AVANTI RO S.R.L.","RO14220472"]
["AVARVAROAEI MIHAELA","2670901334999"]
["AVASILOAEI BOGDAN CORNEL","1820814070022"]
["AVD TURBO SRL","RO18783487"]
["AVENUE CARS SA","RO17187630"]
["AVEX WOODWORKING S.R.L.","42436219"]
["AVI-CARTIS S.R.L.","RO13880365"]
["AVIS BUDGET ITALIA SPA","IT 00886991009"]
["AVRAM RAZVAN","1790325413023"]
["AVRAMIA ANDREI","nedef."]
["AVSEC GUARD CONSULT SRL ","RO35220831"]
["AWA GOOD TRADING S.R.L.","RO29289927"]
["AXA QY PROXIM S.R.L.","RO3789872"]
["AXE MOBILIER S.R.L.","RO15745756"]
["AXENTE BOGDAN","1770708334995"]
["AXET-VGP IMPEX S.R.L.","RO6727580"]
["AXI FLOR DESIGN S.R.L.","RO26041195"]
["AXINTE ALEXANDRU","1750704335051"]
["AXINTE ION","1720224336068"]
["AXM PROD 93 SRL","RO6545856"]
["AXORMI SERV S.R.L.","RO15429818"]
["AXY PRODUCTION S.R.L.","RO34914029"]
["AYANELV SRL","27823149"]
["AYLINE SRL","RO15231321"]
["AZARIA FARM S.R.L.","RO17811236"]
["AZTECA SRL","RO16059470"]
["AZZURO COMIMPEX SRL","RO15971702"]
["Ab Star Grup S.R.L.","RO18385333"]
["Abac S.R.L.","1998759"]
["Ability Consulting S.R.L.","16798937"]
["Acant S.R.L.","10350968"]
["Acarom S.R.L.","RO24543888"]
["Accept Software S.R.L.","RO8830964"]
["Accolade S.R.L.","RO21451135"]
["Acet S.A.","RO713519"]
["Acryl Europe KFT","HU12230651"]
["Activas Proimpex S.R.L.","RO6860420"]
["Activsor Construct S.R.L.","24375768"]
["Activus Magister Ivv S.R.L.","RO16824033"]
["Acurom S.R.L.","2560896"]
["Ad Auto Total S.R.L.","RO6844726"]
["Ad Logis Consult S.R.L.","RO25875486"]
["Ada-belle S.R.L.","RO13735527"]
["Addvances S.R.L.","RO15101518"]
["Adelaida Impex S.R.L.","RO2290768"]
["Adelaine-star S.R.L.","RO11066574"]
["Adems S.R.L.","RO3911227"]
["Adi-nelly Motors S.R.L.","RO30274407"]
["Adicost Distribution S.R.L.","16592839"]
["Adma Impex S.R.L.","RO3776910"]
["Admet S.R.L.","RO6900141"]
["Administra?ia Bazinala De Apa Siret","RO18264854"]
["Administratia Patrimoniului Protocolului De Stat Ra","RO2351555"]
["Adnandra Invest S.R.L.","17394287"]
["Adrian Restaurante S.R.L.","RO11190989"]
["Adyasv S.R.L.","RO18748943"]
["Aeroportul Stefan Cel Mare Suceava","RO713454"]
["Agache S.R.L.","RO5313939"]
["Agdesy","10722344"]
["Agentia Nationala De Presa Agerpres","4266448"]
["Agentia Pentru Agenda Digitala A Romaniei","RO32722680"]
["Agentia Pentru Finantarea Investitiilor Rurale","13533790"]
["Agentia Pentru Serviciile Societatii Informationale","22686989"]
["Agremin Trans S.R.L.","RO16080189"]
["Agrimotor S.R.L.","33236815"]
["Agroctas S.R.L.","RO29570875"]
["Agroprema S.R.L.","RO9230097"]
["Agrostar Constanta S.A.","RO1863611"]
["Agrovest Impex S.R.L.","RO8771116"]
["Agrovib S.R.L.","RO21567505"]
["Agvila International S.R.L.","RO18209582"]
["Aidon Unix S.R.L.","RO27448520"]
["Aikom Invest S.R.L.","RO16766463"]
["Airpack S.R.L.","RO15561451"]
["Al-crin S.R.L.","RO18957389"]
["Albalux Com S.R.L.","RO6147117"]
["Albatros S.R.L.","RO1932290"]
["Albertemma S.R.L.","RO18480050"]
["Albertino Star S.R.L.","RO8028880"]
["Albrom S.R.L.","RO21871937"]
["Alcadibo Trading S.A.","RO6748664"]
["Alcor Trading & Consulting S.R.L.","RO1595500"]
["Alda Prodsercom S.R.L.","717057"]
["Alegria Total S.R.L.","RO27741731"]
["Alenada Comimpex S.R.L.","RO4438900"]
["Alessia Line S.R.L.","RO16577383"]
["Alex John S.R.L.","RO137203"]
["Alex Mioli S.R.L.","28764830"]
["Alex&stef Oil S.R.L.","RO19379364"]
["Alexia Magic House S.R.L.","RO26458320"]
["Alexion S.R.L.","RO15194592"]
["Alfa Glass S.R.L.","21089281"]
["Algernon Impex S.R.L.","RO4900080"]
["Alias Design S.R.L.","RO19173657"]
["Alimentatie Publica \"tera-com\" S.R.L.","RO2970810"]
["Alin for you","RO14511889"]
["Alina Cressus Gold S.R.L.","28141409"]
["All Season Sport S.R.L.","RO28731523"]
["All Seasons Sv S.R.L.","RO29031650"]
["Alliance S.A.","23965701"]
["Almig Romania S.R.L.","RO23019860"]
["Alotropic S.R.L.","RO16760169"]
["Alpha House Construct S.R.L.","RO23963018"]
["Alpha Servicii Medicale S.R.L.","28024891"]
["Alpin Ad Farma S.R.L.","RO27764794"]
["Alpro Creative Concept S.R.L.","27433405"]
["Alsace Mod S.R.L.","RO7298584"]
["Altexpert S.R.L.","20818528"]
["Alumet S.R.L.","13074425"]
["Alumil Rom Industry S.A.","RO10042631"]
["Alupkompressoren Romania S.R.L.","16460854"]
["Alvileti Center S.R.L.","RO6296127"]
["Aly-ony S.R.L.","17326371"]
["Ama Com Grup S.R.L.","RO17576700"]
["Amadeea Design S.R.L.","22161733"]
["Amazon Term S.R.L.","RO27391423"]
["Amb Redya S.R.L.","RO32634731"]
["Amb Tractari S.R.L.","RO30346295"]
["Ambi Com S.R.L.","RO24969027"]
["Ambro S.A.","RO2691530"]
["Amint S.R.L.","RO15693452"]
["Amw Imobiliare S.R.L.","RO16783782"]
["Ana & Eduard C.n.s. S.R.L.","RO18431162"]
["Ana Prod 2000 S.R.L.","RO19126353"]
["Ana Rom Security S.R.L.","RO34804263"]
["Anasped S.R.L.","RO23979235"]
["Anavio S.R.L.","24681376"]
["Anda S.R.L.","RO2363436"]
["Andalex Impex S.R.L.","RO7175174"]
["Andalex S.R.L.","RO8816048"]
["Andredennis Exim S.R.L.","RO5883476"]
["Andrimona Prest Com S.R.L.","RO10198445"]
["Andy & V S.R.L.","RO22548145"]
["Antilopa Invest S.R.L.","RO6180881"]
["Anusca Palace Hotel SRL","3623451204"]
["Apan S.R.L.","RO2258503"]
["Apli-Mi KFT","HU13913706"]
["Apollo Management S.R.L.","RO30920591"]
["Aqua Tph S.R.L.","RO25082103"]
["Araisa Group S.R.L.","RO21730059"]
["Aral S.R.L.","RO5925490"]
["Aralstation","DE118616994"]
["Aramaforest S.R.L.","RO26336137"]
["Aramia Gold Hotels S.R.L.","RO26205930"]
["Aramis S.R.L.","RO1209545"]
["Arau Stere Intreprindere Individuala","RO27089361"]
["Arcis Gold S.R.L.","RO28923324"]
["Arcons S.R.L.","11458098"]
["Arcoplast Anvelope S.R.L.","RO28694050"]
["Ardava S.R.L.","RO10389097"]
["Arhimarian S.R.L.","RO19194234"]
["Arhitect S.R.L.","RO10648949"]
["Arhitectura & Mobili S.R.L.","RO24632136"]
["Arhitectura-grafica-design S.R.L.","RO5910783"]
["Arhtelier Srl-d","RO28157340"]
["Arnoco S.A.","11815158"]
["Arobs Transilvania Software S.A.","RO11291045"]
["Art Petrol Service S.R.L.","RO30676862"]
["Artdom Concept S.R.L.","31292789"]
["Artoil Service S.R.L.","RO30688735"]
["Artpeisaj S.R.L.","RO16082864"]
["Artpromo S.R.L.","RO17483457"]
["Artra S.R.L.","RO8420689"]
["Asemis Lux S.R.L.","RO27667791"]
["Asi Card S.R.L.","18297592"]
["Asico Trans S.R.L.","RO6726321"]
["Asirom Vic SA","717995"]
["Asocia?ia \"florian Liviu\"","RO17242351"]
["Asociatia \"kult Art\"","27955166"]
["Asociatia \"lumina Lina\"","17298794"]
["Asociatia ''newco Si Amicii ''","RO30039169"]
["Asociatia Bolnavilor De Cancer Suceava","21184607"]
["Asociatia Ctif Din Romania","15854400"]
["Asociatia De Dezvoltare Intercomunitara De Gestionare A De?eurilor In Jude?ul Suceava","25691947"]
["Asociatia De Ecoturism Din Romania","16224284"]
["Asociatia De Proprietari \"obcini Metro\"","17379023"]
["Asociatia De Proprietari Nr.3 Suceava","8230536"]
["Asociatia Derzelas","RO30747335"]
["Asociatia Internationala A Politistilor Sectia Romana Regiunea 1 Suceava","24692162"]
["Asociatia Intreprinzatorilor Mici si Mijlocii Din Judetul Suceava","8130030"]
["Asociatia Mestesugarilor\"nemteanca\"","13865098"]
["Asociatia Producatorilor De Mobila Din Romania","RO7613800"]
["Aspera Curs S.R.L.","16831804"]
["Assist Software S.R.L.","RO2693736"]
["Atac S.R.L.","RO13858082"]
["Atelier Celebro S.R.L.","RO28232426"]
["Ati Motors Holding S.R.L.","RO15903511"]
["Atp - Exodus S.R.L.","RO7366654"]
["Atris S.R.L.","RO1388033"]
["Auchan Romania S.A.","RO17233051"]
["Augustus S.R.L.","RO5203600"]
["Auras Com S.R.L.","RO6036119"]
["Aurocar 2002","RO11690410"]
["Austin Junior S.R.L.","RO28083340"]
["Auto Aiss S.R.L.","RO17246418"]
["Auto Ama S.R.L.","18908505"]
["Auto Confort S.R.L.","RO718222"]
["Auto Expert Plus S.R.L.","RO25524744"]
["Auto Group C.m.b. S.R.L.","RO13841617"]
["Auto Onest S.R.L.","19206150"]
["Auto Power 2000 S.R.L.","RO15573065"]
["Auto Technology Team Dgm S.R.L.","RO26932334"]
["Auto Variant S.R.L.","RO24132360"]
["Auto-oil 2000 S.R.L.","13304931"]
["Autodot ro","24543233"]
["Autokid Service S.R.L.","RO26324760"]
["Autoline S.R.L.","RO725599"]
["Automobil Clubul Roman (a.c.r.)","RO1590139"]
["Automobile Vitalis Ag S.R.L.","RO22139388"]
["Automotive Lux S.R.L.","RO27886325"]
["Autorom S.R.L.","RO11759660"]
["Autosport System S.R.L.","RO17311834"]
["Autotaller S.R.L.","RO24308831"]
["Autotest Car Service S.R.L.","26095241"]
["Autotransport Exim S.R.L.","RO16722149"]
["Autoworld S.R.L.","RO225615"]
["Avantec Protect Service S.R.L.","RO8420816"]
["Avenir Telecom S.A.","RO9452492"]
["Averson-steel S.R.L.","RO3359964"]
["Ax Perpetuum Impex S.R.L.","RO6818298"]
["Axa Magnolia S.R.L.","RO13941772"]
["Axelen Impex S.R.L.","RO6494353"]
["Aximob Art S.R.L.","24787572"]
["Axiotas Prodcom S.R.L.","RO9505520"]
["Axot S.R.L.","RO513324"]
["B & J Com S.R.L.","RO6285403"]
["B & T SRL","RO1818831"]
["B 90 Impex S.R.L.","RO1153975"]
["B&G MOBILA SI ACCESORII S.R.L.","30982578"]
["B&O ROM-CASON S.R.L.","RO7980440"]
["B-SAT INVEST S.R.L.","10823969"]
["B. Braun Avitum S.R.L.","RO23517392"]
["B.I.ANDRU S.R.L.","RO9261298"]
["B.I.G.-T CONS SERV S.R.L.","RO6880583"]
["B.M STAR REIFEN SRL","33450834"]
["B.REPP-KFZ.HANDEL FRANZ","DE182058131"]
["B.Y.C. 2005 S.R.L.","RO17177709"]
["B.f.c. Allianz Grup S.R.L.","RO16330595"]
["B.g.media S.R.L.","RO17018169"]
["B.n.business S.R.L.","RO10933694"]
["B.r.a.n.d. New M.a.g.i.c. Serv S.R.L.","RO30431056"]
["BABALEAN MIHAELA","2891014330562"]
["BABEII LUMINITA","2760211335016"]
["BABINSKI ZOLTAN P.F.A.","RO42589450"]
["BABUC DANIEL","1801122336529"]
["BACIOIU IMPORT EXPORT S.R.L.","RO1905016"]
["BACIU CATALIN","1770122335041"]
["BACIU IOAN","1570511334991"]
["BACO PRODCOM S.R.L.","RO14841720"]
["BADALUTA CATALIN","nedef."]
["BADALUTA DANIELA","2810331330244"]
["BADALUTA ION","1761019131216"]
["BADEA BOGDAN","1830712284543"]
["BADEA BOGDAN","1801011134225"]
["BADEA ION","1760816250563"]
["BADELITA IOAN","1590918333199"]
["BADELITA MIHAI","1891225330531"]
["BADOIU A. LUCIAN GHEORGHE P.F.A.","25994517"]
["BAHNA VASILE-ENRICO I.I.","37050954"]
["BAICU ANDREEA","2800223330226"]
["BAIES DANIEL","1841015330212"]
["BAIES SIMION","1790804336736"]
["BAIESITA IRINA","2760627330769"]
["BAISITA IRINA","2910924205571"]
["BAITAN IOAN","1400811334999"]
["BALAN GABRIELA","nedef."]
["BALAN IOAN","1820217330568"]
["BALAN LAURA MONICA","2770911370052"]
["BALAN MIREL","1681218163224"]
["BALAN NARCIS","1790624333275"]
["BALAN NICOLETA","nedef."]
["BALAN NUTU","1860308336677"]
["BALAN TEODORA","2830521226727"]
["BALAN VIOREL","nedef."]
["BALANESCU NICOLAE-LUCIAN","1761206340021"]
["BALANTA COMSERV IMPEX S.R.L.","RO5847309"]
["BALASESCU PAULA","2800213331484"]
["BALC IMPEX S.R.L.","RO6751961"]
["BALICA TRAIAN - ADRIAN","1830827250045"]
["BALKAN FORKLIFT S.R.L.","25018208"]
["BALKAN WOOD CONCEPT S.R.L.","RO40541722"]
["BALLEMN MOBILIER 2010 S.R.L.","26744187"]
["BALLEMN S.R.L.","2194930"]
["BALTARIU ILIES","1720712335039"]
["BALTARIU IRINA","nedef."]
["BALTUTA CONSTANTIN","1880110070025"]
["BAMBINI S.R.L.","RO21075197"]
["BAN COM S.R.L.","RO61776"]
["BANA DUMITRU","1670404341702"]
["BANATEANU MARIN","1810703134156"]
["BANCA TRANSILVANIA","nedef."]
["BANCA TRANSILVANIA SA","RO5022670"]
["BANCESCU MIHAELA","2710724333240"]
["BANDAC MONICA","nedef."]
["BANDAC RAZVAN CODRIN","1700305221201"]
["BANDBOX COMPANY SRL","RO29574931"]
["BANICA ALIN OVIDIU","1820721410063"]
["BANKNOTE KFT.","HU13585349"]
["BANPROD S.R.L.","RO6027080"]
["BANUT MIHAELA","2880911133919"]
["BARAC-ZBIRCEA ADRIAN \"BARAC\" P.F.A.","20123571"]
["BARACTARU MARINELA","nedef."]
["BARAIAN ANA","2741129120668"]
["BARAN RADU","1800123371707"]
["BARAN RADU PERSOANA FIZICA AUTORIZATA","32740210"]
["BARBA VIORICA","2780816335034"]
["BARBOS DORIN CORNEL","1690403013923"]
["BARBOS SORIN CAMIL","1690403013931"]
["BARBOSELU ALEXANDRA","nedef."]
["BARBOSELU DAN","1780121070035"]
["BARBU ALEXANDRU","1810309393618"]
["BARBU CAMELIA","2810902330816"]
["BARBU MARIAN PASCU","1720401173204"]
["BARCULESCU AUREL","1710127330776"]
["BARFA DANIEL","1861214330547"]
["BARFA MOB S.R.L.","RO40983112"]
["BARGAOAN ONOFREI","1890111331903"]
["BARGAUAN DAN","1791108335052"]
["BARGAUAN GAVRIL","1810513331908"]
["BARGOAN PAVEL","1900107330227"]
["BARLEANU CORINA","2781227335007"]
["BARNA VASILE","1780316064348"]
["BARNA VASILE (MEDGIDIA)","1681018134032"]
["BARNEA MADALIN","1790208434525"]
["BARSAN ANDREI","nedef."]
["BARTROM EXIM SRL","RO9492373"]
["BASE HOTELS GROUP SRL UNIPERSONALE","06497040961"]
["BASIC EUROMOBIC S.R.L.","27861150"]
["BASIC IT SERVICES CONSULT S.R.L.","RO16227671"]
["BASIC PLAST S.R.L.","34106813"]
["BASIC POINT  S.R.L.","RO28088054"]
["BASU MIHAITA I.I.","32200414"]
["BATARIUC MIHAELA","2771113334998"]
["BATERIE-SHOP.RO SRL","RO22067249"]
["BATIR CONSTANTIN","1720503335012"]
["BAZA DE APROVIZIONARE SI DESFACERE SA","RO7282162"]
["BAZGAN MARIUS","1800808330536"]
["BAZGAN MIHAI ALEXE","1870831330557"]
["BBC EXPERT FURNITURE S.R.L.","RO32019206"]
["BDA TOTAL AUTO SERVICE SRL","RO32183674"]
["BEAUTIFUL COMPROD SRL","RO8793866"]
["BEAUTY ADRIA SRL","RO30993003"]
["BEAUTY COLOR ANNA SRL","43145820"]
["BEBE DESIGN ART S.R.L.","RO28719538"]
["BEBE DESIGN CONCEPT S.R.L.","RO30410827"]
["BEBEKE RETAIL STORE S.R.L.","RO37999984"]
["BEBONYX GRUP S.R.L.","17207222"]
["BECA CATALIN-DUMITRU","1850326410024"]
["BECA WOODWORK  S.R.L.","RO37736775"]
["BEGUNI CATALIN-MARIUS","1690816335077"]
["BEJA HOJDA SI COCOS","RO33208785"]
["BEJAN VASILE","1840114330521"]
["BEJENAR IULIAN","1790711335033"]
["BEJENARIU CORNELIA","2720908330769"]
["BEJINARU IONUT","nedef."]
["BEJINARU MARIANA","2680205330821"]
["BEJINARU OVIDIU-MARIN","1880503070129"]
["BELA MOB S.R.L.","RO23390131"]
["BELACRIS SRL ","RO18310748"]
["BELDIAN MARIAN","1860801330560"]
["BELFORM PROD S.R.L.","RO425850"]
["BELIBOU IONELA","nedef."]
["BELIOAE NICOLAI","1510214335000"]
["BELL ROM IMPORT EXPORT SRL","RO9211850"]
["BELLAMOB DESIGN S.R.L.","42632878"]
["BELPAN SRL","RO5594923"]
["BELPART S.R.L.","RO12207434"]
["BELTOSCHI LILIANA","2851129331425"]
["BENCHEA MACSIM SINZIANA","2580815336049"]
["BENIDORM TRANS S.R.L.","RO13445310"]
["BENKO LAJOS","1801222330249"]
["BENMAR ELIM SRL","RO38053380"]
["BENZ-MAR SRL","RO10829791"]
["BERARIU MIRELA","nedef."]
["BERCULEAN ANA(NISTOR FLORIN)","2701020333191"]
["BERDEI ANGELICA","2761116332150"]
["BERENDE VIOREL","1760818244227"]
["BERINCEANU VIRGIL","1590913333195"]
["BERINGER S.R.L.","21278205"]
["BERLIG CONSTRUCT MOBILA S.R.L.","26562959"]
["BERMAS S.A.","RO723636"]
["BESLEAGA MITICA","1600918073525"]
["BESLEAGA VASILE GABRIEL","1780207330784"]
["BEST AUTOTRADE SRL","RO32397481"]
["BEST DISTRIBUTION SRL","RO24399350"]
["BEST FOR YOU SRL","RO18267400"]
["BEST FRIEND MEDIA SRL","RO8688046"]
["BEST IT-SERV S.R.L.","RO15418100"]
["BEST KOMPETANSE S.R.L.","31514052"]
["BEST LINER S.R.L.","RO21278418"]
["BEST MOB S.R.L.(ALBA IULIA)","RO23987025"]
["BEST MOBINNOVATION S.R.L.","43153938"]
["BEST SERVICE S.R.L.","RO6726534"]
["BEST STYLE CONSTRUCT S.R.L.","RO18526963"]
["BET AUTO SERVICE FUNDENI SRL","RO27987613"]
["BET INVEST MOB S.R.L.","35982757"]
["BETALEEL BEN S.R.L.","RO30650420"]
["BETIU MADALIN","1881223250011"]
["BETRANS MARIMON SRL","RO31423590"]
["BETTER PRODUCTION S.R.L.","RO18373576"]
["BETTY ICE S.R.L.","RO6726755"]
["BETY SIC S.R.L.","11429890"]
["BEYOU DESIGN SRL","37292125"]
["BGD MARKET S.R.L.","RO30413041"]
["BI MOBILI S.R.L.","RO30643652"]
["BIAMOB DESIGN SRL","21074574"]
["BIANCA GALERIILE MOBILEI SRL","RO33036795"]
["BIANCA PIZZA (FRANCE)","FR07831432653"]
["BIANCHI PIESE AUTO SRL","RO28960330"]
["BIARED INTERNATIONAL S.R.L.","RO23604804"]
["BIBART CONSULTING S.R.L.","RO15597579"]
["BIBUS SES S.R.L.","RO18738664"]
["BICHIR STEFAN","nedef."]
["BICRID IMPEX SRL ","RO9995421"]
["BIDU IONUT","1830309330228"]
["BIGAL PLAST S.R.L","18406967"]
["BIGU ANCA","nedef."]
["BIGU EUGEN","1680916335031"]
["BIJUSCA PETRU","1670627335012"]
["BILAN MIRELA","2710926073531"]
["BILAN VALENTIN","nedef."]
["BILAUCA VIOREL","1710725335050"]
["BILEC ANDREEA","2891025336676"]
["BILINSCHI GHEORGHE","1700930334930"]
["BIMAR S.R.L.","RO22037574"]
["BINGOX & CO S.R.L.","RO7582267"]
["BINTEK ELECTRONIC SRL","RO17311206"]
["BIO COVER DECOR SRL","RO30446898"]
["BIOENERGY SUCEAVA SA","RO30016831"]
["BIOFRAME S.R.L.","19168596"]
["BIOMEDICA S.R.L.","RO14941037"]
["BIOROMPRODALIM S.R.L.","33067872"]
["BIOS GREEN S.R.L.","RO17628973"]
["BIOSMOB STYLE S.R.L.","RO21218289"]
["BIOTERM CONSTRUCT S.R.L.","29158379"]
["BIOTEST SRL","14506564"]
["BIRGUAN ELISEI-NICU","5000309331901"]
["BIRLADEANU IRINEL","1790518374067"]
["BIRLADIANU CONSTANTIN","1820322070032"]
["BIRLEANU MARIA","2600828334998"]
["BIROU INDIVIDUAL NOTARIAL \"EXPERT\"","RO34097910"]
["BIROU INDIVIDUAL NOTARIAL MIHAI CURCA","RO19360809"]
["BIROU NOTARIAL HAUCA OVIDIU SERGIU","RO21001106"]
["BIROU PARLAMENTAR DEPUTAT MURARIU OANA","2880911330218"]
["BIRTOIU COMPANY S.R.L.","RO7086557"]
["BISERICA SF. NICOLAE","13631658"]
["BISTRITAN NICOLAIE-CRISTIAN","1771208335009"]
["BIT CONSULTING PRO SRL","RO17497274"]
["BITA DAN","1620428336731"]
["BITT BAU SRL","RO3132669"]
["BIVOL CONSTANTIN","1781216335007"]
["BIVOL CRISTIAN","1910227331424"]
["BIVOL MARICICA","2640125335024"]
["BIVOL MARIUS","1851003330228"]
["BIVOLARIU PAULA","2960302330192"]
["BLAGA ANDREI","1940509015570"]
["BLAGA FLORIN","nedef."]
["BLAGA PETRU LUCIAN","1840627324812"]
["BLAGA SIMONA","nedef."]
["BLAJ CIPRIAN","1841122222928"]
["BLANA ELENA","2620222334996"]
["BLANARI OANA","nedef."]
["BLANARIU FLORIN","nedef."]
["BLANARU MIHAI-SORIN","1891028336381"]
["BLANDU ELENA","nedef."]
["BLANDU NICOLAE","1851216331431"]
["BLEANCA ANDREI-IOAN","1850531330250"]
["BLEORTU CRISTI","1770816335018"]
["BLICKLE ROMANIA S.R.L.","RO38835610"]
["BLINDU DORIN CONSTANTIN","1810724330223"]
["BLITZ ROM S.R.L.","RO6156000"]
["BLUE AIR AVIATION SA","RO31525574"]
["BLUE RESTAURANT SRL","RO35347380"]
["BLUEART S.R.L.","RO18992629"]
["BLUHAF S.R.L.","RO34209614"]
["BLUM ROMANIA S.R.L.","RO7177000"]
["BLUMIN SERV SRL","RO34741130"]
["BMVIS MOTOR x POWER SRL","RO18988784"]
["BO MOB S.R.L.","RO17118230"]
["BOAMBA FLORINA","2840420020075"]
["BOBEICA FLORIN","1790402043769"]
["BOBEICA S.R.L.","RO16783847"]
["BOBOC ADRIAN","1861220510052"]
["BOBOC IULIAN","1800901440030"]
["BOBU LACRAMIOARA","2750707335017"]
["BOBU OVIDIU MARIUS","1811121070043"]
["BOCA CRISTINA MARIA","2651027333195"]
["BOCANE ACCESORIES SRL","RO10136051"]
["BOCANET OVIDIU","1710419335004"]
["BODEGA TRADE SRL","RO32009946"]
["BODNAR ANA","2850122271702"]
["BODNAR CRISTINEL","1851006330525"]
["BODNAR LITITIA","2630318332143"]
["BODNAR PRODUCTION S.R.L.","RO29315848"]
["BODNAR VALERII","1731125226347"]
["BODNARESCU COSTICA","1631002336737"]
["BODNARI IOANA","nedef."]
["BODNARIUC ADI","1630420335005"]
["BODNARIUC-CIOLTAN EMILIA-ALEXANDRA","43855193"]
["BODO SRL","RO21692630"]
["BODY IMPEX S.R.L.","RO435218"]
["BOEMA LUX SRL ","RO14385683"]
["BOEMIS MOBILA S.R.L.","44742559"]
["BOGDAN CRISTIAN DAN","1781014126202"]
["BOGDAN DUMITRESCU","1870430142594"]
["BOGDAN IULIAN","1830711330218"]
["BOGDAN MIHANCE","1740511054659"]
["BOGDAN S.R.L.","RO1909069"]
["BOGDAN STEFAN","1890112046247"]
["BOGHEAN FLORIN","1760413224523"]
["BOGHIAN VASILE CONSTANTIN","1561104335003"]
["BOGOI FLORIN","1801212392144"]
["BOGRAVE ADVERTISING S.R.L.","RO14988323"]
["BOICIUC LIVIU","1611019333190"]
["BOICIUC LIVIU","1620311334991"]
["BOICU DAN","1870424330192"]
["BOICU VASILE","1740209335030"]
["BOLD VASILICA-SORIN P.F.A.","43446393"]
["BOLINGER IOAN CASIAN II","21388780"]
["BOLOCA COSTICA","1780128336734"]
["BOLOCA PETRU","1900629330221"]
["BOLOCAN CONSTANTIN","1670729333210"]
["BOLOCAN GHEORGHE","nedef."]
["BOLOHAN ANISOARA","2650812334997"]
["BOLOHAN MIRCEA","1840115335505"]
["BOLOHAN MIRELA","2791017335010"]
["BOLOHAN STONES S.R.L.","RO23777473"]
["BONALDO MOBILI S.R.L.","RO29439544"]
["BONANZA SRL","RO1739690"]
["BONBON CANDY SRL","RO31237288"]
["BONDARIU NICOLETA","2741112335028"]
["BOOMSPACE S.R.L.","31395482"]
["BORA VASILE","1710205244239"]
["BORDA FLORIN","1790217010317"]
["BORDA FLORIN I.I.","26109479"]
["BORDEA SORIN VASILE","1820101336395"]
["BORDEI DESPINA","nedef."]
["BORDEI ILIE","1831222330198"]
["BORDEIANU IULIANA","2620710335004"]
["BORDICIUC MARIUS","1861116330215"]
["BORDIN MOBART S.R.L.","RO16425881"]
["BOREAL GRUP S.R.L.","RO9852596"]
["BORFOTINA DIANA","2911008070021"]
["BORG DESIGN S.R.L.","RO14837428"]
["BORGOVAN DINU","1770810062954"]
["BORZ FRN IMPEX S.R.L.","RO15199581"]
["BORZAS GABRIELA-MARIANA PERSOANA FIZICA AUTORIZATA","35739210"]
["BOSANCEANU VICTOR SRL","33770537"]
["BOSINCEANU CRISTIAN","1710319330791"]
["BOSINCEANU SERGIU VASILE","1870124330212"]
["BOSS GROUP S.R.L.","RO9746684"]
["BOSSNET EXPERT SRL","39508927"]
["BOSSNET MARKETING SRL","RO43153903"]
["BOSTIOG IOSIF","1860121330531"]
["BOTA ANDREI","1870616330536"]
["BOTAU EMIL","1820709122336"]
["BOTESCU DANIEL","nedef."]
["BOTEZ COSTICA","1650624225630"]
["BOTEZ DAN","1730608070014"]
["BOTEZAT IULIA","2850704330227"]
["BOTEZAT TATIANA","2790112332145"]
["BOTUSAN ION GHEORGHE","1690716332141"]
["BOURIAUD LAURA","2720325334994"]
["BOUROSU GABRIELA","nedef."]
["BOXE AUDIO BENS S.R.L.","36906855"]
["BOYULETZ S.R.L","RO33298753"]
["BOZAVA MOB DESIGNE","RO28388523"]
["BP ALUMINIUM INTERNATIONAL SRL","RO32301834"]
["BRAD ADRIAN","1831004330806"]
["BRAD S.R.L.","RO6082689"]
["BRADATAN ANCA MIRUNA","2700830270581"]
["BRADATAN LACRAMIOARA SINZIANA","2850616330208"]
["BRAESCU MIHAELA","2861102223169"]
["BRAIA CRISTINEL","1770608184980"]
["BRAMEX INSTAL","RO17081352"]
["BRAMITECH S.R.L.","RO31779505"]
["BRAND CTK SRL","RO33895212"]
["BRAND DESIGN TEAM SRL","RO38170983"]
["BRANZA V IOAN PFA","40411919"]
["BRANZEI RADU ANDREI","1820419071365"]
["BRASECO MOBILIER S.R.L.","41116070"]
["BRASOVANU MARIA","2780723334992"]
["BRATEANU DRAGOS","1850216330228"]
["BRATU ILEANA","2680630334991"]
["BRATU LUCIAN-VASILE","1790525323920"]
["BRB HOME S.R.L.","38815168"]
["BREABAN MARIUS","1770107334990"]
["BREEZE HVAC SRL","RO 18647680"]
["BREJE DANIELA FLORINA","2780531020065"]
["BRIARIS IND SA","RO2329485"]
["BRICIU DORIN ÎNTREPRINDERE INDIVIDUALA","29593801"]
["BRICO & MORE S.R.L.","RO21541157"]
["BRICONET SHOP S.R.L.","44065060"]
["BRICOROM GRUP S.R.L.","RO16607719"]
["BRILIANT SRL","RO16078766"]
["BRIO LUX TRADE S.R.L.","RO37680437"]
["BRIOMOB STAR S.R.L.","37700283"]
["BRISCAN CATALIN IOAN","1720410334997"]
["BRISO IMPEX S.R.L.","RO5231944"]
["BRISTOW BUSINESS AND COMMUNICATION RESEARCH CENTER S.R.L.","23100173"]
["BRM BENE VENDO S.R.L.","RO21723710"]
["BRM GROUP HOME S.R.L.","RO37772182"]
["BROCA & CO SRL","RO6130654"]
["BRODAT PRINT S.R.L.-D","35981328"]
["BRUSTUREAN SILVAN","1750802200011"]
["BSC MOB DESIGN S.R.L.","RO40384768"]
["BT ASIOM AGENT DE ASIGURARE SRL","25046577"]
["BT INTERMEDIERI AGENT DE ASIGURARE SRL ","16952660"]
["BT LEASING TRANSILVANIA IFN SA","RO7424119"]
["BT SOLUTION AGENT DE ASIGURARE SRL","16952679"]
["BTL PERFORMANCE SRL","40663371"]
["BUBBLES CAR SRL","36119283"]
["BUBURUZAN ANDREI","nedef."]
["BUCACIUC CORNEL","1540113335025"]
["BUCACIUC CORNELIU","1881204330214"]
["BUCACIUC DELIA MARIANA","2900923330199"]
["BUCACIUC RALUCA","2841006303944"]
["BUCARCIUC MARCEL","1790810335001"]
["BUCATARIILE MAXIM S.R.L.","RO38400500"]
["BUCATARU ADRIANA","2741129330760"]
["BUCATELE DE SENIN S.R.L.","40831793"]
["BUCESCHI I. MARIANA- CAB. INDV. DE PSIHOLOGIE","22760562"]
["BUCEVSCHI BOGDAN","1871222330211"]
["BUCOVINA BUS S.R.L.","RO13776799"]
["BUCOVINA PANEL S.R.L.","RO28423027"]
["BUCOVINA RETAIL GROUP S.R.L.","RO33399529"]
["BUCSA EDUARD","1900815330193"]
["BUCSA PANSELUUTA","2651116335012"]
["BUCULEI FLORIN-MIHAI","1821013330210"]
["BUCUR & RUSU S.N.C.","5119526"]
["BUCUR ALEXANDRU","1730824390677"]
["BUCUR ALINA MARIA","2800812226781"]
["BUCUR CALIN RADU P.F.A.","21541165"]
["BUDAI MARIUS FLORIN P.F.A.","41067210"]
["BUDARESCU MIHAI","1741109384219"]
["BUDEAN CLAUDIU","1810422124420"]
["BUDEANU LAURA","2781119335003"]
["BUDEANU PARASCHIVA","2740220335004"]
["BUDIANU DIANA","2900510330203"]
["BUDUROVICI CONSTANTIN","1770330335006"]
["BUDUROVICI FLORENTINA","2810417330219"]
["BUDUSAN SORINEL OTINEL","1900625125821"]
["BUGA REMUS DANIEL","1800920180771"]
["BUHAIANU IMPEX S.R.L.","RO4868109"]
["BUHAIANU MIRCEA MARIAN","1790615335057"]
["BUIGA LAURA DIANA P.F.A.","29267058"]
["BUJDEI TIBERIU","nedef."]
["BUKOVINA HAPPY SRL","41593703"]
["BULGARIU CEZAR","nedef."]
["BULIGA ADRIANA ANCUTA","2860912336522"]
["BULIGA MARIA SV","2751127333208"]
["BULIGA PAVEL","1790310332153"]
["BULROM PETROLEUM SRL","RO12596161"]
["BUNACIU COSTAS I.I.","RO27180752"]
["BUNDUC CODRUTA","nedef."]
["BUNGIAC I. ADRIAN I.I.","27180140"]
["BURCA CRISTIAN","1700306334998"]
["BURCAS CATALIN ","1920427330559"]
["BURCEA DANIEL","1681215433025"]
["BURCEA MARIUS","1810307330234"]
["BURDA CONSTANTIN ","1760509335011"]
["BURDUJOC BOGDAN","1781009335045"]
["BURDUJOC MARIUS","1760810335080"]
["BURDUSEL GEORGE LUCIAN","1841207340014"]
["BURGEROM  SRL","18964424"]
["BURLA TRAIAN TIAN","1820711335921"]
["BURLACU ALIN","1810529070030"]
["BURLACU CIPRIAN","1781222270592"]
["BURLACU DOREL CRISTIAN","nedef."]
["BURLACU LARISA","nedef."]
["BURLACU RARES","1950514330211"]
["BURLAU SRL","RO10448681"]
["BURLICA ILIE","1890708330528"]
["BURLICA VICTOR","1810310335985"]
["BURLUI IULIA OLGA","2691112333213"]
["BURSUC LIVIU SEBASTIAN","1820902330214"]
["BURSUC LIVIU-SEBASTIAN PERSOANA FIZICA AUTORIZATA","42793610"]
["BUSCH VACUUM SRL","RO33524567"]
["BUSH MOB STYLE S.R.L.","29422534"]
["BUSILA IONUT","1951104394969"]
["BUSINESS & COACHING ARHITECTS SRL","RO30774720"]
["BUSINESS SMART CONSULT S.R.L.","RO16097547"]
["BUSRAU MARSTYLE S.R.L.","RO36747318"]
["BUSTIHAN SIMION I.I.","34442163"]
["BUSUIOC MARIUS","1770815370031"]
["BUTNARIU DOINA","2590629070024"]
["BUTNARIU ION VASILE","1681001335020"]
["BUTNARU IONUT","1900707223855"]
["BUTUCEL FLAVIUS","1940216330525"]
["BUTURE MARIAN","1830910046196"]
["BUZA VASILICA","1800712270042"]
["BUZAS DAN","1480313334991"]
["BUZATEL COSTIN","1761002151785"]
["BUZZ CRAFT DESIGN S.R.L.","40454146"]
["BUZZ PUBLISHING SRL","36998360"]
["BVBA WOLFSTAR","BE0877882167"]
["BYA & EDY SPEDITION S.R.L.","RO21585200"]
["BYANCO-ELY SRL","RO23703522"]
["Babiuc G. Florin Cabinet Medical Individual Stomatologie","19289911"]
["Babu And Co Snc","RO3611912"]
["Badaluta Sorin-meletie-aurelian Întreprindere Individuala","RO29109422"]
["Badimol Com S.R.L.","RO14141778"]
["Balcan House S.R.L.","22301543"]
["Balcau Family S.R.L.","30414080"]
["Banca Nationala A Romaniei","RO361684"]
["Banda Adela Anca - Pensiunea Adela Persoana Fizica Autorizata","21297371"]
["Baobab Investiments Limited SRL","RO26387858"]
["Baralchim S.R.L.","RO10315537"]
["Bardi Auto","RO12966353"]
["Baril Forte S.R.L.","RO26076380"]
["Baroc S.R.L.","8157621"]
["Barok Lia S.R.L.","15421075"]
["Baromag S.R.L.","RO15014306"]
["Bartos I. Radu - Intreprindere Individuala","19418153"]
["Base Trading S.R.L.","RO13507421"]
["Baumax Romania S.R.L.","RO17021393"]
["Bavcom Impex S.R.L.","RO14424464"]
["Baza Industriei Si Agriculturii S.R.L.","RO14340754"]
["Beacom Technologies S.R.L.","25292547"]
["Beauty Master S.R.L.","9471044"]
["Becsi Szelet","RO31350324"]
["Behr S.R.L.","RO30808947"]
["Bela?cu S.R.L.","RO2681243"]
["Belanco Com S.R.L.","RO4571581"]
["Belvedere-turism S.R.L.","RO25577722"]
["Bendany Impex S.R.L.","14718850"]
["Bendix-slavu Snc","954363"]
["Benedetti G&g S.R.L.","13770575"]
["Benimela Prod S.R.L.","RO6860047"]
["Benstar Service","RO26745689"]
["Beny Alex S.R.L.","RO6594905"]
["Benz Oil S.R.L.","RO10965254"]
["Beristeanu Impex S.R.L.","RO3671876"]
["Bernar Prod S.R.L.","RO2692129"]
["Best Act & Touring S.R.L.","21863861"]
["Best Design Solution S.R.L.","RO24923887"]
["Best Dumfarm S.R.L.","RO25917697"]
["Best Image Agency S.R.L.","RO22694728"]
["Best Letter Courier S.R.L.","RO25267802"]
["Best Mob S.R.L. (CRAIOVA)","RO18923424"]
["Best Team Media S.R.L.","18322521"]
["Best Western Hotel Ostertor","DE254229795"]
["Betarom S.R.L.","RO3205116"]
["Bianco - Ely S.R.L.","RO23703522"]
["Bicolor Com S.R.L.","RO6909060"]
["Bigevents S.R.L.","RO21692591"]
["Bilancia Exim","RO3968479"]
["Bilco Trading S.R.L.","RO8974382"]
["Bio Star S.R.L.","RO5099470"]
["Bioflor S.R.L.","22838530"]
["Bipral S.R.L.","RO17974071"]
["Birotica S.R.L.","RO3957020"]
["Birou Asociat Executori Judecatore?ti \"lex Imperyon Miron\" Radau?i","14070332"]
["Biroul Notarial Public Laura Badiu Si Lidia Dragan Societate Profesionala Notariala","RO10808187"]
["Biroul Regional Pentru Cooperare Transfrontaliera Suceava Pentru Grani?a Ucraina Romania","17629928"]
["Bisbags S.R.L.","RO25249881"]
["Bistrita Aurie S.R.L.","742743"]
["Black Jack Com Serv S.R.L.","RO9131832"]
["Blue Gas S.R.L.","RO30629968"]
["Bly-inst S.R.L.","RO25501511"]
["Bodo Comp S.R.L.","RO1098544"]
["Bog Minialpin Impex S.R.L.","RO6836960"]
["Bogy Automobile S.R.L.","RO23384687"]
["Boomerang Project S.R.L.","RO29180856"]
["Borealy Gifts S.R.L.","RO18502387"]
["Boro Trans S.R.L.","RO27439637"]
["Boroka Transcom 2000 S.R.L.","RO15065210"]
["Botezan ?. Andreia Cabinet Medical Individual","RO22092358"]
["Bradet Turism S.R.L.","RO15642777"]
["Brd Sogelease Ifn S.A.","RO14080565"]
["Briancrisdu Com Prod S.R.L.","RO5941046"]
["Bricostore Romania S.A.","RO14328360"]
["Bro Rom Industrial Machines-sibiu S.R.L.","RO18208510"]
["Bruno D'ambrosi Editore S.R.L.","RO25538723"]
["Bsh Electrocasnice S.R.L.","RO11552248"]
["Bta Nord Grup SRL-D","RO33066281"]
["Bucegi Management","RO22955378"]
["Bucegi S.R.L.","RO1151575"]
["Bucium Tours S.R.L.","RO16025095"]
["Bucovina S.A.","RO717030"]
["Bucovina Travel S.R.L.","18444472"]
["Bucur C. Andrei Ovidiu Birou Expert Evaluator De Proprieta?i Imobiliare","29979455"]
["Buraf Exim S.R.L.","RO5893186"]
["Buratino S.R.L.","RO4685217"]
["Bursa Romana De Marfuri (romanian Commodities Exchange) S.A.","RO1562694"]
["Buruiana Impex S.R.L.","RO3590585"]
["Business Infocons S.R.L.","RO15298615"]
["Business Proart S.R.L.","26817211"]
["Busuioc G. Ovidiu Birou Notarial Individual","RO19466525"]
["Butum Tudor Cristian Persoana Fizica Autorizata","29263471"]
["Buzec C. Elena Auditor Financiar","23392876"]
["Bva S.R.L.","RO8494481"]
["BÖTTCHER ROMANIA S.R.L.","RO9195976"]
["C&A MODA RETAIL SRL","RO24335313"]
["C&A PHOENIX ART S.R.L.","RO30195559"]
["C&C ANTONIU&ANTONIAMOB DESIGN S.R.L.","42122178"]
["C&C OFFICE DISTRIBUTION SRL","RO24407746"]
["C&C SMART TURIST S.R.L.","26832076"]
["C&O MOB CONCEPT S.R.L.","42453376"]
["C.M.A. INVESTMENT S.R.L.","RO34917521"]
["C.N.T.A.R. TAROM S.A.","RO477647"]
["C.T.L. AMBALAJE SRL","RO31439864"]
["C.d. International S.R.L.","6566646"]
["C.i.t. Grup S.R.L.","RO14965516"]
["C.m.p.termo S.R.L.","RO16001533"]
["C3 CONCEPT CUT S.R.L.","RO38165820"]
["CABI MOBILA S.R.L.","RO27455861"]
["CABINET AVOCAT DRAGOS T BUJOR","36087220"]
["CABINET AVOCAT ENCUT DAN ALEXANDRU","34995643"]
["CABINET AVOCAT HOMEUCA ADRIAN-MARIAN","21587286"]
["CABINET AVOCAT NARTEA STEFAN","RO20396237"]
["CABINET DE EXPERIZA CONTABILA POPA IOANA ANCA S.R.L.","RO37443554"]
["CABINET INDUSTRIES S.R.L.","43635295"]
["CABINET MEDICAL VETERINAR DUMBRAVA V. CONSTANTIN","21599248"]
["CABINET SENATORIAL IOAN STAN","1560303330761"]
["CABINET ZAGREANU VALENTINA","30600473"]
["CABOOSE SRL","RO 23788537"]
["CACIUC SILVIU IULIAN","1790709330807"]
["CACIULARU VIORICA","nedef."]
["CADVYLL CONST S.R.L.","RO17559415"]
["CAEMI COM S.R.L.","7574590"]
["CAILEAN BOGDAN","1840129063389"]
["CALANCE SAMUEL","1920626330553"]
["CALEAP COSTEL","1760323040031"]
["CALENCIUC ION-VASILE","1780321334990"]
["CALENIUC DORU","nedef."]
["CALENIUC GEORGE-OVIDIU","1800224330251"]
["CALIAN FEREZAN","1770907263506"]
["CALIBER MOBILITY SRL","RO33401785"]
["CALIMOB S.R.L.","30286770"]
["CALIN CREATIVO MOBILI S.R.L.","RO36607721"]
["CALIN TOMA","1880731134189"]
["CALINESCU IULIAN IONUT","1810820210024"]
["CALINESCU TIBERIU","1870702420081"]
["CALINIUC CATALINA","2910522330202"]
["CALINOSCHI IONUT","1840127336401"]
["CALINOVARO S.R.L.","RO25187169"]
["CALISTRU CAMELIA","nedef."]
["CALLUNA DECOR S.R.L.","RO41092575"]
["CALORIS GROUP SA","RO13657569"]
["CALUGAREANU GEORGE","1880819080014"]
["CALUGAREANU SERGIU","1790121421512"]
["CALUJAC MIHAELA","2820806330213"]
["CALUSERIU CONSTANTIN ÎNTREPRINDERE INDIVIDUALA","34234596"]
["CALUSERIU MARIUS","1791103135051"]
["CAMARUT ROXANA","2670923221322"]
["CAMARUTA C. ROXANA - CABINET MEDICAL INDIVIDUAL MEDICINA DENTARA","24038410"]
["CAMERON 2019 S.R.L.","41136582"]
["CAMERON MOBILO EXPERT S.R.L.","16581759"]
["CAMINO ATELIER S.R.L.","44285635"]
["CAMINO INTERIORS S.R.L.","38817061"]
["CAMINUL HIGH CLASS S.R.L.","RO24493810"]
["CAMPAN OLIMPIA","2920601060022"]
["CAMPAN SIMINA","nedef."]
["CANANAU VICTORIA","2480605334994"]
["CANAY IMPEX SRL","RO9307689"]
["CANTIUC CEZAR ANDREI","1921121330210"]
["CAPATANEANU COSMIN","nedef."]
["CAPICO COM 97 S.R.L.","RO9681925"]
["CAPITAL IMOBILIARE SRL","18063621"]
["CAPITAL PROGRES S.R.L.","RO35105328"]
["CAPMARE ANDREI","1861206336396"]
["CAPOTA MARIUS VALENTIN","1740820451540"]
["CAPRA CRISTINA","2830307336399"]
["CAPRA ILIE-OVIDIU","1970311330220"]
["CAPRA LILIANA","2790222333197"]
["CAPRAR V. MARCEL I.I.","28543384"]
["CAPRARIU SEBASTIAN DANIEL I.I.","27773814"]
["CAPRARU BOGDAN","1760722090038"]
["CAPRIBELT TECHNIC SRL","RO35420503"]
["CAPRIOARA D. DENISA I.I.","25850368"]
["CARAMIDA LUCIAN","1730322335021"]
["CARANDA BATERII SRL","RO1560677"]
["CARAS IONEL","1830806210018"]
["CARAUSU COM PROD S.R.L.","RO5347311"]
["CARAUSU MIHAI","1740905335019"]
["CARAZA LIVIA ADRIANA","2680527193791"]
["CARAZA LIVIU","1680724336050"]
["CARBOTECH SRL","RO19284485"]
["CARCALETE PETRU","1580324333193"]
["CARCIUMARU MARIAN","1810429180768"]
["CARDEI CONSTANTIN","1750819333219"]
["CARDEI CRISTINA","2941122330561"]
["CARDEI FANICA","2670301335008"]
["CARDEI IRINA","nedef."]
["CARDIOVITAE SRL","28571139"]
["CARLAN LIVIU","nedef."]
["CARLAN MIHAELA","2761104334997"]
["CARMARIONE S.R.L.","RO11959846"]
["CARMEN IVANOIU","2851206297278"]
["CARMEN STUDIO SRL","37158272"]
["CARMENS INTERIOR DESIGN S.R.L.","RO33855935"]
["CARMINE DECOR S.R.L.","RO32716017"]
["CARP LAVINIA","2850726330215"]
["CARPATIS S.R.L.","RO712360"]
["CARPENISANU CONSTRUCT S.R.L.","RO35684700"]
["CARPINSCHI MADALINA","2970328375479"]
["CARS INV ARL","RO31661088"]
["CARSIUM INVEST S.R.L.","RO28253283"]
["CARSO DESIGN S.R.L.","28892090"]
["CARTIRE4U S.R.L.","RO36811240"]
["CARY FRUIT SRL","RO24381794"]
["CASA 2002 IMPEX S.R.L.","RO14446489"]
["CASA AUTO IASI SRL","RO4981476"]
["CASA BUTYKA PROD COM S.R.L.","RO16210998"]
["CASA CU TEI S.R.L.","RO28081218"]
["CASA DE COMERT  A UZINEI MDF DIN KOROSTEN","36592247"]
["CASA DE CULTURA A STUDENTILOR DIN MUN. SUCEAVA","33723470"]
["CASA DESIGN S.R.L.","RO14412788"]
["CASA DI ADRIANO S.R.L.","RO17073821"]
["CASA DORA PARTNERS S.R.L.","30182745"]
["CASA EUROPA SRL","36208275"]
["CASA LA FAYETTE S.R.L."," RO17945831"]
["CASA NORA G&G S.R.L.","RO15938668"]
["CASA RARES S.R.L.","22917609"]
["CASA ROMANTIC SRL","35107086"]
["CASA SIBIANA SRL","RO28710431"]
["CASA TA DRAGA DIABEL S.R.L.","35027394"]
["CASA TEO S.R.L.","RO4804741"]
["CASA VERDE STAR SRL","RO16526142"]
["CASADA DEUTSCHLAND GmbH","DE 260706003"]
["CASAGRANDE SRL","RO7824450"]
["CASALICA S.R.L.","RO16300420"]
["CASETI ADRIANA","nedef."]
["CASEY CONSTRUCT SRL","RO27755249"]
["CASSINI FURNITURE S.R.L.","41379816"]
["CATALIN MOB S.R.L.","RO15360717"]
["CATEMI-ROMITAL IMPEX S.R.L.","30430301"]
["CATINCUT VALENTIN-PETRE","1820916080010"]
["CATRICI VASILE","1780106335031"]
["CAUK MARINELA","2631004335003"]
["CAVI'S MOBILI S.R.L.","RO37589151"]
["CAZACU MIHAELA LAURA","2741123330019"]
["CAZAN RADU-VIRGIL","1731204323911"]
["CBC EUROTRANS SRL","RO17039536"]
["CEAPO ILIE","1700904463024"]
["CEAUNUL RAZESULUI S.R.L.","RO43039926"]
["CECILIA BOLOHAN","2890914330214"]
["CEFLA FINISHING GROUP","IT00499791200"]
["CEFLA FINISHING GROUP","nedef."]
["CELLULAR ONE SRL","RO14547831"]
["CELSIUS TRADE S.R.L.","24341986"]
["CELSUS EXIM SRL","RO7843753"]
["CENSUS GROUP S.R.L.","RO22623735"]
["CENTER MOB GROUP S.R.L.","RO30131601"]
["CENTRO GROUP PROFESIONAL TM SRL","RO34461289"]
["CENTRU DE FORMARE SI PERFECTIONARE CONTINUA S.R.L.","17495095"]
["CENTRU VECHI SRL","RO25350001"]
["CENTRUL DE MEDITATII CAPRI S.R.L.","35132144"]
["CERCEL IULIANA","2880403225903"]
["CERNISOV MARIUS","1810925330223"]
["CERULEX S.R.L.","RO26915759"]
["CERVENCIUC DAN","1771216334939"]
["CES BRANDS SRL","RO16517969"]
["CETATEA ALBA TRAVEL S.R.L.","29340418"]
["CEUCA CRISTINA","nedef."]
["CEVIA SERVICE SRL","RO18023180"]
["CEVIUC ELIZA","nedef."]
["CEZAN FLOR TOUR SRL","RO18539041"]
["CHALETS ALSATHUR S.R.L.","RO31287979"]
["CHEIA SORIN","1680602334997"]
["CHELBA MARIA","nedef."]
["CHERECHES CRISTIAN-DOREL","1710406120701"]
["CHETRARIU MARIUS","1760217334991"]
["CHEVROLET C.C. SRL","RO6494779"]
["CHICINAS MOB S.R.L.-D","RO37745404"]
["CHIDINCIUC ADRIAN","nedef."]
["CHIMINGICA PAUL","1800801364333"]
["CHINCES OVIDIU ALIN I.I.","32245416"]
["CHIOARTA MIHAI-MARIUS","1840820330191"]
["CHIORESCU STELIAN-ADRIAN","1691130335001"]
["CHIOSA MIHAI-DANIEL","1850918271727"]
["CHIRAP GABRIEL","1721025330776"]
["CHIRIAC ANCA","2811211044874"]
["CHIRIAC CONSTANTIN","1660304070053"]
["CHIRIAC CONSTANTIN I.I.","24043238"]
["CHIRIAC TANIA MARIANA","2610424335001"]
["CHIRIBICI ALINA","2810912046250"]
["CHIRILA CONSTANTIN ","nedef."]
["CHIRILA NICOLETA ","nedef."]
["CHIRILA PETRU","1680921333222"]
["CHIRILOAIA COSMIN","1830218336383"]
["CHIRUTA CATALINA","2920324330209"]
["CHIRVAS ALINA","2900523330223"]
["CHIS CALIN VASILE PFA","28998130"]
["CHIS FLORIAN DINU","1710821304025"]
["CHISALITA FLORIN","1890208025894"]
["CHISELEF DORINA","2610706335007"]
["CHITEALA DORUTA","nedef."]
["CHR ELECTROPLAST PROD S.R.L.","RO27280069"]
["CIAMAX  S.R.L.","29118803"]
["CIAO GRUP DISTRIBUTION SRL","RO 10112605"]
["CIBEREAC DAN LUCIAN","1740318335037"]
["CICU VASILE","nedef."]
["CIDXPERT PRODCOM S.R.L.","RO11045628"]
["CIEMME HIGH SOLUTION S.R.L.","RO24464776"]
["CIM & T B.V.","NL810521738B01"]
["CIMCONS S.R.L.","RO11838607"]
["CIMPAN ANDREI","1851125330535"]
["CIMPAN AUREL","1710418304040"]
["CIMPAN OVIDIU ","1870303330259"]
["CIMPEAN CONSTRUCTII S.R.L.","RO6985164"]
["CINDREA TIBERIUS","1690422323252"]
["CINTYQ DESIGN S.R.L.","RO38519766"]
["CINTYQ MOBILIER S.R.L.","41893620"]
["CIOBANIUC VALERIA","2810814330207"]
["CIOBANU ALIN PETRU","1820626330241"]
["CIOBANU AURELIAN","1791010073548"]
["CIOBANU CRISTIAN IOAN","1760719070088"]
["CIOBANU ELENA","2770316334992"]
["CIOBANU LOREDANA","2860223330196"]
["CIOBANU OLGA","2310713334994"]
["CIOBANU SERGIU - IULIAN I.I.","27200124"]
["CIOBANU VALENTIN","1790217335031"]
["CIOBICA CARMEN ","nedef."]
["CIOBICA CARMEN GINA","2640422335000"]
["CIOBICA TOADER VASILE","1600515333199"]
["CIOBOTARU ANDREI","1870128330213"]
["CIOCAN A. IULIAN I.I.","RO19788121"]
["CIOCAN ION","1740818610811"]
["CIOCAN LIDIA","2760228333201"]
["CIOFLICA IOAN CATALIN","1821121125778"]
["CIOFU ELENA","2550731332141"]
["CIOGOLEA GABRIELA","2721221335036"]
["CIOLAC ADRIAN","1830323336549"]
["CIOLTAN MARIUS","1800930330219"]
["CIOMAGA ADRIAN","1720614372245"]
["CIORNEI ADRIAN","1880927330226"]
["CIORNEI CEZAR","1881004330196"]
["CIORNEI CRISTIAN","1800604330247"]
["CIORNEI FLORINA","nedef."]
["CIORNEI TOADER","nedef."]
["CIOTU GHEORGHE","1750626330782"]
["CIOTU VASILE","1760621336737"]
["CIP-4U MOBCONST S.R.L.","RO22618470"]
["CIPRIAN FLORIN VASII","1840115394435"]
["CIPVAL S.R.L.","RO5760473"]
["CIRDEI ANGELA","2871217330537"]
["CIRDEI CORNEL DINU","1660625334991"]
["CIRDEI COSTEL OCTAVIAN","1880214330577"]
["CIRDEI FLORIN","1850119330531"]
["CIRDEI GABRIELA","2661023335006"]
["CIRDEI IOSIF","1970107330523"]
["CIRDEI LIDIA","nedef."]
["CIRIMOBI3D S.R.L.-D","36366240"]
["CIRIMPEI ANDREEA","nedef."]
["CIRLAN GEANINA","2740401335046"]
["CIRLIGERU EUGEN","1780106180013"]
["CIRSTEA ION","1850420385571"]
["CIRSTIAN  MIHAI-LIVIU","1811104330539"]
["CITY CENTER IMPORT EXPORT S.R.L.","10377025"]
["CITY HIGH S.R.L.","RO26908336"]
["CIUBOTARIU ADRIAN","1651209070031"]
["CIUBOTARIU ANCUTA","2861013330557"]
["CIUBOTARIU CORNELIA","2760822330797"]
["CIUBOTARIU DANIEL","1781009070025"]
["CIUBOTARIU GIGEL","1601016070020"]
["CIUBOTARIU OTILIA","2720227335007"]
["CIUBOTARU DORIN","1850812330229"]
["CIUCHEA ALEXANDRU CEZAR","1890225330207"]
["CIUCIUC CAMELIA LUMINITA","2640308334991"]
["CIUCIUC OTILIA","2841117330231"]
["CIUHAN BOGDAN","1850928330216"]
["CIUHAN LUMINITA VERONICA","nedef."]
["CIUNTU FLORENTIN","1691111335036"]
["CIUPERCA FILITA","2600201043760"]
["CIUPU IONUT","1830218330227"]
["CIURBA NICOLAE","1820227055096"]
["CIURLA ANDREI","1881225336374"]
["CIURSA ROBERT-IULIAN","1980713225891"]
["CIUTA IONUT","1721019335041"]
["CIUTAC ANDREI","1890909330210"]
["CIUTAC BRANDUSA","2640403335045"]
["CLAESSENS MARTINE GEORGETTE F PERSOANA FIZICA AUTORIZATA","24743894"]
["CLAPSAN CONSTANTIN P.F.A.","30801272"]
["CLASIC S.R.L.","RO19215981"]
["CLASS AUTO CONSULTING SRL","RO15710723"]
["CLASS LINE S.R.L.","RO18448849"]
["CLASS MOB TOTAL S.R.L.","43271194"]
["CLASS OFFICE S.R.L.","RO17116000"]
["CLASS VENTILATION SRL","RO28182271"]
["CLASS WOOD S.R.L","RO30513075"]
["CLASSIC COMPANY S.R.L.","RO22739692"]
["CLAU MOB S.R.L.","RO19161245"]
["CLAUDIU DANIEL ITU","1790813011096"]
["CLEMATIS SRL","RO18576171"]
["CLEVER MOB S.R.L.","38908968"]
["CLEVERBRIDGE","DE244822460"]
["CLIF EXIM S.R.L.","RO7997566"]
["CLIMALION GRUP S.R.L.","RO23156522"]
["CLIMATECHNIK M.A.C. S.R.L.","RO30058462"]
["CLINICA POLISANO SRL","RO15888756"]
["CLINOVSCHI FLORIN","nedef."]
["CLOSCA ALINA","nedef."]
["CLUB M COM S.R.L.","RO1621928"]
["CLUB ZEXE SRL","RO14668124"]
["CM HOME&OFFICE DESIGN S.R.L.","RO25313666"]
["CMA ATELIER DESIGN S.R.L.","RO36740000"]
["CMC AGROINVEST S.R.L.","RO43403570"]
["CMD PROFESSIONAL CONCEPT SRL","RO29890071"]
["CMI DR.HIRLEA G.CORINA NICOLETA","21258631"]
["CMI Dr.Marinescu M. Bogdan","29567519"]
["CMI Iacob G. Virgil Puiu","20339541"]
["CMI MEDICINA DENTARA DR.FANTANARU COSTEL","20301539"]
["CMI SÎRBU LAURA-IRINA","32700657"]
["CNC CONCEPT SRL","32886593"]
["CNC FURNITURE S.R.L.","43301120"]
["CNC INDUSTRY SRL","RO14226173"]
["CNCFR SA BUCURESTI-SUC.REG.CF.IASI STATIA-SUCEAVA","RO11054529"]
["CO.IM.A S.R.L.","IT02242120414"]
["COAJA VIOREL","1680911333219"]
["COARNA MARIAN-CATALIN","1891212035277"]
["COBZARU ANDREI COSMIN","1810330134221"]
["COCA LUCIAN","1800708330225"]
["COCERVAN GHEORGHE","1670909333196"]
["COCIRLA DORU","1670913335017"]
["COCO PLUS DESIGN S.R.L","RO30556890"]
["COCOS ALEXANDRU-PAUL","1840708245051"]
["COCOS MARIUS","1760821330776"]
["COCOTOTAL S.R.L.","17088229"]
["COCRIS MIHAI","1750710335038"]
["CODGRAN S.R.L.","RO15290115"]
["CODREANU CLAUDIU GEORGEL","1770520364227"]
["CODYMOB PRODUCT S.R.L.","43949301"]
["COFACE ROMANIA CREDIT MANAGEMENT SERVICES SRL","RO8808053"]
["COFFE CIURLA S.R.L.","44710620"]
["COFISNEW PLAST S.R.L.","RO29894901"]
["COJENEL IOAN-MIHAIL","1871111323525"]
["COJOCAR BOGDAN VIRGIL","1750807333197"]
["COJOCAR BRINDUSA-CORINA","2680306333209"]
["COJOCAR SIMONA","2900119330529"]
["COJOCARI DANIELA","2730709332141"]
["COJOCARIU ALEXANDRU(LACRAMIOARA)","1960728330231"]
["COJOCARIU RODICA","2470523335009"]
["COJOCARIU SAMUEL","1900204330230"]
["COJOCARU ANDREEA","2970116336385"]
["COJOCARU CEZAR-IOAN","1901001332651"]
["COJOCARU COSTEL","1810510336685"]
["COJOCARU DUMITRU","1731214070058"]
["COJOCARU VALENTIN","1700205330011"]
["COLEGIUL MEDICILOR DENTISTI SUCEAVA","16811858"]
["COLEGIUL MEDICILOR SUCEAVA","9561228"]
["COLES DD S.R.L.","RO36284175"]
["COLIBRI TOUR SRL","RO15802061"]
["COLIN AUTO ONLINE SRL","RO36314730"]
["COLIO IMPEX S.R.L.","14415482"]
["COLLANTI CONCORDE ROMANIA SRL","RO15207986"]
["COLOR REFIL SRL ","RO31229412"]
["COLPOS ADRIAN","1831014044888"]
["COLTOIU CRISTIAN","1780521151816"]
["COM PIETA CCC SRL","RO21440098"]
["COM S-MART SRL","RO16764209"]
["COMALENIMA SRL","RO31535373"]
["COMAN ADINA","2790729335083"]
["COMAN ADINA-LABORATOR DE TEHNICA DENTARA","19321958"]
["COMAN DAN","nedef."]
["COMAN RADU","1710604044426"]
["COMAN VIOREL - FLORINEL","1690930070071"]
["COMANEANU CEZAR","1790801520034"]
["COMART MOBILIER S.R.L.","38434163"]
["COMAT AUTOBENZ SA","RO15528455"]
["COMAT ELSAN S.R.L.","RO3177040"]
["COMAUTOGLOB S.R.L.","RO38340"]
["COMBUSTIBILUL SRL","RO4739538"]
["COMDOMINUS S.R.L.","30366330"]
["COMEXIM MOBILEMN S.R.L.","RO1889387"]
["COMFORT SOFAS S.R.L.","RO22685312"]
["COMFY BISTRO S.R.L.","RO40028426"]
["COMNEA MOB DESIGN S.R.L.","38125060"]
["COMODIM S.R.L.","RO10226740"]
["COMPACT IMPEX S.R.L.","RO1397570"]
["COMPANIA DE CONSTRUCTII REZIDENTIALE AG S.R.L.","RO28339504"]
["COMPANIA NATIONALA PT CONTROLUL CAZANELOR, INSTALATIILOR DE RIDICAT SI RECIPIENTELEOR SUB PRESIUNE-","RO27787860"]
["COMPANY ACVILA LC S.R.L.","748380"]
["COMPANY TOP GEAR ASIG SRL","RO28351591"]
["COMPETITIVE IN BUSINESS & CONSULTING S.R.L.","RO15323867"]
["COMPLETE DESIGN S.R.L.","RO15046022"]
["COMPLEX BAILE PERSANI SRL","RO37106877"]
["COMPLEX HORA SRL","RO23139882"]
["COMPLEX PALAS PELICAN S.A.","RO7740723"]
["COMPLEX PRELUCANA  S.R.L.","RO31546968"]
["COMPOSITE PRINT S.R.L.","40568701"]
["COMPRODIS SERV S.R.L.","RO27349267"]
["COMRAD HAFNEG","7670910470014"]
["COMSA MARIAN","1691120292091"]
["COMSOIU GHEORGHE","1790805293177"]
["COMUNA CALAFINDESTI","6552870"]
["COMUNA DARMANESTI","4244300"]
["COMUNA RISCA","4674781"]
["COMUNA VATRA MOLDOVITEI","4326680"]
["CON-LEMNTECH ALFA S.R.L.","40700666"]
["CONACUL ISTORIC SRL","33667788"]
["CONALCRI PROD S.R.L.","RO15695330"]
["CONCEPT ATRIUM S.R.L.","44316197"]
["CONCEPT GRUP-RUL SRL","RO16666316"]
["CONCEPT STYLE LINEAR S.R.L.","44547299"]
["CONCEPTO ART DESIGN S.R.L.","32721960"]
["CONCETTO DESIGN S.R.L.","43455120"]
["CONCRET CONSTRUCT A.G. SRL","RO22205619"]
["CONCRIS COGRUP DISTRIBUTION SRL","RO39119881"]
["CONDESCU CRISTIAN-NICOLAE","1850802250055"]
["CONDRAX SRL","RO13583780"]
["CONDURACHE ELENA","2570919090052"]
["CONDURACHI BOGDAN LUCIAN","1800517330247"]
["CONDURACHI NECULAI-CATALIN","1740205221188"]
["CONELTEX SRL","RO4438837"]
["CONEX ELECTRONIC SRL","RO3016800"]
["CONEXIUNI IMPEX SRL","RO8206155"]
["CONFAS S.R.L.","RO6490319"]
["CONFORT CONSTRUCT S.R.L.","RO19132983"]
["CONFORT HERA DESIGN S.R.L.","RO30391580"]
["CONFORT MOB S.R.L.","RO19754625"]
["CONIFER GARDEN S.R.L.","RO29585612"]
["CONSILIU JUDETEAN SUCEAVA","4244512"]
["CONSTALPRES SRL ","RO33380852"]
["CONSTANTIN MARIUS","1750628352647"]
["CONSTANTINEANU DAIANA","nedef."]
["CONSTANTINESCU ANDREI","1910225226768"]
["CONSTANTINESCU COSTEL","1730404330774"]
["CONSTANTINESCU DAN","1810812336390"]
["CONSTANTINESCU FLORIN","1721118431517"]
["CONSTANTINESCU LIVIU","1791112173189"]
["CONSTANTINESCU MIHAELA","2690922221211"]
["CONSTRUCT PLUS SRL","RO18262276"]
["CONSUC S.A.","RO3177822"]
["CONSULT UTIL SRL ","RO22091450"]
["CONSULTEAM EXPERT SRL","RO15963378"]
["CONT SERVICE SRL ","RO 5993703"]
["CONTAHOUSE EXPERT S.R.L.","41582631"]
["CONTAKT EXPRESS LOGISTIK SRL","RO33220770"]
["CONTASIST SRL","RO12735588"]
["CONTIMPEX S.R.L","RO692734"]
["CONTINENTAL HOTELS S.A.","RO1559737"]
["CONTRIF S.R.L.","RO8858370"]
["COOL FRESH AIR 2000 SRL","36096864"]
["COPA MOBILI S.R.L.","RO25595265"]
["COPET","RO157774"]
["COPOERU GEORGE","1780718520037"]
["COPOMOB STIL S.R.L.","RO35997170"]
["COPY START PRIM SRL","RO37665992"]
["CORA MIHAELA","2820313333883"]
["CORAL SERVICE GROUP SRL","RO5439318"]
["CORAMI MOB S.R.L.","23970376"]
["CORBIA INVEST SRL","RO28374323"]
["CORBU IOANA","2830814090051"]
["CORBU RADIAN","1790211135052"]
["CORDUNEANU IONUT","nedef."]
["CORDUNEANU IONUT","1810107330237"]
["CORDUS ANDREI","nedef."]
["CORDUS IONUT","nedef."]
["CORILET-COM SRL","RO8056104"]
["CORISIMO INOVATION S.R.L.","RO37658243"]
["CORLATAN ALEXANDRU","1890413330254"]
["CORMOS ADRIANA LACRAMIOARA","2790501264451"]
["CORNEA DANUT","1910301330533"]
["CORNEA GHEORGHE","1731209410018"]
["CORNEA SANDU","1900509330550"]
["CORNEL & VLAD S.R.L.","RO10316400"]
["CORNELIUS&PARTENERS CONSULTING","RO37279002"]
["CORNESCHI OVIDIU","1801117070021"]
["CORNETRANS SRL","RO26940930"]
["CORNICIUC CLAUDEA","2631122333199"]
["COROAMA MARIUS","1910329330552"]
["COROCAESCU CARMEN","2690528335011"]
["CORODESCU CLAUDIU","1840706020133"]
["COROIAN IONUT","1770413012531"]
["COROM EXPORT S.R.L.","RO15113369"]
["CORPUL EXPERTILOR CONTABILI SI CONTABILILOR AUTORIZATI DIN ROMANIA","RO7426179"]
["CORSAR ONLINE SRL","RO26747604"]
["CORSO S.R.L.","RO12719558"]
["CORTEX EURO BUSINESS S.R.L.","RO29698409"]
["COSARCA CRISTI","1780122070054"]
["COSARCA LILIOARA","nedef."]
["COSIM PROJECT MANAGEMENT S.R.L.","31456849"]
["COSMA CONSTANTIN","nedef."]
["COSMA MARIANA","2700729284397"]
["COSMAN ANA MARIA","2780305330012"]
["COSMIN CALIN","1780718163260"]
["COSMIUC CORNELIU","1680811335032"]
["COSMIUC GEORGETA","2610401335029"]
["COSMIUC MONICA","2860429330253"]
["COSMOS TRADING TRUCK S.R.L.","RO23744077"]
["COSMOVICI IRINA","2751015270608"]
["COSOVANU BOGDAN MIHAI","1830108330211"]
["COSTAN ANDREEA MIHAELA","2861107225916"]
["COSTAN DORU","1740310335035"]
["COSTANDACHE VALERIU P.F.A.","1680914374066"]
["COSTEA MIRABELA ÎNTREPRINDERE INDIVIDUALA","RO33125205"]
["COSTEL ANGHELUS","1690515070037"]
["COSUG GIANINA","nedef."]
["COTIN RODICA","2560727335013"]
["COTOANTA GEORGE-IULIAN","1770526423016"]
["COTOC DORU","nedef."]
["COTOC LEMN SRL","RO22754951"]
["COTOI FLORIN","1760420333205"]
["COTOVANU CRISTINEL","nedef."]
["COTURBAS MARIUS","1770926335009"]
["COURTFOOD S.R.L.","RO39742757"]
["COVALIU DAN","1680319364239"]
["COVALIUC DORINA LUCIA","2740501333291"]
["COVASA CRISTINA","nedef."]
["COVIAL CVA SRL","RO34050674"]
["COVORASUL FERMECAT S.R.L.","29923462"]
["COZACIUC CLAUDIA ELENA","2860419226732"]
["COZAN SEBASTIAN-RELU","1790727336053"]
["COZAN SEBASTIAN-RELU I.I.","25700832"]
["COZMA PETRU","1691126330773"]
["COZMEI FLORIN","1740403335023"]
["COZMEI MUGUR","nedef."]
["COZMENIUC IOAN","1720811333191"]
["COZMIUC LUCIAN","1841221336389"]
["COZONAC BUJOR SRL","RO18661005"]
["CRACIUN ADRIAN","nedef."]
["CRACIUN CONSTANTIN TOADER","1720127335044"]
["CRACIUN CORNEL","1760721320021"]
["CRACIUN IOAN MIHAI","1840726125779"]
["CRACIUN ONISIM","1881127071372"]
["CRACIUN RAZVAN ANDREI","1860920080071"]
["CRACIUN VASILE","1481021335002"]
["CRACIUN VLAD","1920505225895"]
["CRACIUNESCU ADRIAN","1760803224522"]
["CRACIUNESCU BRANDUSA","2711016334993"]
["CRACIUNESCU IULIANA ","nedef."]
["CRACIUNESCU VASILE","1560209334999"]
["CRAD RO S.R.L.","RO13920524"]
["CRAFT WOOD DESIGN S.R.L.","42216574"]
["CRAFTOOLS SRL","RO17663954"]
["CRAIVAN CIPRIAN","1800726270081"]
["CRAMARCIUC CARMEN","2590601211661"]
["CRAMARCIUC VALENTIN OCTAVIAN","1821221330525"]
["CRAP DANIELA","2730310076538"]
["CRAP IOAN COZMIN","1961112330229"]
["CRASOVAN MIHAI","1680310334996"]
["CRAVCITECH SRL","RO33043679"]
["CREADECO MOB S.R.L.","RO40429088"]
["CREANGA ADRIAN","1790809336731"]
["CREANGA BOGDAN","nedef."]
["CREANGA DUMITRU-NICOLAI I.I.","RO32626712"]
["CREATIV MOB SRL","13813552"]
["CREATIV MOB SRL (BUCURESTI)","16094761"]
["CREATIVE FURNITURE S.R.L.","RO32716440"]
["CREATIVE OPEN STUDIO S.R.L.","RO40718175"]
["CREIONUL DE TÂMPLARIE S.R.L.","42482584"]
["CREM CHRISS DESIGN S.R.L.","RO22698967"]
["CREMENE CIPRIAN ALIN P.F.A.","42642618"]
["CRESSENT IMPORT EXPORT SRL","RO6791729"]
["CRETAN COSTEL","nedef."]
["CRETIU GHEORGHE","1700114264373"]
["CRETIU GHEORGHE PFA","19905701"]
["CRETIU MARCEL","1701107264385"]
["CRETU  IOANA-PAULA","2950107330254"]
["CRETU IOAN ","nedef."]
["CRETU SABIN","1930829330207"]
["CRETU SILVIU-CRISTINEL","1710126335000"]
["CREUCO CONSTANTIN","nedef."]
["CRIBO INDUSTRIAL SOLUTIONS S.R.L.","RO38504870"]
["CRIBODNAR SRL","38685084"]
["CRIDA PHARM S.R.L","RO9602646"]
["CRILL ANCA","2800203336373"]
["CRIO HOME DESIGN S.R.L.","RO29235382"]
["CRISAN ADAM I.I.","39430020"]
["CRISAN ADRIAN","1790601120653"]
["CRISAN ALIN RARES I.F.","19671511"]
["CRISAN DANIEL","1950913314048"]
["CRISBUS DINAMIC S.R.L.","RO39889040"]
["CRISIMLEX S.R.L.","RO35651478"]
["CRISLIV CONSTRUCT S.R.L.","RO20687830"]
["CRISMARU TONY","1680622203131"]
["CRISROBY S.R.L.","RO3904220"]
["CRISSMOB DESIGN S.R.L.","RO14528317"]
["CRISSTYLE MOB S.R.L.","RO15944295"]
["CRISTAL MOB S.R.L.","RO21437289"]
["CRISTEA NICUSOR","1830530171691"]
["CRISTESCU VIOLETA","2580920334999"]
["CRISTI-IULI S.R.L.","RO11658053"]
["CRISTIAN MOB DESIGN S.R.L.","RO36233830"]
["CRISTINA MOBILLEM BADICOM S.R.L.-D","33451449"]
["CRISTOF MIHAI-SIMUCA","1550818335022"]
["CRISTOM AUTO-SERVICE 2018 S.R.L.","38907113"]
["CRO-MOBART S.R.L.","34473380"]
["CROITOR D. LUCIAN-RAZVAN - ÎNTREPRINDERE INDIVIDUALA","25959560"]
["CROITOR FLORIN","1761220334999"]
["CROITOR IRINA","2780429070056"]
["CROITOR OVIDIU DANUT","1750523335026"]
["CROITOR OVIDIU DANUT","1750523335026"]
["CROITORIU MARINELA","nedef."]
["CROMA MOB S.R.L.","RO9208006"]
["CRONOS ART DESIGN S.R.L.","RO30844184"]
["CRONOS MOB DESIGN S.R.L.","40446402"]
["CRONOS STILL DESIGN S.R.L.","RO37988330"]
["CRS NORD LINE S.R.L.","RO37950859"]
["CRUCERU CATALIN","1760303293187"]
["CRUDU IRINEL","1790303330785"]
["CS MONTAGGIO E TRASPORTI ARREDI SRL","IT07528320729"]
["CSEGOLDI ATILA I.I.","26887772"]
["CSEH ALBERT BERNAT I.I.","24580894"]
["CUB PRODCOM SRL","RO8336945"]
["CUBUS MOBDESIGN S.R.L.","RO31390876"]
["CUC ALIN","1770527120011"]
["CUC DINU I.I.","25991421"]
["CUCINA BTT SRL","RO36384140"]
["CUCIUREAN OLIMPIA","2580708335003"]
["CUCOLAS CATALIN","1850623336378"]
["CUCOS BOGDAN","1860626170031"]
["CUCU ANA","2540416151788"]
["CUCU CIPRIAN","1810410152524"]
["CUCU IULIAN","1550921400384"]
["CUCU MIHAELA","2791031330771"]
["CUDARO BEST SRL","RO39014370"]
["CUDLA GHEORGHE","1570128334991"]
["CUFNER SPEDITION S.R.L.","38800779"]
["CUISINE PARFAITE S.R.L.-D","37181500"]
["CUISINE PARFAITE SHOP S.R.L.","RO41218488"]
["CULIPEI CORNEL","nedef."]
["CUPOLA SPEED S.R.L.","RO712475"]
["CUPTORUL DE SUB CURTE S.R.L. ","RO1767134"]
["CURCA - SOCIETATE PROFESIONALA NOTARIALA","RO36521743"]
["CURCAN DIANA","2780228335076"]
["CURCAN V. IONEL I.I.","26634885"]
["CURCANU MIHAI","1851205160063"]
["CUREA MARTA LIDIA","2780406333196"]
["CUREA ROMEO IULIAN","1770818035011"]
["CURELARU SPIRIDON","1681119330794"]
["CURELEA LAURENTIU GHEORGHE","1770930250586"]
["CURELUSA FLORIN","1871012333820"]
["CURIC BOGDAN","1831203330191"]
["CURIC CRISTIAN","1830619330195"]
["CURIC IONUT","1800708331421"]
["CURSARU ILONA-ELENA","2900516297244"]
["CURTUI GHITA","1810823055101"]
["CURTUSAN MARIA ÎNTREPRINDERE INDIVIDUALA","RO33036515"]
["CUSTOM FURNITURE SRL","RO41739931"]
["CUSTOMERS CARGO S.R.L.","38884958"]
["CUSUT SI FACUT S.R.L.","37313813"]
["CUTBOX 600 PRO S.R.L.","RO44218920"]
["CUZENCO FLORIN","nedef."]
["CUZIC FLORIN","1790222221157"]
["Cabinet \"interdentis\" Societate Civila Medicala","11669001"]
["Cabinet Avocat Alexe M. Luiza Daiana","19322872"]
["Cabinet Avocat Breahna Mircea Cosmin","20971938"]
["Cabinet Avocat Craciun . Traian","27239167"]
["Cabinet Avocat Popovici A. Anca Elena","20456797"]
["Cabinet De Avocat Popescu D. Nicoleta Tatiana","20480604"]
["Cabinet De Avocat Zlate Mihaela Ruxandra","RO24231592"]
["Cabinet Medical Groza G. Marinela Carmen","19567724"]
["Cabinet Medical Individua lMaruseac R. Felicia","20412065"]
["Cabinet Medical Individual Papuc I. Rumini?a Maria","20055612"]
["Cabinet Medical Individual Rotaru E. Ileana","20456789"]
["Cabinet Medical IndividualNistor D. Gabriel Ciprian","19417808"]
["Cabinet Medical Jora I. Daniela Ana","19916719"]
["Cabinet Medical Pentiuc G. Elena Marcela","19289709"]
["Cabinet Medical Poroch I. Eugenia","19255722"]
["Cabinet Stomatologic Branzei Silviu","20392146"]
["Cabinet de Avocat Sofroni C. Sebastien","26028927"]
["Cadar Beds S.R.L.","RO30313409"]
["Cadran Prod S.R.L.","RO4438616"]
["Calabria S.R.L.","21958112"]
["Calatis Impex S.R.L.","RO5143117"]
["Calcarul S.A.","RO7220224"]
["Calimanesti Caciulata S.A.","RO3237150"]
["Calvi Com S.R.L.","RO8991197"]
["Calypso S.R.L.","RO2361001"]
["Camera De Comer? ?i Industrie Bacau","RO13904952"]
["Camera De Comert Si Industrie A Romaniei","RO2842250"]
["Camera De Comert Si Industrie Suceava","RO4030705"]
["Caminul De Pensionari","4540828"]
["Campion Auto Service S.R.L.","RO26268245"]
["Cantup S.R.L.","RO14551328"]
["Capitoliu Garden S.R.L.","RO9852766"]
["Captain Service Product S.R.L.","RO9224397"]
["Car Business S.R.L.","18121382"]
["Car Glass Impex S.R.L.","16636633"]
["Cara S.R.L.","RO128914"]
["Carbo Global S.R.L.","RO31722290"]
["Carbogaz S.R.L.","RO15266800"]
["Card S.R.L.","RO3177881"]
["Cargus SRL","RO3541906"]
["Carly Val Artis S.R.L.","RO27726707"]
["Carmo S.A.","RO1523954"]
["Carnival Crew S.R.L.","RO14705800"]
["Carpat Beton Ia?i S.R.L.","12869512"]
["Carpathian Springs S.A.","RO13290801"]
["Carpatin S.R.L.","RO1323360"]
["Carpatlift S.R.L.","RO12489440"]
["Carrefour Romania","RO11588780"]
["Cartonajul-societate Cooperativa Me?te?ugareasca","RO4673085"]
["Casa Auto S.R.L.","RO8885439"]
["Casa Bucovineana S.R.L.","RO32935076"]
["Casa Corpului Didactic \"george Tofan\"","10282235"]
["Casa Crengutei S.R.L.","RO21876470"]
["Casa Cu Rose S.R.L.","RO30469581"]
["Casa De Asigurari De Sanatate A Jude?ului Suceava","11352916"]
["Casa Din Parc S.R.L.","18773971"]
["Casa Dorina Bucure?ti S.R.L.","28824053"]
["Casa Plus S.R.L.","RO12137029"]
["Casa Radu S.R.L.","RO21931923"]
["Casa Roma S.R.L.","RO17750155"]
["Casabella Italian Design S.R.L.","RO32610899"]
["Casablanca S.R.L.","RO4025989"]
["Cash S.R.L.","RO3826873"]
["Caslita Tour S.R.L.","RO26418199"]
["Cassiusro S.R.L.","22403500"]
["Cast-auto S.R.L.","RO6406998"]
["Caste Production S.R.L.","RO30540657"]
["Castel House S.R.L.","RO14237474"]
["Castilio S.R.L.","RO15848735"]
["Castrum S.R.L.","RO4100509"]
["Catalin Autoservice S.R.L.","RO11061941"]
["Cazacu Alina-stela Intreprindere Individuala","33107691"]
["Ccd Construct S.R.L.","21372465"]
["Cd Info Prog S.R.L.","RO23724266"]
["Cd Sensoric S.R.L.","RO27439823"]
["Celsy Prod Com S.R.L.","RO5249895"]
["Ceneco S.R.L.","RO17220132"]
["Central Service Instal S.R.L.","RO19222172"]
["Centru Medical \"Bucovina\"","12476505"]
["Centrul Cultural Bucovina","25345587"]
["Centrul De Limbi Straine English Is Fun S.R.L.","31168307"]
["Centrul De Pregatire Si Perfectionare Profesionala Al Inspectiei Muncii","14256298"]
["Centrul Judetean De Resurse si De Asistenta Educationala A Jude?ului Suceava","19192993"]
["Centrul Medical Judetean Um 015","13631739"]
["Centrul National De Management Pentru Societatea Informationala","26335581"]
["Centrul Scolar De Educatie Incluziva Suceava","4243967"]
["Cerna S.R.L.","RO1067041"]
["Cetina S.R.L.","RO23397920"]
["Chidinciuc I. Adrian Inginer Geodez","30300506"]
["Chimcolor S.R.L.","RO7322011"]
["Chimtotal S.R.L.","RO13906198"]
["Chindri? Adm S.R.L.","RO27816451"]
["Chira Group S.R.L.","RO11098363"]
["Chiriac Mihai PFA","RO23316526"]
["Chiteala Costel Intreprindere Individuala","28937893"]
["Chitila 36 Prod. Alim. S.R.L.","RO1578135"]
["Chorus Marketing And Distribution S.R.L.","RO13808750"]
["Christian Impex S.R.L.","RO3618066"]
["Chronos Curier S.A.","RO24287909"]
["Cid Turism S.R.L.","RO16070703"]
["Cimbru C. Roxana Maria Cabinet Stomatologic","26668721"]
["Cimpulungeanu G. Marius Georgel Sarmis Birou Executor Judecatoresc","RO22036021"]
["Ciobanu Ariclia Intreprindere Individuala","RO28940643"]
["Ciripoi Viorel Gheorghe Persoana Fizica Autorizata","20569869"]
["Cirligeanu I. Virginia Laura Birou Individual Notarial","RO21184534"]
["City Moving Team S.R.L.","RO28274456"]
["Ciutac I. Andrei Marian Birou De Mediator","31701018"]
["Civica Construct S.R.L.","RO16015636"]
["Civica Group S.A.","RO6803360"]
["Class Mob S.R.L.","RO17341436"]
["Classmob Construct S.R.L.","31588815"]
["Claudiu & Constantin Impex S.R.L.","7491258"]
["Clevit S.R.L.","RO8782867"]
["Clima Therm Center S.R.L.","RO13572870"]
["Clou Marketing Plus S.R.L.","RO17074614"]
["Club Max S.R.L.","RO15358695"]
["Clubul Sportiv \"universitatea\" Suceava","14953570"]
["Cmd Auto Expert S.R.L.","RO23380804"]
["Cmi Pavelescu G. Dana C","19274171"]
["Cmr Trans S.R.L.","RO14100280"]
["Cobratech S.R.L.","RO18310462"]
["Coca-cola Hbc Romania S.R.L.","RO474152"]
["Codani Impex S.R.L.","RO7683202"]
["Codec S.R.L.","RO15269423"]
["Cogel S.R.L.","RO14309279"]
["Coghe Trans S.R.L.","14412672"]
["Cojocaru Ionel Intreprindere Individuala","31584031"]
["Cojocaru Marian Georgel Intreprindere Individuala","27091841"]
["Colegiul Economic \"dimitrie Cantemir\" Suceava","4243908"]
["Colegiul National \"Petru Rare?\" Suceava","4244822"]
["Colegiul National De Informatica \"Spiru Haret\" Suceava","10999338"]
["Colegiul National Mihai Eminescu","4244954"]
["Colegiul Silvic \"Bucovina\" Campulung Moldovenesc","4327260"]
["Colegiul Tehnic \"Samuil Isopescu\"","4243932"]
["Coloana Prodcom S.R.L.","RO6339007"]
["Com Prod Tur Roky","RO1545375"]
["Com Prodaliment S.R.L.","RO6234698"]
["Com-beton S.A.","RO5551582"]
["Comat S.A.","RO713551"]
["Combo S.R.L.","523972"]
["Combridge","RO14601183"]
["Comert \"m.t.k.\" S.R.L.","RO551360"]
["Comfort Hotel S.R.L.","RO2686038"]
["Comilga S.R.L.","RO10823667"]
["Comision Trade S.R.L.","RO5443785"]
["Compania Nationala De Autostrazi Si Drumuri Nationale Din Romania S.A.","RO16054368"]
["Compania Romprest Service","RO13788556"]
["Company GMBH","DE218432011"]
["Company T & M Impex S.R.L.","RO6487151"]
["Complete International Business Consulting S.R.L.","RO14179624"]
["Complex Btt Bascov S.A.","RO3111674"]
["Complex Delta S.R.L.","RO2361176"]
["Complex Hotelier Dambovita S.A.","RO10108620"]
["Complex Hotelier Parc S.A.","RO7836012"]
["Complex Hotelier Victoria S.R.L.","RO1880620"]
["Complex Zimbrul S.R.L.","RO15332059"]
["Comservice S.R.L.","RO713438"]
["Comsutexin S.A.","RO713560"]
["Comtrans Dor S.R.L.","RO3364219"]
["Comtransport S.A.","RO3777819"]
["Comuna Adancata","4327480"]
["Comuna Bosanci","4244156"]
["Comuna Burla","16388180"]
["Comuna Capu Campului","16031763"]
["Comuna Hartop","16402004"]
["Comuna Moara","4441026"]
["Comuna Rauseni","3373373"]
["Comuna Scheia","4327421"]
["Comuna Straja","4441360"]
["Comuna Stroie?ti","4244288"]
["Comuna Tarcau","2614430"]
["Comuna Zvori?tea","4244202"]
["Con Bucovina S.A.","RO712912"]
["Concelex S.R.L.","RO6544184"]
["Concret Construct A.g. S.R.L.","RO22205619"]
["Concretdesign S.R.L.","RO15786128"]
["Conect Group S.R.L.","RO20745434"]
["Confex S.R.L.","RO6303194"]
["Confort 2007 S.R.L.","22148840"]
["Conpet S.A.","RO1350020"]
["Constafinan S.R.L.","19073160"]
["Constructbet S.R.L.","6466841"]
["Constructions & Maintenance Consulting S.R.L.","RO21548791"]
["Constructmob Servicii Management S.R.L.","RO29805394"]
["Consum B.k. S.R.L.","RO2395691"]
["Cont Energo S.R.L.","9095144"]
["Contab Serv 2005 S.R.L.","17388684"]
["Contgrif S.R.L.","RO5074475"]
["Conti Grup S.R.L.","RO13502971"]
["Conti Impex S.R.L.","RO11130596"]
["Contpro S.R.L.","RO17018126"]
["Cool Estetic & High S.R.L.","RO28235279"]
["Cool Media Events S.R.L.","RO22488647"]
["Cora Pav S.R.L.","16108026"]
["Coral S.R.L.","RO738734"]
["Coralifarm S.R.L.","RO23332068"]
["Corbean Mirel Intreprindere Individuala","33591817"]
["Cordial Com Prod S.R.L.","RO3363159"]
["Corelux S.R.L.","16977177"]
["Corema Design S.R.L.","RO24830664"]
["Corodan S.R.L.","RO2952318"]
["Corola Business S.R.L.","RO16355689"]
["Corola Rosa S.R.L.","RO14622429"]
["Cosmo S.R.L.","RO11739131"]
["Cosmodana S.R.L.","RO19050557"]
["Cosmotrend S.R.L.","32947259"]
["Cosna S.A.","RO969470"]
["Coste Georgeta Viorica Persoana Fizica Autorizata","21601348"]
["Costty's Computers","16613010"]
["Cote Impex S.R.L.","RO9734922"]
["Cotta International S.R.L.","RO12897806"]
["Courierone S.R.L.","RO16694359"]
["Covimob S.R.L.","14565153"]
["Coza Rux S.R.L.","RO2559379"]
["Cozmicris-comer? S.R.L.","RO26802920"]
["Craciun . Traian","27239167"]
["Craciun ADELINA","2940802330194"]
["Craciunica Neli-doina Întreprindere Individuala","30313123"]
["Craft Atelier S.R.L.","RO17332195"]
["Crai Nou S.A.","RO718338"]
["Create Mob & Design S.R.L.","RO19279233"]
["Credys Mob S.R.L.","RO17287124"]
["Crescento Print S.R.L.","RO12946054"]
["Cribo Design S.R.L.","RO28263589"]
["Cribo Grup S.R.L.","RO15438697"]
["Crio 2 S.R.L.","RO4414293"]
["Cripet Service S.R.L.","RO5572810"]
["Crirad Logistics S.R.L.","RO23388476"]
["Cris & Nico S.R.L.","15959164"]
["Cris Decor S.R.L.","RO17009853"]
["Cris Speed S.R.L.","RO17717256"]
["Cris-dan Impex S.R.L.","5756553"]
["Criselis-med S.R.L.","15401973"]
["Criseni S.R.L.","RO669251"]
["Criserv Top Lux S.R.L.","RO28038412"]
["Crista & Cris S.R.L.","RO20898721"]
["Cristiane-mob S.R.L.","22082460"]
["Cristibo Trans S.R.L.","RO26563504"]
["Crompal Design Vld Srl-d","RO30110714"]
["Cronos Pub H & A S.R.L.","RO19022050"]
["Crybus Ambient S.R.L.","16904477"]
["Crys & Cos Tours S.R.L.","27540835"]
["Crystal Screen S.R.L.","RO21404230"]
["Cub Design S.R.L.","RO11469488"]
["Cucu Camelia","2670806335069"]
["Cupola Comserv S.R.L.","RO7836284"]
["Cupola Home Solutions S.R.L.","RO22973641"]
["Cupola Lux Service S.R.L.","RO12161760"]
["Cutean Company S.R.L.","RO13871324"]
["CÂNIPARU I. CLAUDIU-GABRIEL I.I.","25053795"]
["CÎMPAN NICOLAE-CATALIN PERSOANA FIZICA AUTORIZATA","31100840"]
["D & D Jobs S.R.L.","RO17817557"]
["D & G Loyal Grup S.R.L.","RO17329351"]
["D&C AUTOMOTIVE WEST S.R.L.","RO41436172"]
["D&D MODULO S.R.L.","43898305"]
["D&d Construct S.R.L.","RO8277911"]
["D-mail Direct S.R.L.","RO17387646"]
["D. PRINT AND PRESS SRL","RO 38250152"]
["D.A.D. BUSINESS GROUP SRL","19315468"]
["D.A.F. JUNIOR SRL","RO 17174591"]
["D.C. VALVIO S.R.L.","18935313"]
["D.G.A.S.P.C SUCEAVA","9876765"]
["D.m.g. Prod Grup S.R.L.","RO16032912"]
["DA VINCI RESIDENCE","RO34123989"]
["DABOV S.R.L.","RO14344985"]
["DACRISS STARCOM S.R.L.","30576952"]
["DADA CONCEPT PREST S.R.L.","37703824"]
["DAFAR CONSULTING","RO17846587"]
["DAGI DELUXE S.R.L.-D","34921530"]
["DAIROM S.R.L.","RO1094720"]
["DALCON GRUP S.R.L.","16601627"]
["DALIBOR MALIMARCOV","1810817353553"]
["DALINA TOPOR","nedef."]
["DALLOS LEVENTE FERENCZ I.I.","RO27014210"]
["DALPETRIS S.R.L.","37027854"]
["DAMIAN CHIOREAN","1970824125815"]
["DAMIAN ION","1730427330773"]
["DAMIAN MIRCEA","1880519212711"]
["DAMIAN RADU","nedef."]
["DAMIENA SRL","RO13667201"]
["DAN BADESCU","2860810330207"]
["DAN MOB DAN S.R.L.","22620682"]
["DAN TARTA","1781226120701"]
["DAN'S MARKET SRL","RO6213318"]
["DAN-GIGI SRL","RO12770569"]
["DANCI LUCA","1800906063378"]
["DANCIU IOAN MOBILA I.I.","31463854"]
["DANCIU ROBERTA-LOREDANA","2780726335028"]
["DANCIULOIU IONUT","1850105181091"]
["DANCOROM SRL","16613001"]
["DANCUS ANGELICA MADALINA I.I.","30922436"]
["DANCUS MADALINA","2780117080141"]
["DANDESIGN IMPEX S.R.L.","22387510"]
["DANELUC STEFAN","1651227333203"]
["DANERTA SRL","RO29054440"]
["DANESCU MIHAI","1760707441552"]
["DANI MOBPAL S.R.L.","42409443"]
["DANI ROCA SRL","RO4834157"]
["DANICAT MOBILA S.R.L.","39878199"]
["DANIELA GRIGORE","2781223131245"]
["DANILA EUGEN","nedef."]
["DANILA RODICA","2610215335028"]
["DANIO COM AIDA SRL","RO1455973"]
["DANIPAN  MOB S.R.L.","37503478"]
["DANIS COSMIN ALEXANDRU","1911219330212"]
["DANIVI COM S.R.L.","7081525"]
["DANTE INTERNATIONAL SA","RO14399840"]
["DANUBTRANS SRL","RO 6595366"]
["DANY MOB S.R.L.","RO18360444"]
["DANY-ALEX MET SRL","RO33457247"]
["DARADICS FABIAN","1780722120652"]
["DAREA CLAUDIU","1710511335006"]
["DAREL IMPEX S.R.L. (BUCURESTI)","RO3318174"]
["DAREL IMPEX S.R.L. (SIBIU)","17507980"]
["DAREL IMPEX SRL (BRASOV)","10113325"]
["DARES SPRL","BE0849435829"]
["DARIA COM S.R.L.","8235126"]
["DARITEXMOB SR.L.","RO29442710"]
["DARMINA ANI S.R.L. ","4171305"]
["DARO ONLINE SRL","RO33327875"]
["DARSTYLE S.R.L.","24855090"]
["DAS TRANSILVANIA S.R.L.","RO26062538"]
["DASCALASU DUMITRU","1631004330766"]
["DASCALESCU BOGDAN-PETRU I.I.","32098250"]
["DASCALESCU IULIAN","1740821334996"]
["DASCALU DUMITRU","1691006335014"]
["DASCALU ELENA","nedef."]
["DASCALU IULIAN","1740821334996"]
["DATIRA HILL  SRL","RO32598434"]
["DATURA IMPEX SRL ","RO12279910"]
["DAVEMOB PROD S.R.L.","RO40082891"]
["DAVID DANA","2850217330206"]
["DAVID LENUTA","2850217330206"]
["DAVIDONIX INVEST SRL","RO25209917"]
["DAVIMOB 2016 S.R.L.","40465625"]
["DAVISA MOB DESIGN S.R.L.","35189442"]
["DE BIZZPEDIA SRL","RO27971099"]
["DEACONESCU DORINA","2780423334932"]
["DEC CARPENTRY AND INTERIORS L.T.D.","691715807"]
["DECARO MECANOTEHNIK S.R.L.","RO33810550"]
["DECO-MOB S.R.L.","RO16069270"]
["DECOLUX S.R.L.","RO15091627"]
["DECOMAR BUSINESS S.R.L.","RO27862652"]
["DECOPRODOMUS 2018 S.R.L.","38827308"]
["DECOR DOOR S.R.L.","RO31959468"]
["DECORA DESIGN S.R.L.","RO17624327"]
["DECORA LUX A&B TRADING S.R.L.","RO21295583"]
["DECORAMA MOBPRODUCT LUX S.R.L.","RO36059017"]
["DECORAMA S.R.L.","6354775"]
["DECORAMMA LINE S.R.L.","RO39669150"]
["DECOSTIL EXPERIENCE S.R.L.","RO19243280"]
["DEDAL CONSTRUCT S.R.L.","RO2886885"]
["DEDEMAN SRL","RO2816464"]
["DEDIU IULIAN I.I.","18140546"]
["DEDIU MARINELA MONICA","2730308090044"]
["DEEA STYLE&BEAUTY CENTER SRL","RO27954217"]
["DEGA MOTORS GROUP SRL","RO18178990"]
["DEGAS S.R.L.","RO17828319"]
["DEI TIM CONTACT S.R.L.","RO41858940"]
["DEKORA DESIGN S.R.L.","RO22389074"]
["DELEGAT","DELEGAT"]
["DELEX MOBIPROD S.R.L.","RO8279238"]
["DELGAZ GRID S.A.","RO10976687"]
["DELI INTERIORS S.R.L.","RO39135690"]
["DELIVERY SOLUTIONS SA","RO23743772"]
["DELPHARMA SRL","RO12536828"]
["DELTA OIL S.R.L.","RO16729066"]
["DELTA SAGUL SRL","RO13828898"]
["DELTICOM OE SRL","RO16420310"]
["DEMAR MOB DESIGN S.R.L.","RO32823129"]
["DEMETRA BUCOVINA SRL","RO38278706"]
["DEMETRIU COSMIN","1870722330198"]
["DEMETRIU SILVIU","1570117334993"]
["DEMUTH ROBERT","1731202335034"]
["DENCEF FLORIN-SORIN","1760415131261"]
["DENI ROX S.R.L.","RO14913240"]
["DENIMOB LUX S.R.L.","39309932"]
["DENTALIS SRL","34460976"]
["DEO MOB S.R.L.","44584300"]
["DERT SORIN","nedef."]
["DESIGN & PERFORMANCE VALRO S.R.L.","20959705"]
["DESIGN & STYLE GIORGIAN S.R.L.","36403454"]
["DESIGN ART SRL","RO17151393"]
["DESIGN CONCEPT INTERIOARE S.R.L.","RO31570818"]
["DESIGN IDEAL SRL","RO22128907"]
["DESIGN RENOVARI FINISAJE S.R.L.","39887553"]
["DESIGNLAZEA S.R.L.","RO42396408"]
["DETAIL CEZ DESIGN S.R.L.","43424069"]
["DEUTSCHE LEASING ROMANIA IFN SA","RO23615463"]
["DEVELO-CONSULT SRL","RO15355818"]
["DEY LAURA SRL","RO18719166"]
["DEYAMA DECOR S.R.L.","38140559"]
["DEZMA AUTO SRL","RO31691925"]
["DEZMEMBRARI CONSTANTA SRL","RO34771085"]
["DEZMEMBRARI ROBERT SRL","36506484"]
["DI MOBLER AS","NO815945042"]
["DI MOBLER AS.","NO917103054"]
["DI-BAS AUTO SRL","RO8394083"]
["DI-OFFICE S.R.L.","RO16186547"]
["DIA CONS DISTRIBUTION S.R.L.","RO29423580"]
["DIABLO COM SRL","RO14453052"]
["DIABLOS COMPUTER","RO15267350"]
["DIACONESCU DAN","nedef."]
["DIACONITA CARMEN","2930117330229"]
["DIAMANT MOBILA S.R.L.","28125853"]
["DIAMANT MOBILIER S.R.L.","42341151"]
["DIAMOND CLEAN CAR SRL ","33906036"]
["DIANA DOBRI DOR SRL","RO11162695"]
["DICA FLORINA","nedef."]
["DIDFLAIER DESIGN S.R.L.","RO35747875"]
["DIDONA B S.R.L.","RO3951906"]
["DIELLE DOIMO S.R.L.","38470433"]
["DIGITAL RIVER IRELAND LTD","IE 6426071C"]
["DIKMANN DOINA","2670712333201"]
["DILCU CONSTANTIN","1530708335000"]
["DIMA IULIAN","1710816510030"]
["DIMBU ANCA","2870212330276"]
["DIMBU DUMITRU CABINET AVOCAT","34902997"]
["DIMEXIM MOBILIER S.R.L.","RO15578569"]
["DIMITRIU DANIELA","2750613078301"]
["DIMITRIU NICOLAE","1761113330771"]
["DINA MARIAN","1760107284388"]
["DINADROM S.R.L.","RO13864033"]
["DINAMIC CONSTRUCT S.R.L.","RO19220562"]
["DINAMIC MOB SHOP S.R.L.","RO34198469"]
["DINAMIKI S.R.L.","RO21088065"]
["DING COMMUNICATION SRL","RO27078460"]
["DINU VALENTIN ADRIAN","1850331297298"]
["DIRECT CLIENT SERVICES","RO11648548"]
["DIRECT WOOD PRODUCTION S.R.L.","RO39796064"]
["DISENATE DESIGN INTERIOR S.R.L.","RO17909901"]
["DISHO CREATIVE STORE S.R.L.","RO43189907"]
["DISTINCT MOB S.R.L.","RO9042077"]
["DISTRIBUTION PEDROLLO","RO21937675"]
["DISTRICT TEL SRL","RO15969451"]
["DITU SERGIU- GEORGE","1830401410107"]
["DIVERS EXPERT GRUP S.R.L.","RO16193269"]
["DIVERS UTIL SERVICE SRL","RO15045752"]
["DIXON GEORGINA RODICA","2870421336541"]
["DKOSOFA S.R.L.","RO36526481"]
["DLD DECOKANT S.R.L.","RO34044427"]
["DML GAD S.R.L.","RO32420428"]
["DO-RA-DRAGNEA S.R.L.","RO1523229"]
["DOAGA SEBASTIAN ADRIAN","1820405260043"]
["DOART DESIGN MOB S.R.L.","40812929"]
["DOBIE S.R.L.","2824815"]
["DOBRE IOAN","1560607030014"]
["DOBRE LUCIAN","1800225336546"]
["DOBRE LUCIAN (BUCURESTI)","1640912400566"]
["DOBRILA GHEORGHE P.F.A.","35167142"]
["DOBRITA DUMITRU","1740406381450"]
["DODO MOB S.R.L.","RO18740010"]
["DOIMO S.R.L.","RO34369755"]
["DOINA N S.R.L.","RO1356422"]
["DOLCEAN ILIE","nedef."]
["DOLCEANU MINODORA","2550331330766"]
["DOLHA GABRIEL MIHAI","1741031400016"]
["DOMINANT ELECTRIC SRL","18762174"]
["DOMINANT ELECTRIC SRL","RO18762174"]
["DOMINOVET SRL","RO24060085"]
["DOMISOF DISTRIBUTION SRL","RO36594036"]
["DOMNISORU NATALIA","2540118335012"]
["DOMUS ART DESIGN S.R.L.","RO23982168"]
["DOMUS NUVO S.R.L.","RO6234477"]
["DONATELLO HOTELS SRL","IT01635711201"]
["DONISAN IONUT CATALIN","1870322330548"]
["DONISAN SORIN","1791003333297"]
["DOORLAND MOB&DOORS S.R.L.","RO31626277"]
["DORALEX MOBDIVERS S.R.L.","RO17159745"]
["DORALY MARKETPLACE SRL","RO38673179"]
["DORALYMOB S.R.L.","RO35421274"]
["DORAVET S.R.L.","RO19726617"]
["DORIMAR GROSENI S.R.L.","RO7329931"]
["DORIS AGROCONS S.R.L.","RO17635954"]
["DORISCOM SRL","RO6475408"]
["DOROFTEI ADRIANA-VERONICA","2800705335801"]
["DOROFTEI CONSTANTIN","1850827336384"]
["DOROFTEI NARCISA-VICTORITA","2850428330252"]
["DOROFTEI RADU","1681208330765"]
["DORVAS SRL ","RO17727373"]
["DORYS MOTU S.R.L.","RO28095795"]
["DOTSTYLE S.R.L.","RO18811315"]
["DOUBLE D WOODEN FACTORY S.R.L.","RO39047793"]
["DOVIA '95 IMPEX SRL","RO8284269"]
["DR. DANIELA CRUPINSCHI","nedef."]
["DRACARD COM SERV SRL","RO8050705"]
["DRAGAN IULIAN","1851216035275"]
["DRAGANESCU STEFAN-SERGIU","1930702271711"]
["DRAGCRIS MOB S.R.L.","RO32192150"]
["DRAGHICI IUSTIN","1930411330221"]
["DRAGNEA IONUT","1710105131254"]
["DRAGOI CONSTANTIN","1800129331421"]
["DRAGOI DANIELA","2700227131241"]
["DRAGOI MIHAELA","nedef."]
["DRAGOMIRESCU DANIEL","nedef."]
["DRAGOS CLAUDIA","1821019223165"]
["DRAGOS EPURE","1720402470029"]
["DRAGOS TRANSPORTING SRL","17955037"]
["DRANCA CONSTANTIN","1710514332199"]
["DREAM MOB S.R.L.","RO16877232"]
["DREAMSTIME LLC","562541983"]
["DREAVA MONICA","2771001335039"]
["DREHLUTA G. NICU P.F.A.","25476000"]
["DREHUTA FLORIN OCTAVIAN","1830503330544"]
["DRELCIUC SILVIA","2830520394461"]
["DRIATHELI GROUP SRL","RO26209397"]
["DRIFTER S.R.L.","RO20959519"]
["DRIMBA CRISTIAN MIHAI","1721216370032"]
["DRINKS INTERPROD & DISTRIBUTION S.R.L.","RO15281109"]
["DROMANY COM S.R.L.","RO10093775"]
["DROPSHIPPING B2B SRL","RO37659990"]
["DRS PROJECTSIB S.R.L.","RO40167939"]
["DRUKEN&MEDIA S.R.L.","37923021"]
["DRUMEA MARIANA","2730601280793"]
["DRUMEA SEBASTIAN","nedef."]
["DRYVE COM S.R.L.","RO18835713"]
["DS Autohandel","DE282407138"]
["DSC EXPRES LOGISTIC SRL","RO29255819"]
["DSG ARREDI S.R.L.","RO36130893"]
["DSN MOBILA IMP EXP S.R.L.","RO24111782"]
["DSP MEDIACONS S.R.L.","RO30450201"]
["DTM GROUP INTERNATIONAL S.R.L.","RO31414231"]
["DUBAN IONUT","1840812330220"]
["DUCA CLAUDIA","2740314416021"]
["DUCA GABRIEL","1761201221248"]
["DUCEAC BOGDAN","1910723330526"]
["DUCIUC ANGELICA","2851226330197"]
["DUDI RENT S.R.L.","RO43106251"]
["DUDUMAN GABRIEL","1791030335053"]
["DUDUMAN IONEL","1850716330201"]
["DUELMIS PREST S.R.L.","RO9472872"]
["DUGLASMOB S.R.L.","RO43138253"]
["DUILIO SAS DI FERNANDO BARTOLUSSI & C.","IT 02641280272"]
["DULGHERIU ADRIANA","nedef."]
["DUMBRAVA DANIELA-GEANINA","2781022075087"]
["DUMBRAVA TUDORITA-OANA","2821216071362"]
["DUMBRAVU MARIUS","1820617330239"]
["DUME NICOLAE","1721023051116"]
["DUMECO S.R.L.","29349468"]
["DUMISTRACEL DANIELA","2620705040023"]
["DUMITRACHE FLORENTIN-ORTIZ","1840325151987"]
["DUMITRAS ALINA","nedef."]
["DUMITRAS D ANCUTA-BIROU EXECUTOR JUDECATORESC","22239921"]
["DUMITRASI MILUCA","1570818073549"]
["DUMITREASA CATALIN I.I.","28089246"]
["DUMITRESCU IONUT","1781121312603"]
["DUMITRESCU IULIAN","1840918134122"]
["DUMITRIU NICOLAIE","1901224336372"]
["DUMITRU CATALINA","2790122293096"]
["DUMITRU GIORGICA","1760204031841"]
["DUMITRU LAURENTIU","1750626280039"]
["DUNCA EXPEDITII SA ","RO6725130"]
["DUO NOMIS S.R.L.","37291502"]
["DUPA GHEORGHE","1831120071364"]
["DUPU IMPEX SRL","RO15415553"]
["DUROS HOLDING INDUSTRY 2003 S.R.L.","RO16564200"]
["DUTCA MUGUR","nedef."]
["DUTCH TRUCK SERVICES SRL","RO33427149"]
["DUTU ELENA","2701020332149"]
["DWYN ELECTRONICS SRL","RO31836120"]
["DYNAMIC MOB DESIGN S.R.L.","38514661"]
["DYNAMIC OMEGA LINES SRL","33449104"]
["Daad S.R.L.","18433562"]
["Dabovas S.R.L.","RO22011469"]
["Dacodasoft S.R.L.","RO14863141"]
["Dacorum Grup S.R.L.","RO11609301"]
["Dada Concept S.R.L.","15575384"]
["Dadi Cassa S.R.L.","15243296"]
["Dafnanic Serv S.R.L.","RO10375172"]
["Daghemana Com S.R.L.","RO10177469"]
["Daily Group S.R.L.","RO3664240"]
["Daliad S.R.L.","RO13366551"]
["Dalycom S.R.L.","RO6791818"]
["Dam Alba S.R.L.","26217837"]
["Damada Construct International S.R.L.","RO25709386"]
["Damaris S.R.L.","RO6219442"]
["Damicris Exchange S.R.L.","15750620"]
["Damsa Ovidiu Ioan Persoana Fizica Autorizata","33416883"]
["Dan-mel S.R.L.","19130230"]
["Danavi S.R.L.","RO13062781"]
["Danci P. Gabriela Intreprindere Individuala","RO25709963"]
["Dancor Com S.R.L.","RO6883598"]
["Dancris International Serv S.R.L.","RO16916560"]
["Dani & Nico Auto S.R.L.","RO15975313"]
["Danicad S.R.L.","RO13413629"]
["Danilia S.R.L.","RO17772323"]
["Dante Design S.R.L.","19188275"]
["Dantex Ro S.R.L.","RO15124899"]
["Danubia Per Adis S.R.L.","RO21662418"]
["Danubiana S.R.L.","RO20177733"]
["Danyprest S.R.L.","RO24157860"]
["Dapcom Management S.R.L.","RO22807614"]
["Darcami Company S.R.L.","RO17967406"]
["Darco Plus","18448180"]
["Darcom Construct S.R.L.","RO16779609"]
["Darcompany S.R.L.","RO22508400"]
["Darex Auto S.R.L.","RO14462140"]
["Darimob Art S.R.L.","18848454"]
["Darina Com S.R.L.","RO5641421"]
["Darini Com Impex S.R.L.","5756855"]
["Darkness S.R.L.","RO5086283"]
["Darmel Tour 2002 S.R.L.","RO14961387"]
["Darom Business Invest S.R.L.","RO27851971"]
["Darymo Car Wash S.R.L.","RO22980274"]
["Dascalu G. Mihaela Birou Expert Contabil","27900233"]
["Dasmar Com S.R.L.","RO8507000"]
["Data Service S.R.L.","RO713691"]
["Datis Computers S.R.L.","RO12017006"]
["Dava S.R.L.","RO714360"]
["Davicrin S.R.L.","21245534"]
["David Fashion S.R.L.","RO20714373"]
["David Ovidiu Comert - Intreprindere Familiala","28931378"]
["Davimob S.R.L.","RO9432371"]
["Dax G. Grup S.R.L.","RO15028158"]
["Dcd Import-export S.R.L.","RO20362811"]
["Deane's Pub S.R.L.","RO29531183"]
["Debora S.R.L.","RO16483890"]
["Deco Design Interior S.R.L.","RO15547767"]
["Deco Design S.R.L.","15521252"]
["Deco Design Service S.R.L.","RO17104928"]
["Deco Line S.R.L.","RO15007244"]
["Decor Druck Leipzig","DE159733611"]
["Decor Expert S.R.L.","RO13664949"]
["Decora Folii ?i Furnire S.R.L.","RO17514405"]
["Decorama S.R.L.","18637775"]
["Decostar S.R.L.","RO18141738"]
["Deep Prest 2002 S.R.L.","RO14902356"]
["Def Art Grup S.R.L.","RO18437718"]
["Defel Com S.R.L.","RO7618921"]
["Degu Mark Mobil S.R.L.","RO16204830"]
["Del Company S.R.L.","RO17707406"]
["Delamode Romania S.R.L.","RO6322498"]
["Deli Trans S.R.L.","RO15789558"]
["Delta Plan S.R.L.","RO4689669"]
["Delta Rom S.A.","RO6233005"]
["Deneb S.R.L.","RO11622270"]
["Denim Hermanstadt S.R.L.","RO19685371"]
["Denis Transport S.R.L.","RO22380903"]
["Depamet S.R.L.","17836605"]
["Derom Management S.R.L.","RO14822834"]
["Design Mobila S.R.L.","RO13637375"]
["Desinco Tell Ando S.R.L.","RO9143985"]
["Desira Impex S.R.L.","RO4983108"]
["Deutsche Motors Service","RO32688731"]
["Deux Saveurs S.R.L.","RO34382843"]
["Dezmembrari Autocentrum S.R.L.","RO33628622"]
["Dhl International Romania S.R.L.","RO1590678"]
["Diana Mdi International S.R.L.","RO29577849"]
["Dianakarl S.R.L.","RO22579222"]
["Diasil Service S.R.L.","RO6419432"]
["Dib Com Inter S.R.L.","RO11225050"]
["Diesel Servcom S.R.L.","RO15357657"]
["Dieselyan S.R.L.","RO19387898"]
["Diforom S.R.L.","RO7897540"]
["Digisign S.A.","RO17544945"]
["Dimbu D. Bogdan Dumitru Birou Individual Notarial","RO28707649"]
["Dimelectronic S.R.L.","RO4240030"]
["Dimex-2000 Company S.R.L.","RO13027407"]
["Dimofte I. Sorina Birou De Audit ?i Consultan?a Fiscala","23628285"]
["Dinamic Vega S.R.L.","RO27504280"]
["Dinelo Group S.R.L.","24240167"]
["Dingo S.R.L.","RO713276"]
["Diplomat House S.R.L.","RO32626046"]
["Directia De Administrare A Domeniului Public si Privat A Jude?ului Suceava","18689014"]
["Directia De Sanatate Publica Judeteana Suceava","4244920"]
["Directia Generala A Finantelor Publice","4244539"]
["Directia Generala A Finantelor Publice Activitate Economica","24137073"]
["Directia Generala De Asistenta Sociala Si Protectie A Copilului","9899076"]
["Directia Judeteana Pentru Cultura Suceava","4244644"]
["Directia Sanitara Veterinara","4244504"]
["Directia Silvica Suceava","714140"]
["Discif S.R.L.","RO14119533"]
["Distribois SA","BE0415258285"]
["Distribution Magi S.R.L.","RO718630"]
["District S.R.L.","RO5597580"]
["Divimex Intermed S.R.L.","RO18155385"]
["Dnc Generator Impex S.R.L.","RO28940350"]
["Document X S.R.L.","RO11496091"]
["Dogemar S.R.L.","RO12874764"]
["Dokido S.R.L.","RO28543643"]
["Dolapilp S.R.L.","30450775"]
["Dolfy Star S.R.L.","RO10186653"]
["Dolimed S.R.L.","6726232"]
["Domcomex S.R.L.","5154116"]
["Domeniul Mihai Eminescu S.R.L.","RO22801000"]
["Domiflor S.R.L.","23200644"]
["Domovali S.R.L.","RO13910970"]
["Domus B.b.s. S.R.L.","3176690"]
["Domus Flex S.R.L.","RO6647384"]
["Don Quihotte Prestcom S.R.L.","RO5462906"]
["Donau Services S.R.L.","RO17810699"]
["Dorelvic Prodcom S.R.L.","7194575"]
["Doreveco Logistic Network S.R.L.","RO30800021"]
["Dorexim S.R.L.","RO6095603"]
["Doriani Oil S.R.L.","RO26011844"]
["Dorna Medical S.R.L.","15978905"]
["Dorna Vani Construct S.R.L.","RO26131239"]
["Doua Stele Com S.R.L.","RO6872238"]
["Double Click Net S.R.L.","RO16978679"]
["Doxar Grup S.R.L.","RO4240308"]
["Dracaena Farm S.R.L.","RO14763495"]
["Dragon Star Curier S.R.L.","RO16159887"]
["Dralin S.R.L.","RO15423947"]
["Dream Team Oil","RO33202286"]
["Dreams Oil S.R.L.","RO18805216"]
["Dreghici Ana-rodica \"pensiunea Everest-arad\" Intreprindere Individuala","RO26576059"]
["Drive Test S.R.L.","17162473"]
["Drop S.R.L.","22492907"]
["Drucodan Trans Impex S.R.L.","RO9587945"]
["Dual Turism S.R.L.","RO718532"]
["Ducks Automobile","DE243808706"]
["Duke Experience S.R.L.","RO15500926"]
["Duke S.R.L.","13711552"]
["Dumisan Impex S.R.L.","RO15503167"]
["Dunarea S.A.","RO1635346"]
["Duo Mat Retail","RO33675012"]
["Duo Mat S.R.L.","RO13012090"]
["Durantex S.R.L.","RO21451178"]
["Dynamic Design & Advertising S.R.L.","RO21720527"]
["Dynamic Parcel Distribution SA","RO9566918"]
["E Birotik S.R.L.","23777465"]
["E TRAVEL S.A.","EL998645900"]
["E&T Instal SRL","RO13839943"]
["E-DECOR MOBLINE S.R.L.","38381786"]
["E-LABORATOR FEERIA S.R.L.","RO16315943"]
["E-Lap KFT","HU13555469"]
["E-ON MOLDOVA","RO14689615"]
["E.on Energie Romania S.A.","RO22043010"]
["E.on Energie Romania S.A.","RO22043010"]
["E.on Energie Romania S.A.","RO22043010"]
["E.on Energie Romania S.A.","RO22043010"]
["E.on Energie Romania S.A.","RO22043010"]
["E.on Energie Romania S.A.","RO22043010"]
["E.on Energie Romania S.A.","RO22043010"]
["E.on Energie Romania S.A.","RO22043010"]
["E.on Energie Romania S.A.","RO22043010"]
["E.on Energie Romania S.A.","RO22043010"]
["EASH SHOP SRL","RO36624455"]
["EAST EUROPEAN SOURCING SRL","RO14426414"]
["EAST TRADE IMPEX SRL","RO5093639"]
["EASYJET AIRLINE COMPANY LTD","GB745360825"]
["EASYSHOP SRL","RO21168644"]
["ECAVAS S.R.L.","RO18997200"]
["ECHOS LLC S.R.L.","RO17493833"]
["ECLIPSO S.R.L.","RO27946826"]
["ECO ALSAM S.R.L.","RO35686638"]
["ECO DECO MEDICAL SERVICE (FRANCE)","FR74515226223"]
["ECO DESIGN ACCESORII S.R.L.","RO27047366"]
["ECO NEUTRALIZARE GRINDASI S.R.L.","RO25328470"]
["ECO RET SRL","RO29460260"]
["ECO VALAHIA SRL","RO34485547"]
["ECO-PLANT SRL","5099283"]
["ECOBIO GLOBAL TRADE S.R.L.","16345073"]
["ECOEON S.R.L.","RO38573196"]
["ECOERG S.R.L.","RO5644690"]
["ECOLOGIC LUCAS AUTO S.R.L.","41397316"]
["ECOLOGIC MOB S.R.L.","RO24731890"]
["ECOM ONLINE S.R.L.","RO39050390"]
["ECORA GRAND VISION S.R.L.","RO42291320"]
["ECOVERA S.R.L.","21289000"]
["EDEN GARDEN EVENTS S.R.L.","RO39046461"]
["EDEN GARDEN STORY S.R.L.","42163534"]
["EDEN S.R.L.","RO1682186"]
["EDIL INTALPRODUCT SRL","RO24520884"]
["EDILTAM S.R.L.","RO22698797"]
["EDITURA LIDER INTERNATIONAL S.R.L.","7079460"]
["EDUARD EUROTRANS S.R.L.","RO14326105"]
["EDY CONSTRUCT BLUER S.R.L.","RO42990973"]
["EDY DINAMIC MOB SRL","RO33709328"]
["EDYSS MOB S.R.L.","RO18672918"]
["EFECT MOB DESIGN S.R.L.","33787679"]
["EGGER ","7350404573"]
["EGGER BISKUPIEC","PL5252614980"]
["EGGER ROMANIA SRL","RO16136689"]
["EGREGOR DESIGN S.R.L.-D","34769700"]
["EGREGOR MOBILI S.R.L.","37912332"]
["EH DOMO INVEST S.R.L.","RO19213700"]
["EIMAR PAN S.R.L.","RO32875020"]
["EK INSTAL GAZ EST SRL","RO33983683"]
["EK ITALIAN DESIGN S.R.L.","RO24361720"]
["EL ROBLE SRL","RO37886357"]
["ELASS-DAN CONSTRUCT S.R.L.-D","36876347"]
["ELASTICA SRL","RO8579960"]
["ELCOMI AD S.R.L.","RO22071908"]
["ELCOMOD CONTROL SRL","RO30150344"]
["ELDOMIR SRL","RO32548363"]
["ELECTRIC DESIGN SRL ","RO14346064"]
["ELECTRO DISTRIBUTION SRL","RO16823860"]
["ELECTRO SABINY S.R.L.","27850445"]
["ELECTRONIC WORLD SRL","RO21255775"]
["ELEFANT WASH SRL","34027574"]
["ELEMATIS TECH SRL","RO28139310"]
["ELENA CIUREZU - GUNGOR","2710522034975"]
["ELETERM SRL","RO15250315"]
["ELF AUTO COM SERVICE SRL","RO24588332"]
["ELFAST S.R.L.","RO3206944"]
["ELFEROM PLUS S.R.L.","RO17304144"]
["ELFUN CONCEPT S.R.L.","RO27085947"]
["ELICA S.p.A.","IT00096570429"]
["ELIM-70 S.R.L.","RO14467287"]
["ELIMECRO SRL","RO18750676"]
["ELIS TURISM SRL","RO19315522"]
["ELISEE COMERCIAL S.R.L.","RO14223185"]
["ELITEMOB S.R.L.","RO15129330"]
["ELIXDAN PROD COM IMPEX S.R.L.","RO8614510"]
["ELLERS CONCEPT NDL S.R.L.","RO43179830"]
["ELMOBEROM PROMOB S.R.L.","RO40418100"]
["ELNY MOB S.R.L.","34110075"]
["ELPETO OIL SRL ","RO4674048"]
["ELSAMA MG IMPEX SRL","RO9908271"]
["ELSIRA SRL","RO14700179"]
["ELVILA PRODUCT SRL","RO8361370"]
["ELVILA S.A.","RO11273421"]
["ELYAHU S.R.L.","RO18237035"]
["ELYAS MAT S.R.L.","RO30616194"]
["EMA SPORT S.R.L.","34843530"]
["EMARA FOOD SRL","RO34330151"]
["EMBRIO TEODORA S.R.L.","44330833"]
["EMER STAR SRL","RO30860554"]
["EMERGENT TRADING S.R.L.","RO25909325"]
["EMIEMILUX S.R.L.","RO33795493"]
["EMIKAR S.R.L.","RO15164028"]
["EMIL SELEGEAN","1800624125793"]
["EMIRAM EUROPEAN SOLUTION S.R.L.","RO44469140"]
["EMMA FENESTRA","RO33863628"]
["EMOB DESIGN SRL","RO31118287"]
["EMOTION LINE S.R.L.","22955149"]
["ENACHE SORIN-LUDVIC","1710209131240"]
["ENARU IONUT BOGDAN","1790623030021"]
["ENCUT DAN ALEXANDRU","1810425330251"]
["ENE ELENA PFA ","20664062"]
["ENE LUCIAN","1830804520478"]
["ENE NICUSOR","1731121211673"]
["ENEL ENERGIE S.A.","RO22000460"]
["ENERCO S.R.L.","RO10631840"]
["ENESCU DANIEL","nedef."]
["ENGLISH HOME SRL","RO33259975"]
["ENI S.R.L.","RO4616870"]
["ENNA CHER SRL","RO7111391"]
["ENTERTAINMENT BUSINESS DEVELOPMENT (EBD) SRL","RO32317652"]
["ENVESTI SRL","RO38273806"]
["EON SERVICII TEHNICE","RO18594305"]
["EPA CONSULT SRL","RO15404155"]
["EPIC FILM SRL","35204704"]
["EPURA DESIGN S.R.L.","RO14520798"]
["EQUITY PROPERTY MANAGEMENT SRL","RO33487337"]
["EQUITY PROPERTY MANAGEMENT SRL","RO33487337"]
["EREDMOB S.R.L.","36948869"]
["ERGOMOB S.R.L","RO18857487"]
["ERGOMOBILA FAMILY S.R.L.","39221465"]
["ERICADA SRL","RO37944318"]
["ERISVAS TRADING S.R.L.","RO33080081"]
["ERNIK FRUCT S.R.L.","RO31835583"]
["EROSTRADE SAS DI ERDOGAN ESIN","IT02101990501"]
["ERVI ART S.R.L.","RO12509670"]
["ES DESIGN SRL","RO18372023"]
["ESFOLYO KAPLAMA VE TIC. LTD. STI.","VD3790382960"]
["ESHO STUDIOS S.R.L.","RO14715323"]
["ESKO TIRES INVESMENT SRL","RO32516787"]
["ESKY TRAVEL SEARCH SRL","RO26130195"]
["ESOS PROD SRL","RO3664291"]
["ESPERO IMPEX SRL","RO7905350"]
["ESSENCE MED SRL","39861251"]
["ESSENZA SHOP S.R.L.","RO34432275"]
["ETALON P.K. VIA S.R.L","41224080"]
["EU AUTOMATION GMBH","DE317988905"]
["EUPHORIA PUB SRL","RO 26538322"]
["EUPHORICA CONCEPT S.R.L.","RO37550828"]
["EUPHORICA DESIGN S.R.L.","RO21381935"]
["EURO COMCAS TRADING","RO19184249"]
["EURO DANIEL S.R.L.","RO13847687"]
["EURO DESIGN S.R.L.","RO13866638"]
["EURO EST DECORATIVE S.R.L.","RO40656552"]
["EURO EST GROUP S.R.L.","RO15049525"]
["EURO GSM IMPEX SRL","RO14266933"]
["EURO KISS SRL","RO22730286"]
["EURO PARTS DISTRIBUTION SRL","RO29405223"]
["EURO QUARTZ TRADE SRL","RO33320486"]
["EURO TEHNO GROUP SRL","RO13807976"]
["EURO UNELTE TRADING SRL ","34133834"]
["EURO-CHRISTIANS INC. S.R.L.","RO16924466"]
["EURO-EVI S.R.L.","RO3204366"]
["EUROBETA COLORS SRL","RO26348298"]
["EUROCCOPER SRL","RO6262752"]
["EUROCOMPACT GROUP S.R.L.","32441846"]
["EURODRIVESHAFT SRL","RO39668863"]
["EUROGAMMA GROUP DESIGN S.R.L.","RO15746433"]
["EUROLIVIU LOGISTIC SRL","RO34901355"]
["EUROMASTER TYRE & SERVICES ROMANIA SA","RO25872595"]
["EUROMOB PROD S.R.L.","RO917896"]
["EURONET CONSULTING INTERNATIONAL S.R.L.","RO15146005"]
["EUROPEAN AUTOMATION LTD","GB232863311"]
["EUROSERV AUTO SIC AG SRL-D","RO28345972"]
["EUROSPEED SRL","RO13069275"]
["EUROSTAR FURNITURE S.R.L.","RO5774070"]
["EUROVION S.R.L.","RO16308750"]
["EVAL EST S.R.L.","RO35396170"]
["EVE WOOD ART S.R.L.","42153131"]
["EVELYN - EMA MOBIL S.R.L.","25070486"]
["EVEREST SRL","RO13883299"]
["EVERLIGHT SOLUTION SRL","RO13821008"]
["EVMAN HOLZ S.R.L.","RO34740453"]
["EVO ACCOUNTING SOLUTIONS S.R.L.","34791619"]
["EVO FITTINGS SRL","RO36560084"]
["EVO INTERIORS SRL","36092072"]
["EVO MOB DESIGN S.R.L.","31406565"]
["EVOSTORE SRL","RO19123284"]
["EVULET MIHAI","1830622330538"]
["EVYMATEO SRL","RO30834598"]
["EXCELENT MOB DESIGN S.R.L.","RO30023243"]
["EXIMFAL SRL","RO22380954"]
["EXMITIANI S.R.L.","RO12758182"]
["EXPERT AUDIO SRL","RO36375516"]
["EXPERT AUTO SRL","RO15296517"]
["EXPERT AUTOMOTIVE PAINT S.R.L.","RO38579610"]
["EXPERT DESIGN ART S.R.L.","RO19161768"]
["EXPERT DESIGN S.R.L.","RO16112990"]
["EXPERT IBB CONSTRUCT SRL","RO28489587"]
["EXPERT LEMN DESIGN S.R.L.","RO28214799"]
["EXPERT MASINI UNELTE SRL","RO33150888"]
["EXPERT MDF CONSULTING & PROMOTING S.R.L.","36867241"]
["EXPERT MOBILIER ART S.R.L.","32091201"]
["EXPODESIGN & CONSULTING S.R.L.","RO16645518"]
["EXPOMOB S.R.L.","RO15535320"]
["EXPONENTIAL CONSULT S.R.L.","RO25971106"]
["EXPRES DANI SRL","RO18873849"]
["EXPRES DESIGN S.R.L.","RO5005572"]
["EXTEND 4D CONCEPT S.R.L.","RO25383343"]
["EXTRA MOB S.R.L.","RO17047458"]
["EXTREME DIGITAL","RO26101777"]
["EYE DESIGN EXPERT S.R.L.","RO27895951"]
["East European Trade S.R.L.","RO4489768"]
["Easy flat GmbH","AT U72200209"]
["Easymob S.R.L.","RO28303420"]
["Eben Fumier S.R.L.","RO28055693"]
["Eccons Advice S.R.L.","RO15294818"]
["Eco Design S.R.L.","RO22150203"]
["Eco Plai Bucovina S.R.L.","RO23833778"]
["Eco Plant S.R.L.","RO5099283"]
["Eco Semiramida S.R.L.","RO17905730"]
["Ecofluid S.R.L.","RO19010951"]
["Ecomed S.R.L.","14422420"]
["Econtech-Theiss Gmbh","DE127500851"]
["Ecopur System S.R.L.","RO20062113"]
["Ecoyl-benz S.R.L.","RO26813295"]
["Ecuator S.R.L.","RO2560861"]
["Edcris Com S.R.L.","RO8129516"]
["Edel Klasse S.R.L.","RO28890928"]
["Edion Decor S.R.L.","RO19201994"]
["Edy Oil S.R.L.","RO14874272"]
["Egger Holzwerkstoffe Brilon","DE124282110"]
["Ejobs Group S.A.","RO17562631"]
["El Fun Com S.R.L.","6559924"]
["Elca S.R.L.","RO11463655"]
["Elcado S.R.L.","10166052"]
["Electra Systems S.R.L.","RO14972602"]
["Electric Ocazione S.R.L.","RO31673279"]
["Electric Plus S.R.L.","RO7920473"]
["Electro Delc S.R.L.","RO15247280"]
["Electro Service T.c. S.R.L.","RO1637320"]
["Electrocasnica S.R.L.","RO2040478"]
["Electrocos S.R.L.","RO15309323"]
["Electron Cb S.R.L.","RO22059033"]
["Electrostar Service S.R.L.","RO15820688"]
["Eleny S.R.L.","RO2250429"]
["Elerom S.A.","RO3426320"]
["Eliaser Tour S.R.L.","RO16231206"]
["Eligi Mobilis S.R.L.","RO25242476"]
["Elimad Mob S.R.L.","RO17314385"]
["Elimarg S.R.L.","RO6284092"]
["Elitrans S.R.L.","RO7041229"]
["Elondo S.R.L.","RO16177956"]
["Elsa Rova Com Impex S.R.L.","RO6726739"]
["Elsaco Electronic S.R.L.","RO7464520"]
["Elsan Panif S.R.L.","RO4604514"]
["Elyon's Agency S.R.L.","RO6787825"]
["Emagbirotica S.R.L.","RO22467806"]
["Emer Grup S.R.L.","RO23187383"]
["Eminor Impex S.R.L.","RO6794342"]
["Emma Motors S.R.L.","RO9990955"]
["Emma S.R.L.","RO2292807"]
["Empir Tour S.R.L.","RO7952653"]
["En Gros Tranzit Impex S.R.L.","RO5813900"]
["Ena Style S.R.L.","16099688"]
["Ene Marinela-Daniela Intreprindere Individuala","30242537"]
["Energo Sistem S.R.L.","RO15677066"]
["Energotrust S.R.L.","RO7408296"]
["Eng-pro S.R.L.","16629075"]
["Enigma Com S.R.L.","RO2159305"]
["Enterprise Architecture & Design S.R.L.","RO18122655"]
["Eoliana S.R.L.","RO18310713"]
["Eon Moldova","14689615"]
["Eon Moldova Distributie","14493197"]
["Era S.R.L.","RO13864700"]
["Erica Cerom S.R.L.","RO20781380"]
["Erich Mobil S.R.L.","RO745065"]
["Ermach Distribution S.R.L.","RO21305458"]
["Erni Com S.R.L.","RO9938086"]
["Esculap S.R.L.","RO2691050"]
["Esegrom Business S.R.L.","RO26128500"]
["Essa S.R.L.","RO14671537"]
["Essenza Mobili S.R.L.","RO29011644"]
["Esso Design S.R.L.","RO17992841"]
["Esso Station Wagener&Apel GMBH","DE118617001"]
["Ethos S.R.L.","10920554"]
["Etik 2001 S.R.L.","RO3163460"]
["Etis Alex S.R.L.","RO26027352"]
["Etis S.R.L.","RO17100764"]
["Eucrisp Collision Investigations S.R.L.","29269873"]
["Euro Cargo S.R.L.","RO12442642"]
["Euro Confort S.R.L.","RO16661734"]
["Euro D.e.c. System S.R.L.","RO17907129"]
["Euro Deka Group S.R.L.","RO16614627"]
["Euro Flex S.R.L.","RO13178507"]
["Euro Gsm 2000 S.R.L.","RO12760689"]
["Euro Hotels International Co S.R.L.","RO14601310"]
["Euro House Nm S.R.L.","RO7021744"]
["Euro Mast Industries S.R.L.","RO13736603"]
["Euro Mobcons S.R.L.","RO22373442"]
["Euro Nico-fe S.R.L.","16708063"]
["Euro Techsys S.R.L.","RO16997760"]
["Euro Tehnic S.R.L.","RO8252984"]
["Euro Vial Lighting S.R.L.","RO6742610"]
["Eurobusiness Company S.R.L.","RO20898900"]
["Euroexpo Trade Fairs","25594251"]
["Eurofrig S.R.L.","RO14182484"]
["Eurogroup Connection S.R.L.","RO13679451"]
["Eurohart S.R.L.","11421978"]
["Eurointer-sport S.R.L.","RO9633979"]
["Eurokit S.R.L.","16708810"]
["Eurolevicom S.R.L.","RO5315786"]
["Eurolirs S.R.L.","RO16817877"]
["Eurolt S.R.L.","RO24929847"]
["Euroluc Trans S.R.L.","RO18986090"]
["Euromarket Water & Wastewater Engineering S.R.L.","RO14692734"]
["Euromobila Dasefo S.R.L.","22906855"]
["Euronet Stone S.R.L.","RO16931900"]
["Europa 15 A S.R.L.","RO2542431"]
["European Telecom S.R.L.","RO18759934"]
["European Transsaru S.R.L.","RO8973662"]
["Europroiect S.R.L.","RO11765688"]
["Eurosantis S.R.L.","RO2743397"]
["Eurostrade Company S.A.","RO18126053"]
["Eurotech S.R.L.","RO11116770"]
["Eurotrans Ursu S.R.L.","RO13616267"]
["Eva Invest S.R.L.","RO8527562"]
["Evaluare Riscuri S.R.L.","22178620"]
["Evelon Star S.R.L.","RO11610497"]
["Event Sapiens","RO21730466"]
["Everest Comimpex S.R.L.","RO2332260"]
["Evesicran Com S.R.L.","RO8606038"]
["Evex Consulting S.R.L.","9876692"]
["Evo Serv S.R.L.","RO17972402"]
["Evolution Expo Construct S.R.L.","RO18584239"]
["Evolution Prest Systems S.R.L.","RO17563840"]
["Excelent Comserv S.R.L.","RO4974096"]
["Excellence Esthetics S.R.L.","RO18565938"]
["Excentric S.R.L.","RO14377770"]
["Exfor Bucovina S.R.L.","RO11422086"]
["Exiforest S.R.L.","RO18255813"]
["Experience Design S.R.L.","RO28637659"]
["Expert Aktiv Group S.R.L.","RO7632527"]
["Expert Construct S.R.L.","17995880"]
["Expert Evia S.R.L.","RO27919333"]
["Expert Network S.R.L.","RO16997875"]
["Expo Design System S.R.L.","RO13705682"]
["Expo Divers S.R.L.","14855840"]
["Expo Shop Design S.R.L.","RO29869070"]
["Expocar Trade S.R.L.","RO18273640"]
["Export Coop S.R.L.","RO16374583"]
["Expoterramobili S.R.L.","32907718"]
["Expres Ad-garage S.R.L.","29286165"]
["Express Euroscan S.R.L.","RO20169676"]
["Extra Mob Team S.R.L.","RO18635472"]
["Extruplast Nord S.R.L.","18268171"]
["F & M PRIMA S.R.L.","RO14469458"]
["F 64 Studio S.R.L.","RO14080808"]
["F.A.M. TOP QUALITY S.R.L.","RO35636338"]
["F.M. SUPER SELECT MOB S.R.L.","28006909"]
["FABERMOBILI S.R.L","36623166"]
["FABIANA CONSTRUCT 2020 S.R.L.","RO43302746"]
["FABRIK ONE SRL","RO33693914"]
["FACEBOOK IRELAND LIMITED","IE9692928F"]
["FAGER IMPEX S.R.L.","RO9943988"]
["FAGET EURO SRL","16491451"]
["FAIR SRL","RO5100671"]
["FAIRVALUE CONSULTING SRL","RO17254259"]
["FAIRY TALE S.R.L","23280074"]
["FALD NOVAC S.R.L.","42535050"]
["FALK CONSULTING S.R.L.","RO7260024"]
["FAMC SA","RO2560900"]
["FAMOUS GIFTS CO SRL","RO26547207"]
["FAN AUTO SRL","RO23616337"]
["FANPLACE IT SRL","RO31962960"]
["FARMACIA DELIA SRL","RO736040"]
["FARMAVET SA","RO256"]
["FASOLA ANCA","nedef."]
["FASOLA LAURA","2930209336397"]
["FASOLE GEORGE-LUCIAN","1891120510045"]
["FATAN ADRIAN","1720716011114"]
["FATU LUCIAN MARIUS","1820126100136"]
["FAVI MOB S.R.L.","RO17297101"]
["FAVIMAR TRANS SRL","RO9180525"]
["FAVORIT S.R.L.","RO1922386"]
["FDL-SPERANTA","RO25137985"]
["FEDEX EXPRESS ROMANIA TRANSPORTATION S.R.L.","RO1592989"]
["FEHER CRENGUTA","2680906335036"]
["FELIX TELECOM S.R.L.","RO2354144"]
["FELTMOB SHOP S.R.L.D","RO33557963"]
["FENSTERMARKT SRL","RO29991300"]
["FEODOROV STEFAN","1710417334998"]
["FERARA DECOR S.R.L.","RO28086851"]
["FERCALO DANIELA","2820606330670"]
["FERCALO RALUCA","2800913330672"]
["FERLAI IONEL","1760316335046"]
["FEROLEMN IMPEX S.R.L.-D","RO39693794"]
["FEROVALI SRL","RO12161604"]
["FI FAST TRANS S.R.L.-D","37900834"]
["FIDO AUTO TOTAL S.R.L.","RO30084160"]
["FIDOCAT CONSTRUCT SRL","RO22100280"]
["FIERASCU ANETA I.I.","32924794"]
["FIERASCU C. ANETA I.I.","40981529"]
["FIGURICH SRL","37638920"]
["FILIALA TERITORIALA NORD-EST A ORDINULUI ARHITECTILOR DIN ROMANIA","14344667"]
["FILIP G. DANIEL P.F.A.","33944552"]
["FILIP NICOLETA P.F.A.","RO29734749"]
["FILIP PAUL","1690917090058"]
["FILIPCIUC DORITA","1680810335013"]
["FILIPCIUC GEORGIANA","2960622330311"]
["FILOTE CONSTANTIN","nedef."]
["FILOXYL S.R.L.","RO34443371"]
["FINAGA-TUDOSE CRISTINA NADIA","2871112336370"]
["FINE DECOR GMBH","DE813992592"]
["FINE LINE MOB S.R.L.","RO29245734"]
["FINEDA S.R.L.","RO7896863"]
["FINESTORE DISTRIBUTION SRL","RO33364695"]
["FINEX PRO INDUSTRIAL SRL ","RO34741335"]
["FINEX SRL","RO12631048"]
["FINFIN DESIGN S.R.L.","RO37591232"]
["FINOTHINK S.R.L.","37640114"]
["FIREFLY","00433120581"]
["FIRICA ANGELICA","2590623221196"]
["FIRST CLASS ENTERTAIMENT S.R.L.","RO33043008"]
["FIRST SAFETY SOLUTION S.R.L.","39113706"]
["FIRST WIDE WEB S.R.L.","RO36846648"]
["FIRTESCU BOGDAN","1770302335064"]
["FIT AMBIENT SYSTEM S.R.L.","RO22786015"]
["FLAMERUS S.R.L.","RO6838600"]
["FLAVI MOB DESIGN S.R.L.","RO6619058"]
["FLAVIOADAM SRL","28368666"]
["FLEXYMOB S.R.L.","RO22299060"]
["FLIP MOB DECOR S.R.L.","36455500"]
["FLIP MOB S.R.L.","RO37600497"]
["FLOAREA SALCAMULUI S.R.L.","RO11441100"]
["FLOCEA MARIANA","nedef."]
["FLORAM TRANS S.R.L.","RO17265460"]
["FLOREA ADRIAN","1840822330226"]
["FLOREA ARGHIR","1541022225648"]
["FLOREA GRIGORE","1550807330762"]
["FLOREA GRUP","RO8273278"]
["FLOREA LIVICA","2671203330011"]
["FLOREAMOB S.R.L.","40251206"]
["FLORES S.R.L.","RO1521325"]
["FLORESCU ALINA","nedef."]
["FLORESCU DUMITRU","1571031330787"]
["FLORESCU GABRIEL STEFAN","1741127443015"]
["FLORICA IONUT VALENTIN","1830101420058"]
["FLORIDELA S.R.L.","14926606"]
["FLORISAL SA ","RO7377238"]
["FLORISTEAN ALINA GABRIELA","2680803335026"]
["FLORY DESIGNE S.R.L.","RO21432141"]
["FLUIDTECHNIK SRL","RO15696394"]
["FLUTUR ANDREI","1850911330262"]
["FLUTUR CATALIN","1850719330232"]
["FLUTUR TOADER","nedef."]
["FOCIAC BOGDAN","1871219071361"]
["FOCSANI PROIECTE CONSULTANTA S.R.L.","RO27570844"]
["FOCUS GREEN SKY SRL","RO37585958"]
["FODOR FLORIN","1730718335009"]
["FODOR FLORIN","1740915040051"]
["FODOR FLORIN","1770816335034"]
["FOIA MIHAI","1780530272676"]
["FOLFA ANGELICA RAMONA","2891005330674"]
["FOMCO WOOD S.R.L.","RO14895283"]
["FOOD&ADVERT SALES S.R.L.","RO30212072"]
["FORASTERO S.R.L.","RO18946177"]
["FOREST STILL IMPEX","34718308"]
["FORMAP INVEST S.R.L.","RO37493862"]
["FORMATEKTURA S.R.L.","RO31493138"]
["FORMECO S.R.L.","IT02076760285"]
["FORMWERK SRL","RO32988372"]
["FORRAY ANGELICA LUMINITA","2740714333194"]
["FORST PROD S.R.L","RO6040748"]
["FORTES FORTUNA S.R.L.","RO5015207"]
["FORTUNA DESIGN S.R.L.","22768329"]
["FORTUNA GRIGORE","1680802120712"]
["FORTUNA NORTH","RO34702948"]
["FORTUNA S.R.L.","RO1681903"]
["FRANCU CATALIN","nedef."]
["FRANKE ROMANIA SRL","RO10172526"]
["FRASINEANU ALEXANDRU ","nedef."]
["FRATILA ANCA EXPERT CONTABIL P.F.A.","30306606"]
["FREDY PASTRY SRL","RO34291214"]
["FREEN RESTAURANT SRL","RO1573618"]
["FREYA GREEN SRL","RO16947133"]
["FRIDEL NECULAI","1830108335745"]
["FRIDERICI S.R.L.","RO8401300"]
["FRINEL S.R.L.","RO16599764"]
["FRONT MOB S.R.L.","RO32800877"]
["FRONTALIA S.R.L.","RO22706687"]
["FRUCT MIORITA S.R.L.","RO14666115"]
["FRUMOSU ILIUTA VALENTIN","555717"]
["FRUNZA CODRIN-ILIE","1830720335746"]
["FRUNZA SORIN","1681108333222"]
["FRUSESCU CATALIN","1890126133923"]
["FUENGI SRL","RO36766875"]
["FULEA MARIA","2400503323675"]
["FULL ECHINOX","RO28621377"]
["FUNDATIA \"ALATURI DE VOI\" ROMÂNIA - ACTIVITATE ECONOMICA ","RO26598731"]
["FUNDATIA \"SF MARTIRI BRANCOVENI\" SUCEAVA","17924529"]
["FUNDATIA UMANITARA \"GEANA\"","8206830"]
["FUNDATIA WORLD TRADE INSTITUTE BUCHAREST","RO7806097"]
["FURNI MOBILE S.R.L.","RO27055660"]
["FURNITURE & STYLE S.R.L.","18606116"]
["FURNIZOR ONLINE SRL","39732346"]
["FUSEA IULIAN I.I.","RO28160001"]
["FUTURE FURNITURE DESIGN S.R.L.","RO24631980"]
["FUTURE PRINT S.R.L.","RO19315417"]
["FYA MYA SRL","36124425"]
["Fabory S.R.L.","RO18915677"]
["Fabrimet S.R.L.","RO11707547"]
["Fabtech Wood S.R.L.","RO29868813"]
["Fagilor Impex S.R.L.","18310772"]
["Fagioli Gomme S.R.L.","RO15626771"]
["Faiia Complex S.R.L.","RO723385"]
["Fair Impex 8 S.R.L.","26133647"]
["Fairway Maritime Services F.m.s. S.R.L.","RO2980130"]
["Fan Construct S.R.L.","RO21417443"]
["Fan Courier Express S.R.L.","RO13838336"]
["Fan Tuning S.R.L.","26396422"]
["Fanvet S.R.L.","RO22706440"]
["Farhat Ionela Intreprindere Individuala","RO28446802"]
["Farius Wash S.R.L.","27301005"]
["Farmacia Arsene S.R.L.","RO6180415"]
["Farmacia Oana Maria S.R.L.","RO7618824"]
["Farmacia Remedia S.R.L.","RO3177830"]
["Farmacia Santilie S.R.L.","RO27672836"]
["Farmacia Tania S.R.L.","RO734163"]
["Farmacia Tei S.R.L.","RO9417"]
["Farmacia Trofica S.R.L.","RO10282111"]
["Farmacia Ultramed S.R.L.","RO11167790"]
["Farmacia Verde S.R.L.","RO3177245"]
["Farmarom - S.R.L.","RO15091660"]
["Farmavit Salud S.R.L.","RO30419192"]
["Fast Food Mesopotamia S.R.L.","RO30329952"]
["Fast Production Grup S.R.L.","RO17135720"]
["Faur Tricotex S.R.L.","RO4440110"]
["Feher Krisz S.R.L.","RO26548431"]
["Fely Lemn S.R.L.","15432775"]
["Fepa-btc S.R.L.","RO10674166"]
["Ferca Medical S.R.L.","RO18636605"]
["Fermin Com S.R.L.","RO8885587"]
["Fero-mex Co S.R.L.","RO12863765"]
["Ferochim S.R.L.","RO8036301"]
["Ferolux-ghetes S.R.L.","RO712505"]
["Ferom S.R.L.","RO1977543"]
["Feromet M S.R.L.","RO2043148"]
["Feromob S.R.L.","RO11963499"]
["Fertrax S.R.L.","RO3915016"]
["Fetcom S.R.L.","RO3527960"]
["Fiasco S.R.L.","RO15662260"]
["Fido Syrm S.R.L.","RO31821740"]
["Fieldstar N.e. S.R.L.","RO30965208"]
["Fil Inter Com S.R.L.","RO16242221"]
["Filipelect Construct S.R.L.","RO26076495"]
["Fimax-mob S.R.L.","RO17183123"]
["Fines Construct Co S.R.L.","RO18575117"]
["Finexpert Grup S.R.L.","RO16550400"]
["Fire Protection S.R.L.","20303173"]
["Fire Protection&Safety","32865850"]
["Firmdecor S.R.L.","RO30714460"]
["Fiscal Cash Pro S.R.L.","RO31307880"]
["Fit Distribution S.R.L.","RO14642914"]
["Flamingo Enterprise 2009 S.R.L.","RO25731669"]
["Flanco Retail","RO27698631"]
["Flexi Mob S.R.L.","RO21350246"]
["Flodor Electronics Ag S.R.L.","RO32791760"]
["Florconstruct S.R.L.","RO5031652"]
["Floremi Prest S.R.L.","RO17511638"]
["Florin Art S.R.L.","RO15098838"]
["Florion Andrei S.R.L.","RO2810569"]
["Floriscoart S.R.L.","28616125"]
["Florudan Consulting Operational Protect S.R.L.","23147850"]
["Flosim Impex S.R.L.","RO7124707"]
["Fly Music S.R.L.","RO18996892"]
["Focus Optic S.R.L.","RO24233461"]
["Fomin Comtrans S.R.L.","5020629"]
["Fond Exim S.R.L.","RO400350"]
["Fonomat SRL","RO12586680"]
["Fontur S.R.L.","RO2692897"]
["Food & House Network S.R.L.","RO29255967"]
["For As S.R.L.","RO14305455"]
["For Design S.R.L.","RO20985941"]
["Forest-gosen S.R.L.","RO14647954"]
["Forestbad S.A.","RO6630544"]
["Forgarden","RO6406866"]
["Formens Retail S.R.L.","RO27868043"]
["Formens S.R.L.","RO12153083"]
["Former Grup S.R.L.","27440658"]
["Formot Pres S.R.L.","RO9941910"]
["Forstpan S.R.L.","RO33543518"]
["Frabo Mob S.R.L.","29454480"]
["Frafon Company S.R.L.","RO18808786"]
["Frame Construct S.R.L.","20745140"]
["Franck Activ","RO7466475"]
["Fred Company S.R.L.","18262314"]
["Fretta S.R.L.","RO6338648"]
["Frigo Transilvania S.R.L.","RO16329140"]
["Frizeria Elena 2011 S.R.L.","29131101"]
["Frontline Softworks S.R.L.","15981323"]
["Frumusete&comfort S.R.L.","RO18845326"]
["Fundatia \"emaus\" Suceava","RO11048934"]
["Fundatia ,,Crest,, Suceava","13038988"]
["Furniture Concept Design S.R.L.","28405721"]
["Furniture Solutions S.R.L.","RO26484060"]
["Furniture Vision S.R.L.","RO32586286"]
["Fyves Advertising Media S.R.L.","RO27632025"]
["G & D Mobi-lux Elegant S.R.L.","22503968"]
["G & G Impex S.R.L.","RO9209044"]
["G&G PAPER S.R.L.","RO16497993"]
["G&P INTERNATIONAL PRODUCTIE SI COMERT S.R.L.","RO6697331"]
["G.B.A. PLASTIK SRL","RO14188606"]
["G.P.N. TANDARICA SUCEAVA","18252280"]
["G.t.m. Expres S.R.L.","RO28038323"]
["GABIACCESORII S.R.L.","RO32747692"]
["GABINAT MIHAI","nedef."]
["GABOR MARIANA","2830807330249"]
["GABRIEL SANDA","1770810293113"]
["GABUR DANIEL","1910405336379"]
["GABY MOB DESIGN S.R.L.","42485220"]
["GADD COM SRL","RO7215430"]
["GAF NEW STYLE S.R.L.","RO31979597"]
["GAFENCU GHEORGHE","1660418332158"]
["GAFENCU GHEORGHE","1580403400908"]
["GAFENCU IONUT ADRIAN","1860407430305"]
["GAFENCU MADALINA","2940906374531"]
["GAFINCU TRANS SRL","RO32055543"]
["GAFITA RALUCA","nedef."]
["GAFITESCU P","1700101337618"]
["GAGESCH CARMEN","nedef."]
["GAGHESCH CARMEN","971118"]
["GAIDOS STEFAN I.I.","24978548"]
["GAITAN ALEXANDRU","1770228334998"]
["GAITAN ANGELICA","2870627330229"]
["GAITAN CRISTINA","2800701330287"]
["GAITAN NISTOR","1801111331425"]
["GAITAN SIRGHI DUMITRU","1901005330210"]
["GALA MIAMOB S.R.L.","RO40846158"]
["GALAN DANIELA","2720901330778"]
["GALAN MIHAIL","1741210333215"]
["GALANTON ANA","2750612335015"]
["GALANTON VLAD","nedef."]
["GALEANU IULIANA MARINELA","2761221221152"]
["GALLEON GROUP ENTERPRISE SRL","RO36493430"]
["GALOVI COM S.R.L.","RO6138860"]
["GALVAN ENA S.R.L.","RO34345233"]
["GAMA PAL COMPANY S.R.L.","RO22282735"]
["GAMACRIS DISTRIBUTIE S.R.L.","RO21970167"]
["GAN FISH S.R.L.","RO16843213"]
["GANEA EMANUEL-EMIL","1730707333197"]
["GANEA MARCEL","1780705060777"]
["GANTIARO S.R.L.","RO16023159"]
["GARAGE TOOLS S.R.L.","RO32010592"]
["GARLEANU MIREL","1680518394286"]
["GASFIVAL SRL","RO18191698"]
["GASPECO L &D S.A.","RO8037897"]
["GATMAN ILENUTA","2720701330818"]
["GAVREA CRISTINEL DANUT ","1720126201013"]
["GAVRIL COSTINELA","2851212070911"]
["GAVRIL IONUT","1920918336379"]
["GAVRIL MARIUS GABRIEL","1770827330797"]
["GAVRILESCU OVIDIU-FLORIN","1790312390706"]
["GAVRILIUC EMANUELA","2930515336392"]
["GAVRILIUC GABRIELA ANDREEA","2921028330201"]
["GAVRILOAIA LAURA","2861227225621"]
["GAVRILOVICI CONSTANTIN","1850520336886"]
["GAVRILOVICI CONSTANTIN ","BE0674694089"]
["GAVRILOVICI CRISTINA","2691107335004"]
["GAVRILUTA BIANCA","2900127330190"]
["GAVRILUTA CIOHORANU SIMONA","2940223330251"]
["GAVRILUTA LIDIA","nedef."]
["GEAMURI SERV SRL","RO5075683"]
["GEANY COMPANY MOBILA S.R.L.","RO33459795"]
["GECO INTERNATIONAL S.R.L.","RO11838844"]
["GEDOR MOB GROUP S.R.L.","RO33448834"]
["GEFCONS BUSINESS SRL","RO27624723"]
["GELU TRADING COMPANY S.R.L.","RO4059043"]
["GEMADA MOB S.R.L.","33185053"]
["GEMANAR IOAN","1820622336522"]
["GEMANAR IONEL","1960222336674"]
["GEMANAR VIORICA","2820922331489"]
["GEMENIUC MARIA","2560909335007"]
["GENELT SRL","31368950"]
["GENERAL BUSINESS SYSTEM SRL","RO3329718"]
["GENERAL DYNAMICS SRL","RO24740960"]
["GENERAL SERVICES SRL","RO15150324"]
["GENET AUREL","1781009135599"]
["GENET AUREL P.F.A.","34755039"]
["GENIMAR BUSINESS S.R.L.","RO32191472"]
["GEO MOBYLUX S.R.L.","30075625"]
["GEO NED LOGISTIC S.R.L.","RO37818506"]
["GEOPREST MOB S.R.L.","RO33743273"]
["GEOPROD-RPD SRL","31331756"]
["GEORGE S.R.L.","RO6574533"]
["GEORGESCU ALINA","nedef."]
["GEORGESCU RAZVAN","1670822434609"]
["GEORGIA GRUP MIHAI SRL ","RO4705608"]
["GEORGITA VASILE","nedef."]
["GEORGIU ANA-DIANA","2860510330230"]
["GEOSEB DESIGNE S.R.L.","RO33777659"]
["GEOSIT SA","RO4326493"]
["GERARD LOSSON","nedef."]
["GERGELY ANDREI S.R.L.","35765677"]
["GERMAN DANIEL LEONID","1741020335006"]
["GERMAN ELECTRONICS SRL","RO15929759"]
["GERMARO ELECRONICS SRL","14013388"]
["GESSICA-IMPEX S.R.L.","RO6348234"]
["GETEOR INVEST COM S.R.L.","RO9536194"]
["GETICA S.R.L.","RO16870307"]
["GETTY IMAGES INTERNATIONAL ","IE3410443CH"]
["GHEATA DORU","nedef."]
["GHEBARSINA MIHAELA ANISOARA","2770124073526"]
["GHECEF CATALINA","2770308431537"]
["GHEGU RAMONA-CLAUDIA","2870304180015"]
["GHEJU IOAN","1600324352621"]
["GHEJU IOAN","1600324352621"]
["GHELIUC ANCUTA","2910524330541"]
["GHENADE ION ","1480118043762"]
["GHENADE MARIA","2540101043798"]
["GHEORGHE CONSTANTIN","1510218335001"]
["GHEORGHE CORNEL","1761203421551"]
["GHEORGHE CORNELIA","2830606070041"]
["GHEORGHE DORIN","1850726450044"]
["GHEORGHE FLORENTIN","1850319385575"]
["GHEORGHE FLORIN","1700416335008"]
["GHEORGHE FLORIN LUCIAN P.F.A.","36928233"]
["GHEORGHE GABRIEL","1751211431516"]
["GHEORGHE KINGA","2870123245053"]
["GHEORGHE MARIUS","1690601470032"]
["GHEORGHE MIHAI","1800108410039"]
["GHEORGHE MIRCEA","1770128434526"]
["GHEORGHIU OLIMPIA","2500226335005"]
["GHERASIM IUSTINA","2940514330194"]
["GHERASIM LIVIU","nedef."]
["GHERBE SANDU CLAUDIU","1820201055056"]
["GHERCA CLAUDIU","1870108337831"]
["GHERGHEL CLAUDIU","1700713272632"]
["GHERMAN ANA LOREDANA","2940928460108"]
["GHERMAN PETRU","1770911203130"]
["GHERZUM MIHAITA-CONSTANTIN","1810920270822"]
["GHERZUM TRANS LIMITED","GB227743105"]
["GHIATA COSTICA","1750119332158"]
["GHICA VIORELA","nedef."]
["GHIDEU MARIA","2580813293119"]
["GHILE ADRIAN DUMITRU","1841101314044"]
["GHINEA IONUT","1890817035263"]
["GHIOC IOANA","2720624335011"]
["GHISE DESIGN S.R.L.","RO8778572"]
["GHITA VASILE","1840701245079"]
["GHITESCU VIOLETA","2711218205502"]
["GIANI MOBILA S.R.L.","RO16732940"]
["GIB-RATOS SRL","RO13680944"]
["GIBOTALI LOGISTIC S.R.L.","RO31946603"]
["GICA IMPORT-EXPORT ITALIA SRL","RO8375570"]
["GICONE SRL","RO17864737"]
["GIFT POINT KORLÁTOLT FELELOSSÉGU TÁRSASÁG","HU14044319"]
["GIFTSOLUTION SERVICII SRL","RO33645925"]
["GIGI SERV MOB S.R.L.","RO35772267"]
["GIL DECOR 2003 S.R.L.","RO15258920"]
["GILINOX S.R.L.","RO17478221"]
["GILLES SAINT HILAIRE","nedef."]
["GILTEX SRL","RO15866936"]
["GINGA CRISTIAN","1760119335020"]
["GINMOB DESIGN S.R.L.","RO33367764"]
["GINTAGAN OCTAVIAN","1750225203143"]
["GIO GIOVANNI ANDREEA S.R.L.","RO 25905994"]
["GIORGIS INTERNATIONAL SRL","RO4664745"]
["GIOSU ADRIAN","1520822335000"]
["GIOTINA MARIA I.I.","40707664"]
["GIOVANNY MOB S.R.L.","39759074"]
["GIPATEX SRL","RO18885576"]
["GIREADA BOGDAN","1841207330211"]
["GIRIGAN BOGDN","1751231335018"]
["GIRIGAN NARCIS MARIAN","1800908330193"]
["GIRL 2004 S.R.L.","RO16070657"]
["GIRLEANU CARMEN","2740608364210"]
["GITMAN CONSTANTIN","1580501364259"]
["GITMAN COSTICA","1740214335008"]
["GITMAN OVIDIU","1830616330218"]
["GIUIU EUGEN-FLORENTIN","1761113035013"]
["GIULIANO MOBILI S.R.L.","RO31027375"]
["GIURANIUC OANA","nedef."]
["GIURGI CRISTINEL","1671005272639"]
["GIURGIU MOB S.R.L.","RO14951529"]
["GIVRAJ S.R.L.","RO21288810"]
["GLASS ART SOLUTIONS S.R.L.","RO30193825"]
["GLASS STEEL SRL","RO20745191"]
["GLASSGSM MOBILE S.R.L.","RO32543269"]
["GLASSWORKS S.R.L.","RO14171906"]
["GLAZABLU S.R.L.","RO30671733"]
["GLISSANDO SRL","RO3486720"]
["GLISSIERO S.R.L.","RO28615758"]
["GLOBAL ANALYSIS DESIGN & CONSULTING S.R.L.","RO18988768"]
["GLOBAL DESIGN S.R.L. (BUCURESTI)","RO12145978"]
["GLOBAL DESIGN S.R.L. (SUCEAVA)","RO14374722"]
["GLOBAL ELECTRIC&LIGHTING SRL","RO34481642"]
["GLOBAL INSTAL SRL","RO21333717"]
["GLOBAL PANEL S.R.L.","RO 39229140"]
["GLOBAL SERVICE S.R.L.","RO17385050"]
["GLOBAL TECH SRL","RO1971141"]
["GLOBALMAP S.R.L.","RO35683127"]
["GLOBUS S.R.L.","RO567804"]
["GO&VU S.R.L.","RO14265342"]
["GOBILIER RETAIL S.R.L.","RO35336977"]
["GOGONEA COSMIN ALEXANDRU","1860708082570"]
["GOGU VASILE","nedef."]
["GOLBAN DRAGOS","1850124350106"]
["GOLD CONCEPT SOFA S.R.L.","37319891"]
["GOLDEN FISH SRL","RO22908031"]
["GOLDHOUSE CONCEPT SRL","RO33213420"]
["GOLDLION COFFEE S.R.L.","RO42906825"]
["GOLF OPTIMAL S.R.L.","27986456"]
["GOLF ROOM SA","RO36536574"]
["GOMARSEB PRODUCT S.R.L.","RO44579827"]
["GONBUILDING S.R.L.","RO37424374"]
["GOOGLE IRELAND LIMITED","IE 6388047V"]
["GORA ART MOBILA S.R.L.","33814978"]
["GORADI WOOD S.R.L.","28452863"]
["GOREA COSTEL","1680920040084"]
["GORGAN CONSTANTIN","1700510335031"]
["GORGOS DANIEL -MIHAITA","1850124225901"]
["GOVO CAR S.R.L.","RO39224038"]
["GP SOFA SRL","RO13888857"]
["GRABOWETZKI STEFAN","1640610131228"]
["GRADAN ARTMOB S.R.L.","37683751"]
["GRADINAR RARES","1800705013646"]
["GRADINARIU DUMITRU","1840812336379"]
["GRADINARIU PETRU","1840207115118"]
["GRADINARU DOREL","1800421330250"]
["GRADINI VERTICALE SRL","RO28494524"]
["GRAFIT MAISON DESIGN S.R.L.","RO25701080"]
["GRAMADA GAVRIL","nedef."]
["GRAND CENTRAL INVESTMENT SRL","37004320"]
["GRANDART S.R.L.","RO19054737"]
["GRANDLION ALCOM S.R.L.","RO1262689"]
["GRANT VISION WBA SRL","37707648"]
["GRAPE HOSPITALITY DUTCH OPCO B.V. ","NL856192314B01"]
["GRAPHIC RESOURCES S.L.","ESB93183366"]
["GRAPHIX SUN S.R.L.","40444649"]
["GRAPHTEC DESIGN S.R.L.","RO10440165"]
["GRAPIC ARTISAN BAKERY S.R.L.","RO39059291"]
["GRAUR ADRIAN","nedef."]
["GREC VASILE DANIEL","1820903057649"]
["GRECU CRISTINA","2840121070014"]
["GRECU MIHAIL","1740911250575"]
["GREEN COST S.R.L.","RO33181930"]
["GREEN DOWNSTREAM SRL","RO33071890"]
["GREEN FACTORY S.R.L.","RO18157491"]
["GREEN ZONE AMENAJARI S.R.L.","RO40834412"]
["GREFF NICO DESIGN S.R.L.","RO31917748"]
["GRETCAN ALEXANDRU","1831022330246"]
["GRG GLOBAL TRANS SRL","36472454"]
["GRIGMAN SRL","RO14783751"]
["GRIGORAS ADELA","2761212333198"]
["GRIGORAS COSTEL","1780305335011"]
["GRIGORAS EUSEBIU","1870402330681"]
["GRIGORAS GABRIELA LILIANA","2700314330791"]
["GRIGORAS ICHIM","1751003335036"]
["GRIGORAS IOAN","1720326274797"]
["GRIGORAS IONELA","2840115330209"]
["GRIGORAS MIHAELA","2920617336537"]
["GRIGORAS OVIDIU","1830702060029"]
["GRIGORE LAZARESCU","1810215330521"]
["GRIGOREAN LOREDANA","nedef."]
["GRIGORESCU ELENA-VALENTINA P.F.A.","33317553"]
["GRIGORESCU VALENTIN","1600209151232"]
["GRIGORESCU VASILE-SILVIAN P.F.A.","33948597"]
["GRIGORIAN ADRIAN","1800411330521"]
["GRIGORIAN SAMUEL","1920204330536"]
["GRIGORICIUC ALEXANDRU","1901015330232"]
["GRIGORICIUC MIHAIL","1830131330524"]
["GRIGORIEV SERGIU","1891220410167"]
["GRIGOROSCUTA IULIAN-IONUT","1820622330206"]
["GRINDA FURNITURE COMPANY S.R.L.","RO37766750"]
["GRINGO SHOP S.R.L.","RO38536287"]
["GROSENOIU FLORIN","1810405385596"]
["GROSENOIU ION-OCTAVIAN","1790806384224"]
["GROSIERU DANIEL-MIRCEA","1810930330209"]
["GROSU ANDREEA","nedef."]
["GROSU CRISTIAN","1910821330241"]
["GROSU CRISTINEL","1740717335012"]
["GROSU RODICA","2701213332149"]
["GROSU SERGIU","1781218078302"]
["GROUP JUNIOR GRIGORE S.R.L.","43123279"]
["GROZA BOGDAN","1820529125773"]
["GROZAVU V. MIRCEA - CABINET DE AVOCAT","34259221"]
["GROZAVU VICTORIANA-IOANA","2900108460025"]
["GRUP BIANCA TRANS S.A.","RO18846755"]
["GRUP EDITORIAL LITERA SRL","RO26475186"]
["GRUP WEST ARAD","RO33485018"]
["GSM CONTACT BEST S.R.L.","RO32554853"]
["GST LOGISTIC E.K.","DE222500884"]
["GT GROUP","RO24641339"]
["GTI HR1 S.R.L.","RO22067745"]
["GUGUREL CORNEL","1610225335013"]
["GULA ANCA","2880601330221"]
["GULA DANIEL","1810508331439"]
["GULA MARIUS","1890406330193"]
["GULA MIHAI","1850315360319"]
["GULA MOB UNICAT S.R.L.","37683794"]
["GULA OVIDIU","1891125331425"]
["GULEI SIMONA","2790219335047"]
["GULIAN CECILIA","2690828332170"]
["GULICIUC ALEXANDRU","1731202334999"]
["GULICIUC CRISTI","1991208330252"]
["GULICIUC DOREL","1640708334994"]
["GULICIUC DRAGOS","1650521335016"]
["GURANDA CATALIN","1881112330237"]
["GURAU GHEORGHE","1871018331903"]
["GURAU IRINA","2910626331911"]
["GURITA NICUSOR","1721122335025"]
["GUSETU RALUCA","2941003330201"]
["GUSETU ROMICA","nedef."]
["Gabricom Stil S.R.L.","RO32862454"]
["Gabriela Lux S.R.L.","RO15240303"]
["Gabxa S.R.L.","16858907"]
["Gaitan M 93 Prodcom S.R.L.","RO3776988"]
["Galaxy Design S.R.L.","RO17663946"]
["Galcar Prod S.R.L.","RO5669120"]
["Galeanu T. Iuliana Marinela PF","33434529"]
["Galeriile Mobilei Prod S.R.L.","RO27313069"]
["Galiani Design S.R.L.","RO16612456"]
["Galitia S.R.L.","17220140"]
["Galtonia Dali Comexim S.R.L.","RO2790380"]
["Galusca Login Vasile Intreprindere Individuala","26420563"]
["Gama Design S.R.L.","12968605"]
["Gamar Construct S.R.L.","RO19201382"]
["Gamoni S.R.L.","RO6851677"]
["Garantat Financ S.R.L.","RO16752166"]
["Garda Financiara Suceava","16114087"]
["Garda Nationala De Mediu Comisariatul Regional Suceava","16495631"]
["Gas Atlantis S.R.L.","RO29233837"]
["Gastro - Pub S.R.L.","RO26694640"]
["Gatmat Prod S.R.L.","RO11833235"]
["Gavrilas I. Ioan Expert Tehnic si Verificator Proiecte Construc?ii","21000747"]
["Gb Web Invest S.R.L.","RO27139532"]
["Geany - Universal S.R.L.","RO14942709"]
["Gebruder Weiss","RO6614115"]
["Gecomir Food S.R.L.","RO19069134"]
["Gecomir S.R.L.","RO16545985"]
["Geladi S.R.L.","RO13712191"]
["Gelerin S.R.L.","RO16927594"]
["Geliconf S.R.L.","RO948574"]
["Gemahor Impex S.R.L.","RO7858363"]
["General Auto Service S.R.L.","RO9124177"]
["General Confort S.R.L.","RO10439489"]
["General Construct S.R.L.","RO6908390"]
["General Marketing Group S.R.L.","6727378"]
["General Membrane S.A.","RO9761684"]
["General Stock Logistics S.R.L.","14947030"]
["Genimar Imobiliare S.R.L.","RO10961708"]
["Genius Group S.R.L.","RO8631651"]
["Genius S.R.L.","RO712459"]
["Geo Trans S.R.L.","RO3798986"]
["Geo'saw S.R.L.","RO15796490"]
["Geonomis S.R.L.","RO21305253"]
["George's & Milly Co S.R.L.","RO23074430"]
["Georgexpres S.R.L.","RO13667368"]
["Gepeto Com S.R.L.","RO13732440"]
["Gerimpex Com S.R.L.","RO9308765"]
["German Trading Company S.R.L.","RO15374437"]
["Germanos Telecom Romania","RO12835471"]
["Gerom S.A.","RO3109801"]
["Geroserv S.R.L.","RO15770288"]
["Gerro Atelier Mobilier S.R.L.","30903370"]
["Gervis S.A.","RO5020610"]
["Getasim Impex S.R.L.","RO15700045"]
["Getic Grup S.R.L.","6940456"]
["Gheorghe Ghe. Catalin Nicolae Georgeta Intreprindere Individuala","RO29645668"]
["Ghezaco S.R.L.","RO5267816"]
["Ghibirobalex S.R.L.","RO17219219"]
["Giavela S.R.L.","RO1862195"]
["Gibb Technologies S.R.L.","RO26140"]
["Giganti Oil S.R.L.","RO29545650"]
["Gil Flash Impex S.R.L.","RO1554640"]
["Gim Impex S.R.L.","RO3173715"]
["Gioia S.R.L.","RO15828177"]
["Gitanos S.R.L.","RO2690420"]
["Givastel Com S.R.L.","RO7836543"]
["Glass Regina S.R.L.","18721263"]
["Global Builders S.R.L.","RO24430846"]
["Global Hydro Engineering S.R.L.","30614037"]
["Global Industry S.R.L.","23593705"]
["Global Invest Holding S.R.L.","RO18279375"]
["Global Net Sales S.R.L.","28166241"]
["Gmt-evaluari Si Consultanta S.R.L.","RO23875960"]
["Gogens S.R.L.","RO1474002"]
["Gold &Platin Moldova","RO15146501"]
["Gold Project S.R.L.","23550631"]
["Goldberg Prod-com S.R.L.","6475246"]
["Golden Yago S.R.L.","RO17874927"]
["Gomar Lux S.A.","RO3094433"]
["Gomaris S.R.L.","RO24590103"]
["Good Food & Hosting S.R.L.","RO29366647"]
["Google Could Emea Limited","IE3668997OH"]
["Gradient S.R.L.","RO16067996"]
["Gradinita Cu Program Prelungit Nr.1 \"Gulliver\" Suceava","18252302"]
["Grandor S.R.L.","RO13438356"]
["Graphite Comserv S.R.L.","RO8940029"]
["Graphos S.R.L.","22183294"]
["Gravexpert S.R.L.","RO16876482"]
["Green Holiday Hotels","RO17666438"]
["Green Peisage S.R.L.","RO17385343"]
["Green Tehno Instal S.R.L.","RO30319681"]
["Grinda S.R.L.","15146480"]
["Group Claudiu 2004 S.R.L.","RO16278900"]
["Group Construct Bucovina S.R.L.","RO24226324"]
["Group Construct S.R.L.","RO16992134"]
["Grup Junona S.R.L.","RO24309969"]
["Grup Nbm Company S.R.L.","RO12150516"]
["Grupul De Distributie Eta S.R.L.","RO12273950"]
["Gulex SPRL","BE0841388193"]
["Gustav S.R.L.","RO2737280"]
["Gvc Computers S.R.L.","RO15257836"]
["H&m Hennes & Mauritz S.R.L.","RO27092928"]
["H.HOTEL MANAGEMENT SRL","RO32609983"]
["H.d.atel-service S.R.L.","RO3693718"]
["HABITAT ENERGY SRL","RO24329885"]
["HACMAN LAURENTA II","RO31708539"]
["HADAN ANAMARIA I.I.","RO25388847"]
["HAFELE ROMANIA SRL","RO26066629"]
["HAFIA VALENTINA","2500601335005"]
["HAIDAU MARIUS-IONEL","1870816336403"]
["HAIDOAIE FLORIN","1780406073536"]
["HAIDUCUL COM SRL","RO7071106"]
["HALCOM DESIGN S.R.L.","18390712"]
["HALI SRL","RO5414623"]
["HALIP  MARIOARA","2730826333203"]
["HALIP ANTONELA-MARIA","2871201330551"]
["HALIP DOREL","1700809333220"]
["HALITCHI MIHAELA","2931028330195"]
["HALLER LAURENTIU","1740912384248"]
["HALUNGA VASILE","nedef."]
["HANCEANU DANIEL","1790616335051"]
["HANDMADE BY ANA DREAM S.R.L.","RO40553875"]
["HANDRAGEL COSTEL","1770315330771"]
["HANEA VASILE","1790128321090"]
["HANGAN ELENA","2760914170416"]
["HANGANU CLAUDIU","1850513070912"]
["HANIMARIO S.R.L.","33708861"]
["HAPCA ALIN","1800607330229"]
["HAPPY ADVISOR MANAGEMENT S.R.L.","RO29730151"]
["HAPPY COFFEE SRL","nedef."]
["HAPPY DECOR DESIGN S.R.L.","37056604"]
["HAPPY TIME BEYNE AS","NO913225600"]
["HARANGUS MARIUS ADRIAN","nedef."]
["HARKE ROMANIA SOCIETATE IN COMANDITA","RO17940095"]
["HARKE ROMANIA SRL","RO36320790"]
["HARMOB INDUSTRIAL S.R.L.","24759220"]
["HARSOVSCHI DUMITRU","1561028335036"]
["HARSOVSCHI DUMITRU","nedef."]
["HARSOVSCHI LUCIAN","1820404330203"]
["HARY COMPRODIMPEX S.R.L.","RO722800"]
["HASNA ELENA","2860515331615"]
["HASNA PAVEL","1690717333208"]
["HATNEAN PETRU","1890413330238"]
["HAUCA ADRIANA","nedef."]
["HAUCA TEODOR","nedef."]
["HAVRISCIUC GABRIEL","1810818330193"]
["HAVRSTIUC NICOLAE","1911014330238"]
["HCT TRONIC SA","RO32505338"]
["HEALTH CONCEPT S.R.L.","RO30720208"]
["HECTOR ROBERT","1840912330240"]
["HELIOS CONSULTING GRUP SRL","RO16334490"]
["HELP NET FARMA","RO14169353"]
["HELQUAD S.R.L.","RO37526650"]
["HEM PROD S.R.L.","22689551"]
["HENNLICH SRL","RO18137214"]
["HENTEA EUGEN","1690720323936"]
["HERA ROVANIEMI S.R.L.","RO30913411"]
["HERBALIFE RO SRL","RO25501937"]
["HEREG C&D S.R.L.","RO15405355"]
["HEREG CRISTIAN","1710922280853"]
["HERGHELIGIU STEFAN","1841226336673"]
["HEROSHOUSE IMPEX S.R.L.","14389081"]
["HERST DESIGN S.R.L.","40792899"]
["HERTZ ITALIANA SRL- FIREFLY CAR RENTAL","IT00890931009"]
["HIDROSAL EXCAV S.R.L.","RO30040600"]
["HIDROTERM SA","RO5683613"]
["HIJ EMIL IOAN","1910625330528"]
["HIJ GHEORGHE","1830103330541"]
["HIJ MARTIN","1631123333210"]
["HIJ VASILE","1680104333191"]
["HIJ VIORICA","2820926330533"]
["HIJ&EMY TRANS S.R.L.","RO32207536"]
["HINCU EDUARD","1860509330254"]
["HINDLI GABRIELA CRISTINA","2840502080106"]
["HIPOCRATE DENTAL ART SRL","33969190"]
["HIRDEA ALEXANDRA","nedef."]
["HIRJANU ADRIAN","1691126044432"]
["HIRLEA CORINA","2701016335014"]
["HITECH CONSTRUCT 2001 S.R.L.","RO13823408"]
["HLADIUC BOGDAN","1850327330221"]
["HLAGHIE FLORIN","1770402335009"]
["HLODEC LOZOVEI DANIEL","1810102331606"]
["HNY DESIGN S.R.L.","RO30941560"]
["HOARTA COSTEL","1760529330793"]
["HOCHIAN GEORGETA","2681115333192"]
["HOCHREIN VIORICA MARIANA PFA","27648412"]
["HODEVI S.R.L.","RO37718370"]
["HODOROABA ELENA","2650221335009"]
["HOFFMAN DAN","1670912333213"]
["HOJBOTA RADU GABRIEL ","1961010336677"]
["HOJDA VASILE","1810226335801"]
["HOLBAN  IOAN-MARINICA","1860908330213"]
["HOLBAN NINA","2500301335004"]
["HOLCA GHEORGHITA","1730730335067"]
["HOLD MY STUF SRL","37332920"]
["HOLEICIUC LUCIAN COSTEL","1840502330523"]
["HOLEICIUC OLTEA","2610808335014"]
["HOLEICIUC SILVIU","1911013330198"]
["HOLIDAY INN EXPRESS - LONDON LUTON AIRPORT","GB705341074"]
["HOLIDAY INN EXPRESS AMSTERDAM ","NL820982891B01"]
["HOLIDAY INN EXPRESS-GERMANIA","DE312867747"]
["HOLVER SRL","RO13312578"]
["HOLZ EXPERT S.R.L.","23956460"]
["HOLZ-WOOD PAL TRADING S.R.L.","RO36564051"]
["HOLZBERG MOB S.R.L.","RO37819579"]
["HOLZINDUSTRIE SCHWEIGHOFER SRL","RO14554103"]
["HOLZPROFILE S.R.L.","RO36100710"]
["HOMAG","DE144368444"]
["HOME & MORE CONCEPT S.R.L.","37615846"]
["HOME GLASS S.R.L.","RO18564517"]
["HOMECO PROJECT S.R.L.","42368777"]
["HOMELINE VISION S.R.L.","RO30821490"]
["HOMIUC FLORIN","1780319335032"]
["HONEST FOOD SRL","RO36973390"]
["HOPULELE BOGDAN","1900109330193"]
["HOPULELE TEODORA","2890211330191"]
["HORATAU TEODOR","1730614335004"]
["HORDUNA MIHAI","1861105330233"]
["HORJ D. EMANUEL-DUMITRU P.F.A.","RO27028321"]
["HORNBACH CENTRALA SRL","RO17777320"]
["HORVATH CAROLINA","nedef."]
["HORYCENTER S.R.L.","RO11600639"]
["HOSPITALITY & MARKETING SRL ","RO32536024"]
["HOSTESS CONCEPT S.R.L.","38422622"]
["HOSTINARI CATALINA","2780112335038"]
["HOSTINARI IOAN","1760414335001"]
["HOSTIUC GEORGE","1661115334997"]
["HOSTIUC ILIE","1630716335041"]
["HOSTIUC ILIE TRANZACTII IMOBILIARE","RO26259174"]
["HOSTIUC LILIANA ANGELA","2880504330208"]
["HOSU IOANA MARIA P.F.A.","RO33626192"]
["HOSU SORIN","1670829330825"]
["HOTA LUCIAN-FLORIN I.I.","RO30774011"]
["HOTEL LIBERTY SRL","37383207"]
["HOUSE DESIGN S.R.L.","RO22192250"]
["HOYA MANUFACTURING S.R.L.","RO14286140"]
["HRAB VALERII","1860402410155"]
["HRANIPEX SRL","RO21201406"]
["HREBENCIUC FLORIN","1800302330195"]
["HRETIUC ARISTIDE","1671120333215"]
["HRIB F. ANCUTA CABINET AVOCAT","19417859"]
["HRISCA IOAN VLADIMIR","1660514333208"]
["HRISTEA CONSTANTIN-VALENTIN","1770109284365"]
["HRITCU RAMONA","nedef."]
["HRITUC GABRIEL","nedef."]
["HRM CONSULTING SRL","RO16523235"]
["HROMEI CARS SERVICE S.R.L.","RO30482467"]
["HTC CUBBIS S.R.L.","RO33487418"]
["HU-MOL ROMANIA PETROLEUM PRODUCTS SRL","HU30322736"]
["HUBER LIVIU","1740818330845"]
["HUDEMA ALEXANDRU LUCIAN","1790418335041"]
["HUDIMOB  S.R.L.","RO2461582"]
["HULUBIAC ANCA-ALEXANDRA","2900530330220"]
["HUMA ION","1800604164271"]
["HURJUI GHEORGHE BOGDAN","1760724040088"]
["HURJUI GHEORGHITA DORIN","nedef."]
["HURJUI RAMONA","nedef."]
["HURJUI RAMONA SIMINA","2840523331678"]
["HUSDUP ADRIAN","1850801330546"]
["HUSTIU OLIVER","1790519421521"]
["HUTAN IULIAN","1810719330248"]
["HUTANU  GHEORGHE","1730927370068"]
["HUTANU ADRIANA","2740118335023"]
["HUTU FAB1 S.R.L.","RO44741278"]
["HUTULEAC  DANUT","1930606330526"]
["HUTULEAC VIVIANA","nedef."]
["HVE TRANS S.R.L.","RO6630587"]
["HVEEN ApS","DK30076494"]
["HYBOND","GB691715807"]
["HYGGE CONCEPT S.R.L.","42378096"]
["Haghe S.R.L.","RO972297"]
["Haghel Construct S.R.L.","28480464"]
["Halterra S.R.L.","RO6552071"]
["Handbal Club Activ S.A.","RO13360923"]
["Handlowo-Uslugowa Zbigniew Zaf","PL6761011517"]
["Hanu Lui Gica S.R.L.","RO33234008"]
["Hanul Lui Matei S.R.L.","RO13775998"]
["Hanul Lupoiu S.R.L.","RO24821976"]
["Hanul Vechi S.R.L.","RO26919327"]
["Happy Arual Farm S.R.L.","RO26221412"]
["Happy Decor S.R.L.","22709756"]
["Harivex Com S.R.L.","RO6803092"]
["Hartcons All S.R.L.","RO19168332"]
["Harter Paling S.R.L.","RO35042653"]
["Hatmus S.R.L.","31229773"]
["Helin's Trading S.R.L.","RO6591550"]
["Helios Car S.R.L.","RO26897288"]
["Helios Leandros","RO3804352"]
["Helmi-vet S.R.L.","RO12355643"]
["Help Devices Activ S.R.L.","RO15495013"]
["Heptagon S.R.L.","RO18301448"]
["Hepytes Farm S.R.L.","RO12179814"]
["Herald S.R.L.","RO7384634"]
["Herba Pro-farm S.R.L.","RO6552179"]
["Herba Prodcom Impex S.R.L.","717715"]
["Herberth's Company S.R.L.","RO14751806"]
["Heso Logistic & Technologies S.R.L.","31410930"]
["Hidroterra S.A.","RO715617"]
["High Construction S.R.L.","RO26396007"]
["High Tech S.R.L.","RO4438977"]
["Hipower Activ S.R.L.","RO25027052"]
["Histria International S.R.L.","RO8025663"]
["Hojda M. Sorin Ovidiu Birou Executor Judecatoresc","RO30056631"]
["Holland Farming Agro S.R.L.","RO23261030"]
["Holtzbau Elemente Impex S.R.L.","RO9176966"]
["Homag","DE144251939"]
["Homedeco Trade S.R.L.","RO22486590"]
["Horali Regal S.R.L.","RO30975872"]
["Horhogea G. Alina Maria Cabinet De Avocat","23780835"]
["Hostel Venus S.R.L.","RO1563800"]
["HoteL ai Mori d' Oriente SRL","03206700274"]
["Hotel 2000 S.R.L.","RO18947342"]
["Hotel Albert S.R.L.","RO16438695"]
["Hotel Ambiente","DE220715952"]
["Hotel Ana Inn S.R.L.","RO26720404"]
["Hotel Belleville S.R.L.","RO27253730"]
["Hotel Castel Dracula S.R.L.","7158203"]
["Hotel Corso S.R.L.","RO17834531"]
["Hotel Due Leoni","IT01313590935"]
["Hotel Fan S.R.L.","RO19151144"]
["Hotel Indiana S.R.L.","RO1961997"]
["Hotel President S.R.L.","RO700390"]
["Hotel Roco 2001 S.R.L.","RO14178394"]
["Hotel Rosiori S.R.L.","RO8459352"]
["Hotel Schwanen","DE181404342"]
["Hotel Yaky S.R.L.","RO15557612"]
["Hp Trading S.R.L.","RO27064278"]
["Hr Franchising S.R.L.","RO26219196"]
["Huguet N. Nicoleta Beatrice Traducator","22307902"]
["Hunnebeck Romania S.R.L.","RO14557690"]
["Hunter Douglas Romania S.R.L.","RO17051777"]
["I&C MOBEVOLUTION S.R.L.","RO20439648"]
["I&M POLUX S.R.L.","RO4082372"]
["I&R GRIF MOBILI S.R.L.","RO25647704"]
["I.C.L.A. SRL","IT01860160264"]
["I.C.S. MANAGEMENT S.R.L.","27440399"]
["I.c. Belart S.R.L.","RO16438237"]
["I.c.e. Simconsprod S.R.L.","RO13781892"]
["I.e.v Handels GmbH","ATU46385406"]
["IACOB ANDREI","nedef."]
["IACOB LUCIAN","1841011336394"]
["IACOB LUXITA MARGARETA","2720130335018"]
["IACOB MARIAN","1770628335003"]
["IACOBAN ALEXANDRU","1710820332151"]
["IACOBAN CAMELIA","2921014330190"]
["IACOBAN CONSTANTIN","1690313332147"]
["IACOBAN DOMNICA","2890207331901"]
["IACOBOAE VASILE","1700615274793"]
["IACOBOAIEI PETRU","1520622274786"]
["IACOBUT IULIAN","1750720335017"]
["IAHOLNIC-COSLAC BOGDAN","1910713330192"]
["IAKAB I LEVENTE I.I.","29548258"]
["IAKAB IOAN","1800725124616"]
["IAMU ALEXANDRU-PETRU","5010710324805"]
["IANC I. DOREL PFA","21042017"]
["IANCU NICOLAE","1711126470073"]
["IANIS MAIRA PENSION S.R.L.","39615923"]
["IANITCHI IULIAN","1880908330535"]
["IANSON PROD S.R.L.","RO14849775"]
["IARCA ALINA","2810319390371"]
["IASCHIU MARIANA RALUCA","2810811330217"]
["IASCHIU MITICA","nedef."]
["IASIASCULTA SRL","RO14906129"]
["IASINOVSCHI CATALIN","1730108330010"]
["IASISTING S.R.L.","RO11713859"]
["IATCO DANIEL","nedef."]
["IATCU IMOBILIARE SRL","RO35968671"]
["IATCU TAMARA","2750402335039"]
["IBBCO COMPANY S.R.L.","RO 14217469"]
["IBC PERFORM S.R.L.","RO28158273"]
["IBERIC MASTER SRL","RO30870353"]
["ICE FLOWER PROD S.R.L.","RO19011191"]
["ICG ACCOUNTING FINANCIAL SOLUTIONS S.R.L.","RO40170454"]
["ICHIM  ANCA-VERONICA","2800317330225"]
["ICHIM CAMELIA ","nedef."]
["ICHIM MARIUS","1701122090054"]
["ICOM TRADING & CONSULTING S.R.L.","RO30819946"]
["IDEAL FEROLUC S.R.L.","RO29380013"]
["IDEAL HOME MANAGEMENT S.R.L.","RO40428830"]
["IDEAL MOBILA S.R.L.","RO16230880"]
["IDEAL PROD S.R.L.","RO3675886"]
["IDEALMOB ART DESIGN S.R.L.","RO34926910"]
["IDEALMOB DESIGNE S.R.L.","23758846"]
["IDEART SRL","RO6274072"]
["IDEO CUSTOM WORKS S.R.L.","RO39880873"]
["IEPURE P VASILE P.F.A.","33951711"]
["IEPURE VASILE P.F.A.","10770651"]
["IEREMIE ALINA","nedef."]
["IEREMIE BOGDAN ","1880920430045"]
["IEREMIE CORNEL","nedef."]
["IEREMIE FLORINA","2930412330201"]
["IEREMIE MAGDALENA MME","BE0641638469"]
["IEREMIE MELISSA","2951021330213"]
["IEREMIE OVIDIU","1800116350051"]
["IFM ELECTRONIC SRL","RO18100991"]
["IFRIM CATALIN ADRIAN","1700617335016"]
["IFRIM GEORGE","1840917134170"]
["IFTIME CRINA DUMITRELA","2811230271691"]
["IFTIME GABRIEL VALERIU","1640214100028"]
["IFTIME I GABRIEL VALERIU I.I.","27091868"]
["IFTIMIE MARCEL CATALIN","1740914274786"]
["IFTIMIE SILVIA","2601226334991"]
["IFTODE ANDREEA","2901018330216"]
["IFTODE DIANA","2890331044873"]
["IGNAT CEZAR","1870724270032"]
["IGNAT FLORIN","1790409335012"]
["IGNAT NICOLAI","1390122334999"]
["IGNAT TUDOR","1801109070021"]
["IGNATESCU DANIEL","1730509335017"]
["IGOR JURIC AUTOMOBILE","nedef."]
["II CRETU ELENA MIHAELA","RO29845712"]
["II HOCHIAN IOAN MARKET","RO29356279"]
["II SAVA DARIUS ROMEO","RO16835911"]
["IL MAESTRO S.R.L.","RO18030748"]
["ILAS LEONARD","1841129330204"]
["ILAS SABIN","1881010330221"]
["ILASI ADRIAN","1871216350035"]
["ILASI IONUT","1891019330214"]
["ILCA ANA","2670618123134"]
["ILCIUC AMBROZIE","1500820335041"]
["ILCU EDUARD","1880528070019"]
["ILIE CONSTANTIN DANIEL","1790611431512"]
["ILIE CONSTANTIN ROBERT","1710128460021"]
["ILIES DAN","1681201421554"]
["ILIES EMILIA","2850708125773"]
["ILIES FLORIN PFA","36754340"]
["ILIES MIHAI DAN","1931025336372"]
["ILIES STEFAN","1711228272624"]
["ILIES TATIANA","2710219334998"]
["ILIES VASILE LORIMER","1791226274783"]
["ILIESI TOADER","1691123333199"]
["ILISEI BRANDUSA","2750630332162"]
["ILISEI MARCEL VALENTIN","1820602332655"]
["ILISOI DOINA","2780619333201"]
["ILISOI VALENTIN","1900713330557"]
["ILISOI VASILE","1800102330542"]
["ILITOI MIHAI","nedef."]
["ILIUTA ALINA","nedef."]
["ILMIR ONYX SRL","RO14184990"]
["IMC POSITIVE BUSINESS SOLUTIONS S.R.L.","RO29405282"]
["IMENEO ART S.R.L.","37865974"]
["IMEX TRADE PLUS SRL","32459843"]
["IMI GROUP SPRL","BE0563373129"]
["IML EXPORT INTERNATIONAL SRL","RO15631131"]
["IMOBILIARE ROMAR S.R.L.","RO17949990"]
["IMODA NEW DECOR S.R.L.","34047806"]
["IMOS AG HERFORD","DE813099704"]
["IMPACT ADVERTISING SRL","RO13556726"]
["IMPACT-CONSTRUCT S.R.L.","RO14440150"]
["IMPLEMENTARE SERVICII IL S.R.L. ","43232721"]
["IMPROSIRI SRL","36257758"]
["INA FERESTRE SRL","RO28566353"]
["INCA TEHNIC GRUP SRL","RO17834140"]
["INCENTRO RENT S.R.L.","40683042"]
["INCOGNITO S.R.L.","2574557"]
["INCOLL ROM SRL","RO22175330"]
["IND POWER SOLUTION","RO29592695"]
["INDEKO MOBILI S.R.L.","RO26054420"]
["INDIRIM S.R.L.","RO17236813"]
["INDUSTRIAL SERVICE S.R.L.","RO2170850"]
["INDUSTRY TRANSILVAN SRL","RO529690"]
["INETA FURNITURE S.R.L.","38874598"]
["INFANT MEDIA SRL","RO30749646"]
["INFINITY PUMPS SRL","RO32600267"]
["INFO PRO S.R.L.","RO12711589"]
["INFOMEDIA SRL","RO9743807"]
["ING FLOR S.R.L.","8306901"]
["INJECT SISTEM SRL","RO2747941"]
["INLAND PROPERTY S.R.L.","RO33759660"]
["INLINEASOFA","IT07002980725"]
["INMEDICAL SRL","RO32635605"]
["INNAMORA SRL","RO33880521"]
["INOVIS BRIO S.R.L.","RO37788200"]
["INOW SRL","RO34168239"]
["INOX GIM S.R.L.","RO32305437"]
["INOX GIM SRL","RO32305437"]
["INSIDE DIVISION SRL","RO32057110"]
["INSIDECOR S.R.L.","RO22012138"]
["INSTANT PREST S.R.L.","RO3664224"]
["INSTITUTUL NATIONAL DE CERCETARE - DEZVOLTARE IN INFPORMATICA - ICI BUC.","RO2785503"]
["INTELIGO MEDIA S.A.","RO31639358"]
["INTELITECH SRL","RO22200743"]
["INTELLIGENT DESIGN MOB S.R.L.","40514159"]
["INTER CAMBO S.R.L.","RO15636260"]
["INTER IMPEX SRL","RO8094248"]
["INTERATMOS SRL","RO31210703"]
["INTERFLON ROMANIA SRL","RO19746673"]
["INTERIM SEN S.R.L.","RO31190720"]
["INTERIOARE ART AMBIENT S.R.L.","RO27539717"]
["INTERLINE S.R.L.","RO4846488"]
["INTERMARK BUSINESS S.R.L.","RO32853391"]
["INTERMARK DESIGN S.R.L.","RO35633447"]
["INTERMOB CONCEPT S.R.L.","35533464"]
["INTERMOB TRANS S.R.L.","RO23116439"]
["INTERNATIONAL INDUSTRIAL DEVELOPMENT S.R.L.","RO26106812"]
["INTERNATIONAL RULMENPOL","RO9173510"]
["INTERNATIONAL SERVICE C & I S.R.L.","RO4694118"]
["INTERNATIONAL SERVICE C&C S.R.L.","RO381541"]
["INTERNATIONAL TRANSPORT AUTO S.A.","RO1221719"]
["INTERNATIONAL TYRES S.R.L.","RO24506022"]
["INTERPLUS CENTER SRL","RO17579803"]
["INTERTRANS DAN SRL","RO14552862"]
["INUMOB S.R.L.","33963325"]
["INVENT MOBILIER QUALITY S.R.L.","RO42322885"]
["INVENT MOBILIER S.R.L.","36464460"]
["INVENTIV MOB DESIGN S.R.L.","RO35766613"]
["INVEST NIKAROM S.R.L.","RO4259050"]
["INVESTOOLS S.R.L.","RO18193788"]
["INZONI MOB S.R.L.","RO22502652"]
["IO&NA BASE S.R.L.","RO15406733"]
["IOACHIMCIUC OANA","2830825330211"]
["IOACHIMESCU ANCA","2691020335002"]
["IOAN ALEXANDRU","1900210226728"]
["IOAN GEANINA","2810215330208"]
["IOAN LEONARD","1680923270622"]
["IOAN RADU","1850224222123"]
["IOKI COM 2002 S.R.L.","RO15111635"]
["IOLANDA PAVAL","2720613330014"]
["ION MARIN","1730331461541"]
["ION MARINEL-TITEL","1820202280894"]
["ION VASILE","1650807480030"]
["IONASCU LIVIU-CRISTIAN","1740315390738"]
["IONESCU ALEXANDRU","1851127330215"]
["IONESCU CRISTINA","2670105334990"]
["IONESCU MIHAELA","2700317135050"]
["IONESCU MOB 2011 S.R.L.","RO28557800"]
["IONESEI ALEX","nedef."]
["IONESI ANDREEA SORINA","2910424330538"]
["IONESI ANGELICA","2690717333234"]
["IONESI DAVID","nedef."]
["IONESI GABRIEL","1710209333261"]
["IONESI PAUL","1990418330529"]
["IONICA MARIUS","1780811072629"]
["IONITA GHEORGHE","1671106421556"]
["IONITA MARIUS CONSTANTIN","1870504071379"]
["IONITA NICULAE P.F.A.","20472679"]
["IONUT CAZAN","1750608163216"]
["IONUT CIOBANU","1801002430026"]
["IONUT HOANCA","1930412336380"]
["IONUT MOB DESIGN S.R.L.","36948915"]
["IONUT MYR SRL ","28496479"]
["IONUT SOLOMONEA","1820130044882"]
["IONUT-MOB S.R.L.","23501329"]
["IORDACHE ILIE DANIEL","1851211430043"]
["IORDACHE IULIAN-BOGDAN","1790722335082"]
["IORDACHE VLAD","nedef."]
["IORDAN FLORIN","SV603356"]
["IOSIF LORIN","1710714333219"]
["IOSIMAR SRL","RO17638616"]
["IOSUB STELA","2731110335016"]
["IOVU SORIN","1631223335007"]
["IPLUS PROTECT SRL","38050626"]
["IQBOX.RO SRL","RO17141560"]
["IRICIUC LUCIAN","1800411330212"]
["IRICRIS BABY COM S.R.L.","RO8318884"]
["IRIMESCU NICOLETA","2840703330551"]
["IRIMIA COSTEL","1631004335011"]
["IRIMIA DANIELA","2631219335001"]
["IRIMIA DUMITRU","1790526330197"]
["IRIMIA OVIDIU","1881029330545"]
["IRIMICIUC DANIEL","1730503335002"]
["IRIMIE OVIDIU I.I.","31232299"]
["IRIMIE SMARANDA","2860306330234"]
["IRIMIEA DUMITRU DANIEL","1801003375022"]
["IRINA  CONSTANTIN","1700528330775"]
["IRINI VIOREL","1750825333192"]
["IRIS MANAGEMENT PLUS SRL","36072504"]
["IRIS NORD S.R.L.","RO30616240"]
["IRLINE ART S.R.L.","RO39366202"]
["IRMES S.A.","RO6966740"]
["IROTEX INTERNATIONAL S.R.L.","RO10282863"]
["IRROM INDUSTRIE S.R.L.","RO12398300"]
["IRUC RODICA","2581109330778"]
["ISABEL COMPANY SRL","19026010"]
["ISACHE ADRIAN","1801027222626"]
["ISIDOR AMBIENT S.R.L.","22214307"]
["ISIDOR CARMEN","2610526335000"]
["ISOPESCU DANIELA","2780720333212"]
["ISOPESCU IASMINA","nedef."]
["ISPAL","RO14679697"]
["ISTRATE GABRIEL CONSTANTIN","1800428082571"]
["ISTRATE GHEORGHE","1660205330786"]
["ISTRATE STELIAN (CLUJ)","1731113120641"]
["ISTYLE PROFESSIONAL SERVICES S.R.L.","RO12510135"]
["ISTYLE RETAIL SRL ","RO12331709"]
["IT GENETICS S.R.L.","RO21310535"]
["IT&CONT GROUP S.R.L.","RO25578779"]
["ITACON S.R.L.","RO10517110"]
["ITAL GRANITI S.R.L.","RO17355059"]
["ITAL MOB S.R.L.","6836464"]
["ITAL STYL S.R.L.","RO18719344"]
["ITALIAN DESIGN S.R.L.","24873444"]
["ITALIAN HOTEL S.R.L.","RO11598296"]
["ITALPANNELLI S.R.L.","IT00790200679"]
["ITALPRESSE S.P.A","IT01481210167"]
["ITAR ONLINE SRL","40399289"]
["ITCO FLORIN","1610401335027"]
["ITCSMS Suceva","4440675"]
["ITP EXPRESS LINE S.R.L.","43180169"]
["IUGA MARIANA","2641030335041"]
["IUGA SILVIU","nedef."]
["IUHOS I.IOAN PFA","26685315"]
["IULIA SILTUR S.R.L.","RO28065158"]
["IULIDAR MOB WOOD S.R.L.-D","35359423"]
["IULIU & AVRAM IMPEX S.R.L.","RO5710432"]
["IULSTAR S.R.L.","RO16223130"]
["IULY & SIMONA S.R.L.","30274660"]
["IURAC N. IOAN PFA","25293780"]
["IURESI ALEXANDRU","1811118030021"]
["IUST SERV SRL","RO26616390"]
["IVAN ILIE","1741003336056"]
["IVAN INVEST S.R.L.","RO20138076"]
["IVANCIUC NICOLAE MARIN","1790604335040"]
["IVANESCU FLAVIA","nedef."]
["IVANICIUC IOAN","1670617077315"]
["IZA S.R.L.","RO14268411"]
["IZABEL PROD S.R.L.","RO4269630"]
["IZOBOOM SRL","RO38111057"]
["IZVORUL DIMBOVITEI S.R.L.","RO22523833"]
["IZVORUL RECE PS S.R.L.","RO1332067"]
["IZZI FOOD V&A S.R.L.","RO29286173"]
["Iacob's S.A.","RO6871984"]
["Ianys Prodcom S.R.L.","RO8486837"]
["Ibertruck S.R.L.","RO27223993"]
["Icadana S.R.L.","RO5645253"]
["Icla Nord-est S.R.L.","RO15299238"]
["Ics Advertising S.R.L.","15883198"]
["Id Point S.R.L.","14396224"]
["Ideal Concept S.R.L.","RO14173559"]
["Ideal Media Advertising S.R.L.","RO18319585"]
["Ideal Proiect S.R.L.","RO17670382"]
["Idris S.R.L.","RO20120761"]
["Iiruc Service S.A.","RO16253158"]
["Ika Lux S.R.L.","RO12551640"]
["Ikea Romania S.R.L.","RO17547941"]
["Ilco Networks S.R.L.","RO26625194"]
["Illyes Mihail Istvan Persoana Fizica Autorizata","27177790"]
["Ilpredo Serv S.R.L.","RO5847171"]
["Imageline S.R.L.","RO14415709"]
["Imobila Costea Srl-d","RO32718492"]
["Impact Media S.R.L.","RO16202340"]
["Imperial Look S.R.L.","33751209"]
["Impex Comturism Standavid S.R.L.","RO3581625"]
["Ina Mod S.R.L.","RO14275222"]
["Inatech Concept S.R.L.","RO27835240"]
["India Limited S.R.L.","RO17035380"]
["Indigo - Mob S.R.L.","RO13421788"]
["Industrial Dariamy S.R.L.","RO32685166"]
["Inebela Stil S.R.L.","27085785"]
["Info Mentor S.R.L.","RO12515981"]
["Infrafit S.R.L.","RO5367360"]
["Infserv S.R.L.","RO14359"]
["Ingeda S.R.L.","RO22645440"]
["Ingrid Bia S.R.L.","RO16885880"]
["Inkark Trading S.R.L.","RO17731706"]
["Inlineasofa S.R.L.","RO25966339"]
["Innerpride S.R.L.","RO15781589"]
["Inoxprim S.R.L.","RO15535436"]
["Inscom S.A.","RO8858400"]
["Inspectoratul De Politie Al Judetului Suceava","4244482"]
["Inspectoratul General Pentru Imigrari","22084517"]
["Inspectoratul Pentru Situatii Urgenta \"bucovina\"","4244490"]
["Inspectoratul Scolar Al Judetului Iasi","4701614"]
["Inspectoratul Scolar Judetean","3126373"]
["Inspectoratul Scolar Judetean Alba","4562648"]
["Inspectoratul Teritorial De Munca Suceava","4244890"]
["Instactual S.R.L.","RO9242768"]
["Instal K.b.a. S.R.L.","RO16099661"]
["Instal Lux S.v. S.R.L.","RO2796642"]
["Instal Osg S.R.L.","RO21302362"]
["Instalatorul S.R.L.","RO3177709"]
["Institutia Prefectului Judetul Suceava","4244032"]
["Institutul National Al Lemnului S.A.","RO2377342"]
["Intax Trading S.R.L.","RO14571848"]
["Inteligent Clean S.R.L.","RO31041744"]
["Inter Consulting Broker - Credite S.R.L.","23546789"]
["Inter Conti Com S.R.L.","RO5526120"]
["Inter Fatade S.R.L.","RO18539017"]
["Inter Line Exim S.R.L.","18599272"]
["Inter-media S.R.L.","RO6526153"]
["Interauto Camioane S.R.L.","RO16190815"]
["Intercardiodiab S.R.L.","16388066"]
["Intercon","RO 12797106"]
["Interconsult '94 S.R.L.","6547962"]
["Interform S.R.L.","RO24226286"]
["Intergate S.R.L.","RO17494871"]
["Intergroup Hermannstadt S.R.L.","RO16126294"]
["Interior Store S.R.L.","RO23776559"]
["Internet Business Group S.R.L.","27239965"]
["Intero Ambient Design S.R.L.","16362635"]
["Intero Design S.R.L.","17259299"]
["Interoil S.R.L.","RO11997009"]
["Interpress S.R.L.","RO14622690"]
["Interspan-mobil S.R.L.","16157592"]
["Intertour Transit S.R.L.","RO17988085"]
["Intertrading S.R.L.","RO11183663"]
["Interwoods S.R.L.","16419022"]
["Intruder Servimpex S.R.L.","RO7245202"]
["Irinik S.R.L.","RO15743577"]
["Iripaula S.R.L.","20745264"]
["JACOTA CIPRIAN","1810610336523"]
["JACOTA DOINA","2640409110137"]
["JAD ENTERPRISE S.R.L.","RO34239259"]
["JADENT SRL","RO28496495"]
["JANICE S.R.L.","RO2691387"]
["JAP CARS GbR HEIMHOLD+WIEGAND","DE265729898"]
["JAREX FILTERTECHNIK SRL","RO13463147"]
["JIDIUC OVIDIU FLORIN","1780504335022"]
["JIMSTAR S.R.L.","17599630"]
["JITAR MARIUS","1950627330198"]
["JITARIU GABRIELA","2770920330793"]
["JITARU BIANCA","2881009330247"]
["JOBO MGMT SPORTS SOLUTIONS SRL","31111106"]
["JOBOLOCT S.R.L.","RO14370135"]
["JOHANES QUALITAT S.R.L.","RO18456663"]
["JOHN LEATHER S.R.L.","RO39592153"]
["JOLI MOB S.R.L.","RO22387235"]
["JOLLY FUN SERVICE S.R.L.","RO4599434"]
["JORDAS MOBPLAST S.R.L.","44270979"]
["JOY AGRO S.R.L.","RO31223576"]
["JRD INDUSTRIES S.R.L.","RO19132193"]
["JUDETUL MURES","4322980"]
["JUDETUL SUCEAVA","6728926"]
["JULIALBERTO & COMP S.R.L.","RO25938215"]
["JULIAMOB S.R.L.","RO24619005"]
["JUMBO EC.R S.R.L","RO18921652"]
["JUNCU IULIAN","1740420040119"]
["JUNIOR COM PREST S.R.L.","RO13974435"]
["JURAVLE CIPRIAN ","1840123330530"]
["JURAVLE CRISTIAN","1850415335141"]
["JURAVLE FANUT","1960804330530"]
["JURAVLE MARIUS","1901031330566"]
["JURAVLE VASILE","1670313333206"]
["JURAVLEA SORIN","1881124330289"]
["JURIDEM SRL","RO14195336"]
["JUST MULTISERV S.R.L.","RO20949132"]
["JUST PERFECT LINES S.R.L.","34433017"]
["JUSTIN & SASHA SRL","RO26035223"]
["JUVENTUS NORD-EST S.R.L.","RO32091678"]
["JUVENTUS TRAVEL&SERVICES S.R.L.","12336498"]
["JYSK ROMANIA","RO18107744"]
["K TEAM S.R.L.","RO41757164"]
["K-MOB EXCLUSIVE DESIGN S.R.L.","RO28607755"]
["K.T. PREST S.R.L.","RO18775360"]
["KADOLY S.R.L.","RO17407549"]
["KAIKA S.R.L.","27583097"]
["KAIN IMPEX SRL","RO4668429"]
["KALAMI STAR S.R.L.","RO16129568"]
["KALLIS MOBTIM S.R.L.","39607343"]
["KAMMADO EXPRESS TOUR SRL","RO36340917"]
["KANTEX ARAD SRL","RO11400304"]
["KARA MOB UNICAT S.R.L.","37664725"]
["KARAKTER MOB S.R.L.-D","35395043"]
["KARIZMA SPOLKA Z O.O.","7773114293"]
["KARIZMA SPOLKA Z O.O.","PL7773114293"]
["KARMA DECOR S.R.L.","RO27056321"]
["KARMENIKA KMK DESIGN S.R.L.","RO31590904"]
["KARO PROIECTARE S.R.L.","40052378"]
["KAROLY COMSERV SRL","RO18184380"]
["KARPATIKA INVEST S.R.L.","RO17034946"]
["KARPETA SPALATORIE DE COVOARE S.R.L.","40624429"]
["KAT LEARNING SRL","35844754"]
["KC Brand Deluxe","23744085"]
["KENWORT TRANS SRL ","RO19161377"]
["KENWROTH TRANSPORT S.R.L. ","RO6659192"]
["KEO MOBILI S.R.L.","30596496"]
["KERNHOLZ S.R.L.-D","35348203"]
["KEROS DESIGN S.R.L.","RO18115437"]
["KERR STANDARD","RO22075888"]
["KESERIU GEZA-ANTON","1760609323911"]
["KESSELRING SRL","RO32477556"]
["KETMOM TRANS S.R.L.","RO38483476"]
["KETOR DESIGN S.R.L.","RO27265352"]
["KETY STAR SRL","RO7758399"]
["KHINEZU BETON S.R.L. ","37898459"]
["KIATO DESIGN S.R.L.","RO30207807"]
["KIKO GRUP S.R.L.","RO15696530"]
["KILLER SRL","RO7195155"]
["KIMI MOTORS S.R.L","40238339"]
["KIS - NAGY ZOLTAN \"MOBILA Z\" P.F.A.","20272808"]
["KISCZUK MARIUS GABRIEL","1810823330531"]
["KIT METAL S.R.L.","RO23406840"]
["KITLEC","11812488"]
["KITT AMBIENT S.R.L.","RO33529734"]
["KLAR DESIGN S.R.L.","RO17050895"]
["KLASS INTERIORS CONCEPT S.R.L.","RO40346187"]
["KLASSEM S.R.L.","RO15329266"]
["KLASSMOB S.R.L.","RO15133900"]
["KLUS SPECIAL DESIGN S.R.L.","RO43944185"]
["KMOB EXCEL S.D.  S.R.L.","RO31463137"]
["KOBER SRL","RO2005144"]
["KODIS PLUS SRL","RO33281409"]
["KOELNMESSE GmbH","DE122656857"]
["KOKO ELECTRO S.R.L.","RO28576179"]
["KOLPA D.D. METLIKA","SI92085911"]
["KONTRASTLINE S.R.L.","36445034"]
["KORNIS F. FRANCISC P.F.A.","28427428"]
["KORONA KING","RO28889877"]
["KOSMY TAP S.R.L.","38534570"]
["KOSYB GROUP","RO22754978"]
["KOVACS FERENCZ ZSOLT I.I.","RO28089874"]
["KOVACS HARY-GERARD-CATALIN","1650721334994"]
["KPE MOBART S.R.L.","RO39483067"]
["KRAFT ENERGIE SRL","RO37658359"]
["KRIBUS TEAM SRL","37068900"]
["KRONCOLOR SRL","RO30872508"]
["KRONOSPAN SEBES SA","RO11358544"]
["KT MOBILIER S.R.L.","RO31355100"]
["KUBIKA ATELIERE S.R.L.","RO32233462"]
["KUBITECH SRL","RO8508803"]
["KUBO INVESTMENTS S.R.L.","RO27996794"]
["KUHAUPT OLTEA","nedef."]
["KUNDT EDUARD CORNELIUS","nedef."]
["KVADRO TEX SRL","RO34606398"]
["Kalenda Alexim S.R.L.","RO9252974"]
["Kalman Distribution S.R.L.","RO9930937"]
["Kanapel Design S.R.L.","25249369"]
["Kaosstripper Srl-d","29136524"]
["Kara Investment S.R.L.","24406597"]
["Karaleva S.R.L.","33039562"]
["Karelmia S.R.L.","17092033"]
["Karmenika Design S.R.L.","RO17895210"]
["Karmina S.R.L.","RO17540196"]
["Karpatia Com S.R.L.","RO17152445"]
["Kart Racing-team S.R.L.","18681525"]
["Kasel S.R.L.","RO726403"]
["Kata Com S.R.L.","RO16783740"]
["Katavik Mobart S.R.L.","17608348"]
["Katy Lux SRL","22861494"]
["Kaufland Romania Scs","RO15991149"]
["Kavico Impex S.R.L.","RO1363080"]
["Kelion Online S.R.L.","RO25800599"]
["Ki-ma S.R.L.","740360"]
["Kidcity Distribution S.R.L.","RO26289922"]
["Kimera Import Export S.R.L.","RO14968474"]
["King David's S.R.L.","24315219"]
["King Star S.R.L.","RO15504952"]
["Kis Lavinia-maria \"cristian\" Persoana Fizica Autorizata","28333315"]
["Kiss Zoltan - Timplarie Persoana Fizica Autorizata","24278609"]
["Klebrom S.R.L.","RO6962721"]
["Klusch I.F","24800000"]
["Koala Design S.R.L.","RO15900124"]
["Komo Real Union S.R.L.","RO17552557"]
["Korsos Trans S.R.L.","RO18282990"]
["Kostas Prod Com S.R.L.","RO6683638"]
["Kracovia Impex S.R.L.","RO15331657"]
["Krinon Impex S.R.L.","RO3277350"]
["Krione Company S.R.L.","RO22296188"]
["Krione Star S.R.L.","18347607"]
["Kron-tour S.R.L.","RO1093296"]
["Kronlux F.m. S.R.L.","RO14699490"]
["Kronstadt Tourism & Services S.R.L.","RO15969389"]
["Kubik Furniture S.R.L.","RO31082400"]
["Kubika Invent S.R.L.","RO25233460"]
["Kuehne+Nagel","RO6615641"]
["Kufner Romania","RO11465397"]
["L & B INVEST SRL","RO17733987"]
["L&M FRESH DISTRIBUTION SRL","RO19028010"]
["L&R COMEXIM S.R.L.","RO8867238"]
["L'incontro V.v.v. S.R.L.","RO12697360"]
["L.A. BORADY S.R.L.","RO14398950"]
["L.C.D.COMPANY SRL","RO18285300"]
["L.G.H. TRANS S.R.L.","RO3583332"]
["LA BELLA CASA MOBILI S.R.L.","RO22541740"]
["LA COCOSATU S.R.L.","RO3645885"]
["LA DAN S.R.L.","1733344"]
["LA DORU SERV SRL ","RO 24557379"]
["LA EUGEN SRL","RO742450"]
["LA FANTANA SRL","RO35534516"]
["LA FERONERIA & ACCESORIA S.R.L.","RO27824322"]
["LA MAISON DU JARDIN EU SRL","RO32737958"]
["LA MAMA LIA S.R.L.","40002507"]
["LA MESTERUL AUTO SRL","30119551"]
["LA MITICA CATERING S.R.L.","RO21335084"]
["LA OLTEANU COM 2003 SRL","RO16087322"]
["LA SEGHERIA L&P S.R.L.","RO37087465"]
["LA SOLAS S.R.L.","RO13287148"]
["LA&TU MOBILA S.R.L.","RO36324768"]
["LADAMARMOB S.R.L.","31076335"]
["LAMASANU DANIELA IULIANA","nedef."]
["LAMASANU VALENTIN","1731211330791"]
["LAMBRIUL S.R.L.","3888841"]
["LANNIS TRANS SRL","RO18109338"]
["LANT SRL","RO 6920084"]
["LANTMEN S.R.L.","RO23152873"]
["LAOS MOB S.R.L.","42605199"]
["LAPP ROMANIA S.R.L.","RO9975440"]
["LAPTERRA CORPORATION","RO41127959"]
["LAPTOP ONLINE SRL-D","RO32661710"]
["LAPUSAN AUGUSTIN TEOFIL","1641230243108"]
["LARA FARM SRL","RO17974659"]
["LARA FURNITURE LMD S.R.L.","RO42409745"]
["LARA MOB DESIGN S.R.L.","33339900"]
["LARICONT 2007 S.R.L.","RO21801877"]
["LARIO RENT SRL","03075290126"]
["LARISA AGREMENT S.R.L.","RO21916150"]
["LARIUS ECHIPAMENTE VOPSIRE SRL","RO5330190"]
["LASCU CORINA","2810921330541"]
["LASER TIPOSUPER SRL","33957862"]
["LASIAL S.R.L.","26509084"]
["LASZLO BELA P.F.A.","34323677"]
["LATESMOBDESIGN S.R.L.","43190650"]
["LATHO COMPONENTS","IT04011360262"]
["LAUDRUP PROD COM S.R.L.","6873187"]
["LAURA PANAIT","2840402510016"]
["LAUREX IMPEX S.R.L.","RO3113470"]
["LAURIC ANTON","1580416335019"]
["LAURUS NOBILLIS S.R.L.","RO18505553"]
["LAUSER CONSULT S.R.L.","14888871"]
["LAVA TINADO","RO25873701"]
["LAVASECO PATRIK SRL","RO18073188"]
["LAVRIC MARIANA","2811206336370"]
["LAVRIC MIHAELA","2770523333194"]
["LAVRIC MIOARA","nedef."]
["LAVRIC VASILE","1731129333213"]
["LAWAL BOSS S.R.L.","23398259"]
["LAZAR CONSTANTIN","1890427336374"]
["LAZAR DUMITRU","1671007330783"]
["LAZAR FLORIN","1590902078319"]
["LAZAR IONUT","1870130330217"]
["LAZAR LEVENTE","1780509191322"]
["LAZAR M. GETA INTREPRINDERE INDIVIDUALA","37208400"]
["LAZAR MARCEL","1890905330211"]
["LAZAR MIHAELA BRANDUSA","2790325334940"]
["LAZAR STEFAN GABRIEL","1850924430025"]
["LAZAR TRANS S.R.L.","RO 21634523"]
["LAZAREANU ANCA","2850513226790"]
["LAZARESCU SIMONA","2781007333208"]
["LC ELECTRIC PLUS SRL","17135061"]
["LC ELECTRIC PLUS SRL","RO17135061"]
["LC WAIKIKI RETAIL RO SRL","RO26054330"]
["LEAHU CLAUDIU","1730429272621"]
["LECIU VIOREL","1680524293102"]
["LEES COM SRL","13509686"]
["LEFNIC MARIAN-VIRGIL","1820814330211"]
["LEFTER ADY-IULIANA-ALEXANDRA","2900616420024"]
["LEFTER CEZAR ","nedef."]
["LEHACIU AUREL","1670619080032"]
["LEITZ ROMANIA SRL","RO16763521"]
["LELCU ADRIAN","1820905330521"]
["LELCU FLORIN","1820307330224"]
["LEMAX CONCEPT S.R.L.","44354468"]
["LEMD MOBILI S.R.L.","RO36242986"]
["LEMET S.R.L.","RO1323280"]
["LEMN ART BUCOVINA S.R.L.","35936483"]
["LEMN VIRTUAL CONCEPT S.R.L.","39992370"]
["LEMNARIU GHEORGHE","1611205333204"]
["LEMNMETAL ART S.R.L.","RO18656297"]
["LEMS ADVISER S.R.L.","RO18845920"]
["LEMS DESIGN S.R.L.","RO28931459"]
["LEO PRODCOM S.R.L.","15553890"]
["LEOCA RARES","1880912125799"]
["LEOCRIDA-PRODCOM S.R.L.","RO3863782"]
["LEONAS  MONICA-AURELIA","2780706311244"]
["LEONAS VICTOR","1451022335000"]
["LEONDAR S.R.L.","RO13707276"]
["LEONTE ALEXANDRA MIHAELA","2921102336389"]
["LEONTE DAN","1790322073522"]
["LEONTE LUCIAN","1801101330209"]
["LEONTE SIMONA","2780621335012"]
["LEONTE VERONICA LUMINITA","2740322335054"]
["LEPARDA MIHAI","1651028073521"]
["LERATO MOBILE SRL","RO34999149"]
["LERD EXPO FACT SRL","RO8319243"]
["LEROY MERLIN SRL","RO16702141"]
["LESAN OVIDIU","1840710330231"]
["LESAN R. OVIDIU ÎNTREPRINDERE INDIVIDUALA ","40185005"]
["LESCINSCHI MARIUS","1820917330231"]
["LET MIHAI ANDREI","1810124190445"]
["LETCRIS CONSULTING S.R.L.","38708471"]
["LEUCIUC ALIN OVIDIU","1831031330193"]
["LEUCIUC GABRIEL","1760509334933"]
["LEUSTEAN MIHAI","1780625070288"]
["LEVAI ROS CORNEL ADRIAN","1810625124952"]
["LEVARCIUC DUMITRU","1761002332175"]
["LEVEL ART TEAM S.R.L.","37831475"]
["LEVISMAR FORMWORK AND GROUNDWORKS LTD","GB218333228"]
["LEVITCHI VALENTIN","1660811333200"]
["LEX GRUP REORGANIZARE IPURL","RO27415700"]
["LEXAMOB S.R.L.","RO32966900"]
["LEXAND COMEXIM SRL","RO7720572"]
["LIBERO ADVERTISING SRL ","RO25590497"]
["LICA IONUT RARES","1510601127500"]
["LICOFRIG REF S.R.L.","RO37228335"]
["LICURICI IMPEX SRL","RO4102968"]
["LIDIA TIME S.R.L.","RO35029778"]
["LIFEMOB PROD S.R.L.","RO36186096"]
["LIFEMOB SERV S.R.L.","RO37525867"]
["LIGNUM","02485404B25"]
["LIME DESIGN S.R.L.","RO32266001"]
["LIMITED SPACE SOLUTIONS S.R.L.","38846296"]
["LINCOLN PLUS S.R.L.","RO15229526"]
["LINDA STEEL SRL","RO25706622"]
["LINDA-ECOTIL SRL","RO17576106"]
["LINE MOB PRODUCT S.R.L.","40826584"]
["LINEA CUBO SRL","RO25650459"]
["LINEAR STYLE S.R.L.","43488992"]
["LINEEA MOB ART S.R.L.","44911623"]
["LION MOB S.R.L.","RO41774963"]
["LIRA-INST SRL","RO618215"]
["LISAM-GURMAND ","1019600000238"]
["LISO CONSULT SRL","RO16800042"]
["LIVADA DAVID","1960902081664"]
["LIVING FORUS S.R.L.","43353731"]
["LIVISTY S.R.L.","RO4019510"]
["LKW WALTER INT TRANSP ORG AG","ATU19208701"]
["LOC-IND S.A.","RO3175546"]
["LOGI BIC S.R.L.","RO13506124"]
["LOMA MOBILI S.R.L.","RO41279906"]
["LOMICOVSCHI GABRIEL","1731031335006"]
["LOMILUXB SRL","RO18400603"]
["LONG RIDE ROLL SRL","RO36704775"]
["LOOK MOM S.R.L.","RO40864316"]
["LOON-LOON S.R.L.","33821517"]
["LORALIS BY JOHAN S.R.L.","24007936"]
["LOREMAR IMPEX S.R.L.","RO5711241"]
["LORENA MOB S.R.L.","RO25680220"]
["LORIN GUEST HOUSE S.R.L.","RO43578505"]
["LORINCZ LORANT","1780704120729"]
["LOSTUN DRAGOS","1840907331662"]
["LOUIS PURPLE INTERNATIONAL SRL","RO32545154"]
["LOVADEN GROUP S.R.L.","RO14716663"]
["LS TRAVEL RETAIL ROMANIA","RO8529539"]
["LTD DIRECT PROJECTS","RO41095547"]
["LUANA PRODUCTION S.R.L.","9391646"]
["LUBEST ","RO23199760"]
["LUCA ALINA STOIAN","2900124330205"]
["LUCA VASILE (BUCURESTI)","1810728410101"]
["LUCACEANA ANISOARA","nedef."]
["LUCACI ANA","2610210330770"]
["LUCACI VASILE - TÂMPLARIE  P.F.A.","31469580"]
["LUCACIU DIANA","nedef."]
["LUCACIU DORIN","1790527120673"]
["LUCACIU FLORIN","1690314054701"]
["LUCALFA S.R.L.","RO32495099"]
["LUCAN BOGDAN","nedef."]
["LUCAN CONSTANTIN","1810303330241"]
["LUCAN NARCISA","2870211330206"]
["LUCASOF MOB ART S.R.L.","42335524"]
["LUCESCU  LACRAMIOARA","2850314330527"]
["LUCESCU FLORIN-CRISTINEL","1780320333208"]
["LUCESCU MIHAI","1760401333231"]
["LUCESCU TOMITA","1890206330559"]
["LUCHIAN BRANDUSA","nedef."]
["LUCHIAN IONEL","1670611335061"]
["LUCHIAN PETRUT","1900628271698"]
["LUCHIAN SERGIU","nedef."]
["LUCHIAN VLADUT","1840323330554"]
["LUCHIANOV STEFAN","1770401335014"]
["LUCI MOBCONSTRUCT DESIGNE S.R.L.","RO40710007"]
["LUCICOSM SRL","RO8905200"]
["LUCIUS COMPRODSERV SRL","RO6367805"]
["LUCKY SERV LOGISTIC S.R.L.","41885422"]
["LUCKYMOB S.R.L.","13720984"]
["LUCOSDIOV CONSULTING SRL","RO15996901"]
["LUCOVI IMPACT S.R.L.","37705728"]
["LUCRURI ABAU S.R.L.","RO39792666"]
["LUCS DESIGN S.R.L.","RO14746575"]
["LUCUTAR  SILVESTRU","1630702330011"]
["LUCUTAR ELENA","nedef."]
["LUCUTAR IULIAN","1920303336685"]
["LUDUSAN MARIUS","1770204264379"]
["LUHAN IONUT DRAGOS","1800403330212"]
["LUHAN SRL","RO2560454"]
["LUK DESIGN COMPANY S.R.L.","RO29682445"]
["LUKACS ALEXANDRU","1700401051133"]
["LUKSIM PREST S.R.L.","RO18099412"]
["LUKYANIS S.R.L.","29170739"]
["LUMAICU CIPRIAN","1890930330191"]
["LUNA STYLEHOUSE&LIVING SRL","38906177"]
["LUNASER TRANS EOOD","BG204364131"]
["LUNGU  DOINA","2620121334930"]
["LUNGU CATALIN","1800224070070"]
["LUNGU DAN","1880225072750"]
["LUNGU GRIGORE","1750910330765"]
["LUNGU MARIUS","1830311430090"]
["LUNGU VLADIMIR","nedef."]
["LUNTRASU GABRIEL","1800929331367"]
["LUNTRASU MIHAI","1780624330781"]
["LUP TRANS SRL","RO15789671"]
["LUPASCU IONUT","nedef."]
["LUPASCU LARISA","2841004330208"]
["LUPASCU OLTEA","2540909335027"]
["LUPASCU STEFAN","1911210330197"]
["LUPASCU VASILE GEORGEL","1880423336674"]
["LUPSE A. VASILE-PAVEL I.I.","41805202"]
["LUPSE VASILE PAVEL","1620709323916"]
["LUPSE VASILE-PAVEL P.F.A.","30593244"]
["LUPU DANIEL","1850906282207"]
["LUPU PETRU","1720918330797"]
["LUPULEAC MIHAELA","nedef."]
["LUPULEASA GHEORGHE","1810709336403"]
["LUPULESCU AURELIA II","30047790"]
["LUX AUTO SRL","RO15731360"]
["LUX DIVINA SRL","RO31443636"]
["LUX MOB SEVERIN S.R.L.-D.","40224368"]
["LUX-ARTIM S.R.L.","RO9148982"]
["LUXURY FURNITURE CUSTOM S.R.L.","41961937"]
["LUXURY FURNITURE LSC S.R.L.-D","RO37129994"]
["LUXURY FURNITURE S.R.L. ","RO33461752"]
["LUXURY PUBLIC RELATIONS S.R.L","27494321"]
["La Bionda Com S.R.L.","RO9876714"]
["La Cimp Com S.R.L.","RO7020714"]
["Laborator De Analize Medicale Cabinete Grupate Suceava","12308110"]
["Lacatusu-oil S.R.L.","RO30320864"]
["Lady Lux S.R.L.","RO1465691"]
["Laguna Euromob S.R.L.","RO31986357"]
["Lazer Auto Center S.R.L.","27908652"]
["Le Grand Construct S.R.L.","18234110"]
["Leaganul Bucovinei S.R.L.","RO16756559"]
["Lecas Invest S.R.L.","22346839"]
["Lecom Birotica","2787440"]
["Leka Style S.R.L.","19164055"]
["Lemir S.R.L.","RO18289620"]
["Lenos Compuserv S.R.L.","RO15340701"]
["Leo Tom S.R.L.","RO17414678"]
["Leonti Electric S.R.L.","RO9575436"]
["Leto Trading S.R.L.","RO14513260"]
["Level Mob Factory S.R.L.","RO29317083"]
["Levino Design S.R.L.","RO13340802"]
["Levorato Abrasives S.R.L.","RO25597029"]
["Lex Midus S.R.L.","17552514"]
["Lexi Star S.R.L.","RO2159941"]
["Lhx Solutii S.R.L.","RO10483930"]
["Liant Com S.R.L.","RO4983663"]
["Liceul Tehnologic \"iorgu Virnav Liteanu\" Liteni","14079609"]
["Liceul Tehnologic Cajvana","14124203"]
["Lidana Com S.R.L.","RO6213822"]
["Lider Auto S.R.L.","RO18296600"]
["Lider C.m.c. S.R.L.","RO12515876"]
["Lider Plus S.R.L.","17476980"]
["Lidl Discount S.R.L.","RO22891860"]
["Lidrom S.R.L.","RO21334607"]
["Lie Impex S.R.L.","RO13381039"]
["Lift Drive S.R.L.","RO30474243"]
["Ligna Exim S.R.L.","RO5642095"]
["Liliacul Complex Comercial S.R.L.","RO217035"]
["Liliput Co S.R.L.","RO5981768"]
["Lincor Trans S.R.L.","RO15770601"]
["Linis-buz S.R.L.","RO12262820"]
["Linx L.m.n. S.R.L.","RO10898945"]
["Lion Investitii S.R.L.","RO17869416"]
["Lipan Com S.R.L.","RO6181216"]
["Lipsticks Com S.R.L.","RO6026700"]
["Lira Class Invest S.R.L.","RO23857289"]
["Little Lamb S.R.L.","RO14540990"]
["Liv Plast S.R.L.","RO23342991"]
["Livedy S.R.L.","RO22746665"]
["Lm Mob S.R.L.","RO15406806"]
["Locanta S.R.L.","3401031"]
["Logistic Curier Romexpres S.R.L.","25407272"]
["Loial Impex S.R.L.","RO3176126"]
["Londes S.R.L.","RO18141762"]
["Lord & Marnik Hotel S.R.L.","RO32335071"]
["Loredana S.R.L.","RO2562706"]
["Lorion S.R.L.","RO1134647"]
["Lovers Romania S.A.","RO9720439"]
["Lozneanu Daniel-cristinel Intreprindere Individuala","32665495"]
["Luca Mob Design S.R.L.","18985060"]
["Lucahac S.R.L.","29813290"]
["Lucarola Comimpex S.R.L.","7484439"]
["Lucfor Com S.R.L.","RO22547166"]
["Lucrom Prod Impex S.R.L.","5665404"]
["Lucyly Medicare S.R.L.","30587471"]
["Ludwk Profil S.R.L.","RO30177609"]
["Lufa Ideal S.R.L.","22317760"]
["Luiclau S.R.L.","33425695"]
["Luk Design Serv Impex S.R.L.","19301870"]
["Luk-roys S.R.L.","RO6555256"]
["Lukoil Romania S.R.L.","RO10547022"]
["Lumi Business","13150875"]
["Lumy Tools Trans S.R.L.","RO13969544"]
["Lupanu S.R.L.","22338216"]
["Lupchian I. Alin-constantin - Persoana Fizica Autorizata","24161268"]
["Lupul Singuratic S.R.L.","RO1681768"]
["Luxfer S.R.L.","RO23630722"]
["Luxor Residence S.R.L.","RO27010910"]
["Luz Camino Management S.R.L.","RO16750157"]
["Lv Agro Prodexim S.R.L.","RO23663878"]
["M & C Dinamic Expres S.R.L.","RO8433115"]
["M & S International S.R.L.","RO6017400"]
["M & S Viamond S.R.L.","RO6193873"]
["M DEMENY ART-DECO S.R.L.","40537861"]
["M FRAMES CREATOR S.R.L.","44243800"]
["M Group Alproplast Tehniconsult S.R.L.","RO16780530"]
["M&B SOFA DESIGN S.R.L.","RO33915328"]
["M&C BUSINESS SRL","RO12677100"]
["M&C LATONERIE SRL","RO25919388"]
["M&D RETAIL BUCOVINA SRL","RO19881521"]
["M&D RETAIL PIPERA S.R.L.","RO15327095"]
["M&DARIO COM S.R.L.","RO17489972"]
["M&L FURNIRE S.R.L.","RO12473770"]
["M-TOTAL-M S.R.L.","RO714778"]
["M. DESIGN S.R.L.","RO17005614"]
["M.V.UNICORI S.R.L.","RO3386055"]
["M.d.a. S.R.L.","RO5271221"]
["M.i.s-grup S.R.L.","RO12472562"]
["M.k.d. Stil S.R.L.","RO17841393"]
["M.w.r. Bucovina S.R.L.","RO11317811"]
["M2M DESIGN&PROPERTY SOLUTIONS SRL","RO37279002"]
["M2m Technology Equipment S.R.L.","RO21565822"]
["MABIS MOB 2013 S.R.L.","RO31565188"]
["MABU AUTO S.R.L.","RO26621320"]
["MAC LUX-DESIGN S.R.L.","RO39580523"]
["MACAR NICOLAE","1740516360015"]
["MACIUC CRISTINA","2710722335021"]
["MACOVEI ALIN-IONUT","1900205330284"]
["MACOVEI CRISTIAN","1800314336672"]
["MACOVEI EMILIAN","1540615221142"]
["MACOVEI ESTERA","nedef."]
["MACOVEI FLORIN","nedef."]
["MACOVEI NICOLAE","1841110330212"]
["MACOVEI SIMONA","2880630350017"]
["MACOVEI VASILE","1580512335021"]
["MACOVEICIUC DANIEL","1820310330212"]
["MACOVICIUC ANDREI-CATALIN","1850729330262"]
["MACOVICIUC CEZAR","1841205330265"]
["MACSIM IOAN","1720611330789"]
["MAD IDEAS DESIGN S.R.L.","RO41850440"]
["MADALIN VETU","1720918416018"]
["MADERA MOB S.R.L.","RO31442908"]
["MADERA PROJECT S.R.L.","RO30023367"]
["MADHOUSEDECO S.R.L.","RO37320730"]
["MADIROL INTERNATIONAL SRL ","RO15086132"]
["MADULAREA RUXANDRA LAURA I.I.","35073838"]
["MAFTEI  NICOLAE","1820301330244"]
["MAFTEI BENIAMIN","1890310071380"]
["MAFTEI NICOLETA","2881119336394"]
["MAFTEI PETRU ","1600626335039"]
["MAG-MORFEO S.R.L.","22845561"]
["MAGA DANIEL","1710504335017"]
["MAGAZIN CRIDARO SRL","RO38280994"]
["MAGISTER SOFTWARE SRL","RO14441945"]
["MAGNESTHEA SRL","RO27672879"]
["MAGNET CENTER SRL","RO24813531"]
["MAGNIFICENT AGENCY S.R.L.","RO34646147"]
["MAGNITUDE S.R.L","RO23019444"]
["MAGOGLOBAL S.R.L.","RO32635516"]
["MAHANUDESIGN S.R.L.","42205567"]
["MAIA DESIGN ADV S.R.L.","RO36518730"]
["MAIA STIL DESIGN S.R.L.","37661303"]
["MAJESTIC MOB DECOR S.R.L.-D","38003594"]
["MALANCA ANDREI","1770509332145"]
["MALCINSCHI V. CAMELIA-MIHAELA - CABINET DE AVOCAT","23742262"]
["MALINOVSCHI OVIDIU","1770115332153"]
["MALIS MIHAI","nedef."]
["MAMBRICOLAJ S.A.","RO27933834"]
["MAMUCA BUCOVINA SRL","RO16653065"]
["MAN ROYAL DESIGN S.R.L.","RO31421441"]
["MANAFU NICOLA","1760522135591"]
["MANAZ MONTAGE S.R.L.","RO40147460"]
["MANDACHI INDUSTRY ","RO32432554"]
["MANDICI VASILE","1500718333200"]
["MANDIUC IONELA","2881031330671"]
["MANDIUC LUMINITA","2811024330521"]
["MANDIUC MARCEL","1660906335003"]
["MANDIUC SIMONA","2880118330197"]
["MANDRU CARMEN","2660404264391"]
["MANDRU RAMONA","nedef."]
["MANEA SIMONA","2810329336380"]
["MANECAN G.DUMITRU II","23586716"]
["MANGILOVSCHI DAN","1780320335033"]
["MANGIR CATALINA MIRELA","2730307335008"]
["MANGIR MARIAN","nedef."]
["MANGUSTA S.R.L.","RO18955531"]
["MANIFEST S.R.L.","RO12975610"]
["MANILIUC VICTOR","nedef."]
["MANOFLOR IMPEX S.R.L.","RO21358223"]
["MANOLACHE ANDRA","2890518134171"]
["MANOLACHE MATEI","1790201335195"]
["MANOLACHE VIORICA","2531118335015"]
["MANOLE ADRIAN","2750203335042"]
["MANTA FLORIN MIHAITA","1760710100028"]
["MANU AUTO MOTO SRL","RO31772582"]
["MANU LAVINIA ","nedef."]
["MANUCONF S.R.L.","RO8442229"]
["MANUEL DESIGN 2004 S.R.L.","16457832"]
["MANUMAR DESIGN S.R.L.","RO22084266"]
["MANZALICA MIHAELA ELENA","2780113334995"]
["MANZAREANU ADRIAN","1891006330237"]
["MANZIUC LIVIU","1610801335005"]
["MAR & IULI S.R.L.","RO21692702"]
["MAR PREST MOB S.R.L.","42413673"]
["MARA SOFASTIL MOB S.R.L.","RO35964327"]
["MARA TOUR FELIX S.R.L.","RO18355286"]
["MARAD CONCEPT SRL","RO16539452"]
["MARAMOB ALBA IULIA S.R.L.","40372437"]
["MARAN SIK MOB S.R.L.","37695837"]
["MARATHON ADVERTISING S.R.L.","RO29330244"]
["MARATTI KEYS S.R.L.","RO16603237"]
["MARAVELA FLORIN EUGEN","1790615170437"]
["MARC DRAGOS-MIHAI","1940715060019"]
["MARC IRINA-ALEXANDRA","2930406330192"]
["MARCA ILUMINIS S.R.L.","RO36303030"]
["MARCEL JUGAN","1790906335098"]
["MARCEL S.R.L.","RO3949388"]
["MARCIUC FLORIN","1630203334994"]
["MARCOS TRAVEL S.R.L.","RO14814459"]
["MARCOSHOP MOBILI S.R.L.","RO38788411"]
["MARCOSHOP PRODUCTION S.R.L.","RO26747442"]
["MARCOSILV DISTRIBUTION S.R.L.","RO43644820"]
["MARCRIS ROXY S.R.L.","15763671"]
["MARCU & JOHN SRL","RO32440395"]
["MARCU CATALINA","2780814272636"]
["MARCU SIMONA ADRIANA PFA","26376620"]
["MARCU SORIN LAURENTIU","1750311250547"]
["MARCU VASILE","1710717330799"]
["MARDARE GHEORGHE","1630908330769"]
["MARE MOBEXPERT S.R.L.","RO39265348"]
["MARELVI IMPEX S.R.L.","RO7282405"]
["MAREO ART S.R.L.","RO29064592"]
["MARESAL S.R.L.","RO9894052"]
["MAREX MOB S.R.L.","RO31935299"]
["MARGARIT MIHAITA VALENTIN","1861210211207"]
["MARGINEAN OVIDIU","1800926125810"]
["MARGINIANU BOGDAN","nedef."]
["MARHA GYORGY LEVENTE","1880916124431"]
["MARI MOB IMPEX S.R.L.","RO19137778"]
["MARIA SARA CONCEPT S.R.L.","35067500"]
["MARIAN DIBLARU","1750701451520"]
["MARIAND P.M. S.R.L.","RO5981253"]
["MARICOM CRIS S.R.L.","RO14424324"]
["MARICUT COM SRL","RO6248162"]
["MARIDELMAR IMPEX S.R.L.","RO10748280"]
["MARIN LAURENTIU","nedef."]
["MARINADEN S.R.L.","RO14506602"]
["MARINCAS BOGDAN-NICU I.I.","26268946"]
["MARINERO PRODIMPEX SRL","RO3479944"]
["MARINESCU ANDREI","1851127460051"]
["MARINESCU BOGDAN","1791201390684"]
["MARINEX CONSTRUCT CNM S.R.L.","RO36889037"]
["MARINEX SRL","RO714263"]
["MARINIUC ILIE I.I.","28473033"]
["MARIO IMPORT EXPORT S.R.L.","RO2093740"]
["MARIO MOBSTYLE S.R.L.","32725635"]
["MARISANO PROD S.R.L.","RO7353719"]
["MARIUS BORZ","1820726125828"]
["MARIUS BREABAN","1770107334990"]
["MARIUS CAIA","1770108040033"]
["MARIUS IONITA","1870504071379"]
["MARIUS OPREA","1790616011126"]
["MARIUTA ANA MARIA","2830609336395"]
["MARIVANDA SRL","RO17314563"]
["MARKET S.R.L.","RO2700434"]
["MARKETEER GmbH LogoLabels","DE51789"]
["MARKETING IVU S.R.L.","RO6469090"]
["MARKUS NORDANGARD","nedef."]
["MARLELUX S.R.L.","RO21383847"]
["MARMEDI S.R.L.","RO17260757"]
["MAROLICARU MARIO-ALEXANDRU","1670205450038"]
["MARPROD DESIGN S.R.L.","RO30156398"]
["MARSHALL BIROTIX SRL","RO23292036"]
["MARTA MARIUS","1820814031519"]
["MARTENIUC DANIELA","2940331330202"]
["MARTENIUC OVIDIU","1920802330671"]
["MARTINEAC CATALIN","1881114330216"]
["MARTINESCU VASILE I.I.","40570884"]
["MARVIC MOB S.R.L.","RO22312135"]
["MARVIO TRADING S.R.L.","RO8165667"]
["MARVIS WOOD ART SL","RO15420940"]
["MARYSAN DECOR GROUP S.R.L.","RO36462752"]
["MASTER CARPENTER S.R.L.","39833383"]
["MASTER MOB S.R.L. (SUCEAVA)","20605791"]
["MASTER TOP MOB S.R.L.","44006170"]
["MASTERMOB S.R.L. (SIBIU)","RO24539674"]
["MATE LUCIAN","1691209330782"]
["MATE ROBERT ISTVAN I.I.","31597490"]
["MATECIUC ADINA","2761004335004"]
["MATECO SRL","RO17310790"]
["MATEESCU ADRIAN","1760922381463"]
["MATEESCU PETRISOR","1491116335002"]
["MATEI FLORINA","2680720361935"]
["MATEI MOB PERFECT S.R.L.","25428259"]
["MATEI NICOLETA","nedef."]
["MATEI PRODCOM VJ S.R.L.","RO7221459"]
["MATEI TEODOR","1681023421545"]
["MATEI VALENTIN-VASILE","1710628434525"]
["MATEIU MIRCEA STEFAN","1720404323934"]
["MATELO COM S.R.L.","RO6871879"]
["MATER ANIMA","28003961"]
["MATEROM AUTOHAUS S.R.L.","RO22833800"]
["MATES NICULINA","2710426332155"]
["MATIAS S.R.L.","RO11251687"]
["MATIES PETRE - CIPRIAN","1760707040077"]
["MATINAL SRL","RO13959338"]
["MATISTUR S.R.L.","25077840"]
["MATOCO S.R.L.","RO4269649"]
["MAUS-BABI S.R.L.","RO10165731"]
["MAX EMI SRL","22668036"]
["MAX ESTATE SRL","RO 33079117"]
["MAX INT RO S.R.L.","RO15778737"]
["MAX OFF-ROAD SERVICE SRL","RO37868725"]
["MAXCHIM S.R.L.","RO6728560"]
["MAXGERMOB S.R.L.","RO30456816"]
["MAXICENT CONSULT S.R.L.","17055639"]
["MAXIM CIPRIAN GEORGE I.I.","28602014"]
["MAXIM COCIUBAN VALERIAN IOAN","1801122125483"]
["MAXIM D. ANGI P.F.A.","24418605"]
["MAXIM DANIEL-IULIAN","1750724330780"]
["MAXIM DANIEL-IULIAN P.F.A.","38412483"]
["MAXIM DUMITRU","1511017335029"]
["MAXIM EUSEBIU","1980114070014"]
["MAXIM FLORENTIN","1800228070020"]
["MAXIM GHEORGHE I.F.","RO10625295"]
["MAXIM NICUSOR","1920820070023"]
["MAXIM OVIDIU","1620524335001"]
["MAXWECTOR S.R.L.","RO7995131"]
["MAXY MAR DESIGN S.R.L.","RO19130940"]
["MAYA S.R.L.","RO10900638"]
["MAYDAY S.R.L.","RO6370223"]
["MAYMAR TURISM S.R.L. ","RO 29741274"]
["MAZ-WOOD S.R.L.","RO18372007"]
["MAZALIC SI TATARU SNC","RO5307864"]
["MAZARACHE ELENA","2720312333235"]
["MAZARE ANA MARIA","nedef."]
["MAZAREANU ALINA","2901209330675"]
["MAZEMOB PROJECT S.R.L.-D","42330004"]
["MAZEPIUC CONSTANTIN","1870503330790"]
["MAZILU MARIUS","1820807134175"]
["MB GROUP FURNITURE S.R.L.","RO42823908"]
["MB MOB PRODUCTION S.R.L.","RO37419599"]
["MBF MILAK S.R.L.","RO17101034"]
["MC ADMINISTRATOR PAJURA S.R.L.","18349675"]
["MC ROY & CO IMPEX S.R.L.","RO5231650"]
["MCD NEW PROGRESS","29183909"]
["MCIN PRODUCTIE S.R.L.","RO17903836"]
["MCM BOUTIQUE RESORT S.R.L.","RO17392944"]
["MCM DESIGN S.R.L.","RO10543225"]
["MCS AUTO CHAMPIONS","RO28989710"]
["MCS COMMUNICATIONS S.R.L.","RO18792620"]
["MCV PROTRUST S.R.L.","RO38504765"]
["MDF EXCLUSIVE BACAU S.R.L.","RO42857900"]
["MDM MONICA DESIGN S.R.L.","RO26127084"]
["MDS-MOBASIG CREATION S.R.L.","RO39705279"]
["MECANPLAST S.R.L.","RO4270015"]
["MECHA TECH S.R.L.","RO38161292"]
["MECHITEI MARIA","2600624335035"]
["MEDE SRL","P.IVA 00813360286"]
["MEDEEA FASHION S.R.L.","31356882"]
["MEDESAN OVIDIU-IOAN","1750911323926"]
["MEDIAPHARM ADVERTISING S.R.L.","RO16584429"]
["MEDICAL CONSULTING S.R.L.","RO15447660"]
["MEDICAL DENTAL BLUE","22052400"]
["MEDICAL EXPRES","nedef."]
["MEDICAL EXPRESS S.R.L.","RO10148463"]
["MEDICAL TECHNOLOGIE TRANSFER S.R.L.","RO715056"]
["MEDICAL TEST S.R.L.","14622674"]
["MEDIGAL CLINIC SRL","35749710"]
["MEDIQ INNOVATIVE TECHNOLOGIES SRL","RO26308935"]
["MEDIVET S.R.L.","RO19089387"]
["MEDVIG MARIA","nedef."]
["MEGA CONSTRUCT METAL S.R.L.","RO13793340"]
["MEGA FASHION COM S.R.L.","RO11847761"]
["MEGA IMAGE SRL","RO6719278"]
["MEGA M&L S.R.L.","RO17199910"]
["MEGA MOB S.R.L.","RO23132710"]
["MEGADINAMIC SRL","RO11376052"]
["MEGAHOST S.R.L.","17523233"]
["MEGAMOD S.R.L.","RO31086320"]
["MEGAOIL S.R.L.","RO19120512"]
["MEGASERVER SRL ","RO33231770"]
["MEINBECKEN.COM  S.R.O.","SK2023082644"]
["MEIROS GEORGE-CRISTIAN P.F.A.","43414669"]
["MELA-ROX COM","RO5290584"]
["MELAMOB PRESTCOM S.R.L.","RO6367864"]
["MELINNA TT S.R.L.","RO28117486"]
["MELINTE HORIA","1730702334996"]
["MELINTE LORENA","2860328330206"]
["MELIOR S.R.L.","RO22162658"]
["MELIS DAN - DANUT","1680902335009"]
["MELIS ELENA","2720522332148"]
["MELISCH IRINA","2770215335058"]
["MEMENTO HAUSE S.R.L.","30920800"]
["MEMO S.R.L.","15045345"]
["MENDOLA PRO S.R.L.","RO18560000"]
["MENSAJERO SRL","RO27039991"]
["MENTA S.R.L.","RO7384677"]
["MENTALSPA-HOTEL FRITSCH AM BERG","ATU68157969"]
["MENTERA S.R.L.","RO27193744"]
["MENTOR BUILDING S.R.L.","RO14932551"]
["MENTOR MARKETING&DISTRIBUTION S.R.L.","RO15314753"]
["MER FURNITURE S.R.L.","RO22452090"]
["MER-DUM SRL","RO10298460"]
["MERANO FRONTT S.R.L.","37345491"]
["MERANTI S.R.L.","RO18937314"]
["MERCADO S.R.L.","RO22456602"]
["MERCAS MARIUS","1851120080016"]
["MERCEDES-BENZ SERVICE LEASING SRL ","RO24041105"]
["MERCUR IMPEX SRL","RO1969125"]
["MERCUR TRANSIT S.R.L.","RO21101415"]
["MERCURE ATRIUM BRAUNSCHWEIG","DE270460127"]
["MERCURE HOTEL KOLN WEST","DE120493093"]
["MERIDIAN CONSTRUCT S.R.L.","RO14989680"]
["MERIDIAN NORD SRL","RO29300928"]
["MERIDIAN SUD INVEST SRL","RO22724373"]
["MERIDIAN VEST SRL","RO 16594074"]
["MERIOT VIP","30366470"]
["MERKAL M.E. S.R.L.","RO29012208"]
["MERKAL S.R.L.","RO1873119"]
["MERLA NICOLAE-EMIL I.F.","15501603"]
["MERLIN DESIGN S.R.L.","16180102"]
["MES EXPERT S.R.L.","17746480"]
["MES S.A.","RO712866"]
["MESAGER S.R.L.","RO13738701"]
["MESAGER SERVICE S.R.L.","605193"]
["MESOPOTAMIA FOOD S.R.L.","27083512"]
["MESOPOTAMIA SUD INVEST SRL","RO32564164"]
["MESOPOTAMIA VULCAN S.R.L.","RO33396603"]
["METAL LEMN CONF IMPEX S.R.L.","3479367"]
["METAL NEF HERMANNSTADT SRL","RO36243760"]
["METAL STAR S.R.L.","RO5506310"]
["METALCOM S.R.L.","RO6778720"]
["METALDOMUS KANTEN S.R.L.","RO26125580"]
["METALDOMUS S.R.L.","23292311"]
["METALICPLAS DISTRIBUTION S.R.L.","RO17736215"]
["METEXCHIMCOM S.A.","RO4973570"]
["METRO CASH&CARRY ROMANIA SRL","RO8119423"]
["METRON CONSULT S.R.L.","RO16791890"]
["METROPOL COM SRL","RO4840809"]
["METROPOLITAN CONSULTING FINANCIAR S.R.L.","RO21842869"]
["MEX IMPORT&LOGISTIC S.R.L.","RO18785887"]
["MEX MEBELY S.R.L.","RO40490416"]
["MEY MEY S.R.L.","21062235"]
["MEZY COM S.R.L.","RO7780256"]
["MFI PROSANSIG SRL","29843878"]
["MFP ARTMOB PROJECT S.R.L.","42822740"]
["MG PROFESSIONAL SALES S.R.L.","RO22679892"]
["MG TEHNIC PROD DESIGN S.R.L.","RO25079426"]
["MGSTORM S.R.L.","16961189"]
["MHL MOBEL S.R.L.","RO38537827"]
["MHP-STORE","RO17573185"]
["MIAD LUX MOB S.R.L.","RO23302253"]
["MIAUN D. ALEXANDRU MEDIC DENTIST","30923865"]
["MIBIAN ITP SRL","RO30346244"]
["MIC MOBILIER TRANS S.R.L.","RO8938380"]
["MICA INDUSTRIE SI PRESTARI SERVICII S.R.L.","RO756668"]
["MICADAN COMEXIM SRL","RO4657012"]
["MICAND MOBILA S.R.L.","RO40781083"]
["MICATI UNIVERS S.R.L.","RO17898098"]
["MICHAEL HEGE ","nedef."]
["MICHELINA IMPEX SRL","RO5895802"]
["MICHLIUC NICU","1780713335030"]
["MICHNEA MIREL-VASILE P.F.A.","27542348"]
["MICLAUS DAN","1800310420010"]
["MICLAUS VASILE","1741115126193"]
["MICLIUC IULIANA CATALINA","2910713071378"]
["MICO PROD MOBILA S.R.L.","40043582"]
["MICO STUDIO PROIECTARE MOBILA S.R.L.","37448764"]
["MICOVANU MARINA ","nedef."]
["MICRON TOOLS SRL","RO23912766"]
["MICROROYAL S.R.L.","RO1847330"]
["MICROTRANS S.R.L.","RO24242095"]
["MICS S.R.L.","RO714662"]
["MICU IOSIF","1510418400184"]
["MIDA MOBLUX S.R.L.","RO25718643"]
["MIDAS TRANSPORT S.R.L.","RO11518068"]
["MIDO MOB MD S.R.L.","RO35149138"]
["MIDOCAR SRL","RO4992254"]
["MIELE APPLIANCES","RO22053790"]
["MIESZKO ZAGOZDZON","RO41662994"]
["MIGDALIN S.R.L.","RO15085498"]
["MIHAI BAMBU","1870407385582"]
["MIHAI CEZAR","1501116335005"]
["MIHAI MARIAN CORNELIU ","1810629046279"]
["MIHAI MARIUS","nedef."]
["MIHAI-MOB S.R.L.","RO18686077"]
["MIHAILA MARIAN","1770805073548"]
["MIHAILA VASILE","1740412330811"]
["MIHAILESCU ALEXANDRU","1980409330210"]
["MIHAILESCU DAN","1751103431512"]
["MIHALACHE ADRIAN - GABRIEL","1900927330198"]
["MIHALACHE CRISTIAN-LORIN","1930417330201"]
["MIHALACHE IONEL","1690827335016"]
["MIHALACHE LAUR","1670204335051"]
["MIHALACHE RADU CATALIN","1890421090043"]
["MIHALCEA LUCIA","2711210340011"]
["MIHALCIUC PETRUTA","2810620330220"]
["MIHALEA MIHAI","1850928336681"]
["MIHALEA SILVIU I.I ","26880790"]
["MIHALESCU DELIA","2920614330191"]
["MIHALEX COM SRL","RO5571741"]
["MIHALEXION COM S.R.L.","RO8861731"]
["MIHALIS MOB S.R.L.","43095381"]
["MIHALKU MASTER S.R.L.","RO21791234"]
["MIHOC AURA","2781004335027"]
["MIHOC MONICA-ADINA","2750526013526"]
["MIHOC OVIDIU (SECTIE)","1780626335006"]
["MIHOCIU MARIUS","1850320045362"]
["MIHU NICOLETA","2820118330243"]
["MIKE PRODUCT DESIGN S.R.L.","30520315"]
["MILAR CONSTRUCT S.R.L.","RO23041948"]
["MILCA S.R.L.","RO3861145"]
["MILICI LACRAMIOARA","2840407350079"]
["MILIDEAS MOB S.R.L.D","35733730"]
["MILIN AFERA S.R.L.","RO17415444"]
["MILK MARKETING&DISTRIBUTION SRL","RO33680159"]
["MILLEX ROMSERV SRL","RO29235439"]
["MILLY & GGP COMPANY SRL","14872891"]
["MILOMAR AUTO PARTS SRL","RO12969716"]
["MILOS S.R.L.","RO13189441"]
["MILTECH SERV SRL","RO7877985"]
["MIMECOM S.R.L.","RO5555223"]
["MINCIUNA DANIEL","1790320335074"]
["MINDYMOB S.R.L.-D.","RO36305103"]
["MINECAN CLAUDIU","1770209330765"]
["MINICAN MIHAI","1850818335507"]
["MINIMOBILA S.R.L.","RO1221786"]
["MINIPRIX SRL","RO15815037"]
["MIOTUR SRL","RO394070"]
["MIRA RENTAL S.R.L.","RO22572844"]
["MIRABILIS MOB ART S.R.L.","RO41882647"]
["MIRAGE TUR S.R.L.","18889950"]
["MIRCIO SERV SRL","RO7559809"]
["MIREA IONEL","1791109460044"]
["MIREA MARIUS VICENTIU","1740208280014"]
["MIREA VICTORIA VERONICA","2800202237896"]
["MIREMON PROD S.R.L.","RO6533681"]
["MIREUTA COSTICA-PAVEL I.I.","RO31665632"]
["MIRITA RADU P.F.A.","38968145"]
["MIRON CIPRIAN","nedef."]
["MIRON DINU","1810730330017"]
["MIRON DORU","1790122335031"]
["MIRON FATADE CONSTRUCT SRL","RO16637248"]
["MIRON GEORGE","1930524226711"]
["MIRON IONUT","1860206330212"]
["MIRON MARCELA","2790325335010"]
["MIRON MARIANA","2710317221200"]
["MIRON NICULITA","1871123330245"]
["MIRON RALUCA","2871120330206"]
["MIRON VASILE","nedef."]
["MIRONESCUL GHEORGHE","1660827333202"]
["MIRROR COM S.R.L.","RO4676693"]
["MIRTIM PROD S.R.L.","RO6419602"]
["MISAVAN TRADING","RO26784173"]
["MISS BAKER PRODUCTIE S.R.L.","RO32865272"]
["MISTIC DESIGN HOME SRL","28377834"]
["MIT ROSS WOOD DESIGN S.R.L.","40867827"]
["MITAN NICOLAE","1800905055072"]
["MITI-GEO S.R.L.","RO5977562"]
["MITITIUC IONUT","1950114330209"]
["MITOCARIU DUMITRU","1680820221191"]
["MITOCEANU TEODORA","2880212330207"]
["MITOCOLOR PAINT S.R.L.","39006343"]
["MITREA MANUEL","1760203180012"]
["MITREA STEFAN","1800714292531"]
["MITREA VIORICA","2620503330772"]
["MITRIC ADRIAN","1711219333215"]
["MITRIC DANIEL","nedef."]
["MITRIC LAURA IULIANA","nedef."]
["MITRIC SHIMON","nedef."]
["MITROFAN ANISOARA","2921130331903"]
["MITROFAN GRIGORE","1780716336735"]
["MITROFAN SIMINEL","1691230334992"]
["MITRUT NICOLAE","1731226330010"]
["MITULSCHI NADIA","2800710330220"]
["MIU BOGDAN","1880510038682"]
["MIU CRISTIAN","1780310416031"]
["MIVARMOBIL S.R.L.","RO38467616"]
["MIVINI PRODIMPEX S.R.L.","10493852"]
["MIVINI TOTAL MOB S.R.L.","41969698"]
["MLC POWER AUTOMATION AG","RO32233748"]
["MM ITP TEST SRL","RO30587684"]
["MOB ANEL CONSTRUCTOR S.R.L.","RO38036036"]
["MOB ARHITECT DESIGN S.R.L.","23445970"]
["MOB ARHITECT EXCLUSIVE S.R.L.","RO42329638"]
["MOB ART GRUP S.R.L.","RO15142917"]
["MOB ART S.R.L.","RO15942782"]
["MOB CARPATYA S.R.L.","RO23255054"]
["MOB CH DESIGN S.R.L.","42260405"]
["MOB CONCEPT STORE S.R.L.","RO37627735"]
["MOB DESIGN MAGAZIN S.R.L.","37548399"]
["MOB DESIGN S.R.L.","RO17710150"]
["MOB DESIGN S.R.L.(ROMAN)","RO13467947"]
["MOB DESIGN S.R.L.(TG.MURES)","RO15501018"]
["MOB ETIQUETTE SANDU S.R.L.","RO32670238"]
["MOB IN SPACE S.R.L.","RO41723366"]
["MOB INSIDE S.R.L.","41588855"]
["MOB LARGE PRINT S.R.L.","RO32138290"]
["MOB METEOR S.R.L.","RO24607736"]
["MOB STEEL DESIGN S.R.L.","35263840"]
["MOB STYLE PROJECT 2005 S.R.L.","RO17545240"]
["MOB-FLOWER S.R.L.","RO33110875"]
["MOB-ZONE STUDIO S.R.L.","RO42154307"]
["MOBALECS ART S.R.L.","RO23146189"]
["MOBALHORV S.R.L.","40730268"]
["MOBALINA PROD S.R.L.","RO10121077"]
["MOBART DESIGN 2017 S.R.L.","37479370"]
["MOBART FUTURE STYLE S.R.L.","RO37293813"]
["MOBART NEW CONCEPT S.R.L.","41661492"]
["MOBCASAVIVA S.R.L.","31387668"]
["MOBCIP S.R.L.","RO19275800"]
["MOBCOMPACT S.R.L.","18964700"]
["MOBDECOR S.R.L.","RO16258511"]
["MOBEL HAR PROD DESIGN S.R.L.","RO31931823"]
["MOBEL MANUFACTURING S.R.L.","RO34340082"]
["MOBELLA SOLUTIONS S.R.L.","RO27958413"]
["MOBELUK DESIGN S.R.L.","37337375"]
["MOBENTA S.R.L.","38597900"]
["MOBERFLEX IMPEX S.R.L.","RO14968962"]
["MOBEXPERT BANEASA SRL","RO18648430"]
["MOBFLASH CONCEPT S.R.L.","RO35095054"]
["MOBI MOD S.R.L.","RO20745477"]
["MOBICLAS S.R.L.","23424978"]
["MOBICLASS CREATIVE S.R.L.","39360510"]
["MOBICRIS SELECT S.R.L.","RO30915595"]
["MOBIDEEA DESIGN S.R.L.","RO23440248"]
["MOBIDIM FOREST S.R.L.","RO21615572"]
["MOBIERA S.R.L.-D","RO34114336"]
["MOBIFOR S.R.L.","RO6595587"]
["MOBIK PROD GIVO S.R.L.","33710918"]
["MOBIL ART IMPEX S.R.L.","RO2998820"]
["MOBIL COM NICHITA S.N.C.","RO3362501"]
["MOBILA ALTFEL S.R.L.","44442292"]
["MOBILA ART ALEXANDRU S.R.L.-D","RO32412786"]
["MOBILA BEJAN S.R.L.","28243212"]
["MOBILA BOGDAN CONCEPT S.R.L.","44481372"]
["MOBILA BUCUR S.R.L.","41030530"]
["MOBILA CLASS S.R.L.","RO17244808"]
["MOBILA COMANDA BRATU S.R.L.","38485973"]
["MOBILA CU DICHIS S.R.L.","39766098"]
["MOBILA ELIT PARC S.R.L.","RO32601386"]
["MOBILA FLORIBELLA S.R.L.","RO32424942"]
["MOBILA GRANDE S.R.L.","RO18030462"]
["MOBILA IONATAN S.R.L.","35170334"]
["MOBILA IPOTESTI S.R.L.","RO39552434"]
["MOBILA MDF ROBERT S.R.L.","39043627"]
["MOBILA NISTOR S.R.L.","41056157"]
["MOBILA RADULESCU S.R.L.","RO38157763"]
["MOBILA RAFAEL EXCLUSIV S.R.L.","RO37483648"]
["MOBILA RUSU S.R.L.","RO34146486"]
["MOBILA S.A.","RO2363282"]
["MOBILA SI BINALE S.R.L.","RO15245505"]
["MOBILADORO IMPEX S.R.L.","RO19188666"]
["MOBILAROM S.R.L.","20571451"]
["MOBILART S.R.L.","RO18060692"]
["MOBILDOM S.R.L.","RO7086000"]
["MOBILEAZAFRUMOS S.R.L.","RO39083460"]
["MOBILEMAEM S.R.L.","RO24337608"]
["MOBILENA PROD S.R.L.","37340508"]
["MOBILFAN CONCEPT S.R.L.","42698180"]
["MOBILIA BLS S.R.L.","41368728"]
["MOBILIER CONCEPTO CONSTANTA S.R.L.","40286417"]
["MOBILIER DIN ATELIER S.R.L.","39400134"]
["MOBILIER DIVERS S.R.L.","RO35223137"]
["MOBILIER MAIORCA S.R.L.","RO38320967"]
["MOBILIER VLAS S.R.L.","RO27098610"]
["MOBILIERIUM CONCEPT DESIGN S.R.L-D","37381630"]
["MOBILNICE S.R.L","RO17772110"]
["MOBILTERA VEST S.R.L.","RO31938295"]
["MOBILUX CONFORT EXPERT S.R.L.","RO38631700"]
["MOBILUX DAN MOB S.R.L.","28979554"]
["MOBIMAPTRANS S.R.L.","39079353"]
["MOBIPER S.R.L.","RO27229627"]
["MOBIRA GRUP S.R.L.","RO13755044"]
["MOBIRA PROD S.R.L.","RO5651662"]
["MOBISART CREATIV S.R.L.","37652216"]
["MOBISET S.R.L.","RO4972664"]
["MOBISTAR S.R.L. (BRASOV) ","RO18463628"]
["MOBISTAR S.R.L. (CRAIOVA)","RO11817574"]
["MOBIT LINE BY SEATING LIVE SRL","RO6251478"]
["MOBIUP DISTRIBUTION SRL","RO26972622"]
["MOBKRAFT COM S.R.L.","RO34300207"]
["MOBLAIC IMPLY S.R.L.","RO36840459"]
["MOBLAND PROD S.R.L.","RO9277430"]
["MOBLAND STIL PRIM S.R.L","RO26458444"]
["MOBLINE S.R.L.","RO15849994"]
["MOBOCTAV S.R.L","38857295"]
["MOBOTEC BRASOV S.R.L.","RO36473646"]
["MOBSS LIVING S.R.L.","41060565"]
["MOBSTAR IND S.R.L.","24078805"]
["MOBTIMUS S.R.L.","RO38459591"]
["MOBU FACTORY S.R.L.","RO30736972"]
["MOBUS DESIGN S.R.L.","RO43087729"]
["MOBY LEVIS S.R.L.","RO33662578"]
["MOBYLUX COM S.R.L.","RO10213022"]
["MOCANASU CIPRIAN","1770625221209"]
["MOCANU GEORGEL","1821017080054"]
["MOCODEAN MIHAI","1850816330211"]
["MODA MODERNA  S.R.L.","RO31531371"]
["MODELCO S.R.L.","RO3232277"]
["MODERN MOB SOLUTION SRL","36204451"]
["MODULUS MOB DESIGN S.R.L.","39274028"]
["MOF SRL","RO1828142"]
["MOGA ANAMARIA","2830327014670"]
["MOGA DANIEL","1731011335013"]
["MOGAME SRL","RO30123455"]
["MOGAMI COM S.R.L.","RO7950741"]
["MOHINI S.R.L.","RO28841062"]
["MOHOREA NELU-CRISTIAN","1800104172357"]
["MOIRA PIESE AUTO S.R.L.","RO37542434"]
["MOISA GHEORGHE","1770421073527"]
["MOISE ADRIAN","1710309020013"]
["MOISE GHEORGHE-MARIAN","1771030212976"]
["MOL NEAMT SRL","RO30634042"]
["MOL NYRT ","HU10625790"]
["MOL SLOVENIJA D.O.O.","SI88362264"]
["MOLDO MEX SRL","RO14644583"]
["MOLDO-MOBILMAR S.R.L.","23220277"]
["MOLDOGLASS SRL","RO9978390"]
["MOLDOGLASS SUCEAVA SRL","RO21941757"]
["MOLDOVA-N SERVICII S.R.L.","14932691"]
["MOLDOVAN ANNA","2900726803962"]
["MOLDOVAN CALIN","1830208260026"]
["MOLDOVAN R.IOAN P.F.A.","19544194"]
["MOLDOVEANU DELIA","nedef."]
["MOLDPLAST CONCEPT SRL","RO37721901"]
["MOLNER FLORIN","nedef."]
["MOMITA ALEXANDRA","2850418226715"]
["MON AMI DESIGN S.R.L.","42296085"]
["MONAC EMILIAN","1870628271711"]
["MONDE DE BOIS S.R.L.","RO35018957"]
["MONDEXO MOB S.R.L.","RO31048688"]
["MONDO GRUP 2000 S.R.L.","RO13188004"]
["MONDO INDUSTRY SRL","RO22954267"]
["MONDO MOB FLORIN S.R.L.","RO33466768"]
["MONDO MOBILLI S.R.L.","RO18244717"]
["MONDO PLAST SRL","RO12755240"]
["MONOR MIHAELA","2720616332147"]
["MONOR MIHAI ","1650529330799"]
["MONTAN TOUR MF SRL","RO1331304"]
["MONTECLAS SRL ","RO29482048"]
["MONTERO COM S.R.L.","RO15790625"]
["MONTIA TATIANA IRINA","2560818335006"]
["MOPAN SUCEAVA SA","RO34874331"]
["MORAR ANDREI","1751005264379"]
["MORARI ANDRA","6020617330237"]
["MORARI LAURA-MIHAELA P.F.A.","32971761"]
["MORARI ROBERT NICOLAE","1890810330197"]
["MORARIU AURELIAN","1741011335038"]
["MORARIU INDIRA","2861118211194"]
["MORARIU OTILIA","2790728335013"]
["MORARIU OVIDIU","1910731330251"]
["MORARU GABRIEL PETRISOR","1940630340038"]
["MORARU LILIANA","2671201072646"]
["MOREM GROUP S.R.L.","RO14611187"]
["MORFEO S.R.L.","RO21437998"]
["MORONI ROM SRL","RO26169756"]
["MOROSAN  ADRIAN- NICULAI","1781128333221"]
["MOROSAN ALEXANDRU","1730702335031"]
["MOROSAN DANUT","1930805330205"]
["MOROSAN GETA","2551012322238"]
["MOROSAN I. DANUT IOAN P.F.A.","28455649"]
["MOROSAN LUCICA","nedef."]
["MOROSAN MARIA","2870814330265"]
["MOROSAN MIHAI","1901111330227"]
["MOROSAN MIHAI GHEORGHE","1690526333246"]
["MOROSANU ANDREEA","2870330330531"]
["MOROSANU MARIUS MARCEL","1900926225918"]
["MOROSANU MIHAELA","2771012035017"]
["MORTAN NICOLAE I.I.","19796230"]
["MORUZ ANDRADA","2891014322964"]
["MORUZ LAURENTIU","1760725334991"]
["MOSAIC PROJECT SRL","RO35128690"]
["MOSCALIUC DELIA","2720927335037"]
["MOSCALIUC LAVINIA","2980123330195"]
["MOSEK SRL","RO22643589"]
["MOSS HOLDINGS SRL","41908259"]
["MOTCU MARIA","2750430330761"]
["MOTCU MARILENA","2650618335023"]
["MOTOC MARIUS","1750502335057"]
["MOTOR GREEN TOPSERV SRL","RO32682771"]
["MOTORS PRONTO S.R.L.","RO12926553"]
["MOTORS RESCUE SRL-D","RO33664242"]
["MOTRICI VIOREL","1520726335032"]
["MOVI DESIGN FACTORY S.R.L.","RO16601651"]
["MOVI DESIGN FURNITURE S.R.L.","RO44552376"]
["MOVI-MOB S.R.L.","18275403"]
["MRC MIXFACTORY S.R.L.","37543170"]
["MRC MOBCONCEPT S.R.L.","RO13774283"]
["MS MASINI PENTRU FABRICAREA MOBILEI SRL","RO25235134"]
["MSA DRIVELAND S.R.L.","RO37903253"]
["MSS NISAN SRL","RO28637349"]
["MUCEA GABRIEL","1860816090092"]
["MULTESCU ARGENTINA","nedef."]
["MULTIMOTOTOR DIESEL SRL","RO32259322"]
["MULTISERVICE CYCLOP VTM SRL","RO27740345"]
["MUNTEAN S. EMIL PFA","26940361"]
["MUNTEANU CONSTANTIN","1550712335022"]
["MUNTEANU GINA","nedef."]
["MUNTEANU NICOLETA","2811112336523"]
["MUNTEANU PETRUS","1630901370013"]
["MUNTEANU SIMONA","nedef."]
["MUNTEANU SIMONA","2870420336397"]
["MUNTEANU TOADER","1870513393760"]
["MUNTELE CU FLORI SRL","22193638"]
["MURARASU MARIUS","1780312335017"]
["MURARASU TUDOREL","1690429330798"]
["MURARESCU MARIUS","1831026330191"]
["MURARIU ADINA","nedef."]
["MURARIU CRISTIAN","1760208070030"]
["MURARIU L.OANA-CABINET DE AVOCAT","29605701"]
["MURARIU LENUTA RODICA","2790416335046"]
["MURARIU LUCIAN","1610410335003"]
["MURARIU MIHAELA","nedef."]
["MURARIU SORIN","1650831334934"]
["MURES MEX S.A.","RO6479620"]
["MURRINA VENEZIANA S.R.L.","RO18715253"]
["MURYSERV SRL","RO16457999"]
["MUSCA ANA","2800401336383"]
["MUTASCU PETRU","1671213110642"]
["MUZEUL BUCOVINEI","4244628"]
["MVR RAVAL S.R.L.","RO28170765"]
["MY STORAGE ENTERPRISE SRL","RO40076903"]
["MYL2 CONNECT S.R.L.","RO40356326"]
["MYRA  AUTO TRANS SRL","RO18837323"]
["Ma Hotels S.R.L.","RO16614392"]
["Mabi's V.m.b. Company S.R.L.","23764570"]
["Mac Exim S.R.L.","RO2778395"]
["Macom Company S.R.L.","RO18352743"]
["Macoras Servcom S.R.L.","8454339"]
["Madex International S.R.L.","RO2786975"]
["Madior Com S.R.L.","RO8157710"]
["Mafcom Prod Impex S.R.L.","RO4636370"]
["Maghiar Aurel Marius Pf","23056418"]
["Magic Blue Palace S.R.L.","RO25058113"]
["Magic Computers S.R.L.","RO15347912"]
["Magic Mob Design S.R.L.","RO30744932"]
["Magic Mob S.R.L.","23163872"]
["Magic Termoplast S.R.L.","27480580"]
["Magida Construct S.R.L.","RO26411697"]
["Magister - Servicii Pentru Securitatea Muncii S.R.L.","RO20549063"]
["Magister 001 S.R.L.","17566099"]
["Magnum Serimpex Co Ltd S.R.L.","RO12414715"]
["Magtec Prod Com S.R.L.","RO5111298"]
["Maier Gheorghe - Zamfir Intreprindere Individuala","RO26558508"]
["Maio It S.R.L.","22116503"]
["Makov Dekorart S.R.L.","RO30417221"]
["Malexi One S.R.L.","RO11202781"]
["Maluco Com S.R.L.","RO9216360"]
["Maluk Co S.R.L.","RO13195141"]
["Malvina Com S.R.L.","RO722932"]
["Mamut S.R.L.","RO12937129"]
["Manager Adfin Consulting S.R.L.","RO9056803"]
["Manastirea Dragomirna","4327430"]
["Mancar Motors S.R.L.","RO14628413"]
["Mandici V. Alexandru Birou Notarial Individual","29602519"]
["Manolache George-rafael Intreprindere Individuala","32652886"]
["Manolache N. Radu Intreprindere Individuala","RO31624586"]
["Manolache P. Mihaela Birou Expert Contabil","19568045"]
["Maravela Florin-Eugen I.I.","26154224"]
["Marbo Woods S.R.L.","RO31454554"]
["Marc-woodwork S.R.L.","RO7619501"]
["Mark Catering Arte S.R.L.","RO23466280"]
["Mark Edy Star S.R.L.","RO26136139"]
["Market-mob-set S.R.L.","RO18584484"]
["Marta V.p. Marius Intreprindere Individuala","33871523"]
["Martax Trans Company S.R.L.","RO16393810"]
["Marub S.A.","RO1112878"]
["Marvel S.R.L.","RO13858023"]
["Master Auto Glass S.R.L.","RO13457005"]
["Master Solution S.R.L.","RO18750668"]
["Masterdom Profil S.R.L.","RO31390051"]
["Mastiff D.s.g. Auto S.R.L.","RO26786654"]
["Matache & Co S.R.L.","RO2088514"]
["Matei A. Anca Gabriela Consilier Juridic","27215117"]
["Mc DONALD'S ROMANIA SRL","RO6205722"]
["Midarmo Energy S.R.L.","RO27689161"]
["Mifado Prodcom S.R.L.","RO2690357"]
["Mihela S.R.L.","24954670"]
["Mil Instal S.R.L.","RO16911237"]
["Milas Ioan Teodor Intreprindere Familiala","RO16286643"]
["Milcovul S.A.","RO1445503"]
["Mileniul 3 S.R.L.","RO13658181"]
["Mili-ghes Impex S.R.L.","RO6728144"]
["Milion Serv S.R.L.","4385414"]
["Militaru Dan Persoana Fizica Autorizata","20740798"]
["Milusinsor S.R.L.","RO29326472"]
["Mimp S.A.","RO2369633"]
["Minco Serv S.R.L.","RO3407590"]
["Minim S.R.L.","RO7523716"]
["Minion Angro S.R.L.","RO6208672"]
["Ministerul Justitiei","RO21717548"]
["Minitex S.R.L.","20781550"]
["Mioti Food S.R.L.","31906781"]
["Mira Peco Station S.R.L.","RO9833799"]
["Miraioana S.R.L.","RO18594534"]
["Miralin Top Divers S.R.L.","RO26262080"]
["Miranda Company S.R.L.","RO8104406"]
["Miraz Prodcom S.R.L.","4579313"]
["Mirc & Ink S.R.L.","26543523"]
["Mircioni Trans S.R.L.","RO7894200"]
["Mirconstruct S.R.L.","RO17397879"]
["Mirela Impex S.R.L.","RO3233272"]
["Mirodia Prod Impex S.R.L.","RO4841316"]
["Miromed S.R.L.","11037919"]
["Miron Vasile-Doru Intreprindere Individuala","30682333"]
["Mirox Once S.R.L.","32240591"]
["Mirstefa Com S.R.L.","RO5143737"]
["Misone S.R.L.","RO7143733"]
["Moara Dragaicilor S.R.L.","RO14391430"]
["Mob Expres S.R.L.","RO14182409"]
["Mob Invest S.R.L.","22603789"]
["Mob M&m Stil S.R.L.","RO17889995"]
["Mob Proiect S.R.L.","RO10029969"]
["Mob Sistem Design S.R.L.","RO16621756"]
["Mob-yug Prod S.R.L.","RO18461023"]
["Mobangeli S.R.L.","RO18840051"]
["Mobdesign Project S.R.L.","RO24468719"]
["Mobel Art Design S.R.L.","RO21340161"]
["Mobel Design Fashion S.R.L.","RO28384173"]
["Mobel House S.R.L.","RO27917456"]
["Mobelix Decor S.R.L.","20124518"]
["Mobergo Proiect S.R.L.","33463192"]
["Mobexpo Prod S.R.L.","RO16880211"]
["Mobi Stal S.R.L.","RO17182217"]
["Mobil Art Expert S.R.L.","RO28354792"]
["Mobil Art Prod S.R.L.","RO15723910"]
["Mobil Nice S.R.L.","17772110"]
["Mobil Serv S.R.L.","RO14629370"]
["Mobila & Design S.R.L.","RO14622216"]
["Mobila Lucsina S.R.L.","RO21697157"]
["Mobila Online S.R.L.","25147164"]
["Mobiladalin S.R.L.","RO7078066"]
["Mobiladuosim S.R.L.","RO28281046"]
["Mobilata Home Srl-d","RO31658848"]
["Mobile Mania S.R.L.","RO16756575"]
["Mobile Woodwork S.R.L.","RO32414760"]
["Mobili Design S.R.L.","RO19144562"]
["Mobilier Stylemob S.R.L.","RO25829528"]
["Mobilierii S.R.L.","RO23435934"]
["Mobilkat S.R.L.","RO21665783"]
["Mobilleta Factory S.R.L.","RO25521748"]
["Mobilpad Vasicom Srl-d","RO30855680"]
["Mobilux Design S.R.L.","RO15145433"]
["Mobilux S.R.L.","RO14291392"]
["Mobimex 94 S.R.L.","RO5394445"]
["Mobiparts S.R.L.","RO17597656"]
["Mobiref Design S.R.L.","RO16528747"]
["Mobirom S.A.","RO7173157"]
["Mobisor S.R.L.","13189204"]
["Mobispeed S.R.L.","RO20821191"]
["Mobitalia Prod S.R.L.","RO14341776"]
["Mobitech S.R.L.","RO15685611"]
["Mobius Express S.A.","18721689"]
["Mobproiect Design S.R.L.","27588868"]
["Mobrom S.R.L.","RO7384715"]
["Mobshop Production S.R.L.","30001555"]
["Mobteco Product S.R.L.","RO16109994"]
["Moca Lavinia Simona - Int Assistance Persoana Fizica Autorizata","RO19296439"]
["Modena Prodcom S.R.L.","RO7247440"]
["Moderntermopan S.R.L.","16369960"]
["Modserv S.R.L.","RO15767312"]
["Moira Servcom S.R.L.","RO7618778"]
["Mol Retail Comert S.R.L.","RO6811583"]
["Mol Romania Petroleum Products","RO7745470"]
["Mold Comert S.R.L.","RO14073371"]
["Molda Com S.R.L.","4867740"]
["Moldovan Florian Marius Intreprindere Individuala","32899429"]
["Moldproiect-asd S.R.L.","RO15693410"]
["Moldsilva S.A.","RO6508793"]
["Moldy M & C S.R.L.","15313570"]
["Mom Lignum S.R.L.","RO27844419"]
["Moment Travel S.R.L.","RO14996318"]
["Mon-gam S.R.L.","RO19881378"]
["Mondeco S.R.L.","RO13800021"]
["Mondoped Pediatrix S.R.L.","28613463"]
["Moni S.R.L.","2559867"]
["Monica Invest S.R.L.","RO21698616"]
["Monimar S.R.L.","RO11688623"]
["Monitorul Oficial","RO427282"]
["Monoprix S.R.L.","RO3720057"]
["Mons Medius - Investments S.A.","RO5656481"]
["Montana Popa S.R.L.","RO4983272"]
["Monte Cristo Mobili S.R.L.","RO26510399"]
["Monteco Line Srl-d","RO31408183"]
["Monteverde S.R.L.","RO11280364"]
["Moonlit Topserv S.R.L.","RO32515889"]
["Mopan S.A.","RO3177520"]
["Moraru A.ioan - Intreprindere Individuala","RO7765841"]
["Morel S.R.L.","3625284"]
["Morion Prod Serv S.R.L.","RO4030276"]
["Morningstar Consulting S.R.L.","RO24206645"]
["Morphoza S.R.L.","RO16846120"]
["Motel Rares S.R.L.","15003633"]
["Moticica Grup S.A.","RO11747690"]
["Motoractive Ifn S.A.","RO10180820"]
["Movitec S.R.L.","RO25720244"]
["Mq Profesional","RO23485827"]
["Mr. Stone S.R.L.","RO23028264"]
["Mtp Invest S.R.L.","RO27655355"]
["Muha S.R.L.","RO726861"]
["Multi Cor Exim S.R.L.","RO6726933"]
["Multiconsult Ipurl","RO27773008"]
["Multident S.R.L.","19278513"]
["Multiserv S.R.L.","RO15652657"]
["Murariu Cristian-Gabriel Intreprindere Individuala","31563829"]
["Musatinii S.A.","RO717847"]
["Mydeass S.R.L.","17902393"]
["MÎNECAN G. DUMITRU - ÎNTREPRINDERE INDIVIDUALA","23586716"]
["N.a.h. Dennis S.R.L.","RO15034850"]
["N.s.a. Delcos Consulting S.R.L.","RO31618789"]
["N.t.m. Consulting S.R.L.","17151512"]
["NADYRA EXCLUSIV S.R.L","33206482"]
["NAGHIU DENISA","2730212100030"]
["NAGI MIHAI","1600805335008"]
["NAGY B. LAURENTIU-CONSTANTIN I.I.","27140847"]
["NAHARNEAC CECILIA","2861010330241"]
["NAHARNEAC ROBERT","1780526334991"]
["NANIRA FOREST S.R.L.","RO25791512"]
["NANO BIO MEDICAL SRBUL","RO25228145"]
["NANU ALEXANDRU","1780112334990"]
["NANU FABIAN","1900831410046"]
["NAPAU FLORIN-RAZVAN","1910501180773"]
["NAPOCA MOBART S.R.L.","RO33041171"]
["NAPOCA MOBART SERV S.R.L.","39422914"]
["NARCIS CONT S.R.L.","RO21914990"]
["NARCISA-MOB DESIGN S.R.L.","RO2648123"]
["NARE GHEORGHITA","1670625173224"]
["NASAUDEANU CARMEN","2620307335021"]
["NASIE AMAN","nedef."]
["NASTASA ADRIAN","1840511330219"]
["NASTASE GEORGE","1820103134152"]
["NASTASE ION COSMIN","1780328151770"]
["NASTASE NELU P.F.A.","RO36625434"]
["NASTASIU CORNELIU","nedef."]
["NATANAEL INDUSTRIES SRL","RO26391280"]
["NATIONAL PEN PROMOTIONAL PRODUCTS LTD","IE 9726444O"]
["NAVIS MAX S.R.L.","RO32313235"]
["NAVLOT STEEL BUILDING S.R.L.","RO38899096"]
["NAZAGE-CONSTRUCT S.R.L.","RO17233752"]
["NAZARE CRISTINA","2750522072623"]
["NAZISH BANA","nedef."]
["ND DEVELOPERS EXECUTION SRL","RO 37675490"]
["NEACSU GHEORGHE","502819"]
["NEAG OVIDIU","1770315323913"]
["NEAGU DOREL","1671111335005"]
["NEAGU DORIN","1750524335037"]
["NEAGU MOB COMPANY SRL","RO33074810"]
["NEAGU MUGUR","1901010330212"]
["NEAMTU STEFANUTA GHEORGHE","1851215330226"]
["NEATU DRAGOS DANIEL","1850717160117"]
["NECHIFOR CRISTINEL","1681113330763"]
["NECHIFOR RALUCA","2820927330210"]
["NECHITA GEORGIANA","nedef."]
["NECULA A. EMIL P.F.A.","29318267"]
["NECULA SEBASTIAN","1830514375209"]
["NEDEEA MOB DESIGN PROD S.R.L.","RO28702757"]
["NEDELCU CONSTANTIN","1860611330809"]
["NEDELCU EMIL","1840323114558"]
["NEDELCU SILVIU","1781002250530"]
["NEDELEA DUMITRU-DANIEL I.I.","38158483"]
["NEGREA ANUTA","2721210332147"]
["NEGREA CONSTANTIN","1680927332155"]
["NEGRIUC MAFTA","2541106335004"]
["NEGRU I. LIVIU P.F.","21782511"]
["NEGRU SRL","RO17613980"]
["NEGRUT M. ELVIS-VIOREL I.I.","34929461"]
["NEGRUTI MIRCEA","1590219335034"]
["NEGURA DUMITRU","1500827335024"]
["NEGURA R. ADINA-LOREDANA - BIROU NOTARIAL INDIVIDUAL","RO23085855"]
["NEK INDUSTRI SRL","RO14848389"]
["NEKY GRUP SRL","RO22190089"]
["NEL MOBCENTER S.R.L.","39481457"]
["NELCAR IMPEX S.R.L.","RO6684226"]
["NELI SRL ","RO1711362"]
["NELIAN SEREX S.R.L.","RO3614404"]
["NELMAS IMPEX S.R.L.","RO891060"]
["NEMASE COMPROD S.R.L.","RO6883318"]
["NEMESNICIUC MARCEL","1710807335016"]
["NEMO BEACH SRL","34606576"]
["NEMO EXPRES LOGISTIC SRL","RO31692750"]
["NEMTOI ALEXANDRU","nedef."]
["NEO HOME DESIGN FBM S.R.L.","RO33114265"]
["NEODESIGN RASUV S.R.L.","30128401"]
["NEOMAR CONSULTING SRL","RO6502952"]
["NEOMOB 4 HOME S.R.L.","44095606"]
["NEOS INVEST SRL","RO21918991"]
["NEPTUN X ICE S.R.L.","40449174"]
["NESCIUC ELENA","2790704330020"]
["NESTERIUC PARASCHIVA","2531008335032"]
["NET ZONE SYSTEMS S.R.L.","RO28793097"]
["NETEJORU SILVIU","1720821344241"]
["NETEJORU SILVIU I.I.","25505696"]
["NETLOGIQ S.R.L.","RO15033251"]
["NEURO IMPEX S.R.L.","RO4025156"]
["NEV-DENIS PRODCOM S.R.L.","RO7537622"]
["NEVADORMA PROD SERV S.R.L.","RO4287769"]
["NEVIS FURNITURE S.R.L.","RO36759720"]
["NEVIS TRADE S.R.L.","RO5795528"]
["NEW CARPENTER S.R.L.","40119796"]
["NEW CITY COMPANY S.R.L.","22101553"]
["NEW CLASS CARGO SRL","RO38160998"]
["NEW CONCEPT HOME FURNITURE S.R.L.","RO31449892"]
["NEW DESIGN FURNITURE S.R.L","RO33286295"]
["NEW EVOLUTION CONCEPT S.R.L.","RO42896012"]
["NEW FASHION CENTER S.R.L.","RO21780600"]
["NEW LOOK MOB NAPOCA S.R.L.","37577475"]
["NEW MOB DESIGN S.R.L.","RO13999006"]
["NEW MOB S.R.L.","RO23660219"]
["NEW MSL MOB  S.R.L.","36478490"]
["NEW PROJECT MOBILI S.R.L.","43413140"]
["NEW ROM PRODCOM S.R.L.","RO11955917"]
["NEW SAL S.R.L.","RO15027977"]
["NEWS QUALITY PHARMA S.R.L.","29384414"]
["NEWSET S.R.L.","RO8678476"]
["NEXIDIA INTERIM SRL","RO32707418"]
["NEXT GEN EGG S.R.L.","38131259"]
["NEXUS MEDIA SRL","RO9671891"]
["NFC SOLUTIONS LTD LTD","GB300545941"]
["NH OBERHAUSEN HOTEL","DE 129290202"]
["NICA BOGDAN","1801221226835"]
["NICA IULIAN DUMITRU","1811015330234"]
["NICA OANA","nedef."]
["NICA PAUL","nedef."]
["NICA SERGIU","nedef."]
["NICA VIOREL ","nedef."]
["NICHIFOR MAGDALENA","2720604070041"]
["NICHIFOREL DAN","nedef."]
["NICHIFOREL VIOLETA","2600317334991"]
["NICHITEAN DANUT","1921212330529"]
["NICHITEANU CONSTANTIN FLORIN","1770404335055"]
["NICHITOI CONSTANTIN","1911024330209"]
["NICOLAE URSU ","1821019190916"]
["NICOLAICA CRISTIAN ","1780508333206"]
["NICOLAICIUC ANDREI","nedef."]
["NICOLAU RALUCA","2771028336751"]
["NICOLE DESIGN MOB S.R.L.","RO31604414"]
["NICOLETA MACOVEI","2800304336371"]
["NICOLMIT SRL","RO10989636"]
["NICOMIR FURNITURE S.R.L.","34991331"]
["NICOMIR SISTEM S.R.L.","RO35261432"]
["NICOROM IMPORT-EXPORT S.R.L.","RO3490306"]
["NICOS AUTO TEST SRL","RO36874079"]
["NICOV RAZVAN CONSTANTIN","1780501201020"]
["NICULESCU C. EMIL NICOLAE - BIROU INDV. DE ARHITECTURA","19322759"]
["NICULII CATALIN","1770225330765"]
["NICUTA LAURENTIU","1790412335051"]
["NIDA MOBCOM S.R.L.","RO15017450"]
["NIDART BUCOVINA S.R.L.","35784580"]
["NIGA ADELINA","2950801336676"]
["NIGA CATALIN-GABRIEL I.I.","33184961"]
["NIGA CONSTANTIN","1660512330012"]
["NIGA MARIANA","1720615330018"]
["NIMIGEAN  MIHAI-DANIEL","1781113335005"]
["NIMITAN DANIELA","2790520335006"]
["NIMITAN GABRIEL","1770601330768"]
["NIPONAVAND PROD S.R.L.","RO10535443"]
["NIROS MOB DESIGN S.R.L.","RO24740065"]
["NISMARAL COM S.R.L.","RO7530012"]
["NISTERIUC CRISTIAN","1670620335021"]
["NISTOR  IOAN","1660917333198"]
["NISTOR COSTEL","1790709333271"]
["NISTOR DANIELA GABRIELA","2860212330534"]
["NISTOR FLORIN","1720309334992"]
["NISTOR FLORIN.","1910311333526"]
["NISTOR GABRIELA","nedef."]
["NISTOR GHEORGHE","1800425115177"]
["NISTOR IONEL","1721001450028"]
["NISTOR PETRU","1740809330762"]
["NISTOR T. ANA I.I.","RO27788750"]
["NISTOR VALERIU","1700713335000"]
["NISTOR VLAD ","1920604336381"]
["NITA BOGDAN","1640219400105"]
["NITA IULIAN","1660430323936"]
["NITA MARICICA MIOARA","2701028330761"]
["NITA VASILE","1651228335007"]
["NITAN ANDREI","1851126330212"]
["NITU COSTICA","1660306330774"]
["NITU DANIEL","1790207336070"]
["NITU FLORENTIN MARIUS","1800904334222"]
["NITU MINODORA","2680312380909"]
["NITU MINODORA","2680312325146"]
["NITU SORIN ILIE","1800722324879"]
["NITULEASA DANIELA","2790614335072"]
["NIVA DEVELOPMENT S.R.L.","RO36185643"]
["NO LIMIT MOSAIC S.R.L.","43385504"]
["NOBEL SERVICE IMPORT-EXPORT SRL","RO26350158"]
["NOE S FOOD S.R.L.","35235581"]
["NOLA BAR EVENTS S.R.L.","RO38903251"]
["NORD CURIER S.R.L.","RO19220163"]
["NORD PRESTIGE SRL","RO28385527"]
["NORD-FERM S.R.L. ","RO13241850"]
["NOROCEL NICOLETA","nedef."]
["NOROCEL VASILE","1790506335093"]
["NORTHLAND MICROSYSTEM SRL","RO16967394"]
["NOSMAS MOBILI S.R.L.","37488009"]
["NOVA OMNI DESIGN S.R.L.","RO31457887"]
["NOVAC ANDREI","1951018330207"]
["NOVAC MARIUS CORNELIU I I","32301036"]
["NOVAFIL SA","RO736407"]
["NOVAPROIECT SRL","RO22569792"]
["NOVART S.R.L.","RO15700908"]
["NOVASERVIS FERRO GROUP SRL","RO25860825"]
["NOVEL DESIGN STUDIO S.R.L.","RO35706433"]
["NOVO RASIED EDRA S.R.L.","RO42335460"]
["NS OFFICE S.R.L.","RO31094803"]
["NUMIS FILA SRL","RO25358323"]
["NURVIL SRL","RO8517267"]
["NURVIL WOOD S.R.L.","RO32946865"]
["NUTRESCU GHEORGHE","1850526330541"]
["NUTU TUDOR","nedef."]
["NUTU VLAD","1910421330212"]
["NX PRINT S.R.L.","RO4616055"]
["NY'ER ROMANIA SRL","RO22647564"]
["NYRES MOB S.R.L.","RO31256700"]
["Nadal Prodimpex S.R.L.","RO24155452"]
["Nafi Profesional Trans S.R.L.","RO23121915"]
["Nardo Plus S.R.L.","RO15969265"]
["Narida S.R.L.","RO18180010"]
["Nartema Holding S.R.L.","24157437"]
["Naska Impex S.R.L.","RO3042957"]
["Nastafarm S.R.L.","RO27770257"]
["Navrom Bac S.R.L.","RO12102950"]
["Neacsu T.elena-Loredana Intreprindere Individuala","RO28564042"]
["Neagoe Fluoropolimeri S.R.L.","RO12746692"]
["Nectamob S.R.L.","RO27160240"]
["Nedconstruct Invest S.R.L.","RO29934798"]
["Nedenoi S.R.L.","RO27016971"]
["Nedmania Construct S.R.L.","RO16743672"]
["Nedo S.R.L.","RO1976998"]
["Need-tax M & D S.R.L.","RO17506380"]
["Negro S.R.L.","RO1645501"]
["Nelaura Comimpex S.R.L.","RO5547930"]
["Nelcar-dam S.R.L.","RO15065482"]
["Nemar Com S.R.L.","7153559"]
["Nemirom S.R.L.","RO18339892"]
["Nemo Pal Design S.R.L.","RO13313808"]
["Nemo Prod Com Impex S.R.L.","RO3213410"]
["Nemo-cezar S.R.L.","RO15789590"]
["Nemrac Mob S.R.L.","17938575"]
["Nemteanca S.R.L.","30376547"]
["Nemtoi S.R.L.","RO12078429"]
["Neo Fashion Comercial S.R.L.","RO24285606"]
["Neo Lux Design S.R.L.","RO17252878"]
["Neoglass Automotive S.R.L.","RO25263797"]
["Neomed S.R.L.","RO8728108"]
["Neptun S.A.","RO1322535"]
["Nexus Electronics S.R.L.","RO19196707"]
["Nicalex Prodcom S.R.L.","RO9171004"]
["Nicand Prodcom S.R.L.","RO10467284"]
["Nichiduta Trading S.R.L.","RO29888330"]
["Nichita Impex S.R.L.","RO9885976"]
["Nick & Lisa Services S.R.L.","15360989"]
["Nico Profi Construct S.R.L.","RO17652408"]
["Nicolaseb S.R.L.","RO10281868"]
["Nicole & Baroque S.R.L.","RO31246995"]
["Nicoli Comexim Ideal S.R.L.","RO30298805"]
["Nicoramas S.R.L.","RO10722506"]
["Nido Auto Com S.R.L.","5367971"]
["Nil Construct","5461030"]
["Nimolco Petroleum S.R.L.","RO16108271"]
["Nis Petrol S.R.L.","RO29111546"]
["Nisa Group S.R.L.","RO23251141"]
["Nistor G. Florin Întreprindere Individuala","28786014"]
["No Limit Advertising S.R.L.","RO8688631"]
["No Stress Home Decor","RO34108520"]
["Nobel Group S.R.L.","RO13401861"]
["Noblesse Casa Maria","RO29761972"]
["Nor-il Prompt S.R.L.","16840802"]
["Nord Carta S.R.L.","RO4868028"]
["Nord Grup S.R.L.","RO19157740"]
["Nord Sud International S.R.L.","RO16081192"]
["Nord Urban Instal Construct S.R.L.","RO25215706"]
["Nordic Investments S.R.L.","31475298"]
["Nordica Distribution S.R.L.","RO14563748"]
["Norton Pomp M.n. S.R.L.","RO9833837"]
["Nova Casa Design Intreprindere Individuala","26672404"]
["Nova Distribution International S.R.L.","RO8724092"]
["Nova Electric S.R.L.","RO20986157"]
["Nova Mirasco S.R.L.","18310586"]
["Novafarm S.R.L.","RO24725502"]
["Novamit Grup S.R.L.","RO27388266"]
["Novistudio S.R.L.","RO28272439"]
["Novo Plast S.R.L.","RO18607448"]
["Nucusorul Com S.R.L.","RO3174923"]
["O & A S.R.L.","RO2457883"]
["O.s. Panto S.R.L.","RO10517072"]
["OBILEX CLEAN S.R.L.","35778570"]
["OBOROCEANU LACRAMIOARA","nedef."]
["OCTASS MOB S.R.L.","RO21244440"]
["OCU MADALINA","2890604375021"]
["ODEAL SRL","RO25262864"]
["OFELIA HOLDING SRL","RO27982659"]
["OFFICEMOB EXPERT S.R.L.","41743622"]
["OFICIUL NATIONAL AL REGISTRULUI COMERTULUI","14942091"]
["OFICIUL NATIONAL AL REGISTRULUI COMERTULUI DE PE LANGA TRIBUNALUL SUCEAVA","23673839"]
["OGUTUR S.R.L.","RO5235180"]
["OHIO TRANS RUX S.R.L.","RO15766708"]
["OICA ANCA","2680224335011"]
["OIL STAR SRL","RO7948431"]
["OITA NEAGRA S.R.L.","RO23798590"]
["OLARI PETRU","1570325333200"]
["OLARIU ANDREI P.F.A.","24024252"]
["OLARIU MARCEL","1650204330769"]
["OLARIU MARIA II","26628395"]
["OLARIU MIHAIL","1831115330201"]
["OLARIU VIOLETA","nedef."]
["OLARU LILIANA","2730403335000"]
["OLARU SANDA-DIANA","2850701124625"]
["OLCEGAB MOB S.R.L.","RO37636377"]
["OLISTORE HOME S.R.L.","RO37556685"]
["OLIVETO FA S.R.L.","RO42501813"]
["OLMEC S.R.L.","RO1502285"]
["OLTWAM S.R.L.","RO11179581"]
["OLX ONLINE SERVICES SRL","RO22457535"]
["OMIFA IMPEX S.R.L.","RO14479532"]
["OMLETTE BISTRO SRL","RO35302788"]
["OMNICOM 2000 SRL","RO12327163"]
["OMRI S.R.L.","RO14564956"]
["OMV PETROM MARKETING SRL","RO11201891"]
["OMXD STUDIO S.R.L.","39886558"]
["ON PRICE MARKET SRL","RO39987730"]
["ONCOS DESIGN S.R.L.","RO37859328"]
["ONE TOP SOLUTION S.R.L.","39988493"]
["ONEA VERONICA","2600124330767"]
["ONET CLAUDIU-ADRIAN","1870703023979"]
["ONICA COSMIN-NICOLAE","1881123385291"]
["ONICA VASILE","1861229330538"]
["ONICA VASILE","1690805333235"]
["ONICA VASILE P.F.A","19360922"]
["ONISII TOMITA","1670321330809"]
["ONIU NICOLETA ","nedef."]
["ONLINE BUSINESS TRADING SRL","32881162"]
["ONLINE SHOP SV SRL","RO23401672"]
["ONLY SOPHIE S.R.L.","RO40316739"]
["ONOFREI DRAGOS I.I.","43323846"]
["ONOFREI ELENA","2880407330675"]
["ONOFREI LACRAMIOARA","2830429330945"]
["ONOFREI MIHAELA","2710421335018"]
["ONOFREI ZINICA","2601204335006"]
["ONOFRESEI FLORIN","1810610071407"]
["ONTANU ALEXANDRU","nedef."]
["ONUFREI OANA","2820105330565"]
["ONUT MARIA","2770814332166"]
["ONUT MIHAI","1770725332150"]
["OPAIT DESIGN SRL","RO3663512"]
["OPAL ART DESIGN MOB S.R.L.","RO23607541"]
["OPENTRANS S.R.L.","RO15219174"]
["OPREA ANCA-MARIANA","2810409375508"]
["OPREA CONSTANTIN DANIEL","1880718035328"]
["OPREA DORIN","1800710214181"]
["OPREA IONUT","1840902394457"]
["OPREA ST. DORIN I.I.","RO29553610"]
["OPRISAN BOGDAN","1800615270055"]
["OPRISANU CRISTIAN","1910406336398"]
["OPRISANU FLORIN","1720209072624"]
["OPTIM DESIGN S.R.L.","RO21735307"]
["OPTIMUS FURNITURE S.R.L.","34133176"]
["ORASANU MIHAELA","nedef."]
["ORBAN SERVICE IMPEX SRL","RO16469586"]
["OREB SRL","00937560720"]
["OREST IMPEX SRL","RO3406683"]
["ORHEI CECILIA","2670918332156"]
["ORHEI MARIUS","1811011330209"]
["ORMAMACCHINE S.P.A","IT00592610166"]
["OROBIMEX S.R.L.","RO14084354"]
["OROSZ LASZLO GYULA","1811102060013"]
["ORTOPEDICA SRL","RO14071907"]
["OSTACIUC MIHAI","1721118332161"]
["OSTAFE BOGDAN","1860527071388"]
["OSTAFI ANCA","2820121071361"]
["OSTERMANN SRL","RO41454942"]
["OSTROVAN IONELA","nedef."]
["OTECH TIR SRL","RO28607097"]
["OTELEA LIA","2821002226766"]
["OTTO S.R.L.","RO18784768"]
["OVI VALI SRL","RO713640"]
["OVIDIU BARSEI","1760526335030"]
["OVIDIU COJANU","1840904080104"]
["OVIDIU CRIS PROD 97 SRL","RO9739237"]
["OVIMOB GLIMED S.R.L.","41069645"]
["OZORCHIEVICI IONEL","1800219331120"]
["Ocolul Silvic Brosteni","11876813"]
["Octagon-com S.R.L.","RO15204351"]
["Office Consulting S.R.L.","RO24310610"]
["Office Distribution S.R.L.","16460030"]
["Office Market Provider","RO33316728"]
["Office Mex Concept S.R.L.","RO18225731"]
["Oficiul De Cadastru si Publicitate Imobiliara Suceava","9689791"]
["Ogr Filiala Sv","23864987"]
["Oil Glat Exim S.R.L.","RO3816934"]
["Oil Pas S.R.L.","23009378"]
["Oil Pro S.R.L.","RO17687775"]
["Oil Simex Trading S.R.L.","RO7249603"]
["Oilfluid S.R.L.","RO11485017"]
["Ok Service Corporation S.R.L.","RO1347190"]
["Olcab Telecom S.R.L.","RO15291340"]
["Old Art S.R.L.","4673115"]
["Old Times S.R.L.","18640983"]
["Olimp 2000 S.R.L.","RO1709800"]
["Olimpic International Turism S.R.L.","RO6519768"]
["Oltean Marius si Raluca Intreprindere Individuala","28085023"]
["Omega Mob S.R.L.","RO21509571"]
["Omega Soft S.R.L.","RO13397027"]
["Omni Market S.R.L.","RO16028032"]
["Omnia S.R.L.","RO1393943"]
["Omv Petrom S.A.","RO1590082"]
["Oniceag Scarface S.R.L.","RO6370517"]
["Oniona Comprod S.R.L.","RO5020904"]
["Onisimi Com S.R.L.","RO4239966"]
["Onix Confort S.R.L.","RO6684030"]
["Onix Management S.R.L.","RO16134203"]
["Onix Sercom S.R.L.","RO3329882"]
["Onomedia Srl-d","RO28051950"]
["Opal Impex S.R.L.","13144172"]
["Open Space S.R.L.","RO4324999"]
["Open Systems S.A.","RO12111258"]
["Operational Autoleasing S.R.L.","RO14783697"]
["Operational Autoservice S.R.L.","RO24351700"]
["Oprea V. Ionut Persoana Fizica Autorizata","31373948"]
["Optik Tataru S.R.L.","RO21595416"]
["Optim Invest Construct S.R.L.","RO31417688"]
["Optimal Tech Doctor S.R.L.","RO26045383"]
["Orange Romania S.A.","RO9010105"]
["Ordicon Multistar S.R.L.","19247142"]
["Oriac S.R.L.","RO13287059"]
["Orient Construct S.R.L.","RO22387367"]
["Orient S.R.L.","RO739128"]
["Orinel Trans S.R.L.","RO3699770"]
["Ornella Vlaicu S.R.L.","RO31364176"]
["Osf Global Services S.R.L.","RO12900448"]
["Ostafi D. Anca-Daniela - Persoana Fizica Autorizata","25479325"]
["Otto Design S.R.L.","RO24705157"]
["Otto Expeditii S.R.L.","RO26437093"]
["Otto Express Delivery S.R.L.","RO30119829"]
["Ovi Westeuro S.R.L.","RO9560842"]
["Ovidiu S.A.","RO4233424"]
["Ovidiu Service S.R.L.","RO5069053"]
["Ovitec S.R.L.","RO20922870"]
["Oyl Company Holding Ag S.R.L.","RO18741783"]
["Ozana S.R.L.","RO567421"]
["P PLUS 2002 SRL","RO14560121"]
["P&M S.R.L.","RO804773"]
["P.F.A RAILEANU MINA","39926555"]
["P.F.A.MARDARE LAURA-OANA","39956793"]
["P.V.G. MOB DESIGN S.R.L.","37291138"]
["P.VAL-P.A.I. FELIX SRL","RO108402"]
["PACK DELIVERY FOOD S.R.L.","RO42620377"]
["PACURARI VASILE","1590303335011"]
["PADURARU COSTICA","1720525040099"]
["PADURARU GABRIEL","1821123471338"]
["PAHOMI LENUTA CLAUDIA","2920528330522"]
["PAIS COSMIN","1850408082352"]
["PAITING 92 S.R.L.","34661791"]
["PAIU DANIEL","1800315330201"]
["PAIUS FLORIN","nedef."]
["PAL GROUP SRL","RO13249900"]
["PALACSEK NORBERT-TAMAS I.I.","1747137"]
["PALAGHIAN VASILE","1870126330226"]
["PALAGHIANU CIPRIAN","1770925060793"]
["PALAMARIU PETRU PAVEL","1770502072651"]
["PALANCIUC CRISTINA","2991020071376"]
["PALAS INTERNATIONAL RESORT SRL","RO26293850"]
["PALIMARIU DAN","1750314070049"]
["PALMOB DESIGN S.R.L","RO37676037"]
["PALMOB TRANSILVANIA S.R.L.","RO34350450"]
["PALOTE NICU","1850109225902"]
["PAMPARAU STELIAN","1730311335056"]
["PANAIT MIHAI","1571108151799"]
["PANAITESCU MIRCEA TRAIAN","1750114463031"]
["PANC ADRIAN","1730104051098"]
["PANCIUC CLAUDIU","nedef."]
["PANDELE GABRIELA","2680226441511"]
["PANDELEA SILVIU","1930510336389"]
["PANDREADA SERV S.R.L.","RO8690607"]
["PANEVADA PRODCOM S.R.L.","RO6683905"]
["PANICAN ROXANA","2790429430029"]
["PANTAZI TUDOR","1640405334995"]
["PANTEA ANCA","2810916330193"]
["PANTEA OVIDIU","1641201330763"]
["PANTEA ROXANA","nedef."]
["PANZARU DUMITRU","nedef."]
["PAPAGHIUC TOADER","1450624334996"]
["PAPUC OVIDIU","1800725330228"]
["PARADIGMA NOVAOPTIC","RO13704342"]
["PARADIS COM TUR S.R.L.","RO14772698"]
["PARASCA ILIE ","1780609332163"]
["PARASCA MARIAN FLORIN","1830321350117"]
["PARAVION TOUR S.R.L.","RO26651851"]
["PARBRIZ CENTER AUTOMOTIVE SRL","RO28385594"]
["PARCON FREIWALD SRL","RO31540205"]
["PARINGUL SA","RO2135276"]
["PARMENA IMPEX S.R.L","RO5254409"]
["PAROHIA CALUGARENI","8527961"]
["PARTENIE DAN","1670804451602"]
["PARTIDUL SOCIAL DEMOCRAT-ORGANIZATIA JUDETEANA","4440721"]
["PARVULET ADRIAN","1780726131281"]
["PASAILA IONEL-VALENTIN","1890905330543"]
["PASCA MOB S.R.L.","RO23049844"]
["PASCAL DESIGN S.R.L.","RO17971938"]
["PASCAN COSTEL","1740414332149"]
["PASCAN LOREDANA","nedef."]
["PASCAR FLORIN CRISTIAN","1720315335032"]
["PASCARIU MIHAELA ELENA","2840507330529"]
["PASCARIU STEFAN","1610604400376"]
["PASCARIUC VERONICA","2690220333195"]
["PASCARU ANDREI","1900705330215"]
["PASCU MIHAI","1960527226204"]
["PASLARIU LAURENTIU-DUMITRU","1891026080054"]
["PASSA TEMPO S.R.L.","RO7755589"]
["PASTINARU ANDREI","1870113330804"]
["PASTRAV BOGDAN","1760930335106"]
["PASTRAVANU ROBERT","1870106330794"]
["PATACHE MIHAI CONSTANTIN","1770422464530"]
["PATAKI ISTVÁN I.I.","37325621"]
["PATICOT CONSTRUCT THIRA S.R.L.","RO6983791"]
["PATISERIA DULCINELLA SRL","RO41563184"]
["PATRAS IONEL NICU","1830828330523"]
["PATRAUCEAN BOGDANA","2830127335147"]
["PATRAUCEAN DORU","nedef."]
["PATRAUCEAN MARIUS","5001201330532"]
["PATRAUCEANU LOREDANA","nedef."]
["PATRIMOB FURNITURE S.R.L.","37286603"]
["PATRU EUGENIA ÎNTREPRINDERE INDIVIDUALA","29211871"]
["PATTEL BOBBY","nedef."]
["PATU CATALIN","1950301331909"]
["PAUL HOMICEANU","1781211221178"]
["PAULIUC ABEL","1950918330524"]
["PAV WOODCOM ZALAU S.R.L.","RO24101851"]
["PAVAL ANA MARIA","2860314270028"]
["PAVAL EUSEBIU","1870621330220"]
["PAVAL LUMINITA","2711017330788"]
["PAVALOAIA DUMITRU","1741020073542"]
["PAVEL CLAUDIA","nedef."]
["PAVEL CORINA","2770410330810"]
["PAVEL DANIEL","1780410330761"]
["PAVEL ELENA","2530201330794"]
["PAVEL VASILICA IRINA","2840101336377"]
["PAVELEA CLAUDIU","1810625060052"]
["PAVELIUC IOAN DIONISIE","1920129330221"]
["PAVTIN S.R.L.","RO32104913"]
["PAX TRANS S.R.L.","RO4986511"]
["PAZIUC CAMELIA","nedef."]
["PC GARAGE SRL ","RO17612390"]
["PC2 ELEC SYSTEMS S.R.L.","33804788"]
["PEA SERVICES S.R.L.","23208303"]
["PEC COM' 97 SRL","RO9967138"]
["PEDAROTE MOB S.R.L.","39786311"]
["PEGAS-RT SRL","nedef."]
["PEI GHEORGHE","1810810336387"]
["PELEGRIN TOP SERVICE SRL","RO37506180"]
["PELEPCIUC ALINA","2800704225911"]
["PELIN COSMIN","1821219244046"]
["PEM TURIST SRL","RO 25831439"]
["PENDULA SRL","RO3896003"]
["PENE MIHAI ALEXANDRU","nedef."]
["PENSIUNEA CASA MAJESTIC SRL","RO33341896"]
["PENTAMOB S.R.L.","RO16391215"]
["PENTILESCU CATALINA-REBECA","6000124330213"]
["PENTIUC OANA","2930130330239"]
["PEPCO RETAIL SRL","RO31477663"]
["PEREAN CORAL S.R.L.","RO32849250"]
["PERFECT GIFT SRL","RO37811834"]
["PERIJOC LACRAMIOARA","2771014334938"]
["PERIN SRL","RO12521509"]
["PERTA ALEXANDRU","1810619011151"]
["PET PRODUCT SRL","RO11156707"]
["PETCU GHIORGHITA","1741126450014"]
["PETRALISRPA SRL","RO29578160"]
["PETRAREANU IONELA RUXANDRA","2740110335005"]
["PETRARIU ALIN","1770416335021"]
["PETRARIU DANIEL","1780222335027"]
["PETRARIU DANIELA","2711116334997"]
["PETRAS SIMONA","2810401330196"]
["PETRASCU NICOLAE","1880918324831"]
["PETRE DAN AURELIAN","1770519424520"]
["PETRE F.OVIDIU","1690925335014"]
["PETREA CRISTINEL","1711027330791"]
["PETREA FLORIN","1790415045870"]
["PETRESCU ANDREI","1841203330526"]
["PETRESCU VALENTIN","1800211152513"]
["PETRISOR VLADIMIR","1730621334990"]
["PETROV VICTOR","nedef."]
["PETROVAN RALUCA","nedef."]
["PETRUC OVIDIU","1770607334972"]
["PETRUS ALIN","1850720125797"]
["PETRUT ROXANA","2810819223167"]
["PF Bordas Anisoara","19413130"]
["PF Dutescu Cornelia Gabriela","22318774"]
["PF Monor A. Floricica Mihaiela","24614148"]
["PF Monor V. Mihai Auditor Energetic","25026022"]
["PF PANCU CRISTIAN-MIRCEA","1640514070025"]
["PF Sandu Cristian","19254077"]
["PFA ANDRONACHE DUMITRU","20698774"]
["PFA ASOLTANEI N. COSTICA","20055442"]
["PFA BURLUI IULIA OLGA ","RO19322171"]
["PFA BURZO DIANA-MARIA","RO31964294"]
["PFA Bors Constantin Jr","24524037"]
["PFA CUCU GEORGE-ALEXANDRU","34488411"]
["PFA Ciuhan Cristina","20160260"]
["PFA David Adriana-Elena","32268894"]
["PFA FEIER IONELA MAGDALENA","35907569"]
["PFA FORGACI OVIDIU-IONEL","37027927"]
["PFA HARASEMIUC PAUL","26647656"]
["PFA HARASIM OLIVIAN","RO29939868"]
["PFA Ile Cristian Ioan","31952761"]
["PFA Macovei V. Victorina Medic Specialist Dermatovenerologie","25495134"]
["PFA Marinescu M. Andrei Medic Dentist","31187570"]
["PFA Mazur N. Mihaela","27302060"]
["PFA Morar Ionut-Catalin","29820424"]
["PFA Mut Bogdan Cornel","24069521"]
["PFA POPOVICI GH IONEL","34969903"]
["PFA Placinta Cristina-Elena","25911112"]
["PFA Repede Mirabela","25278755"]
["PFA SCUTARIU MIHAI CORNELIU","33420922"]
["PFA Savu Silviu-Dumitru","25473950"]
["PFA Scripca Daniela","RO32625938"]
["PFA Sodranga Eduard-Claudiu","25464642"]
["PFA Turetchi Mihai","26218824"]
["PFA URLUIESCU GHEORGHE ","1620208323941"]
["PFA VIZITIU ALIN DUMITRU","30250351"]
["PFI NEGURICI GHEORGHE CRISTIAN","RO28375124"]
["PFLEIDERER DEUSTCHLAND GmbH","nedef."]
["PHEONIX AGRO S.R.L.","RO33114451"]
["PIATA VITAN S.R.L.","RO14074490"]
["PIBU & BOG MOBDESIGN S.R.L.","43559511"]
["PICCADILLY SUN S.R.L.","37047088"]
["PICKUP ARTISTS AUTO SRL","32550002"]
["PIETRARIU ILIE","1810617330011"]
["PILANA GROUP SA","CZ04161076"]
["PILAT RAMONA MARIA","2790907335017"]
["PILKINGTON AUTOMOTIVE ROMANIA SA","RO7484994"]
["PILTIU IOAN MARIUS","1740317011098"]
["PILTIU IOAN MARIUS \"MARIO-MOB\" P.F.A.","25642138"]
["PINCONSCHI I. VALENTIN I.I.","36223593"]
["PINTILEI ALEXANDRA","2900302330214"]
["PINTILIE IONELA","2780526040092"]
["PINZAR ALIN","1770505335019"]
["PINZARI CATALIN","1890103330207"]
["PINZARI LILIANA","2650302151774"]
["PINZARI MIHAI","1670205333202"]
["PINZARIU MARIUS IONUT(PARASCUTA SIMONA)","1820528330217"]
["PINZARIU SORIN","1690403335044"]
["PINZARU DAVID","1900506330536"]
["PIPIRIG CATALIN","1800430226721"]
["PIPOTHERM S.R.L.","25187975"]
["PIR INTERNATIONAL SRL","RO5678986"]
["PIRGHIE CONSTANTIN","1910603330521"]
["PIRITEX S.A.","RO7134646"]
["PIRLOG MARIANA","2680819335011"]
["PIRVU ROMICA","1910420336376"]
["PISCRIS S.R.L.","RO33815280"]
["PISLARU IRINA ","nedef."]
["PITARU M. VASILE P.F.A.","23595404"]
["PITARU VASILE","1670101330798"]
["PITIC LACRAMIOARA","2781006333205"]
["PITIC MOB S.R.L.","RO17627994"]
["PITICARI PETRONELA","2770403336048"]
["PITU FILIP","1761205336733"]
["PITU GABRIL IOAN","1800725331908"]
["PITU TOADER","1830222336534"]
["PITUC GHEORGHE - MOBILIER I.I.","27948169"]
["PIU SORIN","1810826226766"]
["PIXAR S.R.L.","18232356"]
["PIZZAPASTA S.R.L.","RO37707532"]
["PIZZERIA DI GENNARO GAIA SRL","8121890159"]
["PLACINTA CRISTIAN","1830207330202"]
["PLACINTA SIMONA","2910531330221"]
["PLACINTA-SALARU GHEORGHE","1610422221187"]
["PLACINTAR ADRIAN","1650812126204"]
["PLAMADA IOAN ADRIAN","1790602334932"]
["PLANTECO-AGRO S.R.L.","RO34740062"]
["PLASE SPORTIVE SRL","RO28387790"]
["PLATFORM EXPRESS DRIVE SRL","RO16223076"]
["PLATINUM MOB DESIGN SRL-D","36465163"]
["PLATINUM SRL","RO15693517"]
["PLATON MIHAI - GIANI","1680621274797"]
["PLAZA HOTELS SRL","RO28646975"]
["PLECANCIUC BEATRICE IOANA","2861112330582"]
["PLESCA SIMONA FLORINA","2700102070041"]
["PLETOSU CONSTANTIN","1740412332143"]
["PLEXI-MET S.R.L.","RO11008735"]
["PLON SI PLONICA S.R.L.","RO36240675"]
["PLURYELL S.R.L.","RO22762237"]
["PLUSMOBILA S.R.L.","41127517"]
["PMC GROUP DISTRIBUTIE SRL","RO17116469"]
["PMF PRACTIC PREST S.R.L.","32514700"]
["PNEU EXPERT IMPEX  S.R.L.","RO11945778"]
["PNEUMOSAN SRL","3778210"]
["PNEUS MARKET S.R.L.","RO17892893"]
["POAMANEAGRA MARIUS","1770626070071"]
["POCOL VALER","1720815323945"]
["POCREATA PATRASCANU MARIA DANIELA","2810720330232"]
["POENARI ANCA","2880916336677"]
["POENARU PAULA","2890829336384"]
["POENITA HOTEL S.R.L.","RO15274349"]
["POGACEA IONELA-ALINA","2840117335756"]
["POHOATA STELA","2601025330767"]
["POJOGA PETRICA","1850608073493"]
["POLDNEK PROD S.R.L.","RO8439452"]
["POLICIUC OLESEA","2800422410204"]
["POLICLINICA PROMED SRL","31483045"]
["POLINET BNM  S.R.L.","RO37856488"]
["POLITES ONLINE","RO34846331"]
["POLITIC MARIUS","1870902070077"]
["POLOCOSER  FLORIN","1680818335041"]
["POLOCOSER ANDREEA","2871129330278"]
["POLOCOSER VIORICA","2600215335021"]
["POLONIC ALEXANDRU MIHAI","1960807331426"]
["POLONIC CONSTANTIN","1701116334997"]
["POLYMAG DISTRIBUTION S.R.L.","RO32461630"]
["POMACA SERV S.R.L.","RO9730122"]
["POMPARAU ANTIGONA","nedef."]
["POMPARAU CRISTIAN","1700516335036"]
["POOL COM S.R.L.","RO7436377"]
["POP ANCA ALICE","2710930330028"]
["POP GELIAL S.R.L.","RO15187170"]
["POP IOAN","1811128243821"]
["POP ISTVAN","1770126120645"]
["POP IULIAN PETRU","1780802125216"]
["POP KARIN I.I.","36413075"]
["POP MANUELA","2840620330196"]
["POP SEBASTIAN","1770101121247"]
["POP STEJAR VASILE","1761006334997"]
["POPA  RALUCA-CATALINA","2750317335018"]
["POPA - MAR S.R.L.","RO11348273"]
["POPA ADRIAN","1851029360315"]
["POPA ANDREI","1851103046201"]
["POPA ANDREI","nedef."]
["POPA CEZAR","1810510330190"]
["POPA CRISTIAN EUGEN","1790408441575"]
["POPA FLORIN","1670703274834"]
["POPA FLORINEL-LULU","1750325046660"]
["POPA IOAN","1820218225912"]
["POPA IOAN CRISTIAN P.F.A.","30883574"]
["POPA MARIUS ADRIAN","1800706046195"]
["POPA PETRU ADRIAN ÎNTREPRINDERE INDIVIDUALA","RO26215690"]
["POPA S. RADU I.I.","36826888"]
["POPADIUC RAZVAN","1821218420075"]
["POPESCU ADRIAN","1780920333218"]
["POPESCU ALIN","1810731335141"]
["POPESCU CODRUT","1790227334991"]
["POPESCU EMI","1870326420060"]
["POPESCU FLORIAN","1720518433039"]
["POPESCU GABRIEL","1780912221159"]
["POPESCU MARIUS-JULIAN","1720731451530"]
["POPESCU MIRCEA","nedef."]
["POPESCU PAULA LAURENTIA","2760508133683"]
["POPIA HRISTU-MARIAN","1770908510025"]
["POPOIU MIRELA","2750827334933"]
["POPOVICI ANA","nedef."]
["POPOVICI CARMEN","2850220330245"]
["POPOVICI CONSTANTIN","1850520330199"]
["POPOVICI DANIIL","1521216335031"]
["POPOVICI ELENA","2840920331420"]
["POPOVICI FLORIN-OREST","1710322334996"]
["POPOVICI MARIUS-CONSTANTIN","1770515334995"]
["POPOVICI RODICA","2550628335006"]
["PORSCHE BROKER DE ASIGURARE SRL","RO15046472"]
["PORSCHE INTER AUTO ROMANIA SRL","RO22188461"]
["PORSCHE LEASING ROMANIA IFN SA","RO12064199"]
["PORTA DESIGN INVEST S.R.L.","RO35015349"]
["PORTE DOR S.R.L.","RO36033963"]
["POSTOLACHE ADINA-GINA","2680217390762"]
["POTENCO SRL","37547636"]
["POTO PREZON SRL","29952557"]
["POTOROACA ALEXANDRA","2870516330261"]
["POWER BELT SRL","RO11656982"]
["POWER HONEY S.R.L.","RO41127053"]
["POZITIV RELAX S.R.L.","35492879"]
["PRACTICAL FURNITURE S.R.L.-D","37958798"]
["PRACTICAL HOUSE S.R.L.","RO13408665"]
["PRAKTIKER ROMANIA SRL","RO14398713"]
["PRAMAC GENERATORS","RO33337054"]
["PREDA ADRIANA","2740709151831"]
["PREDA GHE. GHEORGHE I.I.","26179962"]
["PREDA GHE. IOAN P.F.A.","24029683"]
["PREDA IOAN","1580709083468"]
["PREDA LAURENTIU","nedef."]
["PREDAMOB MTP S.R.L.","40758200"]
["PREFAC SINZIANA","2910804270042"]
["PRELIPCEAN ADRIAN","nedef."]
["PRELIPCEAN VASILE","1740316333193"]
["PRELIPCEANU PETRU","1740819333191"]
["PRELUCA DUMITRU DANUT","1810430336543"]
["PREMA INVEST SRL","RO13572799"]
["PREMIER DESIGN S.R.L.","RO17154616"]
["PREMIUM LEASING S.R.L.","RO15330074"]
["PREMIUM WEST CREATIVE 4U DESIGN S.R.L.","44408967"]
["PREPELITA CIPRIAN","1830902330538"]
["PREPELITA LAURENTIU","1870707071366"]
["PREST CUT CONCEPT S.R.L.","RO28206842"]
["PRESTREND S.R.L.","RO27315744"]
["PREUTEASA DANIEL I.I.","37110266"]
["PREUTESCU FLORIN","nedef."]
["PRICHICI LUCIAN","1790129333318"]
["PRICHICI MARIAN","1880826330529"]
["PRICHICI RALUCA SIMONA","2860301330580"]
["PRICOPIE DIANA","2890622271690"]
["PRIMAEXPRESMOB S.R.L.","RO42215781"]
["PRIMAFEX TRADE KFT","HU23134621"]
["PRIMARIA LITENI","424429"]
["PRIMEO MOB S.R.L.","RO33786711"]
["PRIMORDIAL SERV-IMPEX S.R.L.","RO6062428"]
["PRINTOLOGY S.R.L.","RO37937884"]
["PRISACARIU MIHAI","1681106334990"]
["PRISACARIU SORINA MIHAELA","2801105335980"]
["PRISCA TUDOR","1810404323967"]
["PRISECARU DANIEL","nedef."]
["PRITAX INVEST SRL","RO7489096"]
["PRO ART QUALITY S.R.L.","RO17143650"]
["PRO CASA ACCESORII S.R.L.","RO29159951"]
["PRO CONFORT DESIGN S.R.L.","RO16338424"]
["PRO DINTE SANATOS S.R.L.","35901787"]
["PRO EMSACO S.R.L.","RO17459289"]
["PRO MANAGEMENT CONSULTING SRL","RO18777817"]
["PRO MOB ART S.R.L.","RO17473984"]
["PRO MOBILA SRL","5099178"]
["PRO OMEGA DESIGN S.R.L.","RO22236283"]
["PRO-MOB FURNITURE S.R.L.","39682051"]
["PRO-SOFT INDUSTRY SRL","RO29667887"]
["PROCONSEL SRL","RO9556299"]
["PROD G.F.I. S.R.L.","RO15923616"]
["PROD MOB FLUENT S.R.L.","RO37436913"]
["PROD.COM.SERV.GHIOANA SRL","RO87016"]
["PRODALCOM DISTRIBUTION SRL","RO25189470"]
["PRODAN CALIN I.I.","31926096"]
["PRODAN CRISTIAN","1860527330196"]
["PRODAN DAN","1690530335038"]
["PRODAN GHEORGHE","1750319037820"]
["PRODAN MIHAI MARIAN","1860904336678"]
["PRODAPIS COSTIN  S.R.L.","32518206"]
["PRODCOM BB S.R.L.","RO2384854"]
["PRODESIGN ART","22007212"]
["PRODESIGN S.R.L.","RO19793420"]
["PRODINCOM S.A.","RO713624"]
["PRODMOB CONCEPT S.R.L.","44513873"]
["PRODOMUS S.R.L.","RO10036206"]
["PRODTEHNOLOGY S.R.L.","RO18322556"]
["PRODUS IN BUCOVINA S.R.L.","RO26079157"]
["PRODUS TV SHOP","30678669"]
["PRODUSE DE MOBILIER EFA LIVING CONCEPT S.R.L.","40203241"]
["PRODUSINARDEAL S.R.L.","37445563"]
["PRODYL WOOD SRL","RO33805724"]
["PROEXPERT DESIGN S.R.L.","RO25924775"]
["PROEXUTIL S.R.L.","RO216480"]
["PROFESSIONAL PROJECTS S.R.L.","RO41481653"]
["PROFI CHAIRS S.R.L.","RO14398969"]
["PROFI EURO MARKET S.R.L.","RO30377488"]
["PROFI LOGISTIC S.R.L.","RO33918936"]
["PROFIART DESIGN S.R.L.","RO19543946"]
["PROFICUT S.R.L.","RO20831039"]
["PROFIMOB S.R.L.","3811031"]
["PROFIMOB S.R.L. (MURES)","RO17674350"]
["PROFISPED S.R.L.","RO32321149"]
["PROGELI OIL SRL","RO32665428"]
["PROIECTIM CONSTRUCT SRL","RO14979163"]
["PROLINE PRODCOM SRL","RO9886270"]
["PROLISOK SRL","RO 17590003"]
["PROMA AGNITA S.R.L.","RO36531836"]
["PROMO PLUS SRL","RO3903674"]
["PROMOART SRL","RO18919687"]
["PROMOB KARMA S.R.L.","RO40317270"]
["PROMOTOR NORD SRL","RO25802034"]
["PROSPECTIVE MARKETING S.R.L.","RO28373310"]
["PROSPER MURFATLAR S.R.L.","RO2749802"]
["PROSPERA S.R.L.","RO2577995"]
["PROTECTCONF TEXTILE","RO41134964"]
["PROTELCO S.A.","RO8606690"]
["PROTERM-LINE S.R.L.","RO13364801"]
["PRUDYS MOB S.R.L.","42698880"]
["PRUNARU ION I.I.","29294516"]
["PRUTEANU ANCA","2850314330535"]
["PSIBILSCHI MUGUREL","1760323335027"]
["PTC ONLINE SRL","RO33676778"]
["PUBLIMPRES S.R.L.","RO1558669"]
["PUHA DOREL","1710721333216"]
["PUHA GHEORGHE","1720908333199"]
["PUI IOAN \"TAPIMOB\" 2010  I.I","27739081"]
["PUIANU ANDREI","1841208070015"]
["PUICA GINA","2800402392147"]
["PUIU ADRIAN","1781019104971"]
["PUIU CRISTIAN","1850121134216"]
["PUIU LOREDANA","2780815333222"]
["PUIU VICA","2690922335001"]
["PUJINA MIHAI","1771101335022"]
["PUNCT S.R.L.","RO6869909"]
["PUNKT NET SRL","RO17861404"]
["PURDAMOB S.R.L.","38840404"]
["PURDILA DAN PAVEL","1841121334728"]
["PURICE D VIOREL P.F.A.","32688987"]
["PURICE SIMONA","2870422330228"]
["PUSCASU GABRIELA","2670312374070"]
["PUSCASU PAUL-ADRIAN","1860122044914"]
["PUSCASU SILVIU","1690705335040"]
["PUSCASU SILVIU I.I.","26647664"]
["PUZZLE PROJECT S.R.L.","RO44022620"]
["PV TEHNOLEMN SERVICE S.R.L.","RO30929540"]
["PYN ENERGY S.R.L.","31409839"]
["PYRAMIS ROMANIA S.R.L.","RO16173229"]
["PYRANIA IMPEX S.R.L.","RO9056811"]
["Paine Co S.R.L.","RO6630366"]
["Pakerman S.R.L.","RO22075888"]
["Pal Dekor S.R.L.","23379311"]
["Palas-productiv S.R.L.","RO29275336"]
["Palatul Copiilor Suceava","14056222"]
["Palazzo Construct S.R.L.","RO21807730"]
["Palmob S.R.L.","RO16331388"]
["Pamira Sport S.R.L.","RO28374404"]
["Pan Euro Invest S.R.L.","RO9705030"]
["Panap S.R.L.","RO6728047"]
["Pandipo S.R.L.","RO8996615"]
["Paninopol Benone Intreprindere Individuala","RO32756135"]
["Pap Trans S.R.L.","RO20064866"]
["Papcost S.R.L.","RO26618545"]
["Parade Trade S.R.L.","6651059"]
["Paragina Nicoleta Intreprindere Individuala","RO33455173"]
["Paraiso Pub S.R.L.","RO28360190"]
["Parchetul Suceava","16650344"]
["Park Inn By Radisson","DE226820818"]
["Parohia \"Adormirea Maicii Domnului\" Ilisesti","4326949"]
["Parohia \"Sfanta Inviere\" Suceava","4674552"]
["Parohia Romano Catolica Solonetul Nou","5295549"]
["Paroli S.R.L.","RO15028476"]
["Parts Auto Glob S.R.L.","RO12706078"]
["Pasat Ovidiu","1700128335024"]
["Pascariu V. Liana- Teodora - Cabinet de avocat","21529196"]
["Pasconmat Comimpex S.R.L.","RO15993506"]
["Pasion S.R.L.","RO14725351"]
["Pastel Print S.R.L.","16281239"]
["Patrascu Maria - Persoana Fizica Autorizata","27790009"]
["Patricia Impex Com S.R.L.","RO8083290"]
["Pausil","15451629"]
["Pavimente S.R.L.","RO13712736"]
["Pazygeo Proiect S.R.L.","RO15205993"]
["Pedroxim Impex S.R.L.","RO13597734"]
["Pekmar Stil S.R.L.","RO31390108"]
["Pelmod S.R.L.","RO14593137"]
["Pensiunea Anette S.R.L.","RO18559596"]
["Pensiunea Careea S.R.L.","24023117"]
["Pensiunea Cristina S.R.L.","RO20658281"]
["Pensiunea Giulia S.R.L.","RO14528961"]
["Pensiunea Hubert S.R.L.","RO18856821"]
["Pensiunea Ma Turism S.R.L.","RO31025390"]
["Pensiunea Platon S.R.L.","15194266"]
["Pensiunea Sapte S.R.L.","RO19058119"]
["Perju D. Dumitru-Catalin Intreprindere Individuala","30247038"]
["Perla Bucovinei S.R.L.","RO18576163"]
["Perla Maramuresului S.R.L.","RO6441677"]
["Perpetuum Furniture S.R.L.","RO25333183"]
["Persoiu Lucian Persoana Fizica Autorizata","19608697"]
["Pet Construct S.R.L.","RO22765039"]
["Pet Evolution S.R.L.","22319575"]
["Peter Group S.R.L.","RO19232273"]
["Petrescu Trans Construct S.R.L.","RO22156125"]
["Petroil S.r.l.","26940299"]
["Petroliv S.R.L.","RO15285887"]
["Petromold Oil S.R.L.","RO18607383"]
["Petromold S.R.L.","16998501"]
["Petrotrans Ionel S.R.L.","RO14086401"]
["Petrunjel I. Marius-Silvestru Intreprindere Individuala","29274489"]
["Pharmaplus S.R.L.","RO14924168"]
["Phoenicia Express S.R.L.","RO25693077"]
["Phoenix Mob S.R.L.","25195889"]
["Piazzetta S.R.L.","RO21073072"]
["Picardo Com S.R.L.","RO5431942"]
["Pinconschi Valentin Intreprindere Individuala","23403959"]
["Pinoccio S.R.L.","RO339547"]
["Pitura Sv S.R.L.","RO16318125"]
["Pizza Muzica Italiana S.R.L.","RO14284085"]
["Plaiasu D. Octavian Intreprindere Individuala","27398219"]
["Plasty Prod S.A.","RO4272016"]
["Player Media S.R.L.","RO20752458"]
["Pleiade Mixt S.R.L.","RO4535031"]
["Plus Drive Service S.R.L.","28045002"]
["Plus Hotel","23589933"]
["Poiana Alunis S.A.","RO14268225"]
["Poienita Societate Cooperativa","RO1168348"]
["Polaris Cafe S.R.L.","RO2558721"]
["Poli Tehnic Group S.R.L.","RO18996884"]
["Policom S.R.L.","RO13450473"]
["Polien Servcom S.R.L.","RO3903518"]
["Popas Turistic Bucovina S.R.L.","RO764520"]
["Porcelain Manufactures S.R.L.","RO201128"]
["Porojan Dumitru Intreprindere Familiala","17345519"]
["Posta Atlassib Curier Rapid S.R.L.","RO15673471"]
["Posta Romana S.A.","RO427410"]
["Prefcons S.A.","RO10175069"]
["Prelucana V.f.srl","RO2196966"]
["Premaco S.A.","RO12931096"]
["Premier Group S.R.L.","RO24411828"]
["Prems Company S.R.L.","RO14337945"]
["Prestige S.R.L.","RO4571808"]
["Pretty Car Mobil S.R.L.","RO6012608"]
["Prima Con Proiect S.R.L.","RO14442738"]
["Primagra S.R.L.","RO9852650"]
["Primaria  Radaseni","4327545"]
["Primaria Berchisesti","17527456"]
["Primaria Moldovita","4326671"]
["Primaria Scheia","4327421"]
["Primaria Siret","4440985"]
["Primaria Stanita","2613818"]
["Primaria Suceava","4244792"]
["Primaria Sucevita","4441336"]
["Primaria Todiresti","4326922"]
["Primaria Veresti","4327529"]
["Primarom Exim S.R.L.","RO10034019"]
["Primdent S.R.L.","RO9709562"]
["Princeps Studio Inc S.R.L.","RO19671309"]
["Prink Ro S.R.L.","23147877"]
["Printco S.R.L.","RO10055640"]
["Privilege S.R.L.","RO7619099"]
["Pro Ambient Suceava S.R.L.","RO30182575"]
["Pro Casa S.R.L.","RO6370401"]
["Pro Confort Disenio Mob S.R.L.","RO25863872"]
["Pro Cons Amd S.R.L.","RO15597242"]
["Pro Gerenas S.R.L.","29276153"]
["Pro Ing S.R.L.","RO16876520"]
["Pro Office S.R.L.","RO17139861"]
["Pro Panda S.R.L.","RO6872670"]
["Pro Spedition S.R.L.","RO19056797"]
["Pro Tempus S.R.L.","RO17099996"]
["Pro gsm S.R.L.","14274103"]
["Pro-europa S.R.L.","17584508"]
["Pro-vogue S.R.L.","RO9775140"]
["Proact S.R.L.","RO11382755"]
["Proactiv","8953568"]
["Proactiv S.R.L.","RO12076894"]
["Proconcept GC","RO16502313"]
["Prod Alcar Impex S.R.L.","RO7854167"]
["Prod-impex S.R.L.","RO3174400"]
["Profi Elegant S.R.L.","RO20946284"]
["Profi Rom Food S.R.L.","RO11607939"]
["Profi Stil S.R.L.","RO16461809"]
["Profil Exim S.R.L.","RO13164820"]
["Profilo Group S.R.L.","RO13393505"]
["Progil Prima S.R.L.","25479392"]
["Prograv Solutions S.R.L.","RO28117524"]
["Proiect Construct S.R.L.","RO17576149"]
["Proiect Interior Design S.R.L.","RO31471016"]
["Proiector 24 Trading S.R.L.","RO30431854"]
["Proif Serv Com S.R.L.","RO7100180"]
["Prometal S.R.L.","RO13121632"]
["Promob Trading Co S.R.L.","RO6880222"]
["Promobil S.R.L.","RO15483434"]
["Promtinter Expert S.R.L.","RO18106293"]
["Prophoto Digital S.R.L.","17372882"]
["Proser Grup S.R.L.","RO15189880"]
["Prosoft Industry S.R.L.","RO29667887"]
["Prot Consulting S.R.L.","22677069"]
["Protocol House S.R.L.","RO5485772"]
["Protocol S.R.L.","RO23625289"]
["Prototip Prod S.R.L.","5941062"]
["Proviar Impex S.R.L.","28108879"]
["Proximus S.R.L.","RO21927566"]
["Ps Megagroup S.R.L.","RO16902891"]
["Psihomedica S.R.L.","17938494"]
["Publiset S.R.L.","RO16908355"]
["Publitrad S.R.L.","RO26145110"]
["Puiu Service 2000 S.R.L.","RO13135484"]
["Punct Pe I S.R.L.","RO17017465"]
["Purple Amethist","RO32407240"]
["PÎRVULESCU M. IONELA GEANINA P.F.A.","37270216"]
["Q'NET INTERNATIONAL S.R.L.","RO28672605"]
["Q10.RO S.R.L.","RO16464732"]
["QASWED S.R.L.","10230945"]
["QCD MOB S.R.L.-D","RO37759086"]
["QIUKPACK SPEDITIONS SRL","24765027"]
["QMOBILI.COM S.R.L.","RO27963649"]
["QUALITY CONFORT DESIGN S.R.L.","RO24729318"]
["QUATTRO STAGIONI EXPRESS SRL","RO33409940"]
["QUBE LINE S.R.L.","RO38068011"]
["QUEEN MOB DESIGN S.R.L.","RO26789529"]
["QUICK BEST FOOD S.R.L.","RO29459401"]
["QUICK WOOD VERTRIEB GMBH","DE813550348"]
["QUICKART DESIGN S.R.L.","28903335"]
["R & C Mob S.R.L.","21936050"]
["R & R GAS IMPEX SRL ","RO10300285"]
["R&A IMPERIAL GROUP S.R.L.","40363366"]
["R&D OFFICE IMPEX","RO17992922"]
["R.B.R. SERVICII S.R.L.","RO15764294"]
["RA Software s.r.o. ","CZ04885414"]
["RACILA ANCA","2840215334242"]
["RACOVITA CIPRIAN","1771008221192"]
["RADASANU VLAD","1900925330221"]
["RADBURG CENTER SRL","RO25496873"]
["RADBURG SOFT SERVICE SRL","RO24810128"]
["RADISSON COLLECTION HOTEL, OLD MILL","104307421"]
["RADMA PRODCOM S.R.L.","RO4237442"]
["RADOR LC S.R.L.","RO19278696"]
["RADU ANDREI","1840328270835"]
["RADU CALIN LAPADATONI","1820927203437"]
["RADU CODRIN","1830726225919"]
["RADU COSTI ADRIAN","1781101424528"]
["RADU IONEL","nedef."]
["RADU IONEL","1791121514153"]
["RADU MAZILESCU MIHAELA","2751212414511"]
["RADU PETRU","1920623330256"]
["RADUCU ILIE","1860819430116"]
["RADULESCU ADI","1880508394451"]
["RADULESCU MIHAI","1781007035038"]
["RAESCHI DRAGOS","1821114420046"]
["RAI-ONO IMPEX SRL","RO8829030"]
["RAILEANU PETRU-IULIAN","1900707330253"]
["RAILEX SRL","RO9820616"]
["RAIMAN CAPUCINO SRL","RO4807373"]
["RALOS RENT SRL","32486180"]
["RAMANDY BOO SRL","26808353"]
["RAMIRIDO IMPEX S.R.L.","RO9205921"]
["RAMODEL S.R.L.","16062867"]
["RAMVAPROD S.R.L.","RO11929543"]
["RANIS INTERPAL S.R.L.","RO35194287"]
["RAOS LUX INVEST S.R.L.","RO28907914"]
["RAPID OFFICE MOB S.R.L.","RO39210598"]
["RARES-MOB-DESIGN S.R.L.","RO29651988"]
["RARMOB & DESIGN S.R.L.-D","37632766"]
["RASINA 3D DESIGN S.R.L.","38029420"]
["RASINA IMPEX S.R.L.","15312205"]
["RATA MIHAI IULIAN","1750610335001"]
["RATUNDU MIRCEA","1390904335003"]
["RAU NICOLAE DOREL PFA ","22592094"]
["RAUL TRACTARI AUTO S.R.L.","38590383"]
["RAVA BIO LEMNS S.R.L.","RO37543154"]
["RAVEI DANA","2700129335010"]
["RAYMARK MOB S.R.L","RO33963589"]
["RAZ-MAT SALES S.R.L.","RO41809271"]
["RAZLOG PETRU","1830711330242"]
["RAZLOG VLADIMIR","1830711330234"]
["RAZVAN GRIGORE","1730329441541"]
["RAZVAN RAFA","1890213125815"]
["RAZZ-EXPERT-MOB S.R.L.","RO42031894"]
["RCI BROKER DE ASIGURARE SRL","17907641"]
["RDI SHOP S.R.L.","36065779"]
["REAL COLLORY'T INVEST S.R.L.","RO32948670"]
["REAL DESIGN COMPANY S.R.L.","RO14872352"]
["REBRAS PRODIMPEX S.R.L.","RO5121305"]
["REBTECH SRL","RO24230112"]
["RECON S.A.","RO5650870"]
["RECON SI DOJE S.R.L.","RO3145464"]
["RECOVERY LEGAL CONSULTANT S.P.R.L.","RO44857931"]
["RECREX SRL ROMANIA","RO26506746"]
["RED UNIQUE S.R.L.","24049079"]
["REDLINE CONTRACT FURNITURE S.R.L.","RO33696600"]
["REDSEM RO S.R.L.","41810845"]
["REGIONAL AIR SUPORT S.R.L.","RO12020346"]
["REGIONAL TYRE SERVICES S.R.L.","RO42369985"]
["REGLEANU GABRIEL","nedef."]
["REGULUS ROMTHERM S.R.L.","RO31292940"]
["REHAU AG + CO","DE132944654"]
["REHAU POLYMER SRL","RO10433087"]
["REIMUND AUTOSERVICI SRL","35306038"]
["REINVENTED SOLUTIONS CONSULTING S.R.L.","16867280"]
["REM ADIS S.R.L.","RO6216276"]
["REMARC ELISABET S.R.L.","RO17905160"]
["REMCET PRIM SRL","RO10282227"]
["REMIROM TURISM","14924150"]
["REMONY S.R.L.","RO22783639"]
["REMUS CAR S.R.L.","RO31651050"]
["REMUS GRUP S.R.L.","RO15462091"]
["RENAS YONAN","08108825783"]
["RENDIUC ILEANA","2581213335016"]
["RENDIUC LAURENTIU","1551210301004"]
["RENOLIT CRAMLINGTON Ltd.","GB436184644"]
["RENOLIT MILANO SRL","IT07116220968"]
["RENOLIT SE MUNCHEN","DE811173179"]
["RENT CAR SERVICE LITORAL ","RO1883996"]
["RENT MANIA SRL","38483158"]
["RENTAL CATERING SRL","RO34587482"]
["REPARATII TELEFOANE ORIZONT SRL","37322730"]
["REPER V TRANS SRL","RO25735954"]
["RERO GAZ SRL","RO32080857"]
["RESONANCE DISTRIBUTION SRL","RO25323457"]
["RESTORANT DELFIN K.K ZLATINI ","BG160040566"]
["RESYS","RO26755607"]
["RETAIL DEVELOPMENT & MANAGEMENT SERVICES S.R.L.","RO29043379"]
["RETEZEANU EUGEN","1671103434577"]
["REUT CONSTANTIN","1800910335989"]
["REVECA BALAN","2550818333194"]
["REVERIA FURNITURE S.R.L.","RO39334642"]
["REVO STYLE MOB S.R.L.","RO28119002"]
["REWE (ROMANIA) SRL","RO13348610"]
["REZALT UCRAINA SRL","402196226564"]
["RIANNA MOB S.R.L.","37769284"]
["RIBELLI MOBILI S.R.L.","RO34884831"]
["RICAMBI AUTOMOBILI NETWORK SRL","RO33510774"]
["RIDERE D C SRL","9036946"]
["RIDIA SERV S.R.L.","RO10920155"]
["RIFIL SA","RO2050285"]
["RIKY DANI COM S.R.L.","RO7079819"]
["RIOBROD S.R.L.","34991285"]
["RIOMAR EXIM SRL","RO6226997"]
["RIPU BURZO SRL","RO30269192"]
["RISC ACCEPTABIL CONSULT SRL","RO33933812"]
["RIVAIL METAL CONSTRUCT S.R.L.","RO12351838"]
["RIVI GROUP SRL","RO21333679"]
["RIVIERA RESIDENCE SRL","RO26561724"]
["RIZEA DUCU VALENTIN","1910204295173"]
["RIZEA ION","1650607150011"]
["RLK APUSENI S.R.L.","RO27142856"]
["RO & LA VULCOPREST S.R.L.","RO9506657"]
["RO.MAR CONSULTING & SERVICES S.R.L.","RO27806318"]
["ROBCIUC CORNEL","1690410335033"]
["ROBCIUC DANIEL","nedef."]
["ROBCIUC LILIANA","nedef."]
["ROBIMOB PRODCOM S.R.L.","22103422"]
["ROBOBRO S.R.L.","40625440"]
["ROBSAR DESING S.R.L.","RO39484720"]
["ROBU CLAUDIA","2770514272671"]
["ROBU CLAUDIA CODRUTA I.I.","RO25199295"]
["ROBU DOMNICA","2910706331914"]
["ROBU VASILE","1631011334998"]
["ROCAST NORD SRL","RO13925521"]
["ROCAST SRL","RO13535090"]
["ROCK ART GRAPHICS SRL","RO29842856"]
["ROCKNA ELECTRONICS SRL","RO8701056"]
["ROCO OIL COMPANY SRL","RO34375404"]
["RODEN TRANS S.R.L.","RO23478447"]
["RODI GELADI S.R.L.","RO18870346"]
["RODI SERV 2003 SRL","RO15079577"]
["RODMED SRL","35705004"]
["RODYCOM-IMPEX SRL","RO198499"]
["ROGER STATIE SRL","35386274"]
["ROHOLZ AGENTUR S.R.L.","RO17388080"]
["ROHOZNEANU DAN","1550924335020"]
["ROIBU DORINA","nedef."]
["ROILMOB AMBIENT S.R.L.","RO3155450"]
["ROLL PRODCOMIMPEX S.R.L. ","RO1208841"]
["ROM - IBERIA EXPORT SRL","RO14969291"]
["ROM TELTEKS CABLU IMPEX S.R.L.","RO8915823"]
["ROMAN ANA","nedef."]
["ROMANIAN AIRPORT SERVICES SA","RO6716875"]
["ROMANIUC DARIE","1611003335037"]
["ROMARKET S.R.L.","RO15755849"]
["ROMDESIGN SRL","RO15025208"]
["ROMEDIA ONLINE ADVERTISING","RO23471414"]
["ROMEO MARIUTA","1680921330809"]
["ROMEO STAICU","1740914332147"]
["ROMEXPRES TRADING S.R.L.","RO31361919"]
["ROMFOUR AUTORULATE SRL","RO36748607"]
["ROMHOL SRL","RO16592804"]
["ROMITAL DESIGN S.R.L.","RO22887745"]
["ROMMIL PROD COM IMPEX S.R.L.","RO3016761"]
["ROMNAV SA","RO2251084"]
["ROMPRIX EXIM SRL","RO6842083"]
["ROMSERVICE SRL","RO3583162"]
["ROMWEST EURO S.R.L.","RO5103651"]
["RONE COMPANY S.R.L.","21694240"]
["RONSIN S.R.L.","17199669"]
["ROOLFLINE S.R.L.","RO25283000"]
["ROPHARMA SA","RO1962437"]
["ROPOTA MARCEL","1651129335006"]
["ROSCA  NICUSOR","1950801330198"]
["ROSCA ECATERINA","2761220330782"]
["ROSI STOCK S.R.L.","RO8384039"]
["ROSIHIGHCLASS S.R.L.","36895233"]
["ROSNER LACKE S.R.L.","RO21592045"]
["ROSU ALINA","2870801375032"]
["ROSU IOAN","nedef."]
["ROSU NICOLAE ROMULUS","1690516080096"]
["ROT HAUSE ALECOM SRL","RO30284745"]
["ROTAR DIANA","2790504335030"]
["ROTARESCU DUMITRU-DAN","nedef."]
["ROTARI DUMITRU","2800517046286"]
["ROTARI MIHAI","1890222330532"]
["ROTARIU ADINA","2780823335090"]
["ROTARIU ADRIAN","nedef."]
["ROTARIU CRISTIAN RAZVAN","1880417330193"]
["ROTARIU DORIN","1730113070050"]
["ROTARIU PETRONELA","2950604336394"]
["ROTARU BOGDAN","1881003070068"]
["ROTARU CLAUDIU","1890730070018"]
["ROTARU CLAUDIU","nedef."]
["ROTARU CRISTIAN DANUT","1820214330535"]
["ROTARU DAVID","1871107330245"]
["ROTARU NATALIA","nedef."]
["ROTCONSTRUCT S.R.L.","RO 17912583"]
["ROVIO COLECTION SRL","RO18688337"]
["ROVITA INTERNATIONAL S.R.L.","RO5456130"]
["ROX GAZ SRL","RO17485750"]
["ROXANA IMPERIAL BUSINESS AGREMENT","RO28272641"]
["ROXANA MEDVET S.R.L.","RO37637054"]
["ROXMAR MOB DESIGN CRYSS S.R.L.","42405050"]
["ROYAL CDV G2 S.R.L.","RO29301672"]
["ROYAL MAKE TRANS SRL","RO35887402"]
["ROYAL PRESIDENT SRL","RO29243040"]
["RRM CREATIVE PLACE SRL","RO36166749"]
["RS Realisierung GmbH- HOTEL RUBY SOFIE","ATU68503167"]
["RTH PREMIUM SERVICES SRL","RO18403537"]
["RUANA S.R.L.","RO2430080"]
["RUDNIC IULIAN","nedef."]
["RUDY WOODY DESIGN S.R.L.","42781764"]
["RUJZ DESIGN D.O.O.","SI69846103"]
["RULEXIM SRL","RO9837103"]
["RULMENPOL SRL ","RO14340673"]
["RUS I M VASILE P.F.A.","25794942"]
["RUS-SAVITAR S.A.","RO6326791"]
["RUSTI ANISOARA","2741225333195"]
["RUSU  GABRIEL-DUMITRU","1930901330195"]
["RUSU ADRIAN","1860120336548"]
["RUSU ADRIANA","2810916330193"]
["RUSU ANDREI","1820224374510"]
["RUSU AUREL","1720428334994"]
["RUSU GHEORGHE MIHAI","1751106335046"]
["RUSU GHEORGHE STEFAN","1810921011154"]
["RUSU IONUT","1900326330531"]
["RUSU IONUT (PRAHOVA)","1820502297289"]
["RUSU ISABELA","2850330336886"]
["RUSU MIRCEA","1920908330532"]
["RUSU MIRCEA","1651206335019"]
["RUSU RALUCA","2850704330235"]
["RUSU SABRINA-LILIANA","2900823330208"]
["RUSU SILVIU-IULIAN","1950819330216"]
["RUSU TEODOR","1841103330231"]
["RUSU VASILE","1670115332149"]
["RUXANDRA IONICA PFA","21579313"]
["RYB RO SPEDITION S.R.L.","RO21588583"]
["RZR SERVICES SRL","RO31292363"]
["Rabe Sistem Depozitare S.R.L.","16707637"]
["Raceala Daniel Productie Mobilier Intreprindere Individuala","RO27283340"]
["Radena - Vest Intreprindere Individuala","26094980"]
["Radina S.R.L.","RO20251309"]
["Radio-top'91 S.R.L.","RO713810"]
["Radiocom","RO10881986"]
["Radprodcom S.R.L.","RO17400770"]
["Radulescu Prodmobi S.R.L.","RO6725954"]
["Rafconcept S.R.L.","RO30077618"]
["Raffael S.R.L.","RO20138572"]
["Raida Euro Business","29233810"]
["Raisa Prod S.R.L.","RO14057708"]
["Ramely S.R.L.","RO6333098"]
["Rapha Systems","ATU61641209"]
["Rary Oil S.R.L.","RO24091448"]
["Ratinex Sa Bucuresti - Sucursala Suceava","RO7070496"]
["Rav Management S.R.L.","RO14366592"]
["Rci Leasing Romania Ifn S.A.","RO14378619"]
["Rcs & Rds S.A.","RO5888716"]
["Real","RO17294806"]
["Real Design S.R.L.","RO15645692"]
["Real Hyper Magazine S.R.L.","RO31357586"]
["Real Quality Construct S.R.L.","RO21531889"]
["Realizarea Trans S.R.L.","RO10092613"]
["Rebas","RO4967340"]
["Rebeca Trans S.R.L.","21915057"]
["Rebel S.R.L.","RO11705520"]
["Rebenciuc Cristi-Constantin Intreprindere Individuala","30807674"]
["Rebnicsap S.R.L.","RO2170516"]
["Rebona Serv S.R.L.","RO15934208"]
["Rec Prod Imp Exp S.R.L.","RO5012766"]
["Recutex S.R.L.","20168000"]
["Red Apple Design S.R.L.","RO21380255"]
["Red Hotel S.R.L.","RO24761246"]
["Redexpro S.A.","RO13691471"]
["Redplast S.R.L.","RO3330917"]
["Reflex Impex S.R.L.","RO4239656"]
["Regency Company S.R.L.","RO11680026"]
["Regent Trading S.R.L.","8797337"]
["Regia Nationala A Padurilor Romsilva","RO1590120"]
["Registrul Auto Roman","RO1590236"]
["Relida Serv S.R.L.","5813730"]
["Relvas Mob","28335065"]
["Rentest Park S.R.L.","RO28859965"]
["Rentrop & Straton","RO7782311"]
["Residi S.R.L.","RO15106965"]
["Resman Tank Und Shop Gmbh","DE811127597"]
["Restaco S.R.L.","RO724917"]
["Restart Service S.R.L.","RO21606728"]
["Restaurant Bacolux S.R.L.","RO6440531"]
["Restaurant Casa Domneasca S.R.L.","RO915330"]
["Restpartner S.R.L.","RO23722311"]
["Restpold S.R.L.","RO3770039"]
["Retail Distribution","RO27339182"]
["Retro Boutique S.R.L.","RO29242959"]
["Revine Impex S.R.L.","RO6551955"]
["Revlaco Motors S.R.L.","RO15380374"]
["Revlas Trans S.R.L.","RO28954053"]
["Revo Style S.R.L.","22906480"]
["Revox S.R.L.","RO14462107"]
["Rezon Media Grup S.R.L.","RO16548094"]
["Rhea Design S.R.L.","RO25741280"]
["Riana Serv S.R.L.","RO17908752"]
["Ricom S.R.L.","RO3622490"]
["Rider Club S.R.L.","15983448"]
["Ridia Comisionar S.R.L.","RO31482945"]
["Rimbu I. Domnica - Intreprindere Familiala","RO17309826"]
["Rina Eco Mob S.R.L.","RO32392115"]
["Rindunica Neagra S.R.L.","14190401"]
["Riodor Trans S.R.L.","RO14865770"]
["Rips Impex S.R.L.","RO13742672"]
["Risto Solution Doi S.R.L.","RO26926120"]
["Ritmic Com S.R.L.","RO5505985"]
["Ritmic Impex S.R.L.","7992240"]
["Ro Courier Logistic Grup S.R.L.","17073473"]
["Ro Est Division S.R.L.","RO29339685"]
["Ro Garden 2009 S.R.L.","25402054"]
["Ro Grup Glass S.R.L.","RO16201981"]
["Robco S.R.L.","RO2559670"]
["Robdenis S.R.L.","RO18008449"]
["Robest Com","RO12164503"]
["Robion S.R.L.","RO1958444"]
["Rocatedy S.R.L.","10023427"]
["Rocazare S.R.L.","RO25720139"]
["Rocca Creative Solutions S.R.L.","26985606"]
["Rocca Design Business S.R.L.","22663551"]
["Roconfort S.R.L.","RO238364"]
["Rocri Trade S.R.L.","RO10026105"]
["Roda Definition S.R.L.","20892419"]
["Rodalpin Impex S.R.L.","RO3905446"]
["Rodistrom Comimpex S.R.L.","RO716469"]
["Roexim S.R.L.","RO1994218"]
["Rogera S.R.L.","RO15197220"]
["Rogvaiv Wood S.R.L.","RO26790612"]
["Roidem S.R.L.","RO14613650"]
["Rolex S.R.L.","RO716388"]
["Rolf Card Industrial S.R.L.","RO15624762"]
["Rolizo S.R.L.","RO1128548"]
["Rom Front S.R.L.","19014201"]
["Rom Guard Security S.R.L.","RO17078438"]
["Rom-excellent S.R.L.","RO5910996"]
["Roman S.R.L.","RO1768130"]
["Romania Hypermarche S.A.","RO14374293"]
["Romanian Self Service S.R.L.","RO10070909"]
["Romar Shipping Agency S.R.L.","RO15246594"]
["Romcan S.R.L.","RO3704655"]
["Romed S.R.L.","RO14139085"]
["Romel Interests Production And Services S.A.","RO6634198"]
["Romexim Direct S.R.L.","RO9384053"]
["Romexpo S.A.","RO1555425"]
["Romfour Tur S.R.L.","RO16568997"]
["Romgaz S.A.","RO14056826"]
["Romhotel Francesca S.R.L.","27501674"]
["Romilos S.R.L.","RO4189345"]
["Rompeisaj S.R.L.","RO12899122"]
["Rompetrol Downstream S.R.L.","RO12751583"]
["Romserv S.R.L.","RO21302400"]
["Romstal Imex S.R.L.","RO5990324"]
["Romtehnocon S.R.L.","RO15925293"]
["Romtimex S.R.L.","RO7747756"]
["Romtrain S.R.L.","RO16125043"]
["Romtranslat S.R.L.","12483707"]
["Romvitrine S.R.L.","RO6201810"]
["Ron-ex S.R.L.","RO19066421"]
["Rontin S.R.L.","RO6670280"]
["Rosal Grup S.A.","RO6089555"]
["Rosie Re S.R.L.","RO18947555"]
["Rosmarini S.R.L.","RO17826121"]
["Rosmin S.R.L.","RO2388406"]
["Rotib Coron Serv S.R.L.","RO8373951"]
["Roua Rl Com S.R.L.","RO6527213"]
["Roumasport S.R.L.","RO23727785"]
["Roxcofy S.R.L.","RO26525373"]
["Royal Motors","RO13341468"]
["Royal Motors Part S.R.L.","RO14250996"]
["Rozeclas Transtur S.R.L.","RO17822499"]
["Rozoti Prodcom S.R.L.","RO4348076"]
["Rtc Proffice Experience S.A.","RO6562512"]
["Rubicon Com S.R.L.","RO7351688"]
["Rucor S.R.L.","RO6036232"]
["Rud Station S.R.L.","18828040"]
["Ruscargo S.R.L.","RO30682376"]
["Rutfood S.R.L.","RO26385504"]
["Ryoprod S.R.L.","RO14383526"]
["S & O Group S.R.L.","RO6726216"]
["S&R ACCOUNTING LEADER SRL","RO18998974"]
["S&S Groupe Prodimpex","RO7944898"]
["S.C DECOR PLUS S.R.L","RO18156100"]
["S.C.A. \"ANGHEL SI ASOCIATII\"","RO22774550"]
["S.D.C. MOBLUX S.R.L.","RO15947119"]
["S.I.A. CONCEPT STYLE S.R.L.","44947775"]
["S.I.E.P.C.O.F.A.R. SA","RO3596251"]
["S.L.S. MOTRU S.R.L.","RO2171309"]
["S.M. ART DESIGN 2004 S.R.L.","RO16441879"]
["S.U.C.T. S.A.","RO4672918"]
["S.V. STEEL SARL","FR14838607034"]
["SABADIS MONICA","2710704332151"]
["SABADOX S.R.L.","RO9373925"]
["SABAR S.A.","RO5919286"]
["SABOU SILVIU","1700406330767"]
["SABPARC S.R.L.","RO30366454"]
["SACHELARIE N. LUANA GEORGIANA FARMACIE","30257562"]
["SACO S.R.L.","RO1996464"]
["SADEX INVEST S.R.L.","RO26144646"]
["SAF S.R.L.","RO9548750"]
["SAFCONS S.R.L.","RO18803231"]
["SAFE QUALITY MOB S.R.L.","37246625"]
["SAFESTEEL S.R.L.","RO31306043"]
["SAFTOIU CORNELIU ","nedef."]
["SAGA MOBILI S.R.L..","RO37128220"]
["SAGAU IOAN","1650923064338"]
["SAGHIN BRANDUSA I.I","RO31739942"]
["SAGHIN VIRGIL","nedef."]
["SAHLEAN ZENOVIA","2650918335016"]
["SAHLEANU GABRIELA","2771002332159"]
["SAIA ADRIAN","1680816073531"]
["SAKO MOB S.R.L.","RO30813765"]
["SAKOM ENERGY PREST S.R.L.","RO29430944"]
["SALEHI IMPEX S.R.L.","RO5732481"]
["SALICE COMPROD S.R.L.","RO12532567"]
["SAMET B.V.","NL851309926B01"]
["SAMI PREST SERV SRL","RO17282690"]
["SAMOILA SABINA","2670918382777"]
["SAMSON CORNEL","1730705451525"]
["SAMSON DAN","1801029045358"]
["SAMUEL-PREST S.R.L.","RO6686359"]
["SAN EXPO & EVENTS S.R.L.","RO13056488"]
["SAN-MARCO COMPROD S.R.L.","RO6339040"]
["SANCHIM-CC SRL","RO24412297"]
["SANDINEX CLUB S.R.L.","14518135"]
["SANDRU MARIA","2720914336061"]
["SANDRU MARINICA","2710908334936"]
["SANDTEK SRL","RO5553028"]
["SANDU C CRISTIAN","RO19254077"]
["SANDU ECATERINA DIANA","2870809330191"]
["SANDU IOANA","2780925070045"]
["SANDU MARIUS","1801020035276"]
["SANDU RAZVAN","nedef."]
["SANDU SIMIREL-IOAN","1840301510034"]
["SANDULEAC GABRIEL","1900607330209"]
["SANELUXMAR CONSTRUCT S.R.L.","RO16802264"]
["SANIMET COM S.R.L.","RO7981870"]
["SANTAL COM S.R.L.","RO6086028"]
["SANTAROSSA SPA IN LIQUIDAZIONE","IT00071820930"]
["SANTOPAL SILV S.R.L.","32853898"]
["SANUCEAN DANA","nedef."]
["SAR CONFEX S.R.L.","RO6217085"]
["SARA ART CONSTRUCT S.R.L.","RO36759657"]
["SARAMOB DESIGN S.R.L.","RO17023602"]
["SARANDYMAL MOB S.R.L.","RO39919809"]
["SARBU OVIDIU","1790113335117"]
["SARDARU CRISTINA MARIA","2860416336373"]
["SARION SPORT SRL","22851229"]
["SARL ANTOINE SOARES","FR65478396096"]
["SARL FARTAIS","FR86752555060"]
["SARL HANDSON","FR57400073896"]
["SARMAN CORNELIU","1781006332148"]
["SAS REMUS","1761129240047"]
["SASHA MB S.R.L.","41951968"]
["SASMOB S.R.L.","RO24809581"]
["SATCO BIANCA","2750910070076"]
["SATEMIS SFERA PROFILE SRL-D","RO37707478"]
["SATHEMA S.R.L.","RO15320933"]
["SAUCIUC AUREL","1551019335019"]
["SAV SILVA S.R.L.","RO29373202"]
["SAVA IOAN","1801001336396"]
["SAVA MARCEL","1670104332140"]
["SAVA NICULAI MARCEL","1670104332140"]
["SAVACHE COSTEL-VIOREL","1801202420050"]
["SAVASTRU DAN","1560123400215"]
["SAVEANU GABRIEL","1680806333221"]
["SAVELECTRO SRL","RO35779770"]
["SAVIN & CO S.R.L.","RO3591564"]
["SAVIN OLGUTA","2770715330807"]
["SAVINESCU OVIDIU","1801022071388"]
["SAVINI DUE S.R.L.","RO15567276"]
["SAVIUC ALEODOR","1890919330689"]
["SAVIUC GELU","nedef."]
["SAVMOBILIS S.R.L.","37870946"]
["SAVU IONUT","1850426510014"]
["SAVUT GHEORGHE","1680730332170"]
["SBIERA ANAMARIA ALEXANDRA","2880719071367"]
["SBIRNEA DANIEL","1761027335001"]
["SBK ART DESIGN S.R.L.","RO30087484"]
["SC AGRICOLA PUIENI S.R.L","RO13670975"]
["SC BOG DESIGN & BUILD S.R.L","29953676"]
["SC CASTANELA SRL","RO15874890"]
["SC CONT ENERGO SRL","9095144"]
["SC MARELBO PROD COM SRL","RO6728594"]
["SC SPEED CREDIT SRL","23961564"]
["SC TARSIN COM SRL","RO8253254"]
["SC URBAN SRL","RO16250836"]
["SCHACHERMAYER ROMANIA SRL","RO15485370"]
["SCHIPOR RODICA","2960205330525"]
["SCHIRIAC ANGELA","5179049"]
["SCHITUL SF.APOSTOLI PETRU SI PAVEL","4327430"]
["SCHREINER & CO S.R.L.","RO12388896"]
["SCHUKO BAD SAULGAU GmbH & Co.KG","DE146593999"]
["SCHUKO International KG","DE124001363"]
["SCM GROUP S.P.A.","IT00126480409"]
["SCOALA PRIMARA \"SF. IOAN CEL NOU DE SUCEAVA\"","30452989"]
["SCONS SERV S.R.L.","RO6824893"]
["SCORPION INTERNATIONAL SRL ","RO14437197"]
["SCRIPCARIU MANUELA","nedef."]
["SCULPTORUL S.R.L.","RO1221026"]
["SCUMPU ANA I.I.","25583988"]
["SCURTU MACEDON","2740628335000"]
["SCUTAR VIOREL","1570716334992"]
["SCUTAREANU DANUT","1720313330775"]
["SCUTARIU ALEXANDRA IOANA","2820328070081"]
["SCUTARU TEREZA","nedef."]
["SCUTELNICU NECULAI ","1730917330784"]
["SCUTELNICU ROXANA","2830401330221"]
["SCUTI CONSTRUCT SRL","RO21218777"]
["SDILMAR IMPEX SRL","RO 4984774"]
["SDX CONCEPT SRL","RO35650472"]
["SEA ROMANIA SRL","RO12472120"]
["SEASIDE PLAYGROUNDS S.R.L.","RO35875580"]
["SEB MOB UNIC S.R.L.","44997137"]
["SEBA DESIGN EXPRESS S.R.L.","39964559"]
["SEBAGO MOB S.R.L.","RO30901298"]
["SEBASTIAN VANCEA","1741001240011"]
["SEBILUX INVEST S.R.L.","RO24468727"]
["SEBITRANS SRL","RO22464036"]
["SEBSON UNIC IMP S.R.L.","37652925"]
["SEDCOM LIBRIS S.A.","RO1972163"]
["SEDONA ALM","RO14560415"]
["SEEBRIG INVESTIMENT SRL","RO 24917931"]
["SELAN S.R.L.","RO16692609"]
["SELECT AUTOMOTIVE RO S.R.L.","RO18060196"]
["SELERON S.R.L.","RO20745256"]
["SELGROS CASH & CARRY SRL","RO11805367"]
["SEMENIUC DOMNICA ","2540222334945"]
["SEMENIUC MARIUS","1870306330206"]
["SEMIAN MARIA","nedef."]
["SEMPRE PRO ART S.R.L.","42621259"]
["SENCIUC GELU","1760214335020"]
["SENCIUC IOANA","nedef."]
["SENCIUC LILIANA","nedef."]
["SENCIUC PETRICA IONUT","1890131330195"]
["SENEGEAC CORNEL","1921207330543"]
["SENOPLAST KLEPSCH & Co. GmbH","ATU61875849"]
["SENOSAN GMBH","ATU66441488"]
["SENSIBLU SRL","RO9378655"]
["SENSO AMBIENTE SRL","RO16573152"]
["SENSODATA SRL","RO39026626"]
["SEPAL DESIGN S.R.L.","RO13837012"]
["SEPAL JUNIOR S.R.L.","RO41827545"]
["SER CONSTRUCT SRL","RO23379320"]
["SERB CONSTANTIN CRISTIAN I.I.","27920109"]
["SERBAN CONSTANTIN","1700113034994"]
["SERBAN CRISTINA","2780114335017"]
["SERBAN JIENEL P.F.A.","21350157"]
["SEREDENCIUC CRISTINA","2700705335010"]
["SEREDENCIUC VIOREL","nedef."]
["SEREDIUC ALEXANDRU","nedef."]
["SEREDIUC IULIANA","28700709335011"]
["SEREDIUC PAUL","1821018330206"]
["SEREDIUC VASILE","1720708334994"]
["SERENCIUC ELENA","2561210305011"]
["SERVAS CRISTALEX GRUP SRL","RO15644026"]
["SERVICE AUTO-HOUSE SRL","RO9787471"]
["SERVICE ELECTROCASNICA S.R.L.","RO1879278"]
["SERVICE EXPRESS SUCEAVA S.R.L","RO27868507"]
["SERVICE SCM","RO1956796"]
["SERVICII ENERGETICE PENTRU ACASA- SEA COMPLET S.A.","RO32602667"]
["SERVICII SUD S.R.L.","RO16925135"]
["SERVINT INTERCOMER S.R.L.","RO33138442"]
["SERVOLEN S.R.L.","RO17420467"]
["SERVONEC SRL","RO25080048"]
["SET MOBILIS S.R.L.","RO204396"]
["SEVA PRODUCT S.R.L.","32851200"]
["SEVEN CAFE GOLDEN SAN ","BG202728111"]
["SEVEN MOTION S.R.L.","30870450"]
["SFECHIS CLAUDIU-FLORIN PERSOANA FIZICA AUTORIZATA","38602933"]
["SFETCU I. ION-SILVIU I.I.","40988853"]
["SFETCU P. ION-SILVIU I.I.","23809362"]
["SFICHI AGURITA","2900302330214"]
["SFIRNACIUC CONSTANTIN","1790428336733"]
["SFIRNACIUC ELENUTA I.F.","9663643"]
["SHARP TOOLS SRL","RO29828916"]
["SHUTTERSTOCK","EU372019855"]
["SHUTTERSTOCK","EU826018531"]
["SIA LAND S.R.L.","RO24606498"]
["SIBEL IMPEX S.R.L.","RO5245338"]
["SIBINESCU ALEXANDRU","1791230250545"]
["SIBINESCU-TRANTEA ALEXANDRU-ROMULUS I.I.","28948256"]
["SIBINESCU-TRANTEA D. ALEXANDRU-ROMULUS P.F.A.","44218776"]
["SIBVALEO SRL","36924517"]
["SICABU FP&S S.R.L.","34780172"]
["SICO PUBLICITATE S.R.L.","RO1170038"]
["SICULCOM S.R.L.","RO 556406"]
["SIDERALCON SRL","RO1826893"]
["SIDORIUC PETRUTA ELENA","2900428330549"]
["SIFON TRANS COM SRL","RO8872730"]
["SIG SEI S.R.L.","42992826"]
["SIGADA DESIGN S.R.L.","22548129"]
["SIGMA DESIGN PROIECT S.R.L.","RO18799688"]
["SIGMA DISTRIBUTIE SRL","RO20359298"]
["SIGMA LUX DESIGN S.R.L.","RO32502048"]
["SIGN PRODUCTION & ADVERTISING S.R.L.","RO31986721"]
["SIGNSTORE S.R.L. ","RO28972971"]
["SIGRAV S.R.L.","RO11712071"]
["SILAGHI LASZLO I.I.","24661069"]
["SILAGHI PETRE EMIL","1660907012539"]
["SILINAST CONCEPT SRL","RO36215639"]
["SILK CONTACT S.R.L.","RO4422970"]
["SILK ROUTE SHIPPING SRL","RO22518381"]
["SILVANIA INTERNATIONAL PROD S.R.L.","RO6694408"]
["SILVER SERVICE SRL","RO14417963"]
["SIMAUSROM COMSERVIMPEX S.R.L.","RO4468161"]
["SIMBA TRADE S.R.L.","RO 16151832"]
["SIMERIA VLAD","1870429336391"]
["SIMFONIA FLORILOR S.R.L.","RO25555988"]
["SIMINICEANU VIRGIL - AURELIAN","1720221190143"]
["SIMINIUC DANIEL","1970513330530"]
["SIMIOANA RADUTA","BE0840761455"]
["SIMION PETRE","1790623131309"]
["SIMION PETRICA","1600405151773"]
["SIMION TEHNOCONSTRUCT S.R.L.","RO39908567"]
["SIMIONIUC  CIPRIAN","1870805330244"]
["SIMIONIUC MARIAN","1710813335029"]
["SIMONASIL MOBILA S.R.L.","40072138"]
["SIMONOVICSI EVA","2570308301992"]
["SIMOTA GABRIEL","1881024335989"]
["SIMTEC ACCESSORIES S.R.L.","RO32722108"]
["SINDICATUL STEFAN CEL MARE SUCEAVA","12620278"]
["SINDOMOND SRL","33457174"]
["SIPOT MARIUS","nedef."]
["SIRBU CONSTANTIN","1630520040021"]
["SIRETEAN NISTOR","1860726330221"]
["SIRGHI CIRPIAN","1850721226825"]
["SISTEM SERVICII TEHNIC GRUP SRL","33693060"]
["SISTEMA PAV SRL","RO24041849"]
["SITARU GABRIEL","nedef."]
["SIXT GMBH & CO","DE223999470"]
["SIXT GmbH & CO. AUTOVERMIETUNG KG","DE 223999470"]
["SKAMAR S.R.L.","RO13193868"]
["SKYLUX CONSTRUCTION SRL ","RO24624699"]
["SL Design Company S.R.L.","RO26613530"]
["SL VANS PROD S.R.L.","RO25939741"]
["SLEVOACA ELENA","nedef."]
["SMADICI MIHAI","1700424333231"]
["SMANTANCA ALINA","2781201335001"]
["SMARALUC S.R.L.","34943903"]
["SMARANDA SORIN-CIPRIAN","1790426131301"]
["SMART ASSOCIATES GROUP S.R.L.","RO35334887"]
["SMART CONCEPT&PRODUCTION S.R.L.","RO28364753"]
["SMART GSM WORLD SRL","RO33933502"]
["SMART IDEEA CONCEPT S.R.L.","29576363"]
["SMART SERVICE MULTIBRAND SRL","RO30058560"]
["SMART SPORT MARKETING S.R.L.","RO35086412"]
["SMART VENDING SOLUTIONS S.R.L.","RO27586751"]
["SMC ROMANIA","RO8808380"]
["SMEDAMOB PROD S.R.L.","RO32066321"]
["SMEG","nedef."]
["SMILE BOWLING FACTORY S.R.L.","28258710"]
["SMILO PROD SRL","RO30629127"]
["SMINTANCA ALINA NICOLETA","2781201335001"]
["SMINTANCA LIVIU-SORIN","1810818331427"]
["SMINTINA MHAITA","1820116373347"]
["SMOCOT ALIN","1831009330201"]
["SMOCOT SIMONA","nedef."]
["SMS ROMANIA SRL","RO13718550"]
["SOARE BOGDAN","1800508330228"]
["SOCIETATE PROFESIONALA NOTARIALA MANEA VIOLETA ELENA SI POPESCU LAURA CRISTINA","RO41425912"]
["SOCIETATEA DE TURISM TUTOVA SA","RO2807881"]
["SOCIETATEA PROFESIONALA NOTARIALA ART LEGIS","RO29946911"]
["SOCONI GRAND CONSTRUCT SRL","27194120"]
["SOCUCU S.R.L.","RO38105934"]
["SODEXO PASS ROMANIA SRL","RO11071295"]
["SOFIAN GEORGE-CATALIN","1870428330222"]
["SOFIS MOBILI S.R.L.","RO37823235"]
["SOFRA TURKISH RESTAURANT S.R.L. ","RO42249830"]
["SOFRONIE LIVIU","1730226335000"]
["SOFT INTERMED S.R.L.","RO15069298"]
["SOLDANESCU ANDRADA","nedef."]
["SOLEM ELECTRIC S.R.L.","RO24743665"]
["SOLO DESIGN S.R.L.","RO42987390"]
["SOLOGIUC TUDOREL","1690205330799"]
["SOLOMON  MARCEL","1821122330251"]
["SOLOMON CRISTIAN","1680309267402"]
["SOLOMON MARILENA","2790723335052"]
["SOLOMON PAUL","1770503170331"]
["SOLOVASTRU ADRIAN","1951110330583"]
["SOLOVASTRU MARIANA","2880908336378"]
["SOLUTII INTERIOR CONSTRUCT S.R.L.","40328717"]
["SOLUTIONS MOB S.R.L.-D","RO36770590"]
["SONA DANIEL","1521114085025"]
["SONAE ARAUCO NETHERLANDS B.V.","DE239954314"]
["SOPEP MOB S.R.L.","RO25960298"]
["SOPHYE FURNITURE S.R.L.","RO40323183"]
["SOPON DANIELA","nedef."]
["SORA DAN-STEFAN","1761005100013"]
["SORADI PROD S.R.L.","RO17383318"]
["SORCARU CECILIA","2600307170374"]
["SORIN MIHAI,UTILAJE PTR.PRELUCRAREA LEMNULUI SRL","RO1095424"]
["SORIN MIHAILA","1800906080027"]
["SORIN NEICA","1780705080026"]
["SOROCANIUC GEORGE","nedef."]
["SOROCEANU DORINA","2860911330553"]
["SOSOI IVAN","nedef."]
["SOSU MARGARETA","2590802330771"]
["SOTEA ALINA","2731128070036"]
["SOUVENIRS DE PARIS S.R.L. ","41501980"]
["SOVAN VASILE","1771228070049"]
["SOX SCS","BE0720731774"]
["SPAC MARIUS","1810903330200"]
["SPACE ARTISAN STUDIO S.R.L.","RO37590237"]
["SPATARU VASILE","1691224335009"]
["SPECIAL GARDEN DESIGN SRL","RO25396580"]
["SPECTRUM CENTER","RO16264602"]
["SPES SRL","RO16300390"]
["SPIDY MOB S.R.L.","RO23163104"]
["SPILI MAGAZIN SRL","RO35125180"]
["SPIN COM-EXIM S.R.L","RO5969560"]
["SPIROPLASTIC SRL","RO11364856"]
["SPITALUL MUNICIPAL VATRA DORNEI","4535414"]
["SPOIALA CORNELIU","1780910335031"]
["SPOIALA IOAN","1840819330289"]
["SPOIALA LILIANA","2860802331428"]
["SPOIALA OVIDIU","nedef."]
["SPOIALA ROXANA NICOLETA","2841217330241"]
["SPORT VISION TRADING SRL","RO33878190"]
["SPOSOB ADRIAN","1881123330673"]
["SPOSOB ION","1911223330676"]
["SPREAD COM SRL","RO 34940311"]
["SPRINGSOME S.R.L.","RO34880112"]
["SPRINTER 2000 SA","RO6620460"]
["SPRL 3D PROJECT CONSULTING ","BE0534815735"]
["SPRL B.C.M. CONSTRUCT","BE0849606667"]
["SPULBER NICOLAE IULIAN","1811201080061"]
["SQUARES MOBILA S.R.L.","37676720"]
["SR CAR PARTS CONCEPT","RO37956312"]
["SSS STRONG FAMILY CORPORATION S.R.L.","41387690"]
["STACIUC MARICEL","1610220034989"]
["STAFIE ILEANA","2480916330785"]
["STALEX LOGISTIC FMCG S.R.L.","RO26128225"]
["STAMATEANU CONSTANTIN","1510214335035"]
["STAMULEA MIHAI","1780623131298"]
["STAN RADU","1561030120712"]
["STAN VIOLETA","2740424334991"]
["STANASEL ANCA EXPERT CONTABIL","RO30306606"]
["STANCA ION-ADRIAN","1780918034976"]
["STANCIU ADRIAN","1790421330768"]
["STANCIU ALINA","2840502330234"]
["STANCIU DANIELA","2720105131211"]
["STANCIU MARIAN","1670522237292"]
["STANCIU MOBILA S.R.L.","40499199"]
["STANCIU NECULAI","1510712335021"]
["STANCIU OANA LOREDANA","nedef."]
["STANCIUC CRISTIAN","1840511330200"]
["STANCIUC VASILE","1840214330216"]
["STANCU GHEORGHE","1680325433015"]
["STAND SMART S.R.L.","RO30732202"]
["STANDARD DIMANCEA S.R.L.","RO3410978"]
["STANDARD NEXTMOBILIER S.R.L.","39383475"]
["STANESCU AMALIA","nedef."]
["STANESCU DRAGOS","1740106335063"]
["STANGA ROBERT IONUT","1801209375499"]
["STANICA M FLORIAN P.F.A.","20110903"]
["STANICA RODICA II","34778300"]
["STANISOR ALEXANDRU IONUT","1930222151940"]
["STANTOBANAT PRODUCTIE SRL","RO22014783"]
["STANUT IOAN","nedef."]
["STAR MOB DESIGN S.R.L.","RO3996568"]
["STARFIER S.R.L.","RO30151927"]
["STARK EXCLUSIV CONSULTING S.R.L.","33908568"]
["START XXI S.R.L.","RO18683267"]
["STAS-MOBILA S.R.L.","RO16212638"]
["STATE OVIDIU-IULIAN","1860218330221"]
["STAVROS GRUP SRL","RO14449183"]
["STEBALI TRANS SRL","RO10094495"]
["STEF PRO-INVEST S.R.L.","38246712"]
["STEFAN A. FLORIN I.I.","32780192"]
["STEFAN ADRIAN","1750509330014"]
["STEFAN COCOS","1771229335037"]
["STEFAN CRISTINEL-BOGDANEL","1790914214611"]
["STEFAN DORIN","1590516334991"]
["STEFAN DUMITRU","1681022335008"]
["STEFAN GEORGE","1761209421548"]
["STEFAN GHEORGHE","1790210133689"]
["STEFAN LUCIAN-IMPEX SRL","RO 5580588"]
["STEFAN MARIUS","1770407472529"]
["STEFAN NICOLAE VIOREL","1820228211261"]
["STEFAN RALUCA","2870223330215"]
["STEFANCU ELENE-ANCUTA","2900316330544"]
["STEFANCU IULIA-LARISA","6000707071375"]
["STEFANESCU SAVEL-DANUT","1810513330260"]
["STEFAROI BOGDAN IOAN","1770827335040"]
["STEPHANA FARM S.R.L.","RO14278318"]
["STEVANS INPEX SERVICE S.R.L.","RO5531470"]
["STIBLEI ANGHEL-NICOLAE II","RO31739900"]
["STICLET TOADER","1911225330225"]
["STIEGLBAUER LUCIAN","1770325113680"]
["STIL GLASS SRL","RO19161369"]
["STIL MEDIA S.R.L.","RO15693304"]
["STILCONFORT HOME S.R.L.","38977801"]
["STILL MOB CONFORT DESIGN S.R.L.","RO41445219"]
["STILL MOB ENTERPRISE S.R.L.","RO37288620"]
["STILL PRODUCTION HIGH S.R.L.","35130852"]
["STILMOB CONFORT S.R.L.","41097394"]
["STILSOFT MOB S.R.L.","RO29851021"]
["STINGACIU-DUMITRESCU FLORIN","1841101152501"]
["STIRBAN ERGICA","2610328335051"]
["STIRBU DELIA","2870506330213"]
["STOENESCU CONSTANTIN RAZVAN","1880302035292"]
["STOIAN AUREL","1590330131257"]
["STOIAN FLORIN","1830826134155"]
["STOICA C. PETRU - CRISTIAN I.I.","42934450"]
["STOICA EMIL-DAN","1720714260024"]
["STOKLASA TEXTILNI GALANTERIE","CZ25877666"]
["STOLNICU MIHAI DORU","1681017330779"]
["STOMOBI S.A.","RO452707"]
["STORAGE DEPO S.R.L.","RO34178330"]
["STORM MECHANICS 11 S.R.L.","RO39637956"]
["STORM MEDIA SRL","RO20945327"]
["STR ASSET MANAGEMENT S.R.L.","RO41137103"]
["STRACHINA MARICICA-CRISTINA","2850220330210"]
["STRAJER IONUT","1870707330254"]
["STRAMBEANU GELU","1850402330800"]
["STRATON CORINA","2720110335025"]
["STRATON ILIE","1650719335011"]
["STRATULAT VASILE","1800823225899"]
["STRECHINARU ANGELA","nedef."]
["STREET ADVERTISING S.R.L.","RO24430854"]
["STREJAC IONUT PAUL","1760624335012"]
["STREMCIUC NICOLAE","1611206335024"]
["STROMMEL 2SAT S.R.L.","RO37258379"]
["STRONG MND CORPORATION SRL","RO30852551"]
["STRONGTAPE SRL","RO9990157"]
["STRUGAR CONSTANTIN","1780515335063"]
["STRUGARI ION","1901018330548"]
["STRUGARIU ANDREI","1921115330195"]
["STRUGARU VASILE","1551121330017"]
["STRUT AURORA","2880827330224"]
["STUDIO IMPRESS DESIGN SRL","RO6413898"]
["STUDIO MODERNA S.A. ","RO15065733"]
["STUDIO SKY SRL","RO19112200"]
["STUDIO WEST CONCEPT S.R.L.","RO36257111"]
["STUPARU CONSTANTIN","1790511100060"]
["SUCEAVA PLUS SRL","RO14791576"]
["SUDOSERVICE SRL ","31628812"]
["SUIU BOGDAN","1810728330224"]
["SULERU DANIELA","2770211335006"]
["SULIVASTRU MIREL","1820923100161"]
["SULUGIUC BOGDAN","1850331330191"]
["SUMLANSCHI ILIE","1741004333192"]
["SUN DISTRIBUTION SRL","RO20959632"]
["SUNRISE MOB S.R.L.","RO35593695"]
["SUPER CALITE S.R.L.","22141795"]
["SUPERTECH Q MATERIALS SRL","RO33506781"]
["SURDU ADRIAN MARIUS","1670830070100"]
["SURPLEX GMBH","GB260525817"]
["SURPLEX GMBH","ESN0047364E"]
["SURPLEX GmbH ","DE815025076"]
["SURPLEX SCHWEIZ AG","CHE325604948"]
["SURUBARU FLORIN","nedef."]
["SURUGIU SEBASTIAN MARIAN","nedef."]
["SUSINO ROMANIA SRL","RO18833631"]
["SUSNOVICI SORIN","1790502333240"]
["SUTU ANISOARA","2790802335028"]
["SUVAR CRISTIAN IONUT","1710905284372"]
["SUVITEANU NICUSOR","1791110216200"]
["SVEDUNEAC IONUT","1901230330191"]
["SVIJIC V.D. PREST S.R.L.","RO3728824"]
["SVT ELECTRONICS SRL","RO18813138"]
["SVY MOB CUCINE S.R.L.","RO40493889"]
["SWEET HOME FURNITURE S.R.L.","RO38913816"]
["SWEETS BY PALE","RO38183592"]
["SYG MOB DESIGN S.R.L.","RO19189076"]
["SYM DEVELOPEMENT S.R.L.","RO36283781"]
["SYNERGY TEXTILE ","RO41721756"]
["SYNEVO ROMANIA SRL ","RO6479639"]
["SZABO ZOLTAN LUCIAN","1780402052870"]
["SZAKACS ISTVAN","1661204241666"]
["SZAKÁCS ISTVÁN-ANTAL I.I.","26021848"]
["SZANTO I. JOZSEF PFA","32527786"]
["Sal Company S.R.L.","RO7785857"]
["Sal Invent Srl-d","28185294"]
["Salco S.R.L.","RO1108362"]
["Salix Star Invest S.R.L.","RO30749964"]
["Sam Impex S.R.L.","RO2814633"]
["Samba Com S.R.L.","RO5020491"]
["Sami Plastic S.A.","RO12355651"]
["San Kruk S.R.L.","28399743"]
["Sanagria S.R.L.","RO14881784"]
["Sano S.R.L.","RO14399360"]
["Santa S.R.L.","RO22378"]
["Santei Mob Design S.R.L.","17700580"]
["Santi Comexim S.R.L.","RO9751443"]
["Sara Interiors S.R.L.","RO26062457"]
["Sarmasanca Trans S.R.L.","RO5122190"]
["Satex S.R.L.","RO1754800"]
["Satexim S.R.L.","RO2146020"]
["Saturn Invest S.R.L.","RO7573501"]
["Sava Paula - Intreprindere Familiala","28385500"]
["Savcom S.R.L.","RO8319871"]
["Savrom Agria","28317166"]
["Scala S.R.L.","RO13973766"]
["Scando S.R.L.","RO1159625"]
["Schenker Romtrans S.A.","RO5905159"]
["Schonberger S.R.L.","RO18650103"]
["Schubert & Franzke S.R.L.","RO17581153"]
["Schuller Eh Klar S.R.L.","RO18311905"]
["Scoala Gimnaziala \"Dimitrie Pacurariu\" Scheia","16135764"]
["Scoala Gimnaziala \"Ioan Bancescu\" Adancata","14129642"]
["Scoala Gimnaziala \"Ion Ciurea\" Falticeni","18260437"]
["Scoala Gimnaziala \"Ion Creanga\" Suceava","17065446"]
["Scoala Gimnaziala \"Miron Costin\" Suceava","16852335"]
["Scoala Gimnaziala \"Simion Florea Marian\" Ilisesti","16081591"]
["Scoala Gimnaziala \"Stefan Cel Mare\" Putna","14117648"]
["Scoala Gimnaziala \"luca Arbure\" Arbore","16093820"]
["Scoala Gimnaziala Bivolarie","18238146"]
["Scoala Gimnaziala Brodina","16100626"]
["Scoala Gimnaziala Calafindesti","14117672"]
["Scoala Gimnaziala Constantin Morariu Patrauti","14079617"]
["Scoala Gimnaziala Fratautii Vechi","14110437"]
["Scoala Gimnaziala Ipotesti","14124190"]
["Scoala Gimnaziala Mitocu Dragomirnei","14129634"]
["Scoala Gimnaziala Moara Nica","14079625"]
["Scoala Gimnaziala Nr. 10 Suceava","18238065"]
["Scoala Gimnaziala Nr. 8 Suceava","18238103"]
["Scoala Gimnaziala Ostra","14094544"]
["Scoala Gimnaziala Salcea","14117591"]
["Scoala Gimnaziala Stroiesti","14079595"]
["Scoala Gimnaziala Todiresti","16051264"]
["Scoala Gimnaziala Zvoristea","14117567"]
["Scoala Postliceala Sanitara Suceava","18252272"]
["Seba Wood Design S.R.L.","RO14474179"]
["Security Management S.R.L.","RO23147818"]
["Sedcomlibris S.A.","RO713586"]
["Segra Nordic S.R.L.","RO26104960"]
["Select Plus S.R.L.","RO10864926"]
["Select Standard Service S.R.L.","RO28496452"]
["Selene Impex S.R.L.","RO8674113"]
["Self Trust S.R.L.","RO12345038"]
["Selmob Grup S.R.L.","RO16622484"]
["Semcip Service S.R.L.","RO9196718"]
["Semtur S.R.L.","RO14497504"]
["Sendero Maya S.R.L.","20868844"]
["Seneca Serv S.R.L.","RO6500544"]
["Senso Design S.R.L.","23970368"]
["Senzor S.R.L.","14256166"]
["Sep Hotel S.R.L.","RO20202934"]
["Sephora Cosmetics Romania S.A.","RO13434907"]
["Serban Mobilier S.R.L.","RO19242994"]
["Seredenciuc V. Daniel Tranzactii Imobiliare","RO26760549"]
["Serme Vulk S.R.L.","27787240"]
["Sernic-sny S.R.L.","RO32803423"]
["Service Inter Prod 95 S.R.L.","RO6736724"]
["Service Prompt S.R.L.","RO727913"]
["Service Security Kfc S.R.L.","RO28609900"]
["Servicii \"Torpedo\" S.R.L.","RO5362010"]
["Serviciul De Ambulanta Judetului Suceava","7409380"]
["Set-corporation S.R.L.","RO29084042"]
["Setinstal S.R.L.","RO1757076"]
["Setland Com S.R.L.","RO6977528"]
["Sev&Art Concept","26058480"]
["Sfera Mob S.R.L.","RO22755507"]
["Sgv Grup S.R.L.","15679164"]
["Shatter S.R.L.","RO8122852"]
["Shock Consulting S.R.L.","21922046"]
["Siacs S.R.L.","RO9837030"]
["Siarom S.R.L.","RO15702828"]
["Sibac Com S.R.L.","RO5941267"]
["Sidem S.R.L.","RO13847989"]
["Sigconsulting S.R.L.","17599649"]
["Sigemo Impex S.R.L.","RO6417962"]
["Sigma Design Company Ltd S.R.L.","RO6767380"]
["Sigma Lux","16014258"]
["Sigma XXL S.R.L.","RO6908552"]
["Sigmatex S.R.L.","25063802"]
["Silinel Turist S.R.L.","RO16951991"]
["Silva Logistic S.R.L.","RO7056041"]
["Silva Value S.R.L.","18678236"]
["Silvarom S.A.","RO433926"]
["Silver Decor S.R.L.","RO18609953"]
["Simex Total","RO28425770"]
["Simi Impex S.R.L.","RO6897461"]
["Simo Starprest","RO6506857"]
["Simos Com S.R.L.","RO9066947"]
["Simprest S.R.L.","14426490"]
["Sincron Com Prest S.R.L.","RO71745"]
["Sindicatul \"Prometeu\" Suceava","8885862"]
["Sirtisa Consulting S.R.L.","RO8318906"]
["Sistem Conect S.R.L.","RO15299262"]
["Skill S.R.L.","RO16568970"]
["Smart Consulting S.R.L.","RO14205731"]
["Smart Group Solutions S.R.L.","RO18867537"]
["Smery S.R.L.","RO22179765"]
["Sms International S.R.L.","RO1070250"]
["Sms Romania S.R.L.","RO13718550"]
["Snobi Club S.R.L.","16402594"]
["Soares Consulting S.R.L.","RO24778914"]
["Socar Petroleum","RO12546600"]
["Societate Cooperativa Autorecord","RO1814988"]
["Societate Cooperativa Mestesugareasca Metalo-Casnica","RO1570654"]
["Societatea Civila Profesionala De Executori Judecatoresti \"Dumitras si Asociatii\"","RO28641757"]
["Societatea Civila Profesionala de Avocati \"HRISTESCU SI ASOCIATII\" ","RO28033911"]
["Societatea Companiilor Hoteliere Grand S.R.L.","RO1594319"]
["Societatea Nationala De Transport Feroviar De Calatori - Cfr - Calatori S.A.","RO11054545"]
["Societatea Romana Pentru Certificare Rocert S.R.L.","RO9754830"]
["Soclu S.R.L.","RO5105903"]
["Soconi Group S.R.L.","RO15174587"]
["Sof Service S.R.L.","RO14872336"]
["Soferul S.R.L.","RO2816979"]
["Softkey S.R.L.","RO13759496"]
["Sogem Production S.R.L.","RO24621889"]
["Solar Tour S.R.L.","RO14940139"]
["Solarenergy S.R.L.","RO16577359"]
["Solenis Com S.R.L.","7194826"]
["Solomon Marcel-Adrian Intreprindere Individuala","32575783"]
["Solomon Marius Marcel Intreprindere Individuala","26433377"]
["Solution Plus S.R.L.","RO24134921"]
["Somproduct S.R.L.","RO24781693"]
["Sonae Industria","DE125215656"]
["Sonic Internet S.R.L.","RO18945635"]
["Sonigrad Wood S.R.L.","15728402"]
["Sonik Group S.R.L.","RO17095625"]
["Sopota S.R.L.","17482370"]
["Sora International Trade Shipment S.R.L.","RO4028420"]
["Sorelo S.R.L.","RO136305"]
["Sorida Com S.R.L.","RO4639431"]
["Sorste S.A.","RO6704250"]
["Spa & Suites S.R.L.","27180671"]
["Speed Cad S.R.L.","RO32483647"]
["Speed Computers & Service S.R.L.","RO18418660"]
["Speed Net Curier S.R.L.","17646031"]
["Sphera Design S.R.L.","RO18145055"]
["Spilt Ion Com S.R.L.","RO10159942"]
["Spit Bucovina S.A.","RO728129"]
["Spitalul Clinic Municipal \"dr. Gavril Curteanu\" Oradea","4208463"]
["Spitalul De Urgenta Petrosani","4374873"]
["Spitalul Judetean De Urgenta \"Sfantul Ioan Cel Nou\" Suceava","4243983"]
["Spitalul Municipal Urziceni","4364969"]
["Spo Com S.R.L.","RO5847074"]
["Sport Logistic S.R.L.","RO23785450"]
["Spring Prod Com S.R.L.","RO5636069"]
["Sprint Curier S.R.L.","14429186"]
["Sprinter Auto S.R.L.","RO18645905"]
["Ssv Auto Srl-d","RO31245027"]
["Staer International S.A.","RO2643282"]
["Stan C.Daniil Persoana Fizica Autorizata","27738035"]
["Stancomar Impex S.R.L.","RO15356775"]
["Star Activ Construction S.R.L.","RO21328630"]
["Star Alliance Logistics S.R.L.","RO25327670"]
["Star Transport Curier Expres S.R.L.","RO31212704"]
["Star Transport Curier S.R.L.","RO22630759"]
["Star Vip Royal S.R.L.","31954312"]
["Star-service S.R.L.","RO3246264"]
["Start International S.R.L.","23048946"]
["Starvip S.R.L.","RO27455314"]
["Status Impex S.R.L.","RO5644746"]
["Stavarachi Prod Com S.R.L.","RO9720560"]
["Stedia Service S.R.L.","RO21104802"]
["Steel Inox S.R.L.","RO23523092"]
["Stef S.R.L.","RO1959474"]
["Stelco S.R.L.","RO4107787"]
["Steldan S.R.L.","RO1503310"]
["Stil Autentique S.R.L.","RO15681261"]
["Stil Biju S.R.L.","RO14363049"]
["Still Design Production S.R.L.","RO24364882"]
["Stilus S.R.L.","RO14797951"]
["Stoian Diana Florina Intreprindere Individuala","26868231"]
["Stoica Petru Cristian Persoana Fizica Autorizata","23047983"]
["Storm Magic S.R.L.","RO27310372"]
["Storo S.R.L.","RO8552760"]
["Stoyk Company S.R.L.","RO7299326"]
["Studio Blue S.A.","RO16403565"]
["Studio Klassico S.R.L.","RO32481956"]
["Styl Adria S.R.L.","RO18848560"]
["Sugaskert S.R.L.","RO6832250"]
["Sui Generis Management Consulting","RO14882216"]
["Summer Conf S.R.L.","RO8145996"]
["Sunday Events Production S.R.L.","RO32595110"]
["Supca 2001 S.R.L.","RO13917618"]
["Superlativ Com S.R.L.","RO8974480"]
["Supermob S.R.L.","RO13008944"]
["Suppliers Concept S.R.L.","RO23298799"]
["Surplex GmbH","CZ682476042"]
["Surub Trade S.R.L.","RO3563696"]
["Suvenir S.R.L.","RO1466468"]
["Symmetrica S.R.L.","RO6552535"]
["Sympoland S.R.L.","RO24425491"]
["Szabo Sandor-Ferenc Persoana Fizica Autorizata","25645134"]
["Szakal Metal S.R.L.","RO14388698"]
["Szalito Nev","HU13122605"]
["Szekely A-g Csaba Intreprindere Individuala","17224924"]
["Sziad Mol S.R.L.","RO30764573"]
["Szkaliczki Service S.R.L.","RO16250445"]
["SÂNA MIHAITA-PAMFIL ÎNTREPRINDERE INDIVIDUALA","RO31152840"]
["T Heaven Ro S.R.L.","RO18932902"]
["T.l.t. Incasa S.R.L.","RO29932053"]
["TABARCEA BRANDUSA","nedef."]
["TABARCEA MIHAI","1820211330211"]
["TABOL GHEORGHE","1681007270612"]
["TABOO STYLE S.R.L.","RO37488866"]
["TABREA  MARIAN","1930807330219"]
["TACONE S.R.L.","RO1302007"]
["TAF & CO INVEST S.R.L.","RO6773625"]
["TAKA & TAKA CONSTRUCT S.R.L.","RO22913364"]
["TALPAU ELENA","2800515170083"]
["TALU CONCEPT S.R.L.","39934795"]
["TAMPAU LUCIAN","1850616336671"]
["TAMPLARIA CASEI TALE S.R.L.","39780084"]
["TAMPLARIA LIVIU S.R.L.","RO37738490"]
["TAMPOURIS LUMINITA","nedef."]
["TANASA C. FLORICA INTERPRINDERE INDIVIDUALA ","28430202"]
["TANASE DAN","1480705335015"]
["TANASE IULIANA","2661224335006"]
["TANASE MARIUS (AG)","1880215035268"]
["TANASE MIRCEA","nedef."]
["TANASE SILVIU","nedef."]
["TANASE SORIN P.F.A.","43238686"]
["TANASE STEFAN","nedef."]
["TANCA IOANA","2810901303913"]
["TANDEM MOB S.R.L.","RO26053203"]
["TANISLAV CULTURE S.R.L.","37037858"]
["TAOMOB CONSULTING S.R.L.","RO33459450"]
["TAPIMOB STAR S.R.L.","RO18423933"]
["TAPISAL S.R.L.","RO3532258"]
["TARA SA","RO129200"]
["TARABOANTA ADINA","2770509335038"]
["TARABOI CORNEL","1890430336370"]
["TARANU PAUL IONUT","1870601330262"]
["TARCA CARMEN-MIHAELA","2721017336066"]
["TARITA S.R.L.","RO2693663"]
["TARITE PAVEL","1700105335033"]
["TARNAUCEANU DANIEL","1680714330038"]
["TASKPRESTSERV S.R.L.","RO31218430"]
["TASNADI ZOLTAN P.F.A.","33828167"]
["TATARANGA SAMUEL","1881002330190"]
["TATARASANU TIBERIU-STELIAN II","RO33130600"]
["TATARU ION","1860408803916"]
["TATARU RADU","1770910330809"]
["TATARU ROBERT","1820418460021"]
["TAZLAOANU BOGDAN-NICU","1860617134184"]
["TCACIUC FLORIN","1760329333257"]
["TCACIUC LIVIU","nedef."]
["TCACIUC MIHAI","1701102333243"]
["TECH VULK SRL","RO17949264"]
["TECHNICK POWER KP SRL","RO25184510"]
["TECHNOWOOD SRL","RO17077351"]
["TECS S.R.L.","RO4434703"]
["TECTONA S.R.L.","RO3936680"]
["TED EXPERT SRL ","16041988"]
["TEEKCONSTRUCT PRODCOM S.R.L.","RO17810613"]
["TEHNIC DESIGN CONCEPT S.R.L.","RO37015604"]
["TEHNIC INSTAL INVEST S.R.L.","RO31540833"]
["TEHNINVEST SRL","RO8475455"]
["TEHNITES S.R.L.","13197304"]
["TEHNO AREDAMENTI S.R.L.","RO22879998"]
["TEHNO CLASS MOB S.R.L.","RO15071441"]
["TEHNO LESAN SRL","RO25435183"]
["TEHNO MOB FLOREA SRL","RO5556210"]
["TEHNO-DINAMIC SRL","RO7858207"]
["TEHNOACTIV SRL","RO7070364"]
["TEHNOBODY JUNIOR SRL","RO38149485"]
["TEHNOCOM LIV SRL","RO17179246"]
["TEHNOMAR CONSUL SRL","RO16400895"]
["TEHNOPLUS FOREST S.R.L.","RO6508882"]
["TEHNOPROD S.R.L.","RO6247515"]
["TEHNOSTAR","RO1160514"]
["TEHNOSTAR LTD SRL","RO31621490"]
["TEILE MDG SRL ","RO35278078"]
["TEKA  KUCHENTECHNIK ROMANIA SRL","RO22971454"]
["TEKNICA LEGNO S.R.L.","RO32054190"]
["TEKNO EUROCONSTRUCT SRL","RO13740329"]
["TELEAGA GHEORGHE","1840329330534"]
["TELEHOI GHEORGHE","1761220336730"]
["TELETEC SRL","RO14063769"]
["TELIBAN DANIEL","1770129073536"]
["TELLIUS S.R.L","RO13786687"]
["TEMNEANU CATALIN","1760604073541"]
["TEMPERA ADVERTISING SRL","RO 21597794"]
["TEMPEST S.R.L.","RO2377784"]
["TEN VET MEDICAL","40699189"]
["TEO PALLRAM S.R.L.-D","35494659"]
["TEO PRODMOB DESIGN S.R.L.","RO37238665"]
["TEODOR GEORGIANA ALEXANDRA","2850821297268"]
["TEODORESCU CIPRIAN","1800508330211"]
["TEODORESCU GABRIELA","2780222335045"]
["TEODOROVICI DANIEL","1910223336676"]
["TEODOROVICI EUDOCHIA RODICA","2780406336749"]
["TEODOROVICI GHEORGHITA","1920914333823"]
["TEODOROVICI ION","1530827335010"]
["TEODOSIE CLAUDIU","1890724330202"]
["TEOKLASS SRL","RO10875437"]
["TEONIC S.R.L.","RO10714902"]
["TEOSIN SRL","RO18333830"]
["TERA EXCAVATIONES 2007 SRL","RO22207903"]
["TERASTEEL S.A.","RO6694483"]
["TERMEN REMUS ","1591025073536"]
["TERMO - PLAST SYSTEM S.R.L.","17958009"]
["TERMO AMBIENT S.R.L.","RO16250879"]
["TERMOHABITAT","RO30688468"]
["TERMOMYD AM S.R.L.","42326119"]
["TERMOSIN S.A.","RO6665283"]
["TERMOTIM S.R.L.","RO17508128"]
["TERPEZ MIHAELA","2701006336045"]
["TERRADOM CONSTRUCT S.R.L.","RO22245508"]
["TERRAMOB ART DESIGN S.R.L.","RO27036219"]
["TERSTAPPEN AUTOVERMIETUNG GmbH","DE 287125733"]
["TERTELIU D. MONICA - MEDIC SPECIALIST PEDIATRIE","34574504"]
["TERTELIU FLORIN","1780324424541"]
["TERTELIU MONICA","2791204335049"]
["TERTELIU VIORICA","2531210400053"]
["TESCANI IMPEX SRL","RO3531309"]
["TESCOI MARIN I.F.","31091980"]
["TESS HOUSE ENERGY SRL","RO34350590"]
["TESS TYRE S.R.L.","RO18866833"]
["TEST AUTOCOVER SRL","RO30193850"]
["TEXTY GARMENTS S.R.L.","RO26755216"]
["TGG SERVICE TRANS SRL","RO32483108"]
["THE MOJO STUDIO SRL","RO30682660"]
["THE PRINCE INTERNATIONAL S.R.L.","RO6079764"]
["THE WRIGHTONGTON HOTEL&COUNTRY CLUB","994 5356 68"]
["THERME NORD BUCURESTI SRL","RO28472550"]
["THOMAS FASHION S.R.L.","RO6111113"]
["THOR DESIGN CONCEPT S.R.L.","36822258"]
["THR Marea Neagra S.A.","RO2980547"]
["TIA COLORS DESIGN S.R.L.","RO23607576"]
["TIBEX SERV SRL","RO7153176"]
["TIC MOB S.R.L.","RO14702838"]
["TICAREAC ELENA","2771204330019"]
["TICKET SOFT S.R.L.","RO38532161"]
["TICU FLORIN","1630407274786"]
["TIFEX CHAIR COMPANY S.R.L.","RO15285305"]
["TIHULCA DUMITRU","1790926335072"]
["TILLIS DESIGN S.R.L.","RO9035525"]
["TIM GROUP SRL","RO21344392"]
["TIM-FILDANA SRL","RO5833591"]
["TIMBER MOB SRL","RO30691315"]
["TIMEX TUR SRL","RO3177490"]
["TIMOFCIUC ION","1681225335003"]
["TIMOFICIUC ANA-MARIA","nedef."]
["TIMOFTE CONSTANTIN","1660620330817"]
["TIMOFTE CORNEL","1740513335006"]
["TIMOFTE IULIAN","1880718330197"]
["TIMOFTI LAURENTIU","1820811070032"]
["TIMPAU CORNEL","1840303330190"]
["TINO MOB S.R.L.","RO16726922"]
["TIPERCIUC DOREL","1630607336731"]
["TIPOGRAFIA CELESTIN SRL","RO3527600"]
["TIPOGRAFIA SEDCOM LIBRIS SRL","RO14278733"]
["TIR EXPRESS LOGISTIC SRL","RO30208128"]
["TIRES AND PARTS SRL","RO35056829"]
["TIRON BOGDAN","1910811134164"]
["TIRON WERNER","1850220330550"]
["TITI CAMELIA","2791014335071"]
["TITI COM S.R.L. ","RO16001380"]
["TITIENI DOMNICA","2700314332160"]
["TMR FLOWERS SRL","RO36065825"]
["TOADER CRISTINEL","1770325335020"]
["TOADER DANUT","1700118335010"]
["TOADER GIGEL","1790421343250"]
["TOADER RADU GABRIEL","1770220120669"]
["TOBIMAR CONSTRUCT S.R.L.","RO17419985"]
["TOCARIU ION","nedef."]
["TOCEA MIRELA","2731114131299"]
["TODA STELA","2590213131287"]
["TODERAS VASILE","nedef."]
["TODIRAS LILIANA","2771107343235"]
["TOFAN GABI","1760615434522"]
["TOLBA SRL","RO21528247"]
["TOLESCU CIPRIAN","1920530336381"]
["TOM AUTO ITP SRL","42175628"]
["TOMA ANDREI","nedef."]
["TOMA IONEL","1711117040097"]
["TOMA MONALISA","2870201450082"]
["TOMASCU ION","1850720331905"]
["TOMASCU IRIMIE","2971015331903"]
["TOMAZ IONUT-ALIN","1870623336315"]
["TOMEGEA VASILE ","nedef."]
["TOMESCU ANA - MIRELA PERSOANA FIZICA AUTORIZATA","25079345"]
["TOMESCU MIHAI-ALEXANDRU","5010115330196"]
["TOMITA ALIN","1780615335024"]
["TOMSIM SRL","RO24760968"]
["TONIC TRANS S.R.L.","RO3778547"]
["TONIGA MOB S.R.L.","33859090"]
["TONTSCH DANALENA","nedef."]
["TONUS IMPEX S.R.L.","RO4985206"]
["TOP BATTERY S.R.L.","RO27848500"]
["TOP FASHION STORE ONLINE S.R.L.","RO30465857"]
["TOP GIM MOB S.R.L.","41606927"]
["TOP PROPRIETATI SRL","38660977"]
["TOP UTIL CONSTRUCT SRL","RO30119918"]
["TOPARCEAN DUMITRU","1690903323674"]
["TORJOC MINODORA FLORENTINA","2850410303937"]
["TOTAL ALKYON S.R.L.","RO31133627"]
["TOTAL MAPINVENT SRL","RO30630008"]
["TOTAL MOBILA PRODCOM S.R.L.","RO10418257"]
["TOTO - ROM S.R.L.","RO6446666"]
["TOTOLIVE FASHION DISTRIBUTION S.R.L.","RO39009765"]
["TOUCHED MARKETING SRL","RO34640349"]
["TOURISM&CONFERENCE S.R.L.","RO40685264"]
["TRABO-PLUS SRL","1003600033974"]
["TRADY 2000 S.R.L.","RO12472171"]
["TRAINIC 1 SRL","RO 5342020"]
["TRANDAFIR MIHAIL","1791223151238"]
["TRANS ABALASEI FIER SRL","RO21909624"]
["TRANS LUKY SRL","RO17220167"]
["TRANS RUBY S.R.L.","RO17279520"]
["TRANSAVIA S.A.","RO5182310"]
["TRANSFER MULTISORT ELEKTRONIK SRL","RO25222010"]
["TRANSILVANIA GENERAL CERTEZE S.R.L.","RO6142268"]
["TRANSILVANIA GENERAL IMPORT-EXPORT S.R.L.","RO97800"]
["TRANSILVANIA SOFFA S.R.L.","RO37216306"]
["TRANSIT S.R.L.","RO734791"]
["TRANSPED RC RAC S.R.L.","RO29064533"]
["TRANSPROS DIVERS CARGO S.R.L.","33917345"]
["TRAOLI SRL","RO18050931"]
["TRATTORIA CAPONE S.R.L.","RO39600213"]
["TRATTORIA DEI FRATELLI S.R.L.","RO38858061"]
["TRATTORIA SOLE S.R.L.","RO42189615"]
["TRAVEL SRL","RO24183959"]
["TRAVELAGO BEST CONCEPT S.R.L.","40679220"]
["TREND LOREM S.R.L.","RO22820710"]
["TREND MOB DESIGN S.R.L.","36169737"]
["TRENDMOB PITESTI S.R.L.","44239060"]
["TRESCIUC ILIE","1710615334949"]
["TRIDENT MOB S.R.L.","RO2581740"]
["TRIESTE PRODUCT IMPEX S.R.L.","RO17290669"]
["TRIF OVIDIU","1741010120662"]
["TRIFAN CREANGA","1731009332145"]
["TRIFOI PLUS SRL","nedef."]
["TRIMAX SOLUTIONS SRL","RO28704308"]
["TRIMOB COMPANY S.R.L.","35797601"]
["TRIO FINCON CONSTRUCT S.R.L.","RO18531366"]
["TRIOM 2007 S.R.L.","22922176"]
["TRIPOINTS CONSULTING S.R.L.","33688136"]
["TRITON S.R.L.","RO7424364"]
["TRIUMF CONCEPT","23242470"]
["TROFI MOB S.R.L.","RO15009865"]
["TROFIN GHEORGHE","1751011334990"]
["TROMPY COMPANY SRL","RO18411327"]
["TRONCEA IONEL","1831013430010"]
["TRUCK DIESEL SERVIC","RO13607951"]
["TRUFIN IOANA","2840619330216"]
["TRUST ELECTRO-M SA","RO4359156"]
["TRY GRUP BETOANE SRL","33601520"]
["TRY STAR MANAGEMENT S.R.L.","RO17553765"]
["TSP GRUP ETALON S.R.L.","RO23862552"]
["TTC INCASA MOBILI SRL","RO34619703"]
["TU SI EU S.R.L.","RO13639325"]
["TUDOR MOB WOOD S.R.L.","39795557"]
["TUDOR SELF SRL","RO11873612"]
["TUDORACHE ELENA","nedef."]
["TUDORACHE GABRIEL","1801012151956"]
["TUDORACHE GEORGETA","2651231400324"]
["TUDORACHE MARCEL","1750301077304"]
["TUDORACHE VIOLETA","nedef."]
["TUDOSA NICOLETA","2831209331667"]
["TUDOSCA GHEORGHITA","1571217335033"]
["TUDURUTA CARMEN","2720627335001"]
["TUDUSCIUC CRISTIAN","1780601374068"]
["TUGUI LUCICA MIHAELA","nedef."]
["TUGUREL AUREL","1781210135714"]
["TULBURE CRISTINA","2770521330791"]
["TULBURE TUDOREL","1791111330771"]
["TULICA VASILE","1760802330786"]
["TUNING DEN SRL","37254121"]
["TURBO LIDER SRL","RO35118646"]
["TURCAN OLEG","7991205330028"]
["TURCULET ADRIAN","1750203334997"]
["TURCULET CRISTIAN","1770717335033"]
["TUREL SIMONA","2671031335012"]
["TURIN MANAGEMENT S.R.L.","RO33808577"]
["TURIST MOTO-VELO SRL","RO733974"]
["TURLEANU TATIANA","nedef."]
["TURLIU MARIUS-FLORIAN","1900929420035"]
["TURLUI SORIN P.F.A.","31488158"]
["TURNUL LUI NAE S.R.L.","RO15237006"]
["TURQUOISE STUDIO DESIGN S.R.L.","RO27317613"]
["TURTUREAN TIBERIU","1940404330214"]
["TURTURICA ALIN-PETRU","1880130393919"]
["TURUC DRIM S.R.L.","RO40779580"]
["TURZA ADRIAN","1870501330201"]
["TUTUIANU EDUARD GEORGE","1771221441558"]
["TUTUNGIU COSTEL-ORLANDO","1760326424522"]
["TUV SUD ROMANIA SRL","RO14842360"]
["TWINS CAFE SRL","RO16975150"]
["TXT MOB S.R.L.","RO37512034"]
["TYNMOB S.R.L.","24146853"]
["TYREDATING SAS","RO30595539"]
["TYZY-MOB S.R.L.","RO38475406"]
["Tabrea D. Cristina - Intreprindere Individuala","18171283"]
["Tam Komodil S.R.L.","RO15278332"]
["Tamanio S.R.L.","RO14122300"]
["Tamistef S.R.L.","RO17511069"]
["Tand-zwole S.R.L.","RO2214094"]
["Tandre Impexco S.R.L.","RO9446636"]
["Tanya Com S.R.L.","24770724"]
["Tapmobisa S.R.L.","RO17001779"]
["Tarra Plast S.R.L.","RO5099976"]
["Tartak S.R.L.","RO13524074"]
["Tasu Gold S.R.L.","RO33918910"]
["Taurus Group S.R.L.","RO13556955"]
["Tavi S.R.L.","RO715013"]
["Tce Logistica S.A.","RO15050775"]
["Tce Transexpress","RO14355771"]
["Te Iubesc S.R.L.","RO24529727"]
["Teca Soft Service S.R.L.","33029879"]
["Tecadra Hotels S.R.L.","RO16068347"]
["Technova Invest S.R.L.","RO8080331"]
["Tecnocasa S.R.L.","RO14624853"]
["Tecnostar Consulting S.R.L.","RO16052073"]
["Tehnic Proiect S.R.L.","RO722819"]
["Tehnic Tools S.R.L.","RO18986074"]
["Tehno World S.R.L.","RO15231305"]
["Tehnochim S.R.L.","RO5020688"]
["Tehnoelectric S.R.L.","RO16855137"]
["Tehnoinstal S.R.L.","RO14182425"]
["Tehnolemn S.R.L.","RO499173"]
["Tehnomob Invest S.R.L.","33278144"]
["Tehnoprotector S.R.L.","RO3903607"]
["Tehnostrade S.R.L.","RO17042060"]
["Tekmatools S.R.L.","RO27995306"]
["Telecom Network Solutions S.R.L.","18155393"]
["Telekom Romania Communications S.A.","RO427320"]
["Teleraul Mobex Srl-d","RO29890870"]
["Telorian Com S.R.L.","RO13614371"]
["Temater S.R.L.","RO15361089"]
["Tentation Grupp S.R.L.","RO18608923"]
["Teodin Consulting","19250580"]
["Teodor Fam Com S.R.L.","RO8551781"]
["Teovet S.R.L.","RO16493690"]
["Tera Design Mobila S.R.L.","26425056"]
["Terbium Technich S.R.L.","RO32403680"]
["Tercons S.R.L.","RO717910"]
["Termica S.A.","RO14682110"]
["Termo Prod Nv S.R.L.","RO15020251"]
["Termoplanet Design","RO32362360"]
["Terra Design S.R.L.","RO6450799"]
["Terra Fortuna S.R.L.","17831241"]
["Terraflor S.R.L.","RO17089682"]
["Tesano S.R.L.","RO17004341"]
["Tessuti Fiorentini Com S.R.L.","RO5967194"]
["Test Prima S.R.L.","RO744639"]
["Tet-gim S.R.L.","RO17249562"]
["Texmarieli S.R.L.","32941280"]
["Th Junior S.R.L.","RO6887050"]
["Thermoflux S.R.L.","RO9232322"]
["Think Media Solutions S.R.L.","18853396"]
["Thoma's Team S.R.L.","RO17495524"]
["Thot Design Furniture S.R.L.","RO27562027"]
["Tiacom Auto S.R.L.","RO17927789"]
["Tiara Serv","28953902"]
["Tiban Com 94 S.R.L.","5801867"]
["Tibinvest S.R.L.","RO18117616"]
["Tim Ciclop S.R.L.","RO4663243"]
["Tim.il.tur S.R.L.","RO14294623"]
["Timas S.R.L.","RO4899512"]
["Timcip Construct S.R.L.","RO30443824"]
["Timexpert Consulting S.R.L.","RO16161887"]
["Timi Com S.R.L.","RO4695610"]
["Timtex Com S.R.L.","RO2008566"]
["Tinimet S.R.L.","2561085"]
["Tintirescu Doina Mirella Intreprindere Individuala","26982944"]
["Tip Top Bob S.R.L.","RO640859"]
["Tiplea Daniela-mihaela Intreprindere Individuala","29813354"]
["Tipo Lidana S.R.L.","RO13069208"]
["Tipo-Rex Service S.R.L.","RO13807216"]
["Tipoart S.R.L.","RO12907527"]
["Tipografia Agressione S.R.L.","12161752"]
["Tires 4 All People S.R.L.","30294013"]
["Tiriac Auto","RO11331727"]
["Tisamo - Oil S.R.L.","RO27779582"]
["Titan Mobila S.R.L.","30404400"]
["To & Mid Transilvania S.R.L.","RO33341993"]
["Todtiger S.R.L.","RO27137051"]
["Toma Catalin Tranzactii Imobiliare","RO29655335"]
["Tomek Carpet Company S.R.L.","RO13115819"]
["Tomoiaga I. Ion Intreprindere Familiala","14855785"]
["Tonalin Impex S.R.L.","RO3829713"]
["Tonica S.R.L.","RO6338672"]
["Top Auto Dmv S.R.L.","RO4869376"]
["Top Construct S.R.L.","RO15147477"]
["Top Design S.R.L.","RO15751120"]
["Top Drum S.R.L.","RO22388044"]
["Top Glass Service S.R.L.","RO14450137"]
["Top Joy S.R.L.","RO14477370"]
["Topo Cons Nord S.R.L.","RO16472859"]
["Total Business Advisor-tba S.R.L.","RO22733606"]
["Total Bussines S.R.L.","22103880"]
["Total Design S.R.L.","RO17990565"]
["Total Lemn S.R.L.","RO17503392"]
["Total Service Electrocasnice S.R.L.","RO23979286"]
["Total Speed Mobile S.R.L.","29071557"]
["Total Technology Construct","RO12447089"]
["Totalact S.R.L.","17139306"]
["Totalmob S.R.L.","RO14931823"]
["Totelecan Traian Intreprindere Individuala","32285844"]
["Trado Motors S.R.L.","RO13632203"]
["Traffic Chairs S.R.L.","RO18542594"]
["Trainic Mob S.R.L.","RO19503429"]
["Trans Car Company S.R.L.","RO16177387"]
["Trans Energy S.R.L.","RO22430122"]
["Trans Est Vest S.R.L.","RO12425846"]
["Trans Ivinis & Co S.R.L.","RO5851237"]
["Transcom S.A.","RO2469306"]
["Transcom-h S.R.L.","RO216889"]
["Transelectrica S.A.","RO13328043"]
["Transeuro Link S.R.L.","RO11691718"]
["Transilvania Paulesti S.A.","RO6594220"]
["Transmobis","15017590"]
["Transmobis Expert","RO34034911"]
["Transport Auto Severin S.A.","RO742093"]
["Transporturi Auto Suceava S.A.","RO3177601"]
["Transtax S.R.L.","RO2264963"]
["Trazacon S.R.L.","RO6333063"]
["Trecatorul Com S.R.L.","RO6508947"]
["Trend Furniture S.R.L.","RO15814422"]
["Trendy S.R.L.","18408003"]
["Triagis S.R.L.","RO28423086"]
["Triamob S.R.L.","RO8080200"]
["Triplu R S.R.L.","RO24235330"]
["Trutzi S.R.L.","RO17898144"]
["Tsg Edilprest S.R.L.","17998534"]
["Tudor Decor Apt S.R.L.","31135490"]
["Turbotoni S.R.L.","RO28915259"]
["Turism Ariesul S.A.","RO199648"]
["Turism Montana S.R.L.","RO2611817"]
["Turism Parc S.A.","RO10459990"]
["Tuscania S.R.L.","RO7714473"]
["Tuttigusto S.R.L.","31325991"]
["Tutto Mobili S.R.L.","RO14427037"]
["Tuvahor S.R.L.","24992020"]
["Tuya Invest Corporation S.R.L.","RO3486372"]
["Twomar Kontact Services S.R.L.","RO26043722"]
["U.M. NR.0807 IASI-SEDIUL SECUNDAR SUCEAVA","RO4244466"]
["UAS SERVICE SRL","RO 26149694"]
["UBIC SERV SRL","RO18248549"]
["UBY MOB S.R.L.","RO30795650"]
["UCADI MOB DESIGN S.R.L.","RO35483684"]
["UCIN COMPANY IMPEX S.R.L.","RO11541788"]
["UCU MOBEXPERT S.R.L.","RO36203120"]
["UDUDEC AURELIA IONELA","2850712330286"]
["UDUDEC MARIUS","1740903335072"]
["UDUDEC MIHAI","1730725333231"]
["UHLIUC PETRU","1730428333210"]
["ULPROD S.R.L.","RO6756691"]
["ULTRASOUND DIAGNOSTIC SRL","37918238"]
["UNDERWEAR PRODUCTION SRL","40378081"]
["UNGURASU ALEXANDRU","nedef."]
["UNGUREAN ALEXANDRU-LUCIAN ÎNTREPRINDERE INDIVIDUALA ","RO31806006"]
["UNGUREANU DANIEL","nedef."]
["UNGUREANU DANIEL-NICUSOR","1740701043782"]
["UNGUREANU GHEORGHE","2540929330790"]
["UNGUREANU IULIA","2920708330238"]
["UNGUREANU LIVIU","1700921332141"]
["UNGUREANU MIRCEA","1440428335010"]
["UNGUREANU PETRUTA","nedef."]
["UNIC MOBIL-NEAG S.R.L.","RO16457433"]
["UNICAN PRODUCTION S.R.L.","RO9435165"]
["UNICORN CENTER A.H. S.R.L.","RO23536858"]
["UNIK DESIGN S.R.L.","RO21472197"]
["UNIK ELENA DESIGN S.R.L.","RO33642988"]
["UNILIFT SERV SRL","RO28190207"]
["UNIMOB PRODCOM S.R.L.","RO6320292"]
["UNION CARS SRL","RO15642718"]
["UNION KARMA S.R.L.","RO2945302"]
["UNIOPTIC SRL","RO11269579"]
["UNIQ MOB S.R.L.","RO18060927"]
["UNIQUE MOB CREATIV S.R.L.","34660095"]
["UNIQUE REAL ESTATE DEVELOPMENT SRL","RO22801000"]
["UNIQUE SCANTEIA SRL","36723726"]
["UNISEM SA","RO302"]
["UNITA TURISM HOLDING S.A","RO2094737"]
["UNITECHNIC.CZ S.R.O","CZ27425134"]
["UNIVERS CLAS MOB S.R.L.","RO26043277"]
["UNIVERSAL-LUXOR SRL","RO622488"]
["UNIVERSITATEA \"STEFAN CEL MARE\" SUCEAVA","RO37821331"]
["UNIX AUTO SRL","RO10542416"]
["UPDATE ADVERTISING SRL","RO14858323"]
["URANUS SNACK SRL","RO4868214"]
["URBAN ARCHITECTURE TRUST S.R.L.","35174115"]
["URBAN BUILDING S.R.L.","RO30910814"]
["URBAN FURNITURE DESIGN S.R.L.","44870094"]
["URBAN SPACE CONCEPT S.R.L.","RO31737682"]
["URECHE BENIAMIN","1990511331904"]
["URECHE CASANDRA","2810703331901"]
["URECHE DANIEL-IOAN","1940524331907"]
["URECHE FILIP","1410708336739"]
["URECHE ION","1900202331907"]
["URECHE LIDIA","2950710331908"]
["URECHE VERONICA","2860324330547"]
["URSA MARE COMPROD SRL","RO3903640"]
["URSACHI ADRIAN CRISTIAN","1690227332051"]
["URSAN MIHAI","nedef."]
["URSARESCU ION","1520705335004"]
["URSU IONUT","1830907331314"]
["URSU LUCIANA","2860218336398"]
["URSU LUMINITA","2631003335000"]
["URSU MIHAELA","2900216330284"]
["URSULEAN ELENA","2570209333209"]
["URSULEAN VELUSIA","2651227335022"]
["URSULINSCHI ANDREI","1920314330236"]
["URSUTU COSTEL","1820608331301"]
["URZICA IOAN","1761006335024"]
["UTA MARIANA","2880724336370"]
["UTIL 1001 ARTICOLE S.R.L.","RO34050585"]
["UTIL ECHIP INSPECT SRL","35989062"]
["UTIL IDEAL CASA S.R.L.","RO36262614"]
["UTIL MOB DESIGN SRL","RO15924344"]
["UTILBEN S.R.L.","RO18643343"]
["UTOPIA DESIGN S.R.L.-D","34216867"]
["UZ-PLASTIM","RO11269560"]
["Ucasy Biuldars S.R.L.","RO17249600"]
["Udup Tomis S.R.L.","RO182409"]
["Ujeniuc S.R.L.","10439616"]
["Ultra Factor S.R.L.","RO16372329"]
["Ultra Grip Tyres S.R.L.","31765720"]
["Ungureanu Lemncom S.R.L.","RO3406276"]
["Unica Mobila Design S.R.L.","RO27955689"]
["Unimat S.R.L.","RO11623268"]
["Union Motors Car Sales S.R.L.","RO26901729"]
["Uniqit System S.R.L.","RO31306086"]
["Unirea-societate Cooperativa Mestesugareasca","RO715110"]
["Unitec Mob S.R.L.","RO22847252"]
["United Business Solutions S.R.L.","RO27892270"]
["Uniunea Polonezilor Din Romania","4244776"]
["Universitatea \"Alexandru Ioan Cuza\" Iasi","4701126"]
["Universitatea \"Stefan Cel Mare\" Din Suceava","4244423"]
["Universitatea De Medicina Si Farmacie \"Gr. Th. Popa\"","4701100"]
["Universitatea Din Oradea","4287939"]
["Universitatea Maritima Din Constanta","2747321"]
["Universitatea Politehnica Din Bucuresti","4183199"]
["Universitatea Tehnica \"Gheorghe Asachi\"","RO13805460"]
["Upc Romania S.R.L.","RO12288994"]
["Upson Mobilier","RO21630220"]
["Urgent Curier","15753783"]
["Ursu Catalin Intreprindere Individuala","30513067"]
["Ursu Gh.Dinu - Intreprindere Familiala","RO16708780"]
["Us Food Network S.A.","RO6645790"]
["Usa Oneoil S.R.L.","RO8135950"]
["Usi Ferestre S.R.L.","RO10848645"]
["Uss Design S.R.L.","RO29905814"]
["Uta Iulian Intreprindere Individuala","25891333"]
["Utilaj Construct S.R.L.","RO17642501"]
["Uzina Mecanica Ramnicu Valcea S.A.","RO1465560"]
["V.d.b. Operative Com S.R.L.","RO18322386"]
["V.m.v. Mob S.R.L.","17006180"]
["VABRO RETAIL SRL","RO16871191"]
["VACAREAN ADRIAN","nedef."]
["VACUSYSTEM SP. Z.O.O.","PL1251629463"]
["VADAVOIU VIOREL","1780307072648"]
["VADCOM SRL","RO16331540"]
["VADUVA MIHAI MARIAN","1870925270905"]
["VAGCARSERVICE S.R.L.","RO41839965"]
["VAISEC COM SRL","RO717952"]
["VAL DIIA BIJUTERII SRL","33892569"]
["VALAHIA TOTAL PRODUCTION S.R.L.","RO29285208"]
["VALASCUT PROD S.R.L.","RO7157020"]
["VALBER S.R.L.","RO1062176"]
["VALDEVELOP S.R.L.","37720434"]
["VALEANU CONSTANTIN","1730607330788"]
["VALEANU ROBERT","1671011040081"]
["VALENTINI FURNITURE S.R.L.","40706952"]
["VALERIU TABARAC S.C.S","RO2246487"]
["VALI & DITA S.R.L.","RO18734948"]
["VALIDAN S.R.L.","RO16804486"]
["VALIFARM SRL","RO13750039"]
["VALNICRAM CALM MOB DESIGN S.R.L.","37906420"]
["VALUE CITY FURNITURE S.R.L.","17559555"]
["VAMARAB SRL","RO16202430"]
["VAMESU ANDREI ALEXANDRU","1880405330248"]
["VAMESUL ANA MARIA","2821013271691"]
["VANCOL COM SRL","RO7760933"]
["VANDI LIVING S.R.L","35217518"]
["VANITY PLATINUM S.R.L.","RO34302070"]
["VANVERO IMPEX S.R.L.","32564806"]
["VAPEKS RO SRL","RO24473073"]
["VARADY MOBEX S.R.L.","RO28839933"]
["VARGA ERIKA CSILLA","2860419303921"]
["VARIETY-AUTO SRL","RO15371740"]
["VAROSI IMPEX S.R.L.","RO7321911"]
["VARTIC IONUT DANIEL","1741225221171"]
["VARTOLOMEI NINA","nedef."]
["VARZAR VIOREL","1800628062381"]
["VAS I ATTILA I.I.","42109861"]
["VASCA DAN SANDU","1820602050070"]
["VASCAN VASILE GHEORGHE","1760405311832"]
["VASI MOBILA 2 MAI S.R.L.","RO37340613"]
["VASILACHE BOGDAN","1850327330801"]
["VASILE EMILIAN GEORGIAN","1940709102350"]
["VASILE PINTILI","1750816330805"]
["VASILIU ELENA","2790608040144"]
["VASILIU ELENA","2770324334992"]
["VASILIU IONEL","nedef."]
["VASILIU NICOLETA","2710611334990"]
["VASILIU PAVEL","1860318336410"]
["VASILUT CRISTI","1870307330807"]
["VASITUTU TERMOPAL LEM S.R.L.","RO18393522"]
["VASLAVSCHI ADRIAN","1790306335151"]
["VASLAVSCHI NECULAI","1710401334996"]
["VASMOB S.R.L.","RO18022605"]
["VASNEC COM SRL","RO5553001"]
["VAST FURNITURES S.R.L.","37844041"]
["VASU PETRU","1790626320796"]
["VASY MOBILA S.R.L.","44514860"]
["VASYLASH MARIANNA","FP615841"]
["VATAMANIUC MARCEL","1570323335030"]
["VATAVU MIHAELA","2830610334667"]
["VCR TOTAL SPORT S.R.L.","34852910"]
["VDM MOBILIART S.R.L.","RO33716511"]
["VEAJ BISTRITA S.R.L.-D","31178548"]
["VEGA MOB STYLE S.R.L.","36736327"]
["VEGA SIMPLY SRL","32087782"]
["VEKTOR GRUP S.R.L.","RO18681240"]
["VELNICIUC DANIEL","1800520330219"]
["VELNICIUC VALENTIN","nedef."]
["VENUS GALAXY S.R.L.","RO32278588"]
["VERA MOB S.R.L.","RO15279982"]
["VERA-MAR BUCOVINA S.R.L.","RO35749752"]
["VERASOL MOB S.R.L.","40770882"]
["VERCIUC MARIA","2910304330250"]
["VERITAS ELECTRONIC SRL","RO1103616"]
["VERNIKRON S.R.L.","RO41444345"]
["VERO DEMETER S.R.L.","RO39483253"]
["VERO PORTE SERVICII S.R.L.","27492223"]
["VEROVIS SRL","17650571"]
["VERSICHERUNG GROUP SRL","RO22626901"]
["VESTECO NORD-EST S.R.L.","RO21863985"]
["VESTEL SRL","RO2078952"]
["VEZETEU AGLAIA","2580828335024"]
["VIALY IMPEX S.R.L.","RO2716090"]
["VIANO ART MOBILI S.R.L.","40549270"]
["VICAMOB IMPEX S.R.L.","RO39519535"]
["VICENTIU DASCALU","1741205293132"]
["VICFRANIS S.R.L.","31223550"]
["VICIU CATALIN","1770129293126"]
["VICIZA SRL","RO35762123"]
["VICOL ANCA","2831018330521"]
["VICOL MIHAI","1690426333218"]
["VICONT EXPERT S.R.L.","20649682"]
["VICOVANU MARINA","nedef."]
["VID COMSERV SRL ","RO7607094"]
["VIDA XL EUROPE B.V. ","RO36918744"]
["VIDOPOL MIHAELA","2681111070036"]
["VIDROI MARIUS","1760401451536"]
["VIERIU DORINA","nedef."]
["VIERU ADRIAN","1880403226786"]
["VIERU CIPRIAN","1790815330776"]
["VIFLOREX COM S.R.L.","RO7697992"]
["VIGGO FASHION INTERNATIONAL SRL","RO35299941"]
["VIGILENT SECURITY SRL ","RO10294736"]
["VIKING TOOLS SRL","RO35005469"]
["VILA CRISTINA SRL","RO22046742"]
["VILLA AMINTA SRL","IT13017280150"]
["VIMAFARM SRL","RO11312156"]
["VIMASI SRL","RO16674041"]
["VINTEA TOMITEX S.R.L.","RO2861503"]
["VINTU DANIEL","1851124261971"]
["VIO & MONY FAMILY MOB S.R.L.","RO40350730"]
["VIP HORECA TRADING SRL","RO27832635"]
["VIPAMOB S.R.L.","RO17241240"]
["VIPROD HOLDING S.R.L.","RO33721674"]
["VIPROD S.R.L.","RO5167868"]
["VIRAGO MFA S.R.L.","RO28275273"]
["VIRGINGREEN S.R.L.","41657696"]
["VIS CONSTRUCT S.R.L.","RO17395673"]
["VISA ADRIAN","1731204335005"]
["VISA S.A.","RO6146812"]
["VISAN MADALINA","nedef."]
["VISAN MARIUS","nedef."]
["VISCUM SRL","RO14134517"]
["VISENOAE CONSTANTIN","1690310511678"]
["VISINARI VASILE","1521225335008"]
["VISION MOBILIER G.C. S.R.L.","RO34748295"]
["VISION MOBILIER PERSONALIZAT S.R.L.","RO34583626"]
["VITAL HOTEL AN DER THERME GMBH","DE 296030661"]
["VITCU MIHAI","1450524330768"]
["VITEGA MIHAI","1650628333197"]
["VITRADESIGN MOB S.R.L.","RO22226468"]
["VIVA DESIGN HD S.R.L.","36061190"]
["VIVA DESIGN S.R.L.","40883288"]
["VIVACY COMIMPEX SRL","RO21418821"]
["VIVIANA SERVCOM S.R.L.","RO754667"]
["VIZIOMOB DESIGN S.R.L.","39632584"]
["VIZITIU AURELIA IONELA","2850712330286"]
["VIZITIU IOAN SORIN","1670121335018"]
["VIZITIU IOAN-SORIN I.I.","41331842"]
["VLADU STEFAN-VICTOR PERSOANA FIZICA AUTORIZATA","33835911"]
["VOICILA GEORGIAN","1810414100138"]
["VOICU PETRE","1671204421570"]
["VOIEVOD SRL","15557485"]
["VOK EXPERT CONSTRUCT S.R.L.","RO23733698"]
["VOLANSCHI DORIN","1690319332143"]
["VOLOSANCA DAVID EMANUEL","1910126313701"]
["VOLTER SRL","RO22524553"]
["VOLUBILEM AUTO S.R.L.","RO32942375"]
["VOROBCHIEVICI CIPRIAN-GHEORGHE","1900402330240"]
["VOROBET LILIANA","2661026330785"]
["VOROBET SORIN","nedef."]
["VORONIUC ANA","nedef."]
["VORONIUC CRISTINA","nedef."]
["VOX MOBI LUX S.R.L.","RO27261709"]
["VRANAU DIANA","nedef."]
["VRANCART S.A.","RO1454846"]
["VRANCIANU AURELIAN","1791229133671"]
["VRC RESIDENCE APARTAMENTS S.R.L.","38128911"]
["VUC ART S.R.L.","RO16078324"]
["VULCANOPLAST","RO26422149"]
["VULCOMAT AUTO S.R.L.","42095928"]
["VULPE VIRGIL","1691008070024"]
["VULTUR NARCIS CATALIN","1910901330201"]
["Vacarean V. Felicia Birou Expert Contabil","23085960"]
["Vadan S.R.L.","RO2465967"]
["Vaib S.R.L.","25670065"]
["Vaideanu Stefan - Intreprindere Individuala","27419800"]
["Valclanel S.R.L.","RO20524174"]
["Valcu & Valcu S.R.L.","RO6588261"]
["Valero Trans S.R.L.","RO8588810"]
["Valexin S.R.L.","RO16765131"]
["Valid Consulting S.R.L.","RO15642769"]
["Valrom Industrie S.R.L.","RO8529679"]
["Valyscom Roiesti S.R.L.","RO7992178"]
["Vandeya S.R.L.","RO19010978"]
["Vargan si Vargan Societate Civila De Avocati","RO22185554"]
["Varmex Com S.R.L.","RO3911308"]
["Varneli Com Prod S.R.L.","4026887"]
["Vas & Ani S.R.L.","RO15509828"]
["Vasi-pui S.R.L.","RO16303914"]
["Vasiana S.R.L.","RO16113065"]
["Vatra S.R.L.","RO7037465"]
["Vbl Broker De Asigurare S.R.L.","16741957"]
["Vector Act Consulting S.R.L.","23461666"]
["Vector Consult Asd S.R.L.","RO28192658"]
["Vedea S.R.L.","RO1384422"]
["Vega S.R.L.","RO3421870"]
["Vegas Hotel & Casino S.R.L.","RO22171354"]
["Velcu Company S.R.L.","RO19145754"]
["Veperom SRL","RO6719189"]
["Verball Design S.R.L.","15858380"]
["Veritas S.R.L.","RO1146463"]
["Verta Tel Srl","RO8873370"]
["Vest - Boris S.R.L.","RO17552590"]
["Vetroglass S.R.L.","RO20818544"]
["Vex Sim General Service Company S.R.L.","RO3904033"]
["Via Mobila S.R.L.","RO19149314"]
["Via Oil Petroleum S.R.L.","RO15015778"]
["Vialest Med S.R.L.","RO24707891"]
["Viasec Com S.R.L.","RO717952"]
["Vicastar S.R.L.","RO16548850"]
["Vidraru S.R.L.","RO18185874"]
["Vidscar S.R.L.","RO9178355"]
["Vilceana S.R.L.","RO1167997"]
["Vilconfort S.R.L.","RO30945634"]
["Vilux Design S.R.L.","RO14409308"]
["Vim Construct Auto 2004 S.R.L.","RO16929684"]
["Viocaff Mingroup S.R.L.","RO30487510"]
["Viodram S.R.L.","RO10257150"]
["Viomob S.R.L.","RO14136917"]
["Viomond 2008 S.R.L.","RO24832487"]
["Viospa Cleb Partners Srl-d","28143590"]
["Vis & Succes S.R.L.","RO20439176"]
["Vissma Mv S.R.L.","RO31990161"]
["Vitacom Electronics S.R.L.","RO214527"]
["Viva - Rox Construct S.R.L.","RO16798546"]
["Vivitrust Company S.R.L.","RO14183200"]
["Vivre Deco S.R.L.","RO30010618"]
["Vizi Design S.R.L.","16597070"]
["Vizual Stil S.R.L.","30693073"]
["Vladeanu S. Dumitru-corneliu - Intreprindere Familiala","7689949"]
["Vladirimcris S.R.L.","33434316"]
["Vladrom S.R.L.","RO8486624"]
["Vlas S.R.L.","1699951"]
["Vodafone Romania S.A.","RO8971726"]
["Vodas Design S.R.L.","RO18515557"]
["Voiajor S.R.L.","RO2528313"]
["Voila A.s. S.R.L.","RO17931631"]
["Vola.ro S.R.L.","RO17043146"]
["Volksbank Leasing Romania Ifn S.A.","RO13341280"]
["Volkswagen Zentrum Nordrhein","DE121647988"]
["Vss Line Srl-d","32798122"]
["Vulcani S.R.L.","RO1181142"]
["W-tech S.R.L.","RO15464092"]
["WALL PRODEUS S.R.L.","2518603"]
["WALLBEDS FURNITURE S.R.L.","RO35557170"]
["WASH & CLEAN SRL","RO21469965"]
["WASSERMANN COM SRL","RO4717254"]
["WASSMAR PROINVEST S.R.L.","RO32054432"]
["WDP SECURITY SYSTEMS S.R.L.","31514370"]
["WEBDEX SRL","RO38727767"]
["WEBZONE TELECOM SRL","RO18172122"]
["WEGART CONCEPT S.R.L.","34544872"]
["WEMHONER SURFACE TECHNOLOGIES GMBH & CO KG","DE125355064"]
["WERTA PRODCOM SRL","RO714506"]
["WEST GEBAEUDESERVICE SRL","RO31606229"]
["WEST GROUP ALTERNATIVE S.R.L.","RO15252391"]
["WESTERN EUROPE S.R.L. ","RO30667066"]
["WIFISTORE.RO S.R.L.","39048900"]
["WISZNIEWSKI ARTEMIZIA","2760811330019"]
["WIZZ AIR HUNGARY","HU13122605"]
["WIZZ AIR HUNGARY","HU26648525"]
["WIZZ AIR UK LIMITED","GB289124477"]
["WOOD CHIPPER S.R.L.","RO33115767"]
["WOOD MOB S.R.L.","40139548"]
["WOODARTBIKE S.R.L.","41217130"]
["WOODEN TECHNIC PRODIMPEX S.R.L.","RO6064151"]
["WOODEXPERT S.R.L.","RO24460898"]
["WOODGRAY S.R.L.","RO38669496"]
["WOODY BUD MOB S.R.L.","38360813"]
["WOTSCH BAU S.R.L.","RO8759627"]
["WP UNIVERSAL FURNITURE S.R.L.","RO42182897"]
["WTP MOB S.R.L.","RO37188745"]
["WYLMOB HOUSE S.R.L.","35702431"]
["Wadsim S.R.L.","RO16548876"]
["Waldmessner Invest S.R.L.","RO9135397"]
["Wall Prodeus S.R.L.","25186031"]
["Wareso Prod S.R.L.","RO3528060"]
["Warp Net Computers S.R.L.","RO13869537"]
["Welcome Business Research S.R.L.","RO18155423"]
["West Com Alexander S.R.L.","RO15878400"]
["West Hotel S.R.L.","RO15964543"]
["West Resources S.R.L.","RO19925229"]
["West-port S.R.L.","RO1639844"]
["Western Energy Group S.R.L.","RO18741376"]
["Wil Struct S.R.L.","RO30680375"]
["Winers Mob's S.R.L.","RO29837620"]
["Wood Art Concept S.R.L.","17356151"]
["Wood Mansion S.R.L.","20087363"]
["Wood Wizard S.R.L.","23566158"]
["Woodesign","22522943"]
["World Trade Center Bucuresti S.A.","RO364354"]
["Wunder Haff S.R.L.","RO27018590"]
["Wurth Romania","RO5175127"]
["Wylmar Expo S.R.L.","RO16195537"]
["X CURIER EXTREM SRL","RO36095800"]
["X-PHONES S.R.L.","RO26570080"]
["X-TEND MOB S.R.L.","RO31974115"]
["XACT CONSULTING SRL","RO15507118"]
["XANTOS COM S.R.L.","RO5644614"]
["XE.MAR PROD-COM SRL","RO3779534"]
["XELACAFE","RO35382507"]
["XIMENA SERV S.R.L.","6617529"]
["XXALWO THERM","nedef."]
["XXXViva Design S.R.L.","RO17754564"]
["Xpert Design S.R.L.","24355280"]
["Xxl Media S.R.L.","RO16279840"]
["Y'BELLA HOME FASHION S.R.L.","35347356"]
["YANIS DESIGN COMPANY S.R.L.","RO35282095"]
["YDA CONCEP RESULTS SRL","37954524"]
["YESTERDAY HOTELS SRL","RO7399406"]
["YILDIZ ENTEGRE ROMANIA S.A.","RO34826768"]
["YOHANWALTER SRL","RO19220546"]
["YONI COM SRL","RO10206203"]
["YOURBOOK S.R.L.","34720154"]
["YPSILON CALCULATOARE SRL","RO19176270"]
["YUKA MOBILI S.R.L.","RO13604033"]
["YUMM CORPORATION S.R.L.","33781803"]
["Yandesign S.R.L.","16260171"]
["Yankee Land S.R.L.","RO21661005"]
["Youthmob S.R.L.","RO4989160"]
["Yulmob S.R.L.","RO18274203"]
["Z TOUR S.R.L.","RO14457429"]
["ZABOLOTEANU ELENA","2840516070068"]
["ZABRUS SIRET SRL","RO18654555"]
["ZAGAN CONSTANTIN","1701226334996"]
["ZAGATO PROPERTIES S.R.L.","RO42788886"]
["ZAGOICEA MARIO CLAUDIU","1810528180769"]
["ZAHARESCU EUGEN","1610222335023"]
["ZAHARIA FLORIN-LAURENTIU","1771023034994"]
["ZAHARIA MARIANA","2671020335022"]
["ZAHARIA VASILE P.F.A.","30584378"]
["ZAHARIE GABRIEL","1920821333376"]
["ZAHARIE PAUL-TIBERIU","1840304330531"]
["ZAINEA TUDOREL MADALIN","1900626090100"]
["ZAIR ENERGY SRL","RO31677785"]
["ZAIT FARM SRL","RO24945516"]
["ZAIT IULIAN","1840702070016"]
["ZAIT LUCIAN","2790221070012"]
["ZAMFIR DORINA","2721016070041"]
["ZANIAN DRAGOS MARCEL","1830417410045"]
["ZAPP AUTO SERVICE SRL","33925372"]
["ZARA BUCURESTI SRL","RO22304337"]
["ZARA HOME RO SRL","RO22302875"]
["ZARA LUCIAN","1821025330221"]
["ZARNESCU GEORGE-MIHAI","1830409440020"]
["ZAULET CATALIN-ION","1881123035273"]
["ZAVATE CIPRIAN","1900809046273"]
["ZAVATE IMPEX SRL","RO5981750"]
["ZDARCU DORIN-NICOLAE","1841130324846"]
["ZEBRENCIUC GEORGIANA","nedef."]
["ZECCORA PLUS S.R.L.","RO40952752"]
["ZEDEN CONSULTING S.R.L.","RO40341627"]
["ZEGREA TOADER","1480101335071"]
["ZEN AMBIENT S.R.L.","RO35151715"]
["ZEN MOB DESIGN S.R.L.","RO21649630"]
["ZENICA CRISTINA","2790622220047"]
["ZENIT CHEMICALS SRL","RO3277589"]
["ZEUS DISTRIBUTION S.R.L.","18283384"]
["ZEUS S.R.L.","RO3814119"]
["ZIAN MOBCLASS S.R.L.","37718205"]
["ZIGU FOOD TONPAS SRL","RO25553090"]
["ZIMBRU CIPRIAN","1910921330229"]
["ZIMBRU DANIEL","nedef."]
["ZIPER S.R.L.","RO6487909"]
["ZIUB IOAN-ILIE","1900719330529"]
["ZOARA GHEORGHE","1761214334935"]
["ZOLTAM MULTILEVEL SRL","RO29937590"]
["ZONE CONSTRUCT S.R.L.","RO18377020"]
["ZOOM S.R.L.","RO12787668"]
["ZURMAN HR PARTENER S.R.L.","RO30144270"]
["ZVARICI LAURIAN","nedef."]
["ZVARICI LUCIAN","1851209330205"]
["ZYROO 2 SQUARE S.R.L.","RO32044099"]
["ZZ DESIGN UNITED S.R.L.","39591476"]
["Zauner Romania S.R.L.","RO15498230"]
["Zaytym S.R.L.","RO18924705"]
["Zdremtan M. Moisa Intreprindere Individuala","28389880"]
["Zeno S.R.L.","753980"]
["Zigman S.R.L.","RO13347037"]
["Zimbrul Import Export S.R.L.","RO228050"]
["Zimmermann Fenster S.R.L.","RO30616143"]
["Zimtub S.A.","RO1396338"]
["Zinos S.R.L.","RO13736638"]
["Ziplink S.R.L.","RO26048010"]
["Zirmer Bud S.R.L.","RO5736521"]
["Zoom Office S.R.L.","RO28015400"]
["ÎN IMAGINI PRODUCTIONS S.R.L.","37969258"]
["¿","¿"]

{"sheet":"PRETURI","index":7,"n_rows":1092,"n_cols":11,"rows_kept":1092,"hidden":true}
["PRET PRODUS:",null,null,"PRET ML CANT:","Pret/ML FTVA",{"$nulls":3},"COSTURI SERVICII:"]
["W962-ST-2-18-mm 1570819",{"v":41,"d":"41.00"},"1570819","F186-ST-9 23/0.4 1195888",{"v":3,"d":"3.00"},"1195888",null,null,"Manopera dublare panouri:",7,"ron/buc"]
["W908-ST-SM-18-mm 1354768",{"v":45,"d":"45.00"},"1354768","F187-ST-9 23/0.4 1195887",{"v":3,"d":"3.00"},"1195887",null,null,"Lungime prelucrare CNC:",19,"ron/m"]
["W908-ST-2-18-mm 1354770",{"v":45,"d":"45.00"},"1354770","F204-ST-9 23/0.4 1380955",{"v":3,"d":"3.00"},"1380955",null,null,"Lungime de aplicare cant pe curb:",6,"ron/m"]
["H1137-ST-12-18-mm 1356222",{"v":47,"d":"47.00"},"1356222","F206-ST-9 23/0.4 1381000",{"v":3,"d":"3.00"},"1381000",null,null,"Nr de gauri prelucrate in CNC:",1,"ron/gaura"]
["H1145-ST-10-18-mm 1354616",{"v":47,"d":"47.00"},"1354616","F302-ST-87 23/0.4 1195863",{"v":3,"d":"3.00"},"1195863"]
["H1146-ST-10-18-mm 1354633",{"v":47,"d":"47.00"},"1354633","F416-ST-10 23/0.4 1381100",{"v":3,"d":"3.00"},"1381100"]
["H1277-ST-9-18-mm 1353852",{"v":47,"d":"47.00"},"1353852","F425-ST-10 23/0.4 1194539",{"v":3,"d":"3.00"},"1194539"]
["H1334-ST-9-18-mm 1354164",{"v":47,"d":"47.00"},"1354164","F433-ST-10 23/0.4 1200530",{"v":3,"d":"3.00"},"1200530"]
["H1424-ST-22-18-mm 1353921",{"v":47,"d":"47.00"},"1353921","F501-ST-2 23/0.4 1194439",{"v":3,"d":"3.00"},"1194439"]
["H1511-ST-15-18-mm 1354590",{"v":47,"d":"47.00"},"1354590","F509-ST-2 23/0.4 237318",{"v":4,"d":"4.00"},"237318"]
["H1582-ST-15-18-mm 1354573",{"v":47,"d":"47.00"},"1354573","F570-ST-2 23/0.4 1195858",{"v":3,"d":"3.00"},"1195858"]
["H1615-ST-9-18-mm 1354130",{"v":47,"d":"47.00"},"1354130","F571-ST-2 23/0.4 1195857",{"v":3,"d":"3.00"},"1195857"]
["H1733-ST-9-18-mm 1354096",{"v":47,"d":"47.00"},"1354096","F637-ST-16 23/0.4 1380751",{"v":3,"d":"3.00"},"1380751"]
["H3395-ST-12-18-mm 1355972",{"v":49,"d":"49.00"},"1355972","F642-ST-16 23/0.4 1380664",{"v":3,"d":"3.00"},"1380664"]
["H3398-ST-12-18-mm 1356247",{"v":47,"d":"47.00"},"1356247","F649-ST-16 23/0.4 1195886",{"v":3,"d":"3.00"},"1195886"]
["H3734-ST-9-18-mm 1354001",{"v":47,"d":"47.00"},"1354001","F651-ST-16 23/0.4 1195885",{"v":3,"d":"3.00"},"1195885"]
["W980-ST-SM-18-mm 1355720",{"v":39,"d":"39.00"},"1355720","F812-ST-9 23/0.4 1380684",{"v":3,"d":"3.00"},"1380684"]
["W980-ST-2-18-mm 1354596",{"v":50,"d":"50.00"},"1354596","H1101-ST-12 23/0.4 1200527",{"v":3,"d":"3.00"},"1200527"]
["U104-ST-9-18-mm 1354502",{"v":49,"d":"49.00"},"1354502","H1113-ST-10 23/0.4 1195856",{"v":3,"d":"3.00"},"1195856"]
["U108-ST-9-18-mm 1356030",{"v":49,"d":"49.00"},"1356030","H1114-ST-9 23/0.4 1200655",{"v":3,"d":"3.00"},"1200655"]
["U113-ST-9-18-mm 1354485",{"v":49,"d":"49.00"},"1354485","H1115-ST-12 23/0.4 1196499",{"v":3,"d":"3.00"},"1196499"]
["U156-ST-9-18-mm 1354103",{"v":49,"d":"49.00"},"1354103","H1116-ST-12 23/0.4 1196299",{"v":3,"d":"3.00"},"1196299"]
["U216-ST-9-18-mm 1354261",{"v":49,"d":"49.00"},"1354261","H1122-ST-22 23/0.4 1196298",{"v":3,"d":"3.00"},"1196298"]
["U708-ST-9-18-mm 1354162",{"v":49,"d":"49.00"},"1354162","H1123-ST-22 23/0.4 1195855",{"v":3,"d":"3.00"},"1195855"]
["U732-ST-9-18-mm 1353866",{"v":49,"d":"49.00"},"1353866","H1137-ST-12 23/0.4 1195578",{"v":3,"d":"3.00"},"1195578"]
["U763-ST-9-18-mm 1353956",{"v":49,"d":"49.00"},"1353956","H1145-ST-10 23/0.4 1425324",{"v":3,"d":"3.00"},"1425324"]
["U775-ST-9-18-mm 1354887",{"v":49,"d":"49.00"},"1354887","H1146-ST-10 23/0.4 1425327",{"v":3,"d":"3.00"},"1425327"]
["U961-ST-2-18-mm 1354775",{"v":49,"d":"49.00"},"1354775","H1151-ST-10 23/0.4 1194079",{"v":3,"d":"3.00"},"1194079"]
["U963-ST-9-18-mm 1353905",{"v":49,"d":"49.00"},"1353905","H1176-ST-37 23/0.4 1195854",{"v":3,"d":"3.00"},"1195854"]
["U999-ST-2-18-mm 1354756",{"v":49,"d":"49.00"},"1354756","H1180-ST-37 23/0.4 1194031",{"v":3,"d":"3.00"},"1194031"]
["W1000-ST-9-18-mm 1353996",{"v":53,"d":"53.00"},"1353996","H1181-ST-37 23/0.4 1194000",{"v":3,"d":"3.00"},"1194000"]
["W1100-ST-9-18-mm 1354272",{"v":53,"d":"53.00"},"1354272","H1199-ST-12 23/0.4 1193969",{"v":3,"d":"3.00"},"1193969"]
["H1113-ST-10-18-mm 1356221",{"v":52,"d":"52.00"},"1356221","H1210-ST-33 23/0.4 1195883",{"v":3,"d":"3.00"},"1195883"]
["H1199-ST-12-18-mm 1355990",{"v":52,"d":"52.00"},"1355990","H1212-ST-33 23/0.4 1195882",{"v":3,"d":"3.00"},"1195882"]
["H1401-ST-22-18-mm 1354715",{"v":52,"d":"52.00"},"1354715","H1213-ST-33 23/0.4 1195881",{"v":3,"d":"3.00"},"1195881"]
["H3131-ST-12-18-mm 1355985",{"v":52,"d":"52.00"},"1355985","H1250-ST-36 23/0.4 1193907",{"v":3,"d":"3.00"},"1193907"]
["H3133-ST-12-18-mm 1355982",{"v":52,"d":"52.00"},"1355982","H1251-ST-19 23/0.4 1381688",{"v":3,"d":"3.00"},"1381688"]
["H3157-ST-12-18-mm 1356038",{"v":52,"d":"52.00"},"1356038","H1253-ST-19 23/0.4 1381714",{"v":3,"d":"3.00"},"1381714"]
["H3840-ST-9-18-mm 1354535",{"v":52,"d":"52.00"},"1354535","H1277-ST-9 23/0.4 1193961",{"v":3,"d":"3.00"},"1193961"]
["U780-ST-9-18-mm 1386852",{"v":56,"d":"56.00"},"1386852","H1312-ST-10 23/0.4 1381632",{"v":3,"d":"3.00"},"1381632"]
["U968-ST-9-18-mm 1386193",{"v":56,"d":"56.00"},"1386193","H1313-ST-10 23/0.4 1381608",{"v":3,"d":"3.00"},"1381608"]
["H1115-ST-12-18-mm 1355967",{"v":53,"d":"53.00"},"1355967","H1318-ST-10 23/0.4 1381650",{"v":3,"d":"3.00"},"1381650"]
["H1122-ST-22-18-mm 1356029",{"v":56,"d":"56.00"},"1356029","H1330-ST-10 23/0.4 1381805",{"v":3,"d":"3.00"},"1381805"]
["H1123-ST-22-18-mm 1356270",{"v":53,"d":"53.00"},"1356270","H1334-ST-9 23/0.4 1132687",{"v":3,"d":"3.00"},"1132687"]
["H1387-ST-10-18-mm 1356299",{"v":53,"d":"53.00"},"1356299","H1344-ST-32 23/0.4 1381823",{"v":3,"d":"3.00"},"1381823"]
["H1399-ST-10-18-mm 1354342",{"v":53,"d":"53.00"},"1354342","H1345-ST-32 23/0.4 1381746",{"v":3,"d":"3.00"},"1381746"]
["H1487-ST-22-18-mm 1354654",{"v":53,"d":"53.00"},"1354654","H1346-ST-32 23/0.4 1381728",{"v":3,"d":"3.00"},"1381728"]
["H1636-ST-12-18-mm 1356234",{"v":53,"d":"53.00"},"1356234","H1387-ST-10 23/0.4 1195853",{"v":3,"d":"3.00"},"1195853"]
["H3012-ST-22-18-mm 1354475",{"v":53,"d":"53.00"},"1354475","H1394-ST-9 23/0.4 1264507",{"v":3,"d":"3.00"},"1264507"]
["H3058-ST-22-18-mm 1354245",{"v":53,"d":"53.00"},"1354245","H1399-ST-10 23/0.4 1193836",{"v":3,"d":"3.00"},"1193836"]
["H3090-ST-22-18-mm 1354531",{"v":53,"d":"53.00"},"1354531","H1400-ST-36 23/0.4 1196498",{"v":3,"d":"3.00"},"1196498"]
["H3156-ST-12-18-mm 1355978",{"v":53,"d":"53.00"},"1355978","H1401-ST-22 23/0.4 1193835",{"v":3,"d":"3.00"},"1193835"]
["H3170-ST-12-18-mm 1355975",{"v":53,"d":"53.00"},"1355975","H1424-ST-22 23/0.4 1193819",{"v":3,"d":"3.00"},"1193819"]
["H3303-ST-10-18-mm 1354613",{"v":53,"d":"53.00"},"1354613","H1444-ST-9 23/0.4 1195852",{"v":3,"d":"3.00"},"1195852"]
["H3430-ST-22-18-mm 1354301",{"v":53,"d":"53.00"},"1354301","H1486-ST-36 23/0.4 1193790",{"v":3,"d":"3.00"},"1193790"]
["H3433-ST-22-18-mm 1354360",{"v":53,"d":"53.00"},"1354360","H1487-ST-22 23/0.4 1193687",{"v":3,"d":"3.00"},"1193687"]
["H3450-ST-22-18-mm 1354332",{"v":53,"d":"53.00"},"1354332","H1511-ST-15 23/0.4 1193676",{"v":3,"d":"3.00"},"1193676"]
["H3451-ST-22-18-mm 1354335",{"v":53,"d":"53.00"},"1354335","H1555-ST-15 23/0.4 1264559",{"v":3,"d":"3.00"},"1264559"]
["H3453-ST-22-18-mm 1354331",{"v":53,"d":"53.00"},"1354331","H1582-ST-15 23/0.4 237317",{"v":3,"d":"3.00"},"237317"]
["H3730-ST-10-18-mm 1354341",{"v":53,"d":"53.00"},"1354341","H1599-ST-15 23/0.4 961389",{"v":3,"d":"3.00"},"961389"]
["U114-ST-9-18-mm 1353971",{"v":56,"d":"56.00"},"1353971","H1615-ST-9 23/0.4 1193634",{"v":3,"d":"3.00"},"1193634"]
["U200-ST-9-18-mm 1356274",{"v":56,"d":"56.00"},"1356274","H1636-ST-12 23/0.4 1196497",{"v":3,"d":"3.00"},"1196497"]
["U201-ST-9-18-mm 1356250",{"v":56,"d":"56.00"},"1356250","H1706-ST-15 23/0.4 1265500",{"v":3,"d":"3.00"},"1265500"]
["U222-ST-9-18-mm 1354533",{"v":56,"d":"56.00"},"1354533","H1709-ST-15 23/0.4 1265507",{"v":3,"d":"3.00"},"1265507"]
["U311-ST-9-18-mm 1354520",{"v":56,"d":"56.00"},"1354520","H1710-ST-10 23/0.4 1380447",{"v":3,"d":"3.00"},"1380447"]
["U522-ST-9-18-mm 1354782",{"v":56,"d":"56.00"},"1354782","H1714-ST-19 23/0.4 1380428",{"v":3,"d":"3.00"},"1380428"]
["U525-ST-9-18-mm 1356002",{"v":56,"d":"56.00"},"1356002","H1733-ST-9 23/0.4 1193614",{"v":3,"d":"3.00"},"1193614"]
["U702-ST-9-18-mm 1354689",{"v":56,"d":"56.00"},"1354689","H2033-ST-10 23/0.4 1380465",{"v":3,"d":"3.00"},"1380465"]
["U707-ST-9-18-mm 1354282",{"v":56,"d":"56.00"},"1354282","H3006-ST-22 23/0.4 1193551",{"v":3,"d":"3.00"},"1193551"]
["U727-ST-9-18-mm 1354229",{"v":56,"d":"56.00"},"1354229","H3012-ST-22 23/0.4 1193550",{"v":3,"d":"3.00"},"1193550"]
["U741-ST-9-18-mm 1354511",{"v":56,"d":"56.00"},"1354511","H3047-ST-10 23/0.4 1195752",{"v":3,"d":"3.00"},"1195752"]
["U748-ST-9-18-mm 1354186",{"v":56,"d":"56.00"},"1354186","H3048-ST-10 23/0.4 1195751",{"v":3,"d":"3.00"},"1195751"]
["U750-ST-9-18-mm 1355118",{"v":56,"d":"56.00"},"1355118","H3058-ST-22 23/0.4 1193496",{"v":3,"d":"3.00"},"1193496"]
["U767-ST-9-18-mm 1356241",{"v":56,"d":"56.00"},"1356241","H3080-ST-15 23/0.4 1193478",{"v":3,"d":"3.00"},"1193478"]
["U788-ST-9-18-mm 1354316",{"v":56,"d":"56.00"},"1354316","H3081-ST-22 23/0.4 1193470",{"v":3,"d":"3.00"},"1193470"]
["U899-ST-9-18-mm 1354274",{"v":56,"d":"56.00"},"1354274","H3090-ST-22 23/0.4 1193454",{"v":3,"d":"3.00"},"1193454"]
["U960-ST-9-18-mm 1354221",{"v":56,"d":"56.00"},"1354221","H3113-ST-15 23/0.4 1193444",{"v":3,"d":"3.00"},"1193444"]
["H1318-ST-10-18-mm 1385914",{"v":56,"d":"56.00"},"1385914","H3114-ST-9 23/0.4 1193425",{"v":3,"d":"3.00"},"1193425"]
["U325-ST-9-18-mm 1386444",{"v":63,"d":"63.00"},"1386444","H3131-ST-12 23/0.4 1196496",{"v":3,"d":"3.00"},"1196496"]
["U600-ST-9-18-mm 1387014",{"v":63,"d":"63.00"},"1387014","H3133-ST-12 23/0.4 1195799",{"v":3,"d":"3.00"},"1195799"]
["U830-ST-9-18-mm 1386790",{"v":63,"d":"63.00"},"1386790","H3146-ST-19 23/0.4 1380654",{"v":3,"d":"3.00"},"1380654"]
["H1151-ST-10-18-mm 1354614",{"v":58,"d":"58.00"},"1354614","H3154-ST-36 23/0.4 1195798",{"v":3,"d":"3.00"},"1195798"]
["H3331-ST-10-18-mm 1354674",{"v":58,"d":"58.00"},"1354674","H3156-ST-12 23/0.4 1196494",{"v":3,"d":"3.00"},"1196494"]
["H3700-ST-10-18-mm 1354952",{"v":58,"d":"58.00"},"1354952","H3157-ST-12 23/0.4 1199300",{"v":3,"d":"3.00"},"1199300"]
["H3702-ST-10-18-mm 1354619",{"v":58,"d":"58.00"},"1354619","H3170-ST-12 23/0.4 1195796",{"v":3,"d":"3.00"},"1195796"]
["H3710-ST-12-18-mm 1385966",{"v":58,"d":"58.00"},"1385966","H3176-ST-37 23/0.4 1380594",{"v":3,"d":"3.00"},"1380594"]
["H3860-ST-9-18-mm 1356294",{"v":58,"d":"58.00"},"1356294","H3178-ST-37 23/0.4 1380574",{"v":3,"d":"3.00"},"1380574"]
["W1000-ST-19-18-mm 1386612",{"v":62,"d":"62.00"},"1386612","H3190-ST-19 23/0.4 1380268",{"v":3,"d":"3.00"},"1380268"]
["U131-ST-9-18-mm 1356216",{"v":63,"d":"63.00"},"1356216","H3192-ST-19 23/0.4 1380251",{"v":3,"d":"3.00"},"1380251"]
["U201-ST-19-18-mm 1386459",{"v":63,"d":"63.00"},"1386459","H3303-ST-10 23/0.4 1425360",{"v":3,"d":"3.00"},"1425360"]
["U321-ST-9-18-mm 1356203",{"v":63,"d":"63.00"},"1356203","H3309-ST-28 23/0.4 1050496",{"v":3,"d":"3.00"},"1050496"]
["U323-ST-9-18-mm 1356202",{"v":63,"d":"63.00"},"1356202","H3325-ST-28 23/0.4 1193184",{"v":3,"d":"3.00"},"1193184"]
["U332-ST-9-18-mm 1356201",{"v":63,"d":"63.00"},"1356201","H3326-ST-28 23/0.4 1193106",{"v":3,"d":"3.00"},"1193106"]
["U337-ST-9-18-mm 1354649",{"v":63,"d":"63.00"},"1354649","H3330-ST-36 23/0.4 1380219",{"v":3,"d":"3.00"},"1380219"]
["U363-ST-9-18-mm 1356228",{"v":63,"d":"63.00"},"1356228","H3331-ST-10 23/0.4 1193078",{"v":3,"d":"3.00"},"1193078"]
["U504-ST-9-18-mm 1354315",{"v":63,"d":"63.00"},"1354315","H3342-ST-28 23/0.4 1193044",{"v":3,"d":"3.00"},"1193044"]
["U626-ST-9-18-mm 1354740",{"v":63,"d":"63.00"},"1354740","H3395-ST-12 23/0.4 1196493",{"v":3,"d":"3.00"},"1196493"]
["U630-ST-9-18-mm 1356208",{"v":63,"d":"63.00"},"1356208","H3398-ST-12 23/0.4 1196492",{"v":3,"d":"3.00"},"1196492"]
["U818-ST-9-18-mm 1356408",{"v":63,"d":"63.00"},"1356408","H3408-ST-38 23/0.4 1380387",{"v":3,"d":"3.00"},"1380387"]
["U961-ST-19-18-mm 1386808",{"v":63,"d":"63.00"},"1386808","H3430-ST-22 23/0.4 1192540",{"v":3,"d":"3.00"},"1192540"]
["U999-ST-19-18-mm 1386207",{"v":63,"d":"63.00"},"1386207","H3433-ST-22 23/0.4 1195022",{"v":3,"d":"3.00"},"1195022"]
["H1312-ST-10-18-mm 1385892",{"v":62,"d":"62.00"},"1385892","H3450-ST-22 23/0.4 1192499",{"v":3,"d":"3.00"},"1192499"]
["H1313-ST-10-18-mm 1385922",{"v":62,"d":"62.00"},"1385922","H3451-ST-22 23/0.4 1192498",{"v":3,"d":"3.00"},"1192498"]
["H1330-ST-10-18-mm 1385906",{"v":62,"d":"62.00"},"1385906","H3453-ST-22 23/0.4 1192302",{"v":3,"d":"3.00"},"1192302"]
["H1710-ST-10-18-mm 1385760",{"v":62,"d":"62.00"},"1385760","H3700-ST-10 23/0.4 1192298",{"v":3,"d":"3.00"},"1192298"]
["H2033-ST-10-18-mm 1385809",{"v":62,"d":"62.00"},"1385809","H3702-ST-10 23/0.4 1192286",{"v":3,"d":"3.00"},"1192286"]
["F204-ST-9-18-mm 1385944",{"v":61,"d":"61.00"},"1385944","H3704-ST-15 23/0.4 1192267",{"v":3,"d":"3.00"},"1192267"]
["F206-ST-9-18-mm 1386014",{"v":61,"d":"61.00"},"1386014","H3710-ST-12 23/0.4 1380331",{"v":3,"d":"3.00"},"1380331"]
["F416-ST-10-18-mm 1386035",{"v":61,"d":"61.00"},"1386035","H3711-ST-9 23/0.4 1192237",{"v":3,"d":"3.00"},"1192237"]
["F501-ST-2-18-mm 1354623",{"v":61,"d":"61.00"},"1354623","H3730-ST-10 23/0.4 1192236",{"v":3,"d":"3.00"},"1192236"]
["F509-ST-2-18-mm 1354830",{"v":61,"d":"61.00"},"1354830","H3732-ST-10 23/0.4 1192224",{"v":3,"d":"3.00"},"1192224"]
["F637-ST-16-18-mm 1386285",{"v":61,"d":"61.00"},"1386285","H3734-ST-9 23/0.4 1192210",{"v":3,"d":"3.00"},"1192210"]
["F642-ST-16-18-mm 1386312",{"v":61,"d":"61.00"},"1386312","H3773-ST-9 23/0.4 1195811",{"v":3,"d":"3.00"},"1195811"]
["F812-ST-9-18-mm 1385994",{"v":61,"d":"61.00"},"1385994","H3840-ST-9 23/0.4 1192171",{"v":3,"d":"3.00"},"1192171"]
["H1251-ST-19-18-mm 1385840",{"v":65,"d":"65.00"},"1385840","H3860-ST-9 23/0.4 1195810",{"v":4,"d":"4.00"},"1195810"]
["H1253-ST-19-18-mm 1385900",{"v":65,"d":"65.00"},"1385900","H3991-ST-10 23/0.4 1196488",{"v":3,"d":"3.00"},"1196488"]
["H1714-ST-19-18-mm 1385815",{"v":65,"d":"65.00"},"1385815","U104-ST-9 23/0.4 1195021",{"v":3,"d":"3.00"},"1195021"]
["H3146-ST-19-18-mm 1385785",{"v":65,"d":"65.00"},"1385785","U108-ST-9 23/0.4 1195008",{"v":3,"d":"3.00"},"1195008"]
["H3190-ST-19-18-mm 1386089",{"v":65,"d":"65.00"},"1386089","U113-ST-9 23/0.4 1194999",{"v":3,"d":"3.00"},"1194999"]
["H3192-ST-19-18-mm 1386081",{"v":65,"d":"65.00"},"1386081","U114-ST-9 23/0.4 1194990",{"v":3,"d":"3.00"},"1194990"]
["F186-ST-9-18-mm 1356283",{"v":64,"d":"64.00"},"1356283","U131-ST-9 23/0.4 1198907",{"v":3,"d":"3.00"},"1198907"]
["F187-ST-9-18-mm 1356240",{"v":64,"d":"64.00"},"1356240","U156-ST-9 23/0.4 1159154",{"v":3,"d":"3.00"},"1159154"]
["F433-ST-10-18-mm 1356028",{"v":64,"d":"64.00"},"1356028","U200-ST-9 23/0.4 1198906",{"v":3,"d":"3.00"},"1198906"]
["W1000-ST-22-18-mm 1354385",{"v":47,"d":"47.00"},"1354385","U201-ST-19 23/0.4 1381560",{"v":3,"d":"3.00"},"1381560"]
["U998-ST-38-18-mm 1395605",{"v":85,"d":"85.00"},"1395605","U201-ST-9 23/0.4 1194975",{"v":3,"d":"3.00"},"1194975"]
["H1250-ST-36-18-mm 1003066",{"v":84,"d":"84.00"},"1003066","U216-ST-9 23/0.4 1194968",{"v":3,"d":"3.00"},"1194968"]
["H1486-ST-36-18-mm 1020329",{"v":84,"d":"84.00"},"1020329","U222-ST-9 23/0.4 1195228",{"v":3,"d":"3.00"},"1195228"]
["H3154-ST-36-18-mm 1178726",{"v":84,"d":"84.00"},"1178726","U311-ST-9 23/0.4 1194860",{"v":4,"d":"4.00"},"1194860"]
["H3330-ST-36-18-mm 1377184",{"v":84,"d":"84.00"},"1377184","U321-ST-9 23/0.4 1194851",{"v":3,"d":"3.00"},"1194851"]
["H1176-ST-37-18-mm 1183000",{"v":93,"d":"93.00"},"1183000","U323-ST-9 23/0.4 1194841",{"v":3,"d":"3.00"},"1194841"]
["H1180-ST-37-18-mm 1045290",{"v":93,"d":"93.00"},"1045290","U325-ST-9 23/0.4 1381498",{"v":3,"d":"3.00"},"1381498"]
["H1181-ST-37-18-mm 1063953",{"v":93,"d":"93.00"},"1063953","U332-ST-9 23/0.4 1194832",{"v":3,"d":"3.00"},"1194832"]
["H1344-ST-32-18-mm 1377171",{"v":93,"d":"93.00"},"1377171","U337-ST-9 23/0.4 1191932",{"v":3,"d":"3.00"},"1191932"]
["H1345-ST-32-18-mm 1377173",{"v":93,"d":"93.00"},"1377173","U363-ST-9 23/0.4 1200086",{"v":3,"d":"3.00"},"1200086"]
["H1346-ST-32-18-mm 1377172",{"v":93,"d":"93.00"},"1377172","U504-ST-9 23/0.4 1191887",{"v":3,"d":"3.00"},"1191887"]
["H3176-ST-37-18-mm 1377185",{"v":93,"d":"93.00"},"1377185","U522-ST-9 23/0.4 1194807",{"v":3,"d":"3.00"},"1194807"]
["H3178-ST-37-18-mm 1377188",{"v":93,"d":"93.00"},"1377188","U525-ST-9 23/0.4 1194801",{"v":3,"d":"3.00"},"1194801"]
["H3309-ST-28-18-mm 318968",{"v":93,"d":"93.00"},"318968","U560-ST-9 23/0.4 1200062",{"v":3,"d":"3.00"},"1200062"]
["H3325-ST-28-18-mm 302745",{"v":93,"d":"93.00"},"302745","U600-ST-9 23/0.4 1381190",{"v":3,"d":"3.00"},"1381190"]
["H3326-ST-28-18-mm 312950",{"v":93,"d":"93.00"},"312950","U606-ST-9 23/0.4 1191861",{"v":3,"d":"3.00"},"1191861"]
["H3408-ST-38-18-mm 1377189",{"v":93,"d":"93.00"},"1377189","U626-ST-9 23/0.4 1191634",{"v":3,"d":"3.00"},"1191634"]
["W1000-ST-38-18-mm 1189300",{"v":83,"d":"83.00"},"1189300","U630-ST-9 23/0.4 1194781",{"v":3,"d":"3.00"},"1194781"]
["H1394-ST-9-18-mm 1355139",{"v":9,"d":"9.00"},"1355139","U655-ST-9 23/0.4 1200049",{"v":3,"d":"3.00"},"1200049"]
["W908-ST-2-18-mm 1354792",{"v":43,"d":"43.00"},"1354792","U702-ST-16 23/0.4 1194746",{"v":3,"d":"3.00"},"1194746"]
["W908-ST-SM-10-mm 1354058",{"v":43,"d":"43.00"},"1354058","U702-ST-9 23/0.4 1191535",{"v":3,"d":"3.00"},"1191535"]
["W908-ST-SM-25-mm 1354861",{"v":51,"d":"51.00"},"1354861","U707-ST-9 23/0.4 1196237",{"v":3,"d":"3.00"},"1196237"]
["W908-ST-SM-8-mm 1354758",{"v":42,"d":"42.00"},"1354758","U708-ST-9 23/0.4 1191534",{"v":3,"d":"3.00"},"1191534"]
["W954-ST-SV-18-mm 1355720",{"v":35,"d":"35.00"},"1355720","U727-ST-9 23/0.4 1007927",{"v":3,"d":"3.00"},"1007927"]
["W962-ST-2-16-mm 1570739",{"v":42,"d":"42.00"},"1570739","U732-ST-30 23/0.4 1194736",{"v":3,"d":"3.00"},"1194736"]
["W962-ST-SM-18-mm 1570799",{"v":41,"d":"41.00"},"1570799","U732-ST-9 23/0.4 1191532",{"v":3,"d":"3.00"},"1191532"]
["W980-ST-SM-18-mm 1354587",{"v":50,"d":"50.00"},"1354587","U741-ST-9 23/0.4 1191531",{"v":3,"d":"3.00"},"1191531"]
["W908-ST-SM-16-mm 1354753",{"v":43,"d":"43.00"},"1354753","U748-ST-9 23/0.4 1191530",{"v":3,"d":"3.00"},"1191530"]
["H1555-ST-15-18-mm 1354883",{"v":9,"d":"9.00"},"1354883","U750-ST-9 23/0.4 1191529",{"v":3,"d":"3.00"},"1191529"]
["H1706-ST-15-18-mm 1354598",{"v":43,"d":"43.00"},"1354598","U763-ST-9 23/0.4 1194730",{"v":3,"d":"3.00"},"1194730"]
["H3006-ST-22-18-mm 1353929",{"v":9,"d":"9.00"},"1353929","U767-ST-9 23/0.4 1194717",{"v":3,"d":"3.00"},"1194717"]
["H3704-ST-15-18-mm 1353880",{"v":9,"d":"9.00"},"1353880","U775-ST-9 23/0.4 1191528",{"v":3,"d":"3.00"},"1191528"]
["W954-ST-SV-10-mm 1439267",{"v":40,"d":"40.00"},"1439267","U780-ST-9 23/0.4 1381901",{"v":3,"d":"3.00"},"1381901"]
["W954-ST-SV-8-mm 1356556",{"v":39,"d":"39.00"},"1356556","U788-ST-16 23/0.4 1191527",{"v":3,"d":"3.00"},"1191527"]
["W5001-ALB-PFL-SUBTIRE-LACUIT",9,null,"U788-ST-9 23/0.4 1194694",{"v":3,"d":"3.00"},"1194694"]
["Blat 600",null,null,"U818-ST-9 23/0.4 1191524",{"v":3,"d":"3.00"},"1191524"]
["F011-ST-9-600-mm-1430489",null,"1430489","U830-ST-9 23/0.4 1381927",{"v":3,"d":"3.00"},"1381927"]
["F012-ST-9-600-mm-1430488",null,"1430488","U899-ST-9 23/0.4 1196236",{"v":3,"d":"3.00"},"1196236"]
["F014-ST-9-600-mm-1396912",null,"1396912","U960-ST-9 23/0.4 1191523",{"v":3,"d":"3.00"},"1191523"]
["F021-ST-9-600-mm-1430487",null,"1430487","U961-ST-19 23/0.4 1381841",{"v":3,"d":"3.00"},"1381841"]
["F028-ST-89-600-mm-1196560",null,"1196560","U961-ST-2 23/0.4 237314",{"v":3,"d":"3.00"},"237314"]
["F029-ST-89-600-mm-1196561",null,"1196561","U963-ST-9 23/0.4 1191522",{"v":3,"d":"3.00"},"1191522"]
["F041-ST-15-600-mm-241706",null,241706,"U968-ST-9 23/0.4 1381874",{"v":3,"d":"3.00"},"1381874"]
["F059-ST-89-600-mm-1196562",null,"1196562","U998-ST-38 23/0.4 1401035",{"v":4,"d":"4.00"},"1401035"]
["F061-ST-89-600-mm-1196563",null,"1196563","U999-ST-19 23/0.4 1382018",{"v":3,"d":"3.00"},"1382018"]
["F074-ST-9-600-mm-1196602",null,"1196602","U999-ST-2 23/0.4 237315",{"v":3,"d":"3.00"},"237315"]
["F076-ST-9-600-mm-1196603",null,"1196603","U999-ST-30 23/0.4 1191520",{"v":3,"d":"3.00"},"1191520"]
["F080-ST-82-600-mm-1122434",null,"1122434","U999-ST-38 23/0.4 1196235",{"v":3,"d":"3.00"},"1196235"]
["F081-ST-82-600-mm-1122435",null,"1122435","W1000-ST-19 23/0.4 1381479",{"v":3,"d":"3.00"},"1381479"]
["F092-ST-15-600-mm-1196604",null,"1196604","W1000-ST-22 23/0.4 1191519",{"v":3,"d":"3.00"},"1191519"]
["F093-ST-15-600-mm-1196564",null,"1196564","W1000-ST-38 23/0.4 1196234",{"v":3,"d":"3.00"},"1196234"]
["F094-ST-15-600-mm-1196565",null,"1196565","W1000-ST-9 23/0.4 226690",{"v":3,"d":"3.00"},"226690"]
["F095-ST-87-600-mm-1430429",null,"1430429","W1100-ST-30 23/0.4 1191518",{"v":3,"d":"3.00"},"1191518"]
["F104-ST-2-600-mm-538296",null,538296,"W1100-ST-9 23/0.4 1191517",{"v":3,"d":"3.00"},"1191517"]
["F105-ST-15-600-mm-241708",null,241708,"W908-ST-2 23/0.4 1191515",{"v":3,"d":"3.00"},"1191515"]
["F110-ST-9-600-mm-1196566",null,"1196566","W908-ST-SM 23/0.4 1191516",{"v":3,"d":"3.00"},"1191516"]
["F112-ST-9-600-mm-1430426",null,"1430426","W980-ST-2 23/0.4 237311",{"v":3,"d":"3.00"},"237311"]
["F117-ST-76-600-mm-1430425",null,"1430425","W980-ST-SM 23/0.4 237210",{"v":3,"d":"3.00"},"237210"]
["F121-ST-87-600-mm-1430424",null,"1430424","F186-ST-9 23/0.8 1195285",{"v":4,"d":"4.00"},"1195285"]
["F141-ST-15-600-mm-1196605",null,"1196605","F187-ST-9 23/0.8 1195276",{"v":4,"d":"4.00"},"1195276"]
["F142-ST-15-600-mm-1196567",null,"1196567","F204-ST-9 23/0.8 1380954",{"v":4,"d":"4.00"},"1380954"]
["F147-ST-82-600-mm-755709",null,755709,"F206-ST-9 23/0.8 1380989",{"v":4,"d":"4.00"},"1380989"]
["F148-ST-82-600-mm-762487",null,762487,"F302-ST-87 23/0.8 1194471",{"v":4,"d":"4.00"},"1194471"]
["F160-ST-9-600-mm-1196568",null,"1196568","F416-ST-10 23/0.8 1381099",{"v":4,"d":"4.00"},"1381099"]
["F166-ST-9-600-mm-966135",null,966135,"F425-ST-10 23/0.8 1194530",{"v":4,"d":"4.00"},"1194530"]
["F186-ST-9-600-mm-1430422",null,"1430422","F433-ST-10 23/0.8 1196867",{"v":4,"d":"4.00"},"1196867"]
["F187-ST-9-600-mm-1430420",null,"1430420","F501-ST-2 23/0.8 1194438",{"v":4,"d":"4.00"},"1194438"]
["F204-ST-75-600-mm-1430418",null,"1430418","F509-ST-2 23/0.8 1194428",{"v":4,"d":"4.00"},"1194428"]
["F205-ST-9-600-mm-1430417",null,"1430417","F570-ST-2 23/0.8 1194414",{"v":4,"d":"4.00"},"1194414"]
["F206-ST-9-600-mm-1430416",null,"1430416","F571-ST-2 23/0.8 1194393",{"v":4,"d":"4.00"},"1194393"]
["F221-ST-87-600-mm-1123018",null,"1123018","F637-ST-16 23/0.8 1380750",{"v":4,"d":"4.00"},"1380750"]
["F222-ST-87-600-mm-1122398",null,"1122398","F642-ST-16 23/0.8 1380665",{"v":4,"d":"4.00"},"1380665"]
["F242-ST-9-600-mm-1430413",null,"1430413","F649-ST-16 23/0.8 1195262",{"v":4,"d":"4.00"},"1195262"]
["F256-ST-87-600-mm-1123019",null,"1123019","F651-ST-16 23/0.8 1195252",{"v":4,"d":"4.00"},"1195252"]
["F274-ST-9-600-mm-731912",null,731912,"F812-ST-9 23/0.8 1365040",{"v":4,"d":"4.00"},"1365040"]
["F275-ST-9-600-mm-731913",null,731913,"H1101-ST-12 23/0.8 1196866",{"v":4,"d":"4.00"},"1196866"]
["F292-ST-9-600-mm-204506",null,204506,"H1113-ST-10 23/0.8 1194239",{"v":4,"d":"4.00"},"1194239"]
["F302-ST-87-600-mm-1196569",null,"1196569","H1114-ST-9 23/0.8 1200397",{"v":4,"d":"4.00"},"1200397"]
["F303-ST-87-600-mm-1196570",null,"1196570","H1115-ST-12 23/0.8 1197175",{"v":4,"d":"4.00"},"1197175"]
["F310-ST-87-600-mm-1005458",null,"1005458","H1116-ST-12 23/0.8 1197174",{"v":4,"d":"4.00"},"1197174"]
["F311-ST-87-600-mm-1027690",null,"1027690","H1122-ST-22 23/0.8 1197173",{"v":4,"d":"4.00"},"1197173"]
["F312-ST-87-600-mm-1122399",null,"1122399","H1123-ST-22 23/0.8 1194228",{"v":4,"d":"4.00"},"1194228"]
["F333-ST-76-600-mm-1430450",null,"1430450","H1137-ST-12 23/0.8 1195129",{"v":4,"d":"4.00"},"1195129"]
["F371-ST-82-600-mm-772119",null,772119,"H1145-ST-10 23/0.8 1194218",{"v":4,"d":"4.00"},"1194218"]
["F371-ST-89-600-mm-1430449",null,"1430449","H1146-ST-10 23/0.8 1194095",{"v":4,"d":"4.00"},"1194095"]
["F385-ST-10-600-mm-249736",null,249736,"H1151-ST-10 23/0.8 1194076",{"v":4,"d":"4.00"},"1194076"]
["F484-ST-87-600-mm-1430446",null,"1430446","H1176-ST-37 23/0.8 1194064",{"v":4,"d":"4.00"},"1194064"]
["F502-ST-2-600-mm-570031",null,570031,"H1180-ST-37 23/0.8 1194050",{"v":4,"d":"4.00"},"1194050"]
["F508-ST-10-600-mm-1430440",null,"1430440","H1181-ST-37 23/0.8 1194005",{"v":4,"d":"4.00"},"1194005"]
["F547-ST-9-600-mm-1196571",null,"1196571","H1199-ST-12 23/0.8 1193975",{"v":4,"d":"4.00"},"1193975"]
["F637-ST-16-600-mm-1430439",null,"1430439","H1210-ST-33 23/0.8 1195119",{"v":4,"d":"4.00"},"1195119"]
["F638-ST-16-600-mm-1196572",null,"1196572","H1212-ST-33 23/0.8 1195118",{"v":4,"d":"4.00"},"1195118"]
["F641-ST-16-600-mm-1196583",null,"1196583","H1213-ST-33 23/0.8 1195110",{"v":4,"d":"4.00"},"1195110"]
["F649-ST-16-600-mm-1196592",null,"1196592","H1250-ST-36 23/0.8 1193910",{"v":4,"d":"4.00"},"1193910"]
["F651-ST-16-600-mm-1196601",null,"1196601","H1251-ST-19 23/0.8 1381687",{"v":4,"d":"4.00"},"1381687"]
["F812-ST-9-600-mm-1430437",null,"1430437","H1253-ST-19 23/0.8 1381713",{"v":4,"d":"4.00"},"1381713"]
["H050-ST-9-600-mm-1430472",null,"1430472","H1277-ST-9 23/0.8 1193965",{"v":4,"d":"4.00"},"1193965"]
["H110-ST-9-600-mm-1196606",null,"1196606","H1312-ST-10 23/0.8 1381631",{"v":4,"d":"4.00"},"1381631"]
["H111-ST-12-600-mm-1199864",null,"1199864","H1313-ST-10 23/0.8 1381613",{"v":4,"d":"4.00"},"1381613"]
["H1145-ST-10-600-mm-249422",null,249422,"H1318-ST-10 23/0.8 1381649",{"v":4,"d":"4.00"},"1381649"]
["H1176-ST-37-600-mm-1436036",null,"1436036","H1330-ST-10 23/0.8 1364895",{"v":4,"d":"4.00"},"1364895"]
["H1180-ST-37-600-mm-1130268",null,"1130268","H1334-ST-9 23/0.8 1193893",{"v":4,"d":"4.00"},"1193893"]
["H1181-ST-37-600-mm-1130269",null,"1130269","H1344-ST-32 23/0.8 1381822",{"v":4,"d":"4.00"},"1381822"]
["H1199-ST-12-600-mm-1199863",null,"1199863","H1345-ST-32 23/0.8 1381745",{"v":4,"d":"4.00"},"1381745"]
["H1313-ST-10-600-mm-1430507",null,"1430507","H1346-ST-32 23/0.8 1381727",{"v":4,"d":"4.00"},"1381727"]
["H1318-ST-10-600-mm-1430506",null,"1430506","H1387-ST-10 23/0.8 1193859",{"v":4,"d":"4.00"},"1193859"]
["H1344-ST-32-600-mm-1435949",null,"1435949","H1394-ST-9 23/0.8 1247392",{"v":4,"d":"4.00"},"1247392"]
["H1401-ST-22-600-mm-1196607",null,"1196607","H1399-ST-10 23/0.8 1189236",{"v":4,"d":"4.00"},"1189236"]
["H1486-ST-36-600-mm-1430503",null,"1430503","H1400-ST-36 23/0.8 1197172",{"v":4,"d":"4.00"},"1197172"]
["H148-ST-10-600-mm-1196611",null,"1196611","H1401-ST-22 23/0.8 1193847",{"v":4,"d":"4.00"},"1193847"]
["H193-ST-12-600-mm-1430470",null,"1430470","H1424-ST-22 23/0.8 1193821",{"v":4,"d":"4.00"},"1193821"]
["H194-ST-12-600-mm-1430469",null,"1430469","H1444-ST-9 23/0.8 1193811",{"v":4,"d":"4.00"},"1193811"]
["H195-ST-10-600-mm-1430468",null,"1430468","H1486-ST-36 23/0.8 1193780",{"v":4,"d":"4.00"},"1193780"]
["H197-ST-10-600-mm-1430467",null,"1430467","H1487-ST-22 23/0.8 1193710",{"v":4,"d":"4.00"},"1193710"]
["H198-ST-10-600-mm-1430466",null,"1430466","H1511-ST-15 23/0.8 1193681",{"v":4,"d":"4.00"},"1193681"]
["H2031-ST-10-600-mm-1430500",null,"1430500","H1555-ST-15 23/0.8 1247071",{"v":4,"d":"4.00"},"1247071"]
["H2032-ST-10-600-mm-1430499",null,"1430499","H1582-ST-15 23/0.8 1193652",{"v":4,"d":"4.00"},"1193652"]
["H2033-ST-10-600-mm-1430498",null,"1430498","H1599-ST-15 23/0.8 1247142",{"v":4,"d":"4.00"},"1247142"]
["H2415-ST-10-600-mm-1196608",null,"1196608","H1615-ST-9 23/0.8 1193658",{"v":4,"d":"4.00"},"1193658"]
["H3133-ST-12-600-mm-1199862",null,"1199862","H1636-ST-12 23/0.8 1197171",{"v":4,"d":"4.00"},"1197171"]
["H3176-ST-37-600-mm-1436050",null,"1436050","H1706-ST-15 23/0.8 1244574",{"v":4,"d":"4.00"},"1244574"]
["H3303-ST-10-600-mm-249427",null,249427,"H1709-ST-15 23/0.8 1247077",{"v":4,"d":"4.00"},"1247077"]
["H3309-ST-28-600-mm-1130290",null,"1130290","H1710-ST-10 23/0.8 1380446",{"v":4,"d":"4.00"},"1380446"]
["H3325-ST-28-600-mm-1130291",null,"1130291","H1714-ST-19 23/0.8 1366184",{"v":4,"d":"4.00"},"1366184"]
["H3330-ST-36-600-mm-1430493",null,"1430493","H1733-ST-9 23/0.8 1193626",{"v":4,"d":"4.00"},"1193626"]
["H3331-ST-10-600-mm-253730",null,253730,"H2033-ST-10 23/0.8 1380464",{"v":4,"d":"4.00"},"1380464"]
["H3332-ST-10-600-mm-249472",null,249472,"H3006-ST-22 23/0.8 1193574",{"v":4,"d":"4.00"},"1193574"]
["H3702-ST-10-600-mm-1196609",null,"1196609","H3012-ST-22 23/0.8 1193572",{"v":4,"d":"4.00"},"1193572"]
["H3704-ST-15-600-mm-809629",null,809629,"H3047-ST-10 23/0.8 1193522",{"v":4,"d":"4.00"},"1193522"]
["H3730-ST-10-600-mm-1430490",null,"1430490","H3048-ST-10 23/0.8 1193504",{"v":4,"d":"4.00"},"1193504"]
["H3860-ST-9-600-mm-1196610",null,"1196610","H3058-ST-22 23/0.8 1193505",{"v":4,"d":"4.00"},"1193505"]
["U702-ST-89-600-mm-1197719",null,"1197719","H3080-ST-15 23/0.8 1193480",{"v":4,"d":"4.00"},"1193480"]
["U763-ST-76-600-mm-1196612",null,"1196612","H3081-ST-22 23/0.8 1193487",{"v":4,"d":"4.00"},"1193487"]
["U960-ST-76-600-mm-1196613",null,"1196613","H3090-ST-22 23/0.8 1193462",{"v":4,"d":"4.00"},"1193462"]
["U999-ST-89-600-mm-1123016",null,"1123016","H3113-ST-15 23/0.8 1193448",{"v":4,"d":"4.00"},"1193448"]
["W1000-ST-76-600-mm-1196614",null,"1196614","H3114-ST-9 23/0.8 1193440",{"v":4,"d":"4.00"},"1193440"]
["W1000-ST-89-600-mm-1123017",null,"1123017","H3131-ST-12 23/0.8 1197170",{"v":4,"d":"4.00"},"1197170"]
["Blat 920",null,null,"H3133-ST-12 23/0.8 1195093",{"v":4,"d":"4.00"},"1195093"]
["F011-ST-9-920-mm-1396978",null,"1396978","H3146-ST-19 23/0.8 1380653",{"v":4,"d":"4.00"},"1380653"]
["F012-ST-9-920-mm-1397062",null,"1397062","H3154-ST-36 23/0.8 1195069",{"v":4,"d":"4.00"},"1195069"]
["F014-ST-9-920-mm-1397063",null,"1397063","H3156-ST-12 23/0.8 1197169",{"v":4,"d":"4.00"},"1197169"]
["F021-ST-9-920-mm-1394987",null,"1394987","H3157-ST-12 23/0.8 1197168",{"v":4,"d":"4.00"},"1197168"]
["F028-ST-89-920-mm-1196639",null,"1196639","H3170-ST-12 23/0.8 1195243",{"v":4,"d":"4.00"},"1195243"]
["F029-ST-89-920-mm-1196770",null,"1196770","H3176-ST-37 23/0.8 1380593",{"v":4,"d":"4.00"},"1380593"]
["F041-ST-15-920-mm-241817",null,241817,"H3178-ST-37 23/0.8 1380573",{"v":4,"d":"4.00"},"1380573"]
["F059-ST-89-920-mm-1196771",null,"1196771","H3190-ST-19 23/0.8 1366407",{"v":4,"d":"4.00"},"1366407"]
["F061-ST-89-920-mm-1196772",null,"1196772","H3192-ST-19 23/0.8 1380250",{"v":4,"d":"4.00"},"1380250"]
["F074-ST-9-920-mm-1196785",null,"1196785","H3303-ST-10 23/0.8 1193195",{"v":4,"d":"4.00"},"1193195"]
["F076-ST-9-920-mm-1196786",null,"1196786","H3309-ST-28 23/0.8 1193169",{"v":4,"d":"4.00"},"1193169"]
["F080-ST-82-920-mm-1122631",null,"1122631","H3325-ST-28 23/0.8 1193166",{"v":4,"d":"4.00"},"1193166"]
["F081-ST-82-920-mm-1122632",null,"1122632","H3326-ST-28 23/0.8 1193101",{"v":4,"d":"4.00"},"1193101"]
["F092-ST-15-920-mm-1196787",null,"1196787","H3330-ST-36 23/0.8 1380218",{"v":4,"d":"4.00"},"1380218"]
["F093-ST-15-920-mm-1196773",null,"1196773","H3331-ST-10 23/0.8 1193075",{"v":4,"d":"4.00"},"1193075"]
["F094-ST-15-920-mm-1196774",null,"1196774","H3342-ST-28 23/0.8 1193018",{"v":4,"d":"4.00"},"1193018"]
["F095-ST-87-920-mm-1430521",null,"1430521","H3395-ST-12 23/0.8 1197167",{"v":4,"d":"4.00"},"1197167"]
["F104-ST-2-920-mm-720986",null,720986,"H3398-ST-12 23/0.8 1197166",{"v":4,"d":"4.00"},"1197166"]
["F105-ST-15-920-mm-241819",null,241819,"H3408-ST-38 23/0.8 1380386",{"v":4,"d":"4.00"},"1380386"]
["F110-ST-9-920-mm-1196775",null,"1196775","H3430-ST-22 23/0.8 1192548",{"v":4,"d":"4.00"},"1192548"]
["F112-ST-9-920-mm-1395143",null,"1395143","H3433-ST-22 23/0.8 1195017",{"v":4,"d":"4.00"},"1195017"]
["F117-ST-76-920-mm-1395160",null,"1395160","H3450-ST-22 23/0.8 1192496",{"v":4,"d":"4.00"},"1192496"]
["F121-ST-87-920-mm-1394938",null,"1394938","H3451-ST-22 23/0.8 1192495",{"v":4,"d":"4.00"},"1192495"]
["F141-ST-15-920-mm-1196788",null,"1196788","H3453-ST-22 23/0.8 1192319",{"v":4,"d":"4.00"},"1192319"]
["F142-ST-15-920-mm-1196776",null,"1196776","H3700-ST-10 23/0.8 1192296",{"v":4,"d":"4.00"},"1192296"]
["F147-ST-82-920-mm-766527",null,766527,"H3702-ST-10 23/0.8 1192283",{"v":4,"d":"4.00"},"1192283"]
["F148-ST-82-920-mm-772173",null,772173,"H3704-ST-15 23/0.8 1192271",{"v":4,"d":"4.00"},"1192271"]
["F160-ST-9-920-mm-1196777",null,"1196777","H3710-ST-12 23/0.8 1380330",{"v":4,"d":"4.00"},"1380330"]
["F166-ST-9-920-mm-981706",null,981706,"H3711-ST-9 23/0.8 1192248",{"v":4,"d":"4.00"},"1192248"]
["F186-ST-9-920-mm-1430519",null,"1430519","H3730-ST-10 23/0.8 1192233",{"v":4,"d":"4.00"},"1192233"]
["F187-ST-9-920-mm-1430518",null,"1430518","H3732-ST-10 23/0.8 1192213",{"v":4,"d":"4.00"},"1192213"]
["F204-ST-75-920-mm-1395087",null,"1395087","H3734-ST-9 23/0.8 1192208",{"v":4,"d":"4.00"},"1192208"]
["F205-ST-9-920-mm-1395113",null,"1395113","H3773-ST-9 23/0.8 1192178",{"v":4,"d":"4.00"},"1192178"]
["F206-ST-9-920-mm-1395096",null,"1395096","H3840-ST-9 23/0.8 1192165",{"v":4,"d":"4.00"},"1192165"]
["F221-ST-87-920-mm-1130689",null,"1130689","H3860-ST-9 23/0.8 1192155",{"v":4,"d":"4.00"},"1192155"]
["F222-ST-87-920-mm-1122634",null,"1122634","H3991-ST-10 23/0.8 1197162",{"v":4,"d":"4.00"},"1197162"]
["F242-ST-9-920-mm-1395134",null,"1395134","Q1176-ST-RO 23/0.8 1189964",{"v":4,"d":"4.00"},"1189964"]
["F256-ST-87-920-mm-1130770",null,"1130770","Q1180-ST-RO 23/0.8 1189771",{"v":4,"d":"4.00"},"1189771"]
["F274-ST-9-920-mm-731917",null,731917,"Q1181-ST-RO 23/0.8 1197534",{"v":4,"d":"4.00"},"1197534"]
["F275-ST-9-920-mm-731918",null,731918,"Q1250-ST-RO 23/0.8 1189598",{"v":4,"d":"4.00"},"1189598"]
["F292-ST-9-920-mm-241872",null,241872,"Q1400-ST-RO 23/0.8 1194367",{"v":4,"d":"4.00"},"1194367"]
["F302-ST-87-920-mm-1196778",null,"1196778","Q1486-ST-RO 23/0.8 1189596",{"v":4,"d":"4.00"},"1189596"]
["F303-ST-87-920-mm-1196779",null,"1196779","Q3154-ST-RO 23/0.8 1189965",{"v":4,"d":"4.00"},"1189965"]
["F310-ST-87-920-mm-1005501",null,"1005501","Q3309-ST-RO 23/0.8 1197533",{"v":4,"d":"4.00"},"1197533"]
["F311-ST-87-920-mm-1034454",null,"1034454","Q3325-ST-RO 23/0.8 1197532",{"v":4,"d":"4.00"},"1197532"]
["F312-ST-87-920-mm-1122635",null,"1122635","Q3326-ST-RO 23/0.8 1189599",{"v":4,"d":"4.00"},"1189599"]
["F333-ST-76-920-mm-1395114",null,"1395114","Q3335-ST-RO 23/0.8 1189961",{"v":4,"d":"4.00"},"1189961"]
["F371-ST-82-920-mm-772176",null,772176,"Q3342-ST-RO 23/0.8 1189962",{"v":4,"d":"4.00"},"1189962"]
["F371-ST-89-920-mm-1395104",null,"1395104","Q3403-ST-RO 23/0.8 1189963",{"v":4,"d":"4.00"},"1189963"]
["F385-ST-10-920-mm-249635",null,249635,"Q3404-ST-RO 23/0.8 1189899",{"v":4,"d":"4.00"},"1189899"]
["F484-ST-87-920-mm-1394988",null,"1394988","Q3406-ST-RO 23/0.8 1189960",{"v":4,"d":"4.00"},"1189960"]
["F502-ST-2-920-mm-659272",null,659272,"Q3760-ST-RO 23/0.8 1189600",{"v":4,"d":"4.00"},"1189600"]
["F508-ST-10-920-mm-1395161",null,"1395161","Q3766-ST-RO 23/0.8 1189595",{"v":4,"d":"4.00"},"1189595"]
["F547-ST-9-920-mm-1196780",null,"1196780","U104-ST-9 23/0.8 1195015",{"v":4,"d":"4.00"},"1195015"]
["F637-ST-16-920-mm-1430509",null,"1430509","U108-ST-9 23/0.8 1195004",{"v":4,"d":"4.00"},"1195004"]
["F638-ST-16-920-mm-1196781",null,"1196781","U113-ST-9 23/0.8 1194995",{"v":4,"d":"4.00"},"1194995"]
["F641-ST-16-920-mm-1196782",null,"1196782","U114-ST-9 23/0.8 1194986",{"v":4,"d":"4.00"},"1194986"]
["F649-ST-16-920-mm-1196783",null,"1196783","U131-ST-9 23/0.8 1196865",{"v":4,"d":"4.00"},"1196865"]
["F651-ST-16-920-mm-1196784",null,"1196784","U156-ST-9 23/0.8 1192015",{"v":4,"d":"4.00"},"1192015"]
["F812-ST-9-920-mm-1430508",null,"1430508","U200-ST-9 23/0.8 1196864",{"v":4,"d":"4.00"},"1196864"]
["H050-ST-9-920-mm-1430542",null,"1430542","U201-ST-19 23/0.8 1381559",{"v":4,"d":"4.00"},"1381559"]
["H110-ST-9-920-mm-1196789",null,"1196789","U201-ST-9 23/0.8 1194967",{"v":4,"d":"4.00"},"1194967"]
["H111-ST-12-920-mm-1216258",null,"1216258","U216-ST-9 23/0.8 1194963",{"v":4,"d":"4.00"},"1194963"]
["H1145-ST-10-920-mm-249475",null,249475,"U222-ST-9 23/0.8 1195223",{"v":4,"d":"4.00"},"1195223"]
["H1176-ST-37-920-mm-1406523",null,"1406523","U311-ST-9 23/0.8 1194856",{"v":4,"d":"4.00"},"1194856"]
["H1180-ST-37-920-mm-1126867",null,"1126867","U321-ST-9 23/0.8 1194847",{"v":4,"d":"4.00"},"1194847"]
["H1181-ST-37-920-mm-1126868",null,"1126868","U323-ST-9 23/0.8 1194837",{"v":4,"d":"4.00"},"1194837"]
["H1199-ST-12-920-mm-1216256",null,"1216256","U325-ST-9 23/0.8 1381497",{"v":4,"d":"4.00"},"1381497"]
["H1313-ST-10-920-mm-1395137",null,"1395137","U332-ST-9 23/0.8 1194818",{"v":4,"d":"4.00"},"1194818"]
["H1318-ST-10-920-mm-1395214",null,"1395214","U337-ST-9 23/0.8 1191916",{"v":4,"d":"4.00"},"1191916"]
["H1344-ST-32-920-mm-1398575",null,"1398575","U363-ST-9 23/0.8 1196860",{"v":4,"d":"4.00"},"1196860"]
["H1401-ST-22-920-mm-1197020",null,"1197020","U504-ST-9 23/0.8 1191875",{"v":4,"d":"4.00"},"1191875"]
["H1486-ST-36-920-mm-1430535",null,"1430535","U522-ST-9 23/0.8 1194803",{"v":4,"d":"4.00"},"1194803"]
["H148-ST-10-920-mm-1197024",null,"1197024","U525-ST-9 23/0.8 1194787",{"v":4,"d":"4.00"},"1194787"]
["H193-ST-12-920-mm-1397052",null,"1397052","U560-ST-9 23/0.8 1196850",{"v":4,"d":"4.00"},"1196850"]
["H194-ST-12-920-mm-1396995",null,"1396995","U600-ST-9 23/0.8 1381189",{"v":4,"d":"4.00"},"1381189"]
["H195-ST-10-920-mm-1397043",null,"1397043","U606-ST-9 23/0.8 1191842",{"v":4,"d":"4.00"},"1191842"]
["H197-ST-10-920-mm-1396979",null,"1396979","U626-ST-9 23/0.8 1191627",{"v":4,"d":"4.00"},"1191627"]
["H198-ST-10-920-mm-1397033",null,"1397033","U630-ST-9 23/0.8 1194775",{"v":4,"d":"4.00"},"1194775"]
["H2031-ST-10-920-mm-1430533",null,"1430533","U655-ST-9 23/0.8 1196847",{"v":4,"d":"4.00"},"1196847"]
["H2032-ST-10-920-mm-1430532",null,"1430532","U702-ST-16 23/0.8 1194744",{"v":4,"d":"4.00"},"1194744"]
["H2033-ST-10-920-mm-1430531",null,"1430531","U702-ST-9 23/0.8 1191437",{"v":4,"d":"4.00"},"1191437"]
["H2415-ST-10-920-mm-1197021",null,"1197021","U707-ST-9 23/0.8 1197158",{"v":4,"d":"4.00"},"1197158"]
["H3133-ST-12-920-mm-1216257",null,"1216257","U708-ST-9 23/0.8 1191424",{"v":4,"d":"4.00"},"1191424"]
["H3176-ST-37-920-mm-1397893",null,"1397893","U727-ST-9 23/0.8 1191341",{"v":4,"d":"4.00"},"1191341"]
["H3303-ST-10-920-mm-249477",null,249477,"U732-ST-30 23/0.8 1194734",{"v":4,"d":"4.00"},"1194734"]
["H3309-ST-28-920-mm-1126869",null,"1126869","U732-ST-9 23/0.8 1191340",{"v":4,"d":"4.00"},"1191340"]
["H3325-ST-28-920-mm-1126910",null,"1126910","U741-ST-9 23/0.8 1191323",{"v":4,"d":"4.00"},"1191323"]
["H3330-ST-36-920-mm-1395243",null,"1395243","U748-ST-9 23/0.8 1191295",{"v":4,"d":"4.00"},"1191295"]
["H3331-ST-10-920-mm-262449",null,262449,"U750-ST-9 23/0.8 1191293",{"v":4,"d":"4.00"},"1191293"]
["H3332-ST-10-920-mm-249512",null,249512,"U763-ST-9 23/0.8 1194722",{"v":4,"d":"4.00"},"1194722"]
["H3702-ST-10-920-mm-1197022",null,"1197022","U767-ST-9 23/0.8 1194710",{"v":4,"d":"4.00"},"1194710"]
["H3704-ST-15-920-mm-813730",null,813730,"U775-ST-9 23/0.8 1179454",{"v":4,"d":"4.00"},"1179454"]
["H3730-ST-10-920-mm-1430526",null,"1430526","U780-ST-9 23/0.8 1381900",{"v":4,"d":"4.00"},"1381900"]
["H3860-ST-9-920-mm-1197023",null,"1197023","U788-ST-16 23/0.8 1191272",{"v":4,"d":"4.00"},"1191272"]
["U702-ST-89-920-mm-1197790",null,"1197790","U788-ST-9 23/0.8 1194688",{"v":4,"d":"4.00"},"1194688"]
["U763-ST-76-920-mm-1197025",null,"1197025","U818-ST-9 23/0.8 1191243",{"v":4,"d":"4.00"},"1191243"]
["U960-ST-76-920-mm-1197026",null,"1197026","U830-ST-9 23/0.8 1381926",{"v":4,"d":"4.00"},"1381926"]
["U999-ST-89-920-mm-1130373",null,"1130373","U899-ST-9 23/0.8 1197157",{"v":4,"d":"4.00"},"1197157"]
["W1000-ST-76-920-mm-1197027",null,"1197027","U960-ST-9 23/0.8 1169501",{"v":4,"d":"4.00"},"1169501"]
["W1000-ST-89-920-mm-1197027",null,"1197027","U961-ST-19 23/0.8 1381840",{"v":4,"d":"4.00"},"1381840"]
["Blat 1200",null,null,"U961-ST-2 23/0.8 1191213",{"v":4,"d":"4.00"},"1191213"]
["F028 ST89 1200 1196639",null,"1196639","U963-ST-9 23/0.8 1191202",{"v":4,"d":"4.00"},"1191202"]
["F029 ST89 1200 1196770",null,"1196770","U968-ST-9 23/0.8 1381873",{"v":4,"d":"4.00"},"1381873"]
["F041 ST15 1200 241817",null,241817,"U998-ST-38 23/0.8 1401036",{"v":4,"d":"4.00"},"1401036"]
["F059 ST89 1200 1196771",null,"1196771","U999-ST-19 23/0.8 1382017",{"v":4,"d":"4.00"},"1382017"]
["F061 ST89 1200 1196772",null,"1196772","U999-ST-2 23/0.8 1191146",{"v":4,"d":"4.00"},"1191146"]
["F074 ST9 1200 1196785",null,"1196785","U999-ST-30 23/0.8 1191123",{"v":4,"d":"4.00"},"1191123"]
["F076 ST9 1200 1196786",null,"1196786","U999-ST-38 23/0.8 1196670",{"v":4,"d":"4.00"},"1196670"]
["F080 ST82 1200 1122631",null,"1122631","W1000-ST-19 23/0.8 1381478",{"v":4,"d":"4.00"},"1381478"]
["F081 ST82 1200 1122632",null,"1122632","W1000-ST-22 23/0.8 1191132",{"v":4,"d":"4.00"},"1191132"]
["F092 ST15 1200 1196787",null,"1196787","W1000-ST-38 23/0.8 1196655",{"v":4,"d":"4.00"},"1196655"]
["F093 ST15 1200 1196773",null,"1196773","W1000-ST-9 23/0.8 1191124",{"v":4,"d":"4.00"},"1191124"]
["F094 ST15 1200 1196774",null,"1196774","W1100-ST-30 23/0.8 1191074",{"v":4,"d":"4.00"},"1191074"]
["F104 ST2 1200 720986",null,720986,"W1100-ST-9 23/0.8 1191112",{"v":4,"d":"4.00"},"1191112"]
["F105 ST15 1200 241819",null,241819,"W908-ST-2 23/0.8 1191056",{"v":4,"d":"4.00"},"1191056"]
["F110 ST9 1200 1196775",null,"1196775","W908-ST-SM 23/0.8 1191063",{"v":4,"d":"4.00"},"1191063"]
["F141 ST15 1200 1196788",null,"1196788","W980-ST-2 23/0.8 1199254",{"v":4,"d":"4.00"},"1199254"]
["F142 ST15 1200 1196776",null,"1196776","W980-ST-SM 23/0.8 1191019",{"v":4,"d":"4.00"},"1191019"]
["F147 ST82 1200 766527",null,766527,"F120-ST-PM 23/1 1380346",{"v":6,"d":"6.00"},"1380346"]
["F148 ST82 1200 772173",null,772173,"F206-ST-PG 23/1 1380904",{"v":6,"d":"6.00"},"1380904"]
["F160 ST9 1200 1196777",null,"1196777","F206-ST-PM 23/1 1380902",{"v":6,"d":"6.00"},"1380902"]
["F166 ST9 1200 981706",null,981706,"F812-ST-PG 23/1 1380841",{"v":6,"d":"6.00"},"1380841"]
["F221 ST87 1200 1130689",null,"1130689","F812-ST-PM 23/1 1380839",{"v":6,"d":"6.00"},"1380839"]
["F222 ST87 1200 1122634",null,"1122634","U104-ST-PG 23/1 1196792",{"v":6,"d":"6.00"},"1196792"]
["F256 ST87 1200 1130770",null,"1130770","U222- ST-PM  23/1 1196791",{"v":6,"d":"6.00"},"1196791"]
["F274 ST9 1200 731917",null,731917,"U323-ST-PG 23/1 1196790",{"v":6,"d":"6.00"},"1196790"]
["F275 ST9 1200 731918",null,731918,"U702- ST-PM  23/1 1196749",{"v":6,"d":"6.00"},"1196749"]
["F292 ST9 1200 241872",null,241872,"U702-ST-PM 23/1 1196749",{"v":6,"d":"6.00"},"1196749"]
["F302 ST87 1200 1196778",null,"1196778","U708- ST-PM  23/1 1189875",{"v":6,"d":"6.00"},"1189875"]
["F303 ST87 1200 1196779",null,"1196779","U708-ST-PM 23/1 1189875",{"v":6,"d":"6.00"},"1189875"]
["F310 ST87 1200 1005501",null,"1005501","U727- ST-PM  23/1 1196748",{"v":6,"d":"6.00"},"1196748"]
["F311 ST87 1200 1034454",null,"1034454","U727-ST-PM 23/1 1196748",{"v":6,"d":"6.00"},"1196748"]
["F312 ST87 1200 1122635",null,"1122635","U732- ST-PM  23/1 1189876",{"v":6,"d":"6.00"},"1189876"]
["F371 ST82 1200 772176",null,772176,"U732-ST-PM 23/1 1189876",{"v":6,"d":"6.00"},"1189876"]
["F385 ST10 1200 249635",null,249635,"U763-ST-PG 23/1 1196746",{"v":6,"d":"6.00"},"1196746"]
["F502 ST2 1200 659272",null,659272,"U999- ST-PM  23/1 1189874",{"v":6,"d":"6.00"},"1189874"]
["F547 ST9 1200 1196780",null,"1196780","U999-ST-PG 23/1 1196744",{"v":6,"d":"6.00"},"1196744"]
["F638 ST16 1200 1196781",null,"1196781","U999-ST-PM 23/1 1189874",{"v":6,"d":"6.00"},"1189874"]
["F641 ST16 1200 1196782",null,"1196782","W1000-ST-PG 23/1 1196743",{"v":6,"d":"6.00"},"1196743"]
["F649 ST16 1200 1196783",null,"1196783","W1100- ST-PM  23/1 1196741",{"v":6,"d":"6.00"},"1196741"]
["F651 ST16 1200 1196784",null,"1196784","W1100-ST-PG 23/1 1189879",{"v":6,"d":"6.00"},"1189879"]
["H110 ST9 1200 1196789",null,"1196789","W1100-ST-PM 23/1 1196741",{"v":6,"d":"6.00"},"1196741"]
["H111 ST12 1200 1216258",null,"1216258","W 1000- ST-PM  23/1 1196742",{"v":6,"d":"6.00"},"1196742"]
["H1145 ST10 1200 249475",null,249475,"F8910-ST-PM 23/1.3 1380816",{"v":9,"d":"9.00"},"1380816"]
["H1180 ST37 1200 1126867",null,"1126867","F8911-ST-PG 23/1.3 1380815",{"v":9,"d":"9.00"},"1380815"]
["H1181 ST37 1200 1126868",null,"1126868","F8911-ST-PM 23/1.3 1380814",{"v":9,"d":"9.00"},"1380814"]
["H1199 ST12 1200 1216256",null,"1216256","F8912-ST-PG 23/1.3 1380813",{"v":9,"d":"9.00"},"1380813"]
["H1401 ST22 1200 1197020",null,"1197020","F8912-ST-PM 23/1.3 1380812",{"v":9,"d":"9.00"},"1380812"]
["H148 ST10 1200 1197024",null,"1197024","F8980-ST-LI 23/1.3 1176983",{"v":9,"d":"9.00"},"1176983"]
["H2415 ST10 1200 1197021",null,"1197021","F8981-ST-AC 23/1.3 1176985",{"v":9,"d":"9.00"},"1176985"]
["H3133 ST12 1200 1216257",null,"1216257","F8982-ST-AC 23/1.3 1176986",{"v":9,"d":"9.00"},"1176986"]
["H3303 ST10 1200 249477",null,249477,"H8955-ST-SM 23/1.3 1176981",{"v":6,"d":"6.00"},"1176981"]
["H3309 ST28 1200 1126869",null,"1126869","H8956-ST-10 23/1.3 1176987",{"v":6,"d":"6.00"},"1176987"]
["H3325 ST28 1200 1126910",null,"1126910","H8957-ST-10 23/1.3 1177010",{"v":6,"d":"6.00"},"1177010"]
["H3331 ST10 1200 262449",null,262449,"H8958-ST-10 23/1.3 1177011",{"v":6,"d":"6.00"},"1177011"]
["H3332 ST10 1200 249512",null,249512,"H8959-ST-AC 23/1.3 1176980",{"v":9,"d":"9.00"},"1176980"]
["H3702 ST10 1200 1197022",null,"1197022","H8960-ST-AC 23/1.3 1176982",{"v":9,"d":"9.00"},"1176982"]
["H3704 ST15 1200 813730",null,813730,"H8961-ST-AC 23/1.3 1176984",{"v":9,"d":"9.00"},"1176984"]
["H3860 ST9 1200 1197023",null,"1197023","Q3309-ST-RO 23/1.3 1197533",{"v":6,"d":"6.00"},"1197533"]
["U702 ST89 1200 1197790",null,"1197790","U8802-ST-PM 23/1.3 1380828",{"v":9,"d":"9.00"},"1380828"]
["U763 ST76 1200 1197025",null,"1197025","U8803-ST-PM 23/1.3 1380826",{"v":9,"d":"9.00"},"1380826"]
["U960 ST76 1200 1197026",null,"1197026","U8804-ST-PM 23/1.3 1380824",{"v":9,"d":"9.00"},"1380824"]
["U999 ST89 1200 1130373",null,"1130373","U8805-ST-PM 23/1.3 1380822",{"v":9,"d":"9.00"},"1380822"]
["W1000 ST76 1200 1197027",null,"1197027","U8807-ST-PG 23/1.3 1380819",{"v":9,"d":"9.00"},"1380819"]
["W1000 ST89 1200 1130374",null,"1130374","U8807-ST-PM 23/1.3 1380818",{"v":9,"d":"9.00"},"1380818"]
["PROTECTIE",null,null,"U8902-ST-PG 23/1.3 1380776",{"v":9,"d":"9.00"},"1380776"]
["PROTECTIE-PANOU-18-MM",null,null,"U8902-ST-PM 23/1.3 1380775",{"v":9,"d":"9.00"},"1380775"]
["MDF",null,null,"U8980-ST-9 23/1.3 1176302",{"v":6,"d":"6.00"},"1176302"]
["MDF-2D-NEMELAMINAT-18MM-372733",null,372733,"U8981-ST-9 23/1.3 1157821",{"v":6,"d":"6.00"},"1157821"]
["MDF-TREND-WHITE-22MM-M110686800650",null,"M110686800650","U8982-ST-9 23/1.3 1176301",{"v":6,"d":"6.00"},"1176301"]
["MDF-3D-MEBRANE-WHITE-18MM-M110686800650",null,"M110686800650","F186-ST-9 23/2 1191941",{"v":5,"d":"5.00"},"1191941"]
["Panou Spate",null,null,"F187-ST-9 23/2 1189865",{"v":5,"d":"5.00"},"1189865"]
["F028-ST89 Panou Spate 9.2 mm",null,null,"F204-ST-9 23/2 1380953",{"v":5,"d":"5.00"},"1380953"]
["F029-ST89 Panou Spate 9.2 mm",null,null,"F206-ST-9 23/2 1380988",{"v":5,"d":"5.00"},"1380988"]
["F041-ST15 Panou Spate 9.2 mm",null,null,"F302-ST-87 23/2 1194479",{"v":5,"d":"5.00"},"1194479"]
["F059-ST89 Panou Spate 9.2 mm",null,null,"F416-ST-10 23/2 1381098",{"v":5,"d":"5.00"},"1381098"]
["F061-ST89 Panou Spate 9.2 mm",null,null,"F425-ST-10 23/2 226010",{"v":5,"d":"5.00"},"226010"]
["F074-ST9 Panou Spate 9.2 mm",null,null,"F433-ST-10 23/2 1196153",{"v":5,"d":"5.00"},"1196153"]
["F076-ST9 Panou Spate 9.2 mm",null,null,"F501-ST-2 23/2 764227",{"v":5,"d":"5.00"},"764227"]
["F080-ST82 Panou Spate 9.2 mm",null,null,"F509-ST-2 23/2 764225",{"v":5,"d":"5.00"},"764225"]
["F081-ST82 Panou Spate 9.2 mm",null,null,"F570-ST-2 23/2 1186682",{"v":5,"d":"5.00"},"1186682"]
["F092-ST15 Panou Spate 9.2 mm",null,null,"F571-ST-2 23/2 1186683",{"v":5,"d":"5.00"},"1186683"]
["F093-ST15 Panou Spate 9.2 mm",null,null,"F637-ST-16 23/2 1380749",{"v":5,"d":"5.00"},"1380749"]
["F094-ST15 Panou Spate 9.2 mm",null,null,"F642-ST-16 23/2 1380666",{"v":5,"d":"5.00"},"1380666"]
["F104-ST2 Panou Spate 9.2 mm",null,null,"F649-ST-16 23/2 1189860",{"v":5,"d":"5.00"},"1189860"]
["F105-ST15 Panou Spate 9.2 mm",null,null,"F651-ST-16 23/2 1189861",{"v":5,"d":"5.00"},"1189861"]
["F110-ST9 Panou Spate 9.2 mm",null,null,"F812-ST-9 23/2 1365041",{"v":5,"d":"5.00"},"1365041"]
["F141-ST15 Panou Spate 9.2 mm",null,null,"H1101-ST-12 23/2 1196152",{"v":5,"d":"5.00"},"1196152"]
["F142-ST15 Panou Spate 9.2 mm",null,null,"H1113-ST-10 23/2 1184938",{"v":5,"d":"5.00"},"1184938"]
["F147-ST82 Panou Spate 9.2 mm",null,null,"H1114-ST-9 23/2 1196172",{"v":5,"d":"5.00"},"1196172"]
["F148-ST82 Panou Spate 9.2 mm",null,null,"H1115-ST-12 23/2 1195150",{"v":5,"d":"5.00"},"1195150"]
["F160-ST9 Panou Spate 9.2 mm",null,null,"H1116-ST-12 23/2 1194826",{"v":5,"d":"5.00"},"1194826"]
["F166-ST9 Panou Spate 9.2 mm",null,null,"H1122-ST-22 23/2 1194312",{"v":5,"d":"5.00"},"1194312"]
["F221-ST87 Panou Spate 9.2 mm",null,null,"H1123-ST-22 23/2 1185584",{"v":5,"d":"5.00"},"1185584"]
["F222-ST87 Panou Spate 9.2 mm",null,null,"H1137-ST-12 23/2 1197470",{"v":5,"d":"5.00"},"1197470"]
["F256-ST87 Panou Spate 9.2 mm",null,null,"H1145-ST-10 23/2 1415212",{"v":5,"d":"5.00"},"1415212"]
["F274-ST9 Panou Spate 9.2 mm",null,null,"H1146-ST-10 23/2 1415148",{"v":5,"d":"5.00"},"1415148"]
["F275-ST9 Panou Spate 9.2 mm",null,null,"H1151-ST-10 23/2 226963",{"v":5,"d":"5.00"},"226963"]
["F292-ST9 Panou Spate 9.2 mm",null,null,"H1176-ST-37 23/2 1187703",{"v":5,"d":"5.00"},"1187703"]
["F302-ST87 Panou Spate 9.2 mm",null,null,"H1180-ST-37 23/2 1062700",{"v":5,"d":"5.00"},"1062700"]
["F303-ST87 Panou Spate 9.2 mm",null,null,"H1181-ST-37 23/2 1062705",{"v":5,"d":"5.00"},"1062705"]
["F310-ST87 Panou Spate 9.2 mm",null,null,"H1199-ST-12 23/2 1184919",{"v":5,"d":"5.00"},"1184919"]
["F311-ST87 Panou Spate 9.2 mm",null,null,"H1210-ST-33 23/2 1189777",{"v":5,"d":"5.00"},"1189777"]
["F312-ST87 Panou Spate 9.2 mm",null,null,"H1212-ST-33 23/2 1189778",{"v":5,"d":"5.00"},"1189778"]
["F371-ST82 Panou Spate 9.2 mm",null,null,"H1213-ST-33 23/2 1191814",{"v":5,"d":"5.00"},"1191814"]
["F385-ST10 Panou Spate 9.2 mm",null,null,"H1250-ST-36 23/2 1002947",{"v":5,"d":"5.00"},"1002947"]
["F502-ST2 Panou Spate 9.2 mm",null,null,"H1251-ST-19 23/2 1381686",{"v":5,"d":"5.00"},"1381686"]
["F547-ST9 Panou Spate 9.2 mm",null,null,"H1253-ST-19 23/2 1381712",{"v":5,"d":"5.00"},"1381712"]
["F638-ST16 Panou Spate 9.2 mm",null,null,"H1277-ST-9 23/2 757463",{"v":5,"d":"5.00"},"757463"]
["F641-ST16 Panou Spate 9.2 mm",null,null,"H1312-ST-10 23/2 1381630",{"v":5,"d":"5.00"},"1381630"]
["F649-ST16 Panou Spate 9.2 mm",null,null,"H1313-ST-10 23/2 1381614",{"v":5,"d":"5.00"},"1381614"]
["F651-ST16 Panou Spate 9.2 mm",null,null,"H1318-ST-10 23/2 1381648",{"v":5,"d":"5.00"},"1381648"]
["H110-ST9 Panou Spate 9.2 mm",null,null,"H1330-ST-10 23/2 1364897",{"v":5,"d":"5.00"},"1364897"]
["H111-ST12 Panou Spate 9.2 mm",null,null,"H1334-ST-9 23/2 764142",{"v":5,"d":"5.00"},"764142"]
["H1145-ST10 Panou Spate 9.2 mm",null,null,"H1344-ST-32 23/2 1381821",{"v":5,"d":"5.00"},"1381821"]
["H1180-ST37 Panou Spate 9.6 mm",null,null,"H1345-ST-32 23/2 1381744",{"v":5,"d":"5.00"},"1381744"]
["H1181-ST37 Panou Spate 9.6 mm",null,null,"H1346-ST-32 23/2 1381726",{"v":5,"d":"5.00"},"1381726"]
["H1199-ST12 Panou Spate 9.2 mm",null,null,"H1387-ST-10 23/2 1187702",{"v":5,"d":"5.00"},"1187702"]
["H1401-ST22 Panou Spate 9.2 mm",null,null,"H1394-ST-9 23/2 764144",{"v":5,"d":"5.00"},"764144"]
["H148-ST10 Panou Spate 9.2 mm",null,null,"H1399-ST-10 23/2 1126807",{"v":5,"d":"5.00"},"1126807"]
["H2415-ST10 Panou Spate 9.2 mm",null,null,"H1400-ST-36 23/2 1194391",{"v":5,"d":"5.00"},"1194391"]
["H3133-ST12 Panou Spate 9.2 mm",null,null,"H1401-ST-22 23/2 1118024",{"v":5,"d":"5.00"},"1118024"]
["H3303-ST10 Panou Spate 9.2 mm",null,null,"H1424-ST-22 23/2 764145",{"v":5,"d":"5.00"},"764145"]
["H3309-ST28 Panou Spate 9.6 mm",null,null,"H1444-ST-9 23/2 1184800",{"v":5,"d":"5.00"},"1184800"]
["H3325-ST28 Panou Spate 9.6 mm",null,null,"H1486-ST-36 23/2 1005354",{"v":5,"d":"5.00"},"1005354"]
["H3331-ST10 Panou Spate 9.2 mm",null,null,"H1487-ST-22 23/2 239553",{"v":5,"d":"5.00"},"239553"]
["H3332-ST10 Panou Spate 9.2 mm",null,null,"H1511-ST-15 23/2 764149",{"v":5,"d":"5.00"},"764149"]
["H3702-ST10 Panou Spate 9.2 mm",null,null,"H1555-ST-15 23/2 764155",{"v":5,"d":"5.00"},"764155"]
["H3704-ST15 Panou Spate 9.2 mm",null,null,"H1582-ST-15 23/2 764156",{"v":5,"d":"5.00"},"764156"]
["H3860-ST9 Panou Spate 9.2 mm",null,null,"H1599-ST-15 23/2 764158",{"v":5,"d":"5.00"},"764158"]
["U702-ST89 Panou Spate 9.2 mm",null,null,"H1615-ST-9 23/2 764159",{"v":5,"d":"5.00"},"764159"]
["U763-ST76 Panou Spate 9.2 mm",null,null,"H1636-ST-12 23/2 1194369",{"v":5,"d":"5.00"},"1194369"]
["U960-ST76 Panou Spate 9.2 mm",null,null,"H1706-ST-15 23/2 764165",{"v":5,"d":"5.00"},"764165"]
["U999-ST89 Panou Spate 9.2 mm",null,null,"H1709-ST-15 23/2 239551",{"v":5,"d":"5.00"},"239551"]
["W1000-ST76 Panou Spate 9.2 mm",null,null,"H1710-ST-10 23/2 1380445",{"v":5,"d":"5.00"},"1380445"]
["W1000-ST89 Panou Spate 9.2 mm",null,null,"H1714-ST-19 23/2 1366183",{"v":5,"d":"5.00"},"1366183"]
[{"$nulls":3},"H1733-ST-9 23/2 764168",{"v":5,"d":"5.00"},"764168"]
[{"$nulls":3},"H2033-ST-10 23/2 1380463",{"v":5,"d":"5.00"},"1380463"]
[{"$nulls":3},"H3006-ST-22 23/2 764185",{"v":5,"d":"5.00"},"764185"]
[{"$nulls":3},"H3012-ST-22 23/2 973278",{"v":5,"d":"5.00"},"973278"]
[{"$nulls":3},"H3047-ST-10 23/2 1184937",{"v":5,"d":"5.00"},"1184937"]
[{"$nulls":3},"H3048-ST-10 23/2 1184935",{"v":5,"d":"5.00"},"1184935"]
[{"$nulls":3},"H3058-ST-22 23/2 963257",{"v":5,"d":"5.00"},"963257"]
[{"$nulls":3},"H3080-ST-15 23/2 239552",{"v":5,"d":"5.00"},"239552"]
[{"$nulls":3},"H3081-ST-22 23/2 881850",{"v":5,"d":"5.00"},"881850"]
[{"$nulls":3},"H3090-ST-22 23/2 882429",{"v":5,"d":"5.00"},"882429"]
[{"$nulls":3},"H3113-ST-15 23/2 239550",{"v":5,"d":"5.00"},"239550"]
[{"$nulls":3},"H3114-ST-9 23/2 226004",{"v":5,"d":"5.00"},"226004"]
[{"$nulls":3},"H3131-ST-12 23/2 1194368",{"v":5,"d":"5.00"},"1194368"]
[{"$nulls":3},"H3133-ST-12 23/2 1190962",{"v":5,"d":"5.00"},"1190962"]
[{"$nulls":3},"H3146-ST-19 23/2 1380652",{"v":5,"d":"5.00"},"1380652"]
[{"$nulls":3},"H3154-ST-36 23/2 1189779",{"v":5,"d":"5.00"},"1189779"]
[{"$nulls":3},"H3156-ST-12 23/2 1194321",{"v":5,"d":"5.00"},"1194321"]
[{"$nulls":3},"H3157-ST-12 23/2 1194313",{"v":5,"d":"5.00"},"1194313"]
[{"$nulls":3},"H3170-ST-12 23/2 1190961",{"v":5,"d":"5.00"},"1190961"]
[{"$nulls":3},"H3176-ST-37 23/2 1380592",{"v":5,"d":"5.00"},"1380592"]
[{"$nulls":3},"H3178-ST-37 23/2 1380572",{"v":5,"d":"5.00"},"1380572"]
[{"$nulls":3},"H3190-ST-19 23/2 1366406",{"v":5,"d":"5.00"},"1366406"]
[{"$nulls":3},"H3192-ST-19 23/2 1380249",{"v":5,"d":"5.00"},"1380249"]
[{"$nulls":3},"H3303-ST-10 23/2 1415147",{"v":5,"d":"5.00"},"1415147"]
[{"$nulls":3},"H3309-ST-28 23/2 318106",{"v":5,"d":"5.00"},"318106"]
[{"$nulls":3},"H3325-ST-28 23/2 315375",{"v":5,"d":"5.00"},"315375"]
[{"$nulls":3},"H3326-ST-28 23/2 315376",{"v":5,"d":"5.00"},"315376"]
[{"$nulls":3},"H3330-ST-36 23/2 1380217",{"v":5,"d":"5.00"},"1380217"]
[{"$nulls":3},"H3331-ST-10 23/2 239549",{"v":5,"d":"5.00"},"239549"]
[{"$nulls":3},"H3342-ST-28 23/2 1133121",{"v":5,"d":"5.00"},"1133121"]
[{"$nulls":3},"H3395-ST-12 23/2 1194311",{"v":5,"d":"5.00"},"1194311"]
[{"$nulls":3},"H3398-ST-12 23/2 1195149",{"v":5,"d":"5.00"},"1195149"]
[{"$nulls":3},"H3408-ST-38 23/2 1380385",{"v":5,"d":"5.00"},"1380385"]
[{"$nulls":3},"H3430-ST-22 23/2 1184930",{"v":5,"d":"5.00"},"1184930"]
[{"$nulls":3},"H3433-ST-22 23/2 1197469",{"v":5,"d":"5.00"},"1197469"]
[{"$nulls":3},"H3450-ST-22 23/2 1197468",{"v":5,"d":"5.00"},"1197468"]
[{"$nulls":3},"H3451-ST-22 23/2 1197467",{"v":5,"d":"5.00"},"1197467"]
[{"$nulls":3},"H3453-ST-22 23/2 1184931",{"v":5,"d":"5.00"},"1184931"]
[{"$nulls":3},"H3700-ST-10 23/2 226001",{"v":5,"d":"5.00"},"226001"]
[{"$nulls":3},"H3702-ST-10 23/2 226000",{"v":5,"d":"5.00"},"226000"]
[{"$nulls":3},"H3704-ST-15 23/2 764202",{"v":5,"d":"5.00"},"764202"]
[{"$nulls":3},"H3710-ST-12 23/2 1380329",{"v":5,"d":"5.00"},"1380329"]
[{"$nulls":3},"H3711-ST-9 23/2 1192252",{"v":5,"d":"5.00"},"1192252"]
[{"$nulls":3},"H3730-ST-10 23/2 1122422",{"v":5,"d":"5.00"},"1122422"]
[{"$nulls":3},"H3732-ST-10 23/2 1192221",{"v":5,"d":"5.00"},"1192221"]
[{"$nulls":3},"H3734-ST-9 23/2 757636",{"v":5,"d":"5.00"},"757636"]
[{"$nulls":3},"H3773-ST-9 23/2 1184933",{"v":5,"d":"5.00"},"1184933"]
[{"$nulls":3},"H3840-ST-9 23/2 936747",{"v":5,"d":"5.00"},"936747"]
[{"$nulls":3},"H3860-ST-9 23/2 1187701",{"v":5,"d":"5.00"},"1187701"]
[{"$nulls":3},"H3991-ST-10 23/2 1197466",{"v":5,"d":"5.00"},"1197466"]
[{"$nulls":3},"U104-ST-9 23/2 1197465",{"v":4,"d":"4.00"},"1197465"]
[{"$nulls":3},"U108-ST-9 23/2 1197464",{"v":4,"d":"4.00"},"1197464"]
[{"$nulls":3},"U113-ST-9 23/2 1197463",{"v":4,"d":"4.00"},"1197463"]
[{"$nulls":3},"U114-ST-9 23/2 1197462",{"v":4,"d":"4.00"},"1197462"]
[{"$nulls":3},"U131-ST-9 23/2 1196145",{"v":4,"d":"4.00"},"1196145"]
[{"$nulls":3},"U156-ST-9 23/2 925164",{"v":4,"d":"4.00"},"925164"]
[{"$nulls":3},"U200-ST-9 23/2 1195988",{"v":4,"d":"4.00"},"1195988"]
[{"$nulls":3},"U201-ST-19 23/2 1381558",{"v":4,"d":"4.00"},"1381558"]
[{"$nulls":3},"U201-ST-9 23/2 1197460",{"v":4,"d":"4.00"},"1197460"]
[{"$nulls":3},"U216-ST-9 23/2 1197459",{"v":4,"d":"4.00"},"1197459"]
[{"$nulls":3},"U222-ST-9 23/2 1197458",{"v":5,"d":"5.00"},"1197458"]
[{"$nulls":3},"U311-ST-9 23/2 1197456",{"v":4,"d":"4.00"},"1197456"]
[{"$nulls":3},"U321-ST-9 23/2 1197455",{"v":4,"d":"4.00"},"1197455"]
[{"$nulls":3},"U323-ST-9 23/2 1197453",{"v":4,"d":"4.00"},"1197453"]
[{"$nulls":3},"U325-ST-9 23/2 1381496",{"v":4,"d":"4.00"},"1381496"]
[{"$nulls":3},"U332-ST-9 23/2 1197451",{"v":4,"d":"4.00"},"1197451"]
[{"$nulls":3},"U337-ST-9 23/2 239583",{"v":4,"d":"4.00"},"239583"]
[{"$nulls":3},"U363-ST-9 23/2 1196140",{"v":4,"d":"4.00"},"1196140"]
[{"$nulls":3},"U504-ST-9 23/2 1191881",{"v":4,"d":"4.00"},"1191881"]
[{"$nulls":3},"U522-ST-9 23/2 1197449",{"v":4,"d":"4.00"},"1197449"]
[{"$nulls":3},"U525-ST-9 23/2 1197448",{"v":4,"d":"4.00"},"1197448"]
[{"$nulls":3},"U560-ST-9 23/2 1196173",{"v":4,"d":"4.00"},"1196173"]
[{"$nulls":3},"U600-ST-9 23/2 1381188",{"v":4,"d":"4.00"},"1381188"]
[{"$nulls":3},"U606-ST-9 23/2 1184905",{"v":4,"d":"4.00"},"1184905"]
[{"$nulls":3},"U626-ST-9 23/2 1191630",{"v":4,"d":"4.00"},"1191630"]
[{"$nulls":3},"U630-ST-9 23/2 1197445",{"v":4,"d":"4.00"},"1197445"]
[{"$nulls":3},"U655-ST-9 23/2 1196170",{"v":4,"d":"4.00"},"1196170"]
[{"$nulls":3},"U702-ST-16 23/2 1189863",{"v":4,"d":"4.00"},"1189863"]
[{"$nulls":3},"U702-ST-9 23/2 295330",{"v":4,"d":"4.00"},"295330"]
[{"$nulls":3},"U707-ST-9 23/2 1197443",{"v":4,"d":"4.00"},"1197443"]
[{"$nulls":3},"U708-ST-9 23/2 255162",{"v":4,"d":"4.00"},"255162"]
[{"$nulls":3},"U727-ST-9 23/2 971232",{"v":4,"d":"4.00"},"971232"]
[{"$nulls":3},"U732-ST-30 23/2 1197441",{"v":4,"d":"4.00"},"1197441"]
[{"$nulls":3},"U732-ST-9 23/2 255100",{"v":4,"d":"4.00"},"255100"]
[{"$nulls":3},"U741-ST-9 23/2 882432",{"v":4,"d":"4.00"},"882432"]
[{"$nulls":3},"U748-ST-9 23/2 1005274",{"v":4,"d":"4.00"},"1005274"]
[{"$nulls":3},"U750-ST-9 23/2 239567",{"v":4,"d":"4.00"},"239567"]
[{"$nulls":3},"U763-ST-9 23/2 1197438",{"v":4,"d":"4.00"},"1197438"]
[{"$nulls":3},"U767-ST-9 23/2 1197437",{"v":4,"d":"4.00"},"1197437"]
[{"$nulls":3},"U775-ST-9 23/2 1191303",{"v":4,"d":"4.00"},"1191303"]
[{"$nulls":3},"U780-ST-9 23/2 1381899",{"v":4,"d":"4.00"},"1381899"]
[{"$nulls":3},"U788-ST-16 23/2 1184909",{"v":4,"d":"4.00"},"1184909"]
[{"$nulls":3},"U788-ST-9 23/2 1197435",{"v":4,"d":"4.00"},"1197435"]
[{"$nulls":3},"U818-ST-9 23/2 1184934",{"v":4,"d":"4.00"},"1184934"]
[{"$nulls":3},"U830-ST-9 23/2 1381867",{"v":4,"d":"4.00"},"1381867"]
[{"$nulls":3},"U899-ST-9 23/2 1197434",{"v":6,"d":"6.00"},"1197434"]
[{"$nulls":3},"U960-ST-9 23/2 1049575",{"v":4,"d":"4.00"},"1049575"]
[{"$nulls":3},"U961-ST-19 23/2 1381839",{"v":4,"d":"4.00"},"1381839"]
[{"$nulls":3},"U961-ST-2 23/2 764136",{"v":4,"d":"4.00"},"764136"]
[{"$nulls":3},"U963-ST-9 23/2 255096",{"v":4,"d":"4.00"},"255096"]
[{"$nulls":3},"U968-ST-9 23/2 1381872",{"v":4,"d":"4.00"},"1381872"]
[{"$nulls":3},"U998-ST-38 23/2 1401037",{"v":4,"d":"4.00"},"1401037"]
[{"$nulls":3},"U999-ST-19 23/2 1382016",{"v":4,"d":"4.00"},"1382016"]
[{"$nulls":3},"U999-ST-2 23/2 764138",{"v":4,"d":"4.00"},"764138"]
[{"$nulls":3},"U999-ST-30 23/2 923506",{"v":4,"d":"4.00"},"923506"]
[{"$nulls":3},"U999-ST-38 23/2 1196680",{"v":4,"d":"4.00"},"1196680"]
[{"$nulls":3},"W1000-ST-19 23/2 1381477",{"v":4,"d":"4.00"},"1381477"]
[{"$nulls":3},"W1000-ST-22 23/2 882433",{"v":4,"d":"4.00"},"882433"]
[{"$nulls":3},"W1000-ST-38 23/2 1196660",{"v":4,"d":"4.00"},"1196660"]
[{"$nulls":3},"W1000-ST-9 23/2 764072",{"v":4,"d":"4.00"},"764072"]
[{"$nulls":3},"W1100-ST-30 23/2 977893",{"v":4,"d":"4.00"},"977893"]
[{"$nulls":3},"W1100-ST-9 23/2 977894",{"v":4,"d":"4.00"},"977894"]
[{"$nulls":3},"W908-ST-2 23/2 542956",{"v":4,"d":"4.00"},"542956"]
[{"$nulls":3},"W908-ST-SM 23/2 542961",{"v":4,"d":"4.00"},"542961"]
[{"$nulls":3},"W980-ST-2 23/2 703249",{"v":4,"d":"4.00"},"703249"]
[{"$nulls":3},"W980-ST-SM 23/2 764064",{"v":4,"d":"4.00"},"764064"]
[{"$nulls":3},"F186-ST-9 28/2 1197432",{"v":6,"d":"6.00"},"1197432"]
[{"$nulls":3},"F187-ST-9 28/2 1197431",{"v":6,"d":"6.00"},"1197431"]
[{"$nulls":3},"F302-ST-87 28/2 1194478",{"v":6,"d":"6.00"},"1194478"]
[{"$nulls":3},"F425-ST-10 28/2 1194545",{"v":6,"d":"6.00"},"1194545"]
[{"$nulls":3},"F433-ST-10 28/2 1196968",{"v":6,"d":"6.00"},"1196968"]
[{"$nulls":3},"F501-ST-2 28/2 1194437",{"v":6,"d":"6.00"},"1194437"]
[{"$nulls":3},"F509-ST-2 28/2 984322",{"v":6,"d":"6.00"},"984322"]
[{"$nulls":3},"F570-ST-2 28/2 1194422",{"v":6,"d":"6.00"},"1194422"]
[{"$nulls":3},"F571-ST-2 28/2 1194410",{"v":6,"d":"6.00"},"1194410"]
[{"$nulls":3},"F649-ST-16 28/2 1197428",{"v":6,"d":"6.00"},"1197428"]
[{"$nulls":3},"F651-ST-16 28/2 1197427",{"v":6,"d":"6.00"},"1197427"]
[{"$nulls":3},"H1101-ST-12 28/2 1196967",{"v":6,"d":"6.00"},"1196967"]
[{"$nulls":3},"H1113-ST-10 28/2 1194246",{"v":6,"d":"6.00"},"1194246"]
[{"$nulls":3},"H1114-ST-9 28/2 1200402",{"v":6,"d":"6.00"},"1200402"]
[{"$nulls":3},"H1115-ST-12 28/2 1197425",{"v":6,"d":"6.00"},"1197425"]
[{"$nulls":3},"H1116-ST-12 28/2 1197424",{"v":6,"d":"6.00"},"1197424"]
[{"$nulls":3},"H1122-ST-22 28/2 1197423",{"v":6,"d":"6.00"},"1197423"]
[{"$nulls":3},"H1123-ST-22 28/2 1194233",{"v":6,"d":"6.00"},"1194233"]
[{"$nulls":3},"H1137-ST-12 28/2 1197422",{"v":6,"d":"6.00"},"1197422"]
[{"$nulls":3},"H1145-ST-10 28/2 1143092",{"v":6,"d":"6.00"},"1143092"]
[{"$nulls":3},"H1146-ST-10 28/2 1194108",{"v":6,"d":"6.00"},"1194108"]
[{"$nulls":3},"H1151-ST-10 28/2 1194080",{"v":6,"d":"6.00"},"1194080"]
[{"$nulls":3},"H1176-ST-37 28/2 1194070",{"v":6,"d":"6.00"},"1194070"]
[{"$nulls":3},"H1180-ST-37 28/2 1194060",{"v":6,"d":"6.00"},"1194060"]
[{"$nulls":3},"H1181-ST-37 28/2 1194022",{"v":6,"d":"6.00"},"1194022"]
[{"$nulls":3},"H1199-ST-12 28/2 1193981",{"v":6,"d":"6.00"},"1193981"]
[{"$nulls":3},"H1210-ST-33 28/2 1197421",{"v":6,"d":"6.00"},"1197421"]
[{"$nulls":3},"H1212-ST-33 28/2 1197420",{"v":6,"d":"6.00"},"1197420"]
[{"$nulls":3},"H1213-ST-33 28/2 1197409",{"v":6,"d":"6.00"},"1197409"]
[{"$nulls":3},"H1250-ST-36 28/2 1193904",{"v":6,"d":"6.00"},"1193904"]
[{"$nulls":3},"H1277-ST-9 28/2 1143093",{"v":6,"d":"6.00"},"1143093"]
[{"$nulls":3},"H1334-ST-9 28/2 984394",{"v":6,"d":"6.00"},"984394"]
[{"$nulls":3},"H1387-ST-10 28/2 1193872",{"v":6,"d":"6.00"},"1193872"]
[{"$nulls":3},"H1399-ST-10 28/2 1193842",{"v":6,"d":"6.00"},"1193842"]
[{"$nulls":3},"H1400-ST-36 28/2 1197408",{"v":6,"d":"6.00"},"1197408"]
[{"$nulls":3},"H1401-ST-22 28/2 1065572",{"v":6,"d":"6.00"},"1065572"]
[{"$nulls":3},"H1424-ST-22 28/2 984390",{"v":6,"d":"6.00"},"984390"]
[{"$nulls":3},"H1444-ST-9 28/2 1193812",{"v":6,"d":"6.00"},"1193812"]
[{"$nulls":3},"H1486-ST-36 28/2 1199256",{"v":6,"d":"6.00"},"1199256"]
[{"$nulls":3},"H1487-ST-22 28/2 1193714",{"v":6,"d":"6.00"},"1193714"]
[{"$nulls":3},"H1511-ST-15 28/2 294996",{"v":6,"d":"6.00"},"294996"]
[{"$nulls":3},"H1582-ST-15 28/2 294995",{"v":6,"d":"6.00"},"294995"]
[{"$nulls":3},"H1615-ST-9 28/2 984369",{"v":6,"d":"6.00"},"984369"]
[{"$nulls":3},"H1636-ST-12 28/2 1197407",{"v":6,"d":"6.00"},"1197407"]
[{"$nulls":3},"H1733-ST-9 28/2 1166724",{"v":6,"d":"6.00"},"1166724"]
[{"$nulls":3},"H3006-ST-22 28/2 984344",{"v":6,"d":"6.00"},"984344"]
[{"$nulls":3},"H3012-ST-22 28/2 1193582",{"v":6,"d":"6.00"},"1193582"]
[{"$nulls":3},"H3047-ST-10 28/2 1193528",{"v":6,"d":"6.00"},"1193528"]
[{"$nulls":3},"H3048-ST-10 28/2 1193514",{"v":6,"d":"6.00"},"1193514"]
[{"$nulls":3},"H3058-ST-22 28/2 1193520",{"v":6,"d":"6.00"},"1193520"]
[{"$nulls":3},"H3080-ST-15 28/2 1193485",{"v":6,"d":"6.00"},"1193485"]
[{"$nulls":3},"H3081-ST-22 28/2 1193492",{"v":6,"d":"6.00"},"1193492"]
[{"$nulls":3},"H3090-ST-22 28/2 1193468",{"v":6,"d":"6.00"},"1193468"]
[{"$nulls":3},"H3113-ST-15 28/2 1193456",{"v":6,"d":"6.00"},"1193456"]
[{"$nulls":3},"H3114-ST-9 28/2 1193442",{"v":6,"d":"6.00"},"1193442"]
[{"$nulls":3},"H3131-ST-12 28/2 1197406",{"v":6,"d":"6.00"},"1197406"]
[{"$nulls":3},"H3133-ST-12 28/2 1197405",{"v":6,"d":"6.00"},"1197405"]
[{"$nulls":3},"H3154-ST-36 28/2 1197404",{"v":6,"d":"6.00"},"1197404"]
[{"$nulls":3},"H3156-ST-12 28/2 1197402",{"v":6,"d":"6.00"},"1197402"]
[{"$nulls":3},"H3170-ST-12 28/2 1197400",{"v":6,"d":"6.00"},"1197400"]
[{"$nulls":3},"H3303-ST-10 28/2 1193204",{"v":6,"d":"6.00"},"1193204"]
[{"$nulls":3},"H3309-ST-28 28/2 1193183",{"v":6,"d":"6.00"},"1193183"]
[{"$nulls":3},"H3325-ST-28 28/2 1193182",{"v":6,"d":"6.00"},"1193182"]
[{"$nulls":3},"H3326-ST-28 28/2 1193105",{"v":6,"d":"6.00"},"1193105"]
[{"$nulls":3},"H3331-ST-10 28/2 1193083",{"v":6,"d":"6.00"},"1193083"]
[{"$nulls":3},"H3342-ST-28 28/2 1193043",{"v":6,"d":"6.00"},"1193043"]
[{"$nulls":3},"H3395-ST-12 28/2 1197398",{"v":6,"d":"6.00"},"1197398"]
[{"$nulls":3},"H3398-ST-12 28/2 1197397",{"v":6,"d":"6.00"},"1197397"]
[{"$nulls":3},"H3430-ST-22 28/2 1192553",{"v":6,"d":"6.00"},"1192553"]
[{"$nulls":3},"H3433-ST-22 28/2 1197393",{"v":6,"d":"6.00"},"1197393"]
[{"$nulls":3},"H3450-ST-22 28/2 1197392",{"v":6,"d":"6.00"},"1197392"]
[{"$nulls":3},"H3451-ST-22 28/2 1197391",{"v":6,"d":"6.00"},"1197391"]
[{"$nulls":3},"H3453-ST-22 28/2 1192324",{"v":6,"d":"6.00"},"1192324"]
[{"$nulls":3},"H3700-ST-10 28/2 1192306",{"v":6,"d":"6.00"},"1192306"]
[{"$nulls":3},"H3702-ST-10 28/2 1192288",{"v":6,"d":"6.00"},"1192288"]
[{"$nulls":3},"H3704-ST-15 28/2 984328",{"v":6,"d":"6.00"},"984328"]
[{"$nulls":3},"H3711-ST-9 28/2 1192251",{"v":6,"d":"6.00"},"1192251"]
[{"$nulls":3},"H3730-ST-10 28/2 1192243",{"v":6,"d":"6.00"},"1192243"]
[{"$nulls":3},"H3732-ST-10 28/2 1192219",{"v":6,"d":"6.00"},"1192219"]
[{"$nulls":3},"H3734-ST-9 28/2 984326",{"v":6,"d":"6.00"},"984326"]
[{"$nulls":3},"H3773-ST-9 28/2 1192182",{"v":6,"d":"6.00"},"1192182"]
[{"$nulls":3},"H3840-ST-9 28/2 1192167",{"v":6,"d":"6.00"},"1192167"]
[{"$nulls":3},"H3860-ST-9 28/2 1192158",{"v":6,"d":"6.00"},"1192158"]
[{"$nulls":3},"H3991-ST-10 28/2 1197389",{"v":6,"d":"6.00"},"1197389"]
[{"$nulls":3},"U104-ST-9 28/2 1197388",{"v":5,"d":"5.00"},"1197388"]
[{"$nulls":3},"U108-ST-9 28/2 1197387",{"v":5,"d":"5.00"},"1197387"]
[{"$nulls":3},"U113-ST-9 28/2 1197386",{"v":5,"d":"5.00"},"1197386"]
[{"$nulls":3},"U114-ST-9 28/2 1197385",{"v":5,"d":"5.00"},"1197385"]
[{"$nulls":3},"U131-ST-9 28/2 1196966",{"v":5,"d":"5.00"},"1196966"]
[{"$nulls":3},"U156-ST-9 28/2 1166686",{"v":5,"d":"5.00"},"1166686"]
[{"$nulls":3},"U200-ST-9 28/2 1196965",{"v":5,"d":"5.00"},"1196965"]
[{"$nulls":3},"U201-ST-9 28/2 1197383",{"v":5,"d":"5.00"},"1197383"]
[{"$nulls":3},"U216-ST-9 28/2 1197382",{"v":5,"d":"5.00"},"1197382"]
[{"$nulls":3},"U222-ST-9 28/2 1197381",{"v":5,"d":"5.00"},"1197381"]
[{"$nulls":3},"U311-ST-9 28/2 1197379",{"v":5,"d":"5.00"},"1197379"]
[{"$nulls":3},"U321-ST-9 28/2 1197378",{"v":5,"d":"5.00"},"1197378"]
[{"$nulls":3},"U323-ST-9 28/2 1197377",{"v":5,"d":"5.00"},"1197377"]
[{"$nulls":3},"U332-ST-9 28/2 1197375",{"v":5,"d":"5.00"},"1197375"]
[{"$nulls":3},"U337-ST-9 28/2 1191919",{"v":5,"d":"5.00"},"1191919"]
[{"$nulls":3},"U363-ST-9 28/2 1196961",{"v":5,"d":"5.00"},"1196961"]
[{"$nulls":3},"U504-ST-9 28/2 1191879",{"v":5,"d":"5.00"},"1191879"]
[{"$nulls":3},"U522-ST-9 28/2 1197372",{"v":5,"d":"5.00"},"1197372"]
[{"$nulls":3},"U525-ST-9 28/2 1197371",{"v":5,"d":"5.00"},"1197371"]
[{"$nulls":3},"U560-ST-9 28/2 1196951",{"v":5,"d":"5.00"},"1196951"]
[{"$nulls":3},"U606-ST-9 28/2 1191846",{"v":5,"d":"5.00"},"1191846"]
[{"$nulls":3},"U626-ST-9 28/2 1191629",{"v":5,"d":"5.00"},"1191629"]
[{"$nulls":3},"U630-ST-9 28/2 1197368",{"v":5,"d":"5.00"},"1197368"]
[{"$nulls":3},"U655-ST-9 28/2 1196948",{"v":5,"d":"5.00"},"1196948"]
[{"$nulls":3},"U702-ST-16 28/2 1197366",{"v":5,"d":"5.00"},"1197366"]
[{"$nulls":3},"U702-ST-9 28/2 1191442",{"v":5,"d":"5.00"},"1191442"]
[{"$nulls":3},"U707-ST-9 28/2 1197365",{"v":5,"d":"5.00"},"1197365"]
[{"$nulls":3},"U708-ST-9 28/2 1191428",{"v":5,"d":"5.00"},"1191428"]
[{"$nulls":3},"U727-ST-9 28/2 1191348",{"v":5,"d":"5.00"},"1191348"]
[{"$nulls":3},"U732-ST-30 28/2 1197364",{"v":5,"d":"5.00"},"1197364"]
[{"$nulls":3},"U732-ST-9 28/2 1191347",{"v":5,"d":"5.00"},"1191347"]
[{"$nulls":3},"U741-ST-9 28/2 1191325",{"v":5,"d":"5.00"},"1191325"]
[{"$nulls":3},"U748-ST-9 28/2 1191302",{"v":5,"d":"5.00"},"1191302"]
[{"$nulls":3},"U750-ST-9 28/2 1191301",{"v":5,"d":"5.00"},"1191301"]
[{"$nulls":3},"U763-ST-9 28/2 1197363",{"v":5,"d":"5.00"},"1197363"]
[{"$nulls":3},"U767-ST-9 28/2 1197362",{"v":5,"d":"5.00"},"1197362"]
[{"$nulls":3},"U775-ST-9 28/2 1191300",{"v":5,"d":"5.00"},"1191300"]
[{"$nulls":3},"U788-ST-16 28/2 1191277",{"v":5,"d":"5.00"},"1191277"]
[{"$nulls":3},"U788-ST-9 28/2 1197360",{"v":5,"d":"5.00"},"1197360"]
[{"$nulls":3},"U818-ST-9 28/2 1191239",{"v":5,"d":"5.00"},"1191239"]
[{"$nulls":3},"U899-ST-9 28/2 1197359",{"v":5,"d":"5.00"},"1197359"]
[{"$nulls":3},"U960-ST-9 28/2 1191227",{"v":5,"d":"5.00"},"1191227"]
[{"$nulls":3},"U961-ST-2 28/2 1191220",{"v":5,"d":"5.00"},"1191220"]
[{"$nulls":3},"U963-ST-9 28/2 1191198",{"v":5,"d":"5.00"},"1191198"]
[{"$nulls":3},"U999-ST-2 28/2 984401",{"v":5,"d":"5.00"},"984401"]
[{"$nulls":3},"U999-ST-30 28/2 1191140",{"v":5,"d":"5.00"},"1191140"]
[{"$nulls":3},"U999-ST-38 28/2 1196678",{"v":5,"d":"5.00"},"1196678"]
[{"$nulls":3},"W1000-ST-22 28/2 1191151",{"v":5,"d":"5.00"},"1191151"]
[{"$nulls":3},"W1000-ST-38 28/2 1196656",{"v":5,"d":"5.00"},"1196656"]
[{"$nulls":3},"W1000-ST-9 28/2 294997",{"v":5,"d":"5.00"},"294997"]
[{"$nulls":3},"W1100-ST-30 28/2 1191087",{"v":5,"d":"5.00"},"1191087"]
[{"$nulls":3},"W1100-ST-9 28/2 1191101",{"v":5,"d":"5.00"},"1191101"]
[{"$nulls":3},"W908-ST-2 28/2 1191061",{"v":5,"d":"5.00"},"1191061"]
[{"$nulls":3},"W908-ST-SM 28/2 1191068",{"v":5,"d":"5.00"},"1191068"]
[{"$nulls":3},"W980-ST-2 28/2 984430",{"v":5,"d":"5.00"},"984430"]
[{"$nulls":3},"W980-ST-SM 28/2 984432",{"v":5,"d":"5.00"},"984432"]
[{"$nulls":3},"F204-ST-9 43/0.8 1381023",{"v":8,"d":"8.00"},"1381023"]
[{"$nulls":3},"F206-ST-9 43/0.8 1380912",{"v":8,"d":"8.00"},"1380912"]
[{"$nulls":3},"F416-ST-10 43/0.8 1381089",{"v":8,"d":"8.00"},"1381089"]
[{"$nulls":3},"F637-ST-16 43/0.8 1380683",{"v":8,"d":"8.00"},"1380683"]
[{"$nulls":3},"F642-ST-16 43/0.8 1380707",{"v":8,"d":"8.00"},"1380707"]
[{"$nulls":3},"F812-ST-9 43/0.8 1380851",{"v":8,"d":"8.00"},"1380851"]
[{"$nulls":3},"H1251-ST-19 43/0.8 1381677",{"v":8,"d":"8.00"},"1381677"]
[{"$nulls":3},"H1253-ST-19 43/0.8 1381703",{"v":8,"d":"8.00"},"1381703"]
[{"$nulls":3},"H1312-ST-10 43/0.8 1381621",{"v":8,"d":"8.00"},"1381621"]
[{"$nulls":3},"H1313-ST-10 43/0.8 1381660",{"v":8,"d":"8.00"},"1381660"]
[{"$nulls":3},"H1318-ST-10 43/0.8 1381640",{"v":8,"d":"8.00"},"1381640"]
[{"$nulls":3},"H1330-ST-10 43/0.8 1381797",{"v":8,"d":"8.00"},"1381797"]
[{"$nulls":3},"H1344-ST-32 43/0.8 1381813",{"v":8,"d":"8.00"},"1381813"]
[{"$nulls":3},"H1345-ST-32 43/0.8 1381736",{"v":8,"d":"8.00"},"1381736"]
[{"$nulls":3},"H1346-ST-32 43/0.8 1381776",{"v":8,"d":"8.00"},"1381776"]
[{"$nulls":3},"H1710-ST-10 43/0.8 1380436",{"v":8,"d":"8.00"},"1380436"]
[{"$nulls":3},"H1714-ST-19 43/0.8 1380477",{"v":8,"d":"8.00"},"1380477"]
[{"$nulls":3},"H2033-ST-10 43/0.8 1380455",{"v":8,"d":"8.00"},"1380455"]
[{"$nulls":3},"H3146-ST-19 43/0.8 1380644",{"v":8,"d":"8.00"},"1380644"]
[{"$nulls":3},"H3157-ST-12 43/0.8 1380563",{"v":8,"d":"8.00"},"1380563"]
[{"$nulls":3},"H3176-ST-37 43/0.8 1380584",{"v":8,"d":"8.00"},"1380584"]
[{"$nulls":3},"H3178-ST-37 43/0.8 1380276",{"v":8,"d":"8.00"},"1380276"]
[{"$nulls":3},"H3190-ST-19 43/0.8 1380259",{"v":8,"d":"8.00"},"1380259"]
[{"$nulls":3},"H3192-ST-19 43/0.8 1380298",{"v":8,"d":"8.00"},"1380298"]
[{"$nulls":3},"H3330-ST-36 43/0.8 1380209",{"v":8,"d":"8.00"},"1380209"]
[{"$nulls":3},"H3408-ST-38 43/0.8 1380377",{"v":8,"d":"8.00"},"1380377"]
[{"$nulls":3},"H3710-ST-12 43/0.8 1380321",{"v":8,"d":"8.00"},"1380321"]
[{"$nulls":3},"U201-ST-19 43/0.8 1381550",{"v":7,"d":"7.00"},"1381550"]
[{"$nulls":3},"U325-ST-9 43/0.8 1381546",{"v":7,"d":"7.00"},"1381546"]
[{"$nulls":3},"U600-ST-9 43/0.8 1381180",{"v":7,"d":"7.00"},"1381180"]
[{"$nulls":3},"U780-ST-9 43/0.8 1381949",{"v":7,"d":"7.00"},"1381949"]
[{"$nulls":3},"U830-ST-9 43/0.8 1381859",{"v":7,"d":"7.00"},"1381859"]
[{"$nulls":3},"U961-ST-19 43/0.8 1381889",{"v":7,"d":"7.00"},"1381889"]
[{"$nulls":3},"U968-ST-9 43/0.8 1382038",{"v":7,"d":"7.00"},"1382038"]
[{"$nulls":3},"U998-ST-38 43/0.8 1401045",{"v":7,"d":"7.00"},"1401045"]
[{"$nulls":3},"U999-ST-19 43/0.8 1382065",{"v":7,"d":"7.00"},"1382065"]
[{"$nulls":3},"W1000-ST-19 43/0.8 1381469",{"v":7,"d":"7.00"},"1381469"]
[{"$nulls":3},"F011-ST-9 43/1.5 1384694",{"v":10,"d":"10.00"},"1384694"]
[{"$nulls":3},"F012-ST-9 43/1.5 1384695",{"v":10,"d":"10.00"},"1384695"]
[{"$nulls":3},"F014-ST-9 43/1.5 1384692",{"v":10,"d":"10.00"},"1384692"]
[{"$nulls":3},"F021-ST-9 43/1.5 1428331",{"v":10,"d":"10.00"},"1428331"]
[{"$nulls":3},"F028-ST-89 43/1.5 1194318",{"v":10,"d":"10.00"},"1194318"]
[{"$nulls":3},"F029-ST-89 43/1.5 1194317",{"v":10,"d":"10.00"},"1194317"]
[{"$nulls":3},"F041-ST-15 43/1.5 1194319",{"v":10,"d":"10.00"},"1194319"]
[{"$nulls":3},"F059-ST-89 43/1.5 1199282",{"v":10,"d":"10.00"},"1199282"]
[{"$nulls":3},"F061-ST-89 43/1.5 1191183",{"v":10,"d":"10.00"},"1191183"]
[{"$nulls":3},"F074-ST-9 43/1.5 1184578",{"v":10,"d":"10.00"},"1184578"]
[{"$nulls":3},"F076-ST-9 43/1.5 1184579",{"v":10,"d":"10.00"},"1184579"]
[{"$nulls":3},"F080-ST-82 43/1.5 1194266",{"v":10,"d":"10.00"},"1194266"]
[{"$nulls":3},"F081-ST-82 43/1.5 1194265",{"v":10,"d":"10.00"},"1194265"]
[{"$nulls":3},"F092-ST-15 43/1.5 1191181",{"v":10,"d":"10.00"},"1191181"]
[{"$nulls":3},"F093-ST-15 43/1.5 1195291",{"v":10,"d":"10.00"},"1195291"]
[{"$nulls":3},"F094-ST-15 43/1.5 1195289",{"v":10,"d":"10.00"},"1195289"]
[{"$nulls":3},"F095-ST-87 43/1.5 1380351",{"v":10,"d":"10.00"},"1380351"]
[{"$nulls":3},"F104-ST-2 43/1.5 1194333",{"v":10,"d":"10.00"},"1194333"]
[{"$nulls":3},"F105-ST-15 43/1.5 1194332",{"v":10,"d":"10.00"},"1194332"]
[{"$nulls":3},"F110-ST-9 43/1.5 1195284",{"v":10,"d":"10.00"},"1195284"]
[{"$nulls":3},"F112-ST-9 43/1.5 1380350",{"v":10,"d":"10.00"},"1380350"]
[{"$nulls":3},"F117-ST-76 43/1.5 1380349",{"v":10,"d":"10.00"},"1380349"]
[{"$nulls":3},"F121-ST-87 43/1.5 1380984",{"v":10,"d":"10.00"},"1380984"]
[{"$nulls":3},"F141-ST-15 43/1.5 1184616",{"v":10,"d":"10.00"},"1184616"]
[{"$nulls":3},"F142-ST-15 43/1.5 1184612",{"v":10,"d":"10.00"},"1184612"]
[{"$nulls":3},"F147-ST-82 43/1.5 1194337",{"v":10,"d":"10.00"},"1194337"]
[{"$nulls":3},"F148-ST-82 43/1.5 1194349",{"v":10,"d":"10.00"},"1194349"]
[{"$nulls":3},"F160-ST-9 43/1.5 1194347",{"v":10,"d":"10.00"},"1194347"]
[{"$nulls":3},"F166-ST-9 43/1.5 1194346",{"v":10,"d":"10.00"},"1194346"]
[{"$nulls":3},"F186-ST-9 43/1.5 1189772",{"v":10,"d":"10.00"},"1189772"]
[{"$nulls":3},"F187-ST-9 43/1.5 1195275",{"v":10,"d":"10.00"},"1195275"]
[{"$nulls":3},"F204-ST-75 43/1.5 1381018",{"v":10,"d":"10.00"},"1381018"]
[{"$nulls":3},"F205-ST-9 43/1.5 1381007",{"v":10,"d":"10.00"},"1381007"]
[{"$nulls":3},"F206-ST-9 43/1.5 1380910",{"v":10,"d":"10.00"},"1380910"]
[{"$nulls":3},"F221-ST-87 43/1.5 1090814",{"v":10,"d":"10.00"},"1090814"]
[{"$nulls":3},"F222-ST-87 43/1.5 1090813",{"v":10,"d":"10.00"},"1090813"]
[{"$nulls":3},"F242-ST-10 43/1.5 1380945",{"v":9,"d":"9.00"},"1380945"]
[{"$nulls":3},"F256-ST-87 43/1.5 1090812",{"v":10,"d":"10.00"},"1090812"]
[{"$nulls":3},"F274-ST-9 43/1.5 1194361",{"v":10,"d":"10.00"},"1194361"]
[{"$nulls":3},"F275-ST-9 43/1.5 1194461",{"v":10,"d":"10.00"},"1194461"]
[{"$nulls":3},"F292-ST-9 43/1.5 1194467",{"v":10,"d":"10.00"},"1194467"]
[{"$nulls":3},"F302-ST-87 43/1.5 1194473",{"v":10,"d":"10.00"},"1194473"]
[{"$nulls":3},"F303-ST-87 43/1.5 1194491",{"v":10,"d":"10.00"},"1194491"]
[{"$nulls":3},"F310-ST-87 43/1.5 1090811",{"v":10,"d":"10.00"},"1090811"]
[{"$nulls":3},"F311-ST-87 43/1.5 1090810",{"v":10,"d":"10.00"},"1090810"]
[{"$nulls":3},"F312-ST-87 43/1.5 1090749",{"v":10,"d":"10.00"},"1090749"]
[{"$nulls":3},"F333-ST-76 43/1.5 1380923",{"v":10,"d":"10.00"},"1380923"]
[{"$nulls":3},"F371-ST-82 43/1.5 1194519",{"v":10,"d":"10.00"},"1194519"]
[{"$nulls":3},"F371-ST-89 43/1.5 1415211",{"v":10,"d":"10.00"},"1415211"]
[{"$nulls":3},"F385-ST-10 43/1.5 1194579",{"v":10,"d":"10.00"},"1194579"]
[{"$nulls":3},"F484-ST-87 43/1.5 1381071",{"v":10,"d":"10.00"},"1381071"]
[{"$nulls":3},"F502-ST-2 43/1.5 1199883",{"v":10,"d":"10.00"},"1199883"]
[{"$nulls":3},"F508-ST-10 43/1.5 1380736",{"v":10,"d":"10.00"},"1380736"]
[{"$nulls":3},"F547-ST-9 43/1.5 1199255",{"v":10,"d":"10.00"},"1199255"]
[{"$nulls":3},"F637-ST-16 43/1.5 1380679",{"v":10,"d":"10.00"},"1380679"]
[{"$nulls":3},"F638-ST-16 43/1.5 1195268",{"v":10,"d":"10.00"},"1195268"]
[{"$nulls":3},"F641-ST-16 43/1.5 1195261",{"v":10,"d":"10.00"},"1195261"]
[{"$nulls":3},"F649-ST-16 43/1.5 1195260",{"v":10,"d":"10.00"},"1195260"]
[{"$nulls":3},"F651-ST-16 43/1.5 1195251",{"v":10,"d":"10.00"},"1195251"]
[{"$nulls":3},"F812-ST-9 43/1.5 1380847",{"v":10,"d":"10.00"},"1380847"]
[{"$nulls":3},"H050-ST-9 43/1.5 1382050",{"v":10,"d":"10.00"},"1382050"]
[{"$nulls":3},"H110-ST-9 43/1.5 1194260",{"v":10,"d":"10.00"},"1194260"]
[{"$nulls":3},"H111-ST-12 43/1.5 1194247",{"v":10,"d":"10.00"},"1194247"]
[{"$nulls":3},"H1145-ST-10 43/1.5 1090748",{"v":10,"d":"10.00"},"1090748"]
[{"$nulls":3},"H1176-ST-37 43/1.5 1382005",{"v":10,"d":"10.00"},"1382005"]
[{"$nulls":3},"H1180-ST-37 43/1.5 1090746",{"v":10,"d":"10.00"},"1090746"]
[{"$nulls":3},"H1181-ST-37 43/1.5 1090745",{"v":10,"d":"10.00"},"1090745"]
[{"$nulls":3},"H1199-ST-12 43/1.5 1193977",{"v":10,"d":"10.00"},"1193977"]
[{"$nulls":3},"H1313-ST-10 43/1.5 1381657",{"v":10,"d":"10.00"},"1381657"]
[{"$nulls":3},"H1318-ST-10 43/1.5 1381638",{"v":10,"d":"10.00"},"1381638"]
[{"$nulls":3},"H1344-ST-32 43/1.5 1381811",{"v":10,"d":"10.00"},"1381811"]
[{"$nulls":3},"H1401-ST-22 43/1.5 1193849",{"v":10,"d":"10.00"},"1193849"]
[{"$nulls":3},"H1486-ST-36 43/1.5 1380493",{"v":10,"d":"10.00"},"1380493"]
[{"$nulls":3},"H148-ST-10 43/1.5 1191865",{"v":10,"d":"10.00"},"1191865"]
[{"$nulls":3},"H193-ST-12 43/1.5 1384740",{"v":10,"d":"10.00"},"1384740"]
[{"$nulls":3},"H194-ST-12 43/1.5 1384741",{"v":10,"d":"10.00"},"1384741"]
[{"$nulls":3},"H195-ST-10 43/1.5 1384698",{"v":10,"d":"10.00"},"1384698"]
[{"$nulls":3},"H197-ST-10 43/1.5 1384699",{"v":10,"d":"10.00"},"1384699"]
[{"$nulls":3},"H198-ST-10 43/1.5 1384696",{"v":10,"d":"10.00"},"1384696"]
[{"$nulls":3},"H2031-ST-10 43/1.5 1380470",{"v":10,"d":"10.00"},"1380470"]
[{"$nulls":3},"H2032-ST-10 43/1.5 1380469",{"v":10,"d":"10.00"},"1380469"]
[{"$nulls":3},"H2033-ST-10 43/1.5 1380452",{"v":10,"d":"10.00"},"1380452"]
[{"$nulls":3},"H2415-ST-10 43/1.5 1184611",{"v":10,"d":"10.00"},"1184611"]
[{"$nulls":3},"H3133-ST-12 43/1.5 1195092",{"v":10,"d":"10.00"},"1195092"]
[{"$nulls":3},"H3176-ST-37 43/1.5 1380581",{"v":10,"d":"10.00"},"1380581"]
[{"$nulls":3},"H3303-ST-10 43/1.5 1090744",{"v":10,"d":"10.00"},"1090744"]
[{"$nulls":3},"H3309-ST-28 43/1.5 1090743",{"v":10,"d":"10.00"},"1090743"]
[{"$nulls":3},"H3325-ST-28 43/1.5 1090742",{"v":10,"d":"10.00"},"1090742"]
[{"$nulls":3},"H3330-ST-36 43/1.5 1380207",{"v":10,"d":"10.00"},"1380207"]
[{"$nulls":3},"H3331-ST-10 43/1.5 1193077",{"v":10,"d":"10.00"},"1193077"]
[{"$nulls":3},"H3332-ST-10 43/1.5 1090741",{"v":10,"d":"10.00"},"1090741"]
[{"$nulls":3},"H3702-ST-10 43/1.5 1192285",{"v":10,"d":"10.00"},"1192285"]
[{"$nulls":3},"H3704-ST-15 43/1.5 1192273",{"v":10,"d":"10.00"},"1192273"]
[{"$nulls":3},"H3730-ST-10 43/1.5 1380311",{"v":10,"d":"10.00"},"1380311"]
[{"$nulls":3},"H3860-ST-9 43/1.5 1192145",{"v":10,"d":"10.00"},"1192145"]
[{"$nulls":3},"Q1180-RO 43/1.5 1189589",{"v":10,"d":"10.00"},"1189589"]
[{"$nulls":3},"Q1181-RO 43/1.5 1090745",{"v":10,"d":"10.00"},"1090745"]
[{"$nulls":3},"Q3325-RO 43/1.5 1090742",{"v":10,"d":"10.00"},"1090742"]
[{"$nulls":3},"Q3326-RO 43/1.5 1193103",{"v":10,"d":"10.00"},"1193103"]
[{"$nulls":3},"U702-ST-89 43/1.5 1090819",{"v":9,"d":"9.00"},"1090819"]
[{"$nulls":3},"U763-ST-76 43/1.5 1189864",{"v":9,"d":"9.00"},"1189864"]
[{"$nulls":3},"U960-ST-76 43/1.5 1194682",{"v":9,"d":"9.00"},"1194682"]
[{"$nulls":3},"U999-ST-89 43/1.5 1090640",{"v":9,"d":"9.00"},"1090640"]
[{"$nulls":3},"W1000-ST-76 43/1.5 1194681",{"v":9,"d":"9.00"},"1194681"]
[{"$nulls":3},"W1000-ST-89 43/1.5 1090641",{"v":9,"d":"9.00"},"1090641"]
[{"$nulls":3},"F186-ST-9 43/2 1380975",{"v":9,"d":"9.00"},"1380975"]
[{"$nulls":3},"F187-ST-9 43/2 1380959",{"v":9,"d":"9.00"},"1380959"]
[{"$nulls":3},"F204-ST-9 43/2 1381022",{"v":9,"d":"9.00"},"1381022"]
[{"$nulls":3},"F206-ST-9 43/2 1380911",{"v":9,"d":"9.00"},"1380911"]
[{"$nulls":3},"F302-ST-87 43/2 1380936",{"v":9,"d":"9.00"},"1380936"]
[{"$nulls":3},"F416-ST-10 43/2 1381088",{"v":9,"d":"9.00"},"1381088"]
[{"$nulls":3},"F425-ST-10 43/2 1194526",{"v":9,"d":"9.00"},"1194526"]
[{"$nulls":3},"F433-ST-10 43/2 1196922",{"v":9,"d":"9.00"},"1196922"]
[{"$nulls":3},"F501-ST-2 43/2 1380737",{"v":9,"d":"9.00"},"1380737"]
[{"$nulls":3},"F509-ST-2 43/2 1380732",{"v":9,"d":"9.00"},"1380732"]
[{"$nulls":3},"F570-ST-2 43/2 1194420",{"v":9,"d":"9.00"},"1194420"]
[{"$nulls":3},"F571-ST-2 43/2 1194398",{"v":9,"d":"9.00"},"1194398"]
[{"$nulls":3},"F637-ST-16 43/2 1380682",{"v":9,"d":"9.00"},"1380682"]
[{"$nulls":3},"F642-ST-16 43/2 1380706",{"v":9,"d":"9.00"},"1380706"]
[{"$nulls":3},"F649-ST-16 43/2 1197290",{"v":9,"d":"9.00"},"1197290"]
[{"$nulls":3},"F651-ST-16 43/2 1197289",{"v":9,"d":"9.00"},"1197289"]
[{"$nulls":3},"F812-ST-9 43/2 1380850",{"v":9,"d":"9.00"},"1380850"]
[{"$nulls":3},"H1101-ST-12 43/2 1196921",{"v":9,"d":"9.00"},"1196921"]
[{"$nulls":3},"H1113-ST-10 43/2 1382046",{"v":9,"d":"9.00"},"1382046"]
[{"$nulls":3},"H1114-ST-9 43/2 1200400",{"v":9,"d":"9.00"},"1200400"]
[{"$nulls":3},"H1115-ST-12 43/2 1381983",{"v":9,"d":"9.00"},"1381983"]
[{"$nulls":3},"H1116-ST-12 43/2 1197286",{"v":9,"d":"9.00"},"1197286"]
[{"$nulls":3},"H1122-ST-22 43/2 1381979",{"v":9,"d":"9.00"},"1381979"]
[{"$nulls":3},"H1123-ST-22 43/2 1381973",{"v":9,"d":"9.00"},"1381973"]
[{"$nulls":3},"H1137-ST-12 43/2 1381969",{"v":9,"d":"9.00"},"1381969"]
[{"$nulls":3},"H1145-ST-10 43/2 1425019",{"v":9,"d":"9.00"},"1425019"]
[{"$nulls":3},"H1146-ST-10 43/2 1425111",{"v":9,"d":"9.00"},"1425111"]
[{"$nulls":3},"H1151-ST-10 43/2 1382011",{"v":9,"d":"9.00"},"1382011"]
[{"$nulls":3},"H1176-ST-37 43/2 1382007",{"v":9,"d":"9.00"},"1382007"]
[{"$nulls":3},"H1180-ST-37 43/2 1382002",{"v":9,"d":"9.00"},"1382002"]
[{"$nulls":3},"H1181-ST-37 43/2 1381997",{"v":9,"d":"9.00"},"1381997"]
[{"$nulls":3},"H1199-ST-12 43/2 1381991",{"v":9,"d":"9.00"},"1381991"]
[{"$nulls":3},"H1210-ST-33 43/2 1381988",{"v":9,"d":"9.00"},"1381988"]
[{"$nulls":3},"H1212-ST-33 43/2 1381986",{"v":9,"d":"9.00"},"1381986"]
[{"$nulls":3},"H1213-ST-33 43/2 1197280",{"v":9,"d":"9.00"},"1197280"]
[{"$nulls":3},"H1250-ST-36 43/2 1381692",{"v":9,"d":"9.00"},"1381692"]
[{"$nulls":3},"H1251-ST-19 43/2 1381676",{"v":9,"d":"9.00"},"1381676"]
[{"$nulls":3},"H1253-ST-19 43/2 1381702",{"v":9,"d":"9.00"},"1381702"]
[{"$nulls":3},"H1277-ST-9 43/2 1381697",{"v":9,"d":"9.00"},"1381697"]
[{"$nulls":3},"H1312-ST-10 43/2 1381620",{"v":9,"d":"9.00"},"1381620"]
[{"$nulls":3},"H1313-ST-10 43/2 1381659",{"v":9,"d":"9.00"},"1381659"]
[{"$nulls":3},"H1318-ST-10 43/2 1381639",{"v":9,"d":"9.00"},"1381639"]
[{"$nulls":3},"H1330-ST-10 43/2 1381796",{"v":9,"d":"9.00"},"1381796"]
[{"$nulls":3},"H1334-ST-9 43/2 1381781",{"v":9,"d":"9.00"},"1381781"]
[{"$nulls":3},"H1344-ST-32 43/2 1381812",{"v":9,"d":"9.00"},"1381812"]
[{"$nulls":3},"H1345-ST-32 43/2 1381735",{"v":9,"d":"9.00"},"1381735"]
[{"$nulls":3},"H1346-ST-32 43/2 1381775",{"v":9,"d":"9.00"},"1381775"]
[{"$nulls":3},"H1387-ST-10 43/2 1193855",{"v":9,"d":"9.00"},"1193855"]
[{"$nulls":3},"H1394-ST-9 43/2 1276286",{"v":9,"d":"9.00"},"1276286"]
[{"$nulls":3},"H1399-ST-10 43/2 1381752",{"v":9,"d":"9.00"},"1381752"]
[{"$nulls":3},"H1400-ST-36 43/2 1197279",{"v":9,"d":"9.00"},"1197279"]
[{"$nulls":3},"H1401-ST-22 43/2 1380503",{"v":9,"d":"9.00"},"1380503"]
[{"$nulls":3},"H1424-ST-22 43/2 1380499",{"v":9,"d":"9.00"},"1380499"]
[{"$nulls":3},"H1444-ST-9 43/2 1193805",{"v":9,"d":"9.00"},"1193805"]
[{"$nulls":3},"H1486-ST-36 43/2 1380495",{"v":9,"d":"9.00"},"1380495"]
[{"$nulls":3},"H1487-ST-22 43/2 1380489",{"v":9,"d":"9.00"},"1380489"]
[{"$nulls":3},"H1511-ST-15 43/2 1380485",{"v":9,"d":"9.00"},"1380485"]
[{"$nulls":3},"H1555-ST-15 43/2 1461124",{"v":9,"d":"9.00"},"1461124"]
[{"$nulls":3},"H1582-ST-15 43/2 1380483",{"v":9,"d":"9.00"},"1380483"]
[{"$nulls":3},"H1599-ST-15 43/2 1276288",{"v":9,"d":"9.00"},"1276288"]
[{"$nulls":3},"H1615-ST-9 43/2 1380537",{"v":9,"d":"9.00"},"1380537"]
[{"$nulls":3},"H1636-ST-12 43/2 1380532",{"v":9,"d":"9.00"},"1380532"]
[{"$nulls":3},"H1706-ST-15 43/2 1276302",{"v":9,"d":"9.00"},"1276302"]
[{"$nulls":3},"H1709-ST-15 43/2 1276285",{"v":9,"d":"9.00"},"1276285"]
[{"$nulls":3},"H1710-ST-10 43/2 1380435",{"v":9,"d":"9.00"},"1380435"]
[{"$nulls":3},"H1714-ST-19 43/2 1380476",{"v":9,"d":"9.00"},"1380476"]
[{"$nulls":3},"H1733-ST-9 43/2 1380471",{"v":9,"d":"9.00"},"1380471"]
[{"$nulls":3},"H2033-ST-10 43/2 1380454",{"v":9,"d":"9.00"},"1380454"]
[{"$nulls":3},"H3006-ST-22 43/2 1461298",{"v":9,"d":"9.00"},"1461298"]
[{"$nulls":3},"H3012-ST-22 43/2 1380617",{"v":9,"d":"9.00"},"1380617"]
[{"$nulls":3},"H3047-ST-10 43/2 1193515",{"v":9,"d":"9.00"},"1193515"]
[{"$nulls":3},"H3048-ST-10 43/2 1193497",{"v":9,"d":"9.00"},"1193497"]
[{"$nulls":3},"H3058-ST-22 43/2 1380614",{"v":9,"d":"9.00"},"1380614"]
[{"$nulls":3},"H3080-ST-15 43/2 1193482",{"v":9,"d":"9.00"},"1193482"]
[{"$nulls":3},"H3081-ST-22 43/2 1193490",{"v":9,"d":"9.00"},"1193490"]
[{"$nulls":3},"H3090-ST-22 43/2 1380610",{"v":9,"d":"9.00"},"1380610"]
[{"$nulls":3},"H3113-ST-15 43/2 1193451",{"v":9,"d":"9.00"},"1193451"]
[{"$nulls":3},"H3114-ST-9 43/2 1193422",{"v":9,"d":"9.00"},"1193422"]
[{"$nulls":3},"H3131-ST-12 43/2 1380604",{"v":9,"d":"9.00"},"1380604"]
[{"$nulls":3},"H3133-ST-12 43/2 1380599",{"v":9,"d":"9.00"},"1380599"]
[{"$nulls":3},"H3146-ST-19 43/2 1380643",{"v":9,"d":"9.00"},"1380643"]
[{"$nulls":3},"H3154-ST-36 43/2 1380635",{"v":9,"d":"9.00"},"1380635"]
[{"$nulls":3},"H3156-ST-12 43/2 1380630",{"v":9,"d":"9.00"},"1380630"]
[{"$nulls":3},"H3157-ST-12 43/2 1380562",{"v":9,"d":"9.00"},"1380562"]
[{"$nulls":3},"H3170-ST-12 43/2 1380544",{"v":9,"d":"9.00"},"1380544"]
[{"$nulls":3},"H3176-ST-37 43/2 1380583",{"v":9,"d":"9.00"},"1380583"]
[{"$nulls":3},"H3178-ST-37 43/2 1380275",{"v":10,"d":"10.00"},"1380275"]
[{"$nulls":3},"H3190-ST-19 43/2 1380258",{"v":9,"d":"9.00"},"1380258"]
[{"$nulls":3},"H3192-ST-19 43/2 1380297",{"v":9,"d":"9.00"},"1380297"]
[{"$nulls":3},"H3303-ST-10 43/2 1425121",{"v":9,"d":"9.00"},"1425121"]
[{"$nulls":3},"H3309-ST-28 43/2 1380287",{"v":9,"d":"9.00"},"1380287"]
[{"$nulls":3},"H3325-ST-28 43/2 1380284",{"v":9,"d":"9.00"},"1380284"]
[{"$nulls":3},"H3326-ST-28 43/2 1380281",{"v":9,"d":"9.00"},"1380281"]
[{"$nulls":3},"H3330-ST-36 43/2 1380208",{"v":9,"d":"9.00"},"1380208"]
[{"$nulls":3},"H3331-ST-10 43/2 1380151",{"v":9,"d":"9.00"},"1380151"]
[{"$nulls":3},"H3342-ST-28 43/2 1193041",{"v":9,"d":"9.00"},"1193041"]
[{"$nulls":3},"H3395-ST-12 43/2 1380229",{"v":9,"d":"9.00"},"1380229"]
[{"$nulls":3},"H3398-ST-12 43/2 1380224",{"v":9,"d":"9.00"},"1380224"]
[{"$nulls":3},"H3408-ST-38 43/2 1380376",{"v":9,"d":"9.00"},"1380376"]
[{"$nulls":3},"H3430-ST-22 43/2 1380367",{"v":9,"d":"9.00"},"1380367"]
[{"$nulls":3},"H3433-ST-22 43/2 1380419",{"v":9,"d":"9.00"},"1380419"]
[{"$nulls":3},"H3450-ST-22 43/2 1380414",{"v":9,"d":"9.00"},"1380414"]
[{"$nulls":3},"H3451-ST-22 43/2 1380408",{"v":9,"d":"9.00"},"1380408"]
[{"$nulls":3},"H3453-ST-22 43/2 1380404",{"v":9,"d":"9.00"},"1380404"]
[{"$nulls":3},"H3700-ST-10 43/2 1380396",{"v":9,"d":"9.00"},"1380396"]
[{"$nulls":3},"H3702-ST-10 43/2 1380335",{"v":9,"d":"9.00"},"1380335"]
[{"$nulls":3},"H3704-ST-15 43/2 1461223",{"v":9,"d":"9.00"},"1461223"]
[{"$nulls":3},"H3710-ST-12 43/2 1380320",{"v":9,"d":"9.00"},"1380320"]
[{"$nulls":3},"H3711-ST-9 43/2 1192229",{"v":9,"d":"9.00"},"1192229"]
[{"$nulls":3},"H3730-ST-10 43/2 1380312",{"v":9,"d":"9.00"},"1380312"]
[{"$nulls":3},"H3732-ST-10 43/2 1192216",{"v":9,"d":"9.00"},"1192216"]
[{"$nulls":3},"H3734-ST-9 43/2 1380309",{"v":9,"d":"9.00"},"1380309"]
[{"$nulls":3},"H3773-ST-9 43/2 1192162",{"v":9,"d":"9.00"},"1192162"]
[{"$nulls":3},"H3840-ST-9 43/2 1380363",{"v":9,"d":"9.00"},"1380363"]
[{"$nulls":3},"H3860-ST-9 43/2 1380359",{"v":9,"d":"9.00"},"1380359"]
[{"$nulls":3},"H3991-ST-10 43/2 1197258",{"v":9,"d":"9.00"},"1197258"]
[{"$nulls":3},"U104-ST-9 43/2 1381379",{"v":8,"d":"8.00"},"1381379"]
[{"$nulls":3},"U108-ST-9 43/2 1381429",{"v":8,"d":"8.00"},"1381429"]
[{"$nulls":3},"U113-ST-9 43/2 1381424",{"v":8,"d":"8.00"},"1381424"]
[{"$nulls":3},"U114-ST-9 43/2 1381418",{"v":8,"d":"8.00"},"1381418"]
[{"$nulls":3},"U131-ST-9 43/2 1381412",{"v":8,"d":"8.00"},"1381412"]
[{"$nulls":3},"U156-ST-9 43/2 1381402",{"v":8,"d":"8.00"},"1381402"]
[{"$nulls":3},"U200-ST-9 43/2 1381568",{"v":8,"d":"8.00"},"1381568"]
[{"$nulls":3},"U201-ST-19 43/2 1381549",{"v":8,"d":"8.00"},"1381549"]
[{"$nulls":3},"U201-ST-9 43/2 1381564",{"v":8,"d":"8.00"},"1381564"]
[{"$nulls":3},"U216-ST-9 43/2 1381599",{"v":8,"d":"8.00"},"1381599"]
[{"$nulls":3},"U222-ST-9 43/2 1381596",{"v":8,"d":"8.00"},"1381596"]
[{"$nulls":3},"U311-ST-9 43/2 1381578",{"v":8,"d":"8.00"},"1381578"]
[{"$nulls":3},"U321-ST-9 43/2 1381510",{"v":8,"d":"8.00"},"1381510"]
[{"$nulls":3},"U323-ST-9 43/2 1381504",{"v":8,"d":"8.00"},"1381504"]
[{"$nulls":3},"U325-ST-9 43/2 1381545",{"v":8,"d":"8.00"},"1381545"]
[{"$nulls":3},"U332-ST-9 43/2 1381529",{"v":8,"d":"8.00"},"1381529"]
[{"$nulls":3},"U337-ST-9 43/2 1381523",{"v":8,"d":"8.00"},"1381523"]
[{"$nulls":3},"U363-ST-9 43/2 1381221",{"v":8,"d":"8.00"},"1381221"]
[{"$nulls":3},"U504-ST-9 43/2 1381233",{"v":8,"d":"8.00"},"1381233"]
[{"$nulls":3},"U522-ST-9 43/2 1381162",{"v":8,"d":"8.00"},"1381162"]
[{"$nulls":3},"U525-ST-9 43/2 1381157",{"v":8,"d":"8.00"},"1381157"]
[{"$nulls":3},"U560-ST-9 43/2 1196905",{"v":8,"d":"8.00"},"1196905"]
[{"$nulls":3},"U600-ST-9 43/2 1381179",{"v":8,"d":"8.00"},"1381179"]
[{"$nulls":3},"U606-ST-9 43/2 1191799",{"v":8,"d":"8.00"},"1191799"]
[{"$nulls":3},"U626-ST-9 43/2 1381333",{"v":8,"d":"8.00"},"1381333"]
[{"$nulls":3},"U630-ST-9 43/2 1381329",{"v":8,"d":"8.00"},"1381329"]
[{"$nulls":3},"U655-ST-9 43/2 1196902",{"v":8,"d":"8.00"},"1196902"]
[{"$nulls":3},"U702-ST-16 43/2 1197234",{"v":8,"d":"8.00"},"1197234"]
[{"$nulls":3},"U702-ST-9 43/2 1381352",{"v":8,"d":"8.00"},"1381352"]
[{"$nulls":3},"U707-ST-9 43/2 1381274",{"v":8,"d":"8.00"},"1381274"]
[{"$nulls":3},"U708-ST-9 43/2 1381272",{"v":8,"d":"8.00"},"1381272"]
[{"$nulls":3},"U727-ST-9 43/2 1381259",{"v":8,"d":"8.00"},"1381259"]
[{"$nulls":3},"U732-ST-30 43/2 1197232",{"v":8,"d":"8.00"},"1197232"]
[{"$nulls":3},"U732-ST-9 43/2 1381310",{"v":8,"d":"8.00"},"1381310"]
[{"$nulls":3},"U741-ST-9 43/2 1381290",{"v":8,"d":"8.00"},"1381290"]
[{"$nulls":3},"U748-ST-9 43/2 1381925",{"v":8,"d":"8.00"},"1381925"]
[{"$nulls":3},"U750-ST-9 43/2 1381920",{"v":8,"d":"8.00"},"1381920"]
[{"$nulls":3},"U763-ST-9 43/2 1381916",{"v":8,"d":"8.00"},"1381916"]
[{"$nulls":3},"U767-ST-9 43/2 1381910",{"v":8,"d":"8.00"},"1381910"]
[{"$nulls":3},"U775-ST-9 43/2 1381905",{"v":8,"d":"8.00"},"1381905"]
[{"$nulls":3},"U780-ST-9 43/2 1381948",{"v":8,"d":"8.00"},"1381948"]
[{"$nulls":3},"U788-ST-16 43/2 1191275",{"v":8,"d":"8.00"},"1191275"]
[{"$nulls":3},"U788-ST-9 43/2 1381940",{"v":8,"d":"8.00"},"1381940"]
[{"$nulls":3},"U818-ST-9 43/2 1381931",{"v":8,"d":"8.00"},"1381931"]
[{"$nulls":3},"U830-ST-9 43/2 1381858",{"v":8,"d":"8.00"},"1381858"]
[{"$nulls":3},"U899-ST-9 43/2 1381851",{"v":8,"d":"8.00"},"1381851"]
[{"$nulls":3},"U960-ST-9 43/2 1381847",{"v":8,"d":"8.00"},"1381847"]
[{"$nulls":3},"U961-ST-19 43/2 1381888",{"v":8,"d":"8.00"},"1381888"]
[{"$nulls":3},"U961-ST-2 43/2 1381845",{"v":8,"d":"8.00"},"1381845"]
[{"$nulls":3},"U963-ST-9 43/2 1381878",{"v":8,"d":"8.00"},"1381878"]
[{"$nulls":3},"U968-ST-9 43/2 1382037",{"v":8,"d":"8.00"},"1382037"]
[{"$nulls":3},"U998-ST-38 43/2 1401046",{"v":8,"d":"8.00"},"1401046"]
[{"$nulls":3},"U999-ST-19 43/2 1382064",{"v":8,"d":"8.00"},"1382064"]
[{"$nulls":3},"U999-ST-2 43/2 1382028",{"v":8,"d":"8.00"},"1382028"]
[{"$nulls":3},"U999-ST-30 43/2 1191138",{"v":8,"d":"8.00"},"1191138"]
[{"$nulls":3},"U999-ST-38 43/2 1196682",{"v":8,"d":"8.00"},"1196682"]
[{"$nulls":3},"W1000-ST-19 43/2 1381468",{"v":8,"d":"8.00"},"1381468"]
[{"$nulls":3},"W1000-ST-22 43/2 1461299",{"v":8,"d":"8.00"},"1461299"]
[{"$nulls":3},"W1000-ST-38 43/2 1381460",{"v":8,"d":"8.00"},"1381460"]
[{"$nulls":3},"W1000-ST-9 43/2 1381483",{"v":8,"d":"8.00"},"1381483"]
[{"$nulls":3},"W1100-ST-30 43/2 1191077",{"v":8,"d":"8.00"},"1191077"]
[{"$nulls":3},"W1100-ST-9 43/2 1381394",{"v":8,"d":"8.00"},"1381394"]
[{"$nulls":3},"W908-ST-2 43/2 1381454",{"v":8,"d":"8.00"},"1381454"]
[{"$nulls":3},"W908-ST-SM 43/2 1381456",{"v":8,"d":"8.00"},"1381456"]
[{"$nulls":3},"W980-ST-2 43/2 1381438",{"v":8,"d":"8.00"},"1381438"]
[{"$nulls":3},"W980-ST-SM 43/2 1381439",{"v":8,"d":"8.00"},"1381439"]
[{"$nulls":3},"W1000-ST-9 23/0.8 1191124",4,"1191124"]
[{"$nulls":3},"W1100-ST-9 23/0.8 1191112",4,"1191112"]
[{"$nulls":3},"W908-ST-2 23/0.8 1191056",4,"1191056"]
[{"$nulls":3},"W908-ST-SM 23/0.8 1191063",4,"1191063"]
[{"$nulls":3},"F637-ST-16 23/0.4 1380751",3,"1380751"]
[{"$nulls":3},"F637-ST-16 23/2 1380749",5,"1380749"]
[{"$nulls":3},"F637-ST-16 43/1.5 1380679",10,"1380679"]
[{"$nulls":3},"F637-ST-16 43/2 1380682",9,"1380682"]
[{"$nulls":3},"F642-ST-16 23/0.4 1380664",3,"1380664"]
[{"$nulls":3},"F642-ST-16 23/2 1380666",5,"1380666"]
[{"$nulls":3},"F642-ST-16 43/2 1380706",9,"1380706"]
[{"$nulls":3},"W980-ST-SM 23/0.8 1191019",4,"1191019"]

{"sheet":"Formula Cant","index":8,"n_rows":223,"n_cols":6,"rows_kept":223,"hidden":true}
[]
[]
[{"$f":"IF(Export!H3<>0,\"L1\",\"no\")","v":"no"},{"$f":"IF(Export!I3<>0,\"L2\",\"no\")","v":"no"},{"$f":"IF(Export!J3<>0,\"H1\",\"no\")","v":"no"},{"$f":"IF(Export!K3<>0,\"H2\",\"no\")","v":"no"},null,{"$f":"CONCATENATE(A3,\"-\",B3,\"-\",C3,\"-\",D3)","v":"no-no-no-no"}]
[{"$f":"IF(Export!H4<>0,\"L1\",\"no\")","v":"no"},{"$f":"IF(Export!I4<>0,\"L2\",\"no\")","v":"no"},{"$f":"IF(Export!J4<>0,\"H1\",\"no\")","v":"no"},{"$f":"IF(Export!K4<>0,\"H2\",\"no\")","v":"no"},null,{"$f":"CONCATENATE(A4,\"-\",B4,\"-\",C4,\"-\",D4)","v":"no-no-no-no"}]
[{"$f":"IF(Export!H5<>0,\"L1\",\"no\")","v":"no"},{"$f":"IF(Export!I5<>0,\"L2\",\"no\")","v":"no"},{"$f":"IF(Export!J5<>0,\"H1\",\"no\")","v":"no"},{"$f":"IF(Export!K5<>0,\"H2\",\"no\")","v":"no"},null,"no-no-no-no"]
[{"$f":"IF(Export!H6<>0,\"L1\",\"no\")","v":"no"},{"$f":"IF(Export!I6<>0,\"L2\",\"no\")","v":"no"},{"$f":"IF(Export!J6<>0,\"H1\",\"no\")","v":"no"},{"$f":"IF(Export!K6<>0,\"H2\",\"no\")","v":"no"},null,"no-no-no-no"]
[{"$f":"IF(Export!H7<>0,\"L1\",\"no\")","v":"no"},{"$f":"IF(Export!I7<>0,\"L2\",\"no\")","v":"no"},{"$f":"IF(Export!J7<>0,\"H1\",\"no\")","v":"no"},{"$f":"IF(Export!K7<>0,\"H2\",\"no\")","v":"no"},null,"no-no-no-no"]
[{"$f":"IF(Export!H8<>0,\"L1\",\"no\")","v":"no"},{"$f":"IF(Export!I8<>0,\"L2\",\"no\")","v":"no"},{"$f":"IF(Export!J8<>0,\"H1\",\"no\")","v":"no"},{"$f":"IF(Export!K8<>0,\"H2\",\"no\")","v":"no"},null,"no-no-no-no"]
[{"$f":"IF(Export!H9<>0,\"L1\",\"no\")","v":"no"},{"$f":"IF(Export!I9<>0,\"L2\",\"no\")","v":"no"},{"$f":"IF(Export!J9<>0,\"H1\",\"no\")","v":"no"},{"$f":"IF(Export!K9<>0,\"H2\",\"no\")","v":"no"},null,"no-no-no-no"]
[{"$f":"IF(Export!H10<>0,\"L1\",\"no\")","v":"no"},{"$f":"IF(Export!I10<>0,\"L2\",\"no\")","v":"no"},{"$f":"IF(Export!J10<>0,\"H1\",\"no\")","v":"no"},{"$f":"IF(Export!K10<>0,\"H2\",\"no\")","v":"no"},null,"no-no-no-no"]
[{"$f":"IF(Export!H11<>0,\"L1\",\"no\")","v":"no"},{"$f":"IF(Export!I11<>0,\"L2\",\"no\")","v":"no"},{"$f":"IF(Export!J11<>0,\"H1\",\"no\")","v":"no"},{"$f":"IF(Export!K11<>0,\"H2\",\"no\")","v":"no"},null,"no-no-no-no"]
[{"$f":"IF(Export!H12<>0,\"L1\",\"no\")","v":"no"},{"$f":"IF(Export!I12<>0,\"L2\",\"no\")","v":"no"},{"$f":"IF(Export!J12<>0,\"H1\",\"no\")","v":"no"},{"$f":"IF(Export!K12<>0,\"H2\",\"no\")","v":"no"},null,"no-no-no-no"]
[{"$f":"IF(Export!H13<>0,\"L1\",\"no\")","v":"no"},{"$f":"IF(Export!I13<>0,\"L2\",\"no\")","v":"no"},{"$f":"IF(Export!J13<>0,\"H1\",\"no\")","v":"no"},{"$f":"IF(Export!K13<>0,\"H2\",\"no\")","v":"no"},null,"no-no-no-no"]
[{"$f":"IF(Export!H14<>0,\"L1\",\"no\")","v":"no"},{"$f":"IF(Export!I14<>0,\"L2\",\"no\")","v":"no"},{"$f":"IF(Export!J14<>0,\"H1\",\"no\")","v":"no"},{"$f":"IF(Export!K14<>0,\"H2\",\"no\")","v":"no"},null,"no-no-no-no"]
[{"$f":"IF(Export!H15<>0,\"L1\",\"no\")","v":"no"},{"$f":"IF(Export!I15<>0,\"L2\",\"no\")","v":"no"},{"$f":"IF(Export!J15<>0,\"H1\",\"no\")","v":"no"},{"$f":"IF(Export!K15<>0,\"H2\",\"no\")","v":"no"},null,"no-no-no-no"]
[{"$f":"IF(Export!H16<>0,\"L1\",\"no\")","v":"no"},{"$f":"IF(Export!I16<>0,\"L2\",\"no\")","v":"no"},{"$f":"IF(Export!J16<>0,\"H1\",\"no\")","v":"no"},{"$f":"IF(Export!K16<>0,\"H2\",\"no\")","v":"no"},null,"no-no-no-no"]
[{"$f":"IF(Export!H17<>0,\"L1\",\"no\")","v":"no"},{"$f":"IF(Export!I17<>0,\"L2\",\"no\")","v":"no"},{"$f":"IF(Export!J17<>0,\"H1\",\"no\")","v":"no"},{"$f":"IF(Export!K17<>0,\"H2\",\"no\")","v":"no"},null,"no-no-no-no"]
[{"$f":"IF(Export!H18<>0,\"L1\",\"no\")","v":"no"},{"$f":"IF(Export!I18<>0,\"L2\",\"no\")","v":"no"},{"$f":"IF(Export!J18<>0,\"H1\",\"no\")","v":"no"},{"$f":"IF(Export!K18<>0,\"H2\",\"no\")","v":"no"},null,"no-no-no-no"]
[{"$f":"IF(Export!H19<>0,\"L1\",\"no\")","v":"no"},{"$f":"IF(Export!I19<>0,\"L2\",\"no\")","v":"no"},{"$f":"IF(Export!J19<>0,\"H1\",\"no\")","v":"no"},{"$f":"IF(Export!K19<>0,\"H2\",\"no\")","v":"no"},null,"no-no-no-no"]
[{"$f":"IF(Export!H20<>0,\"L1\",\"no\")","v":"no"},{"$f":"IF(Export!I20<>0,\"L2\",\"no\")","v":"no"},{"$f":"IF(Export!J20<>0,\"H1\",\"no\")","v":"no"},{"$f":"IF(Export!K20<>0,\"H2\",\"no\")","v":"no"},null,"no-no-no-no"]
[{"$f":"IF(Export!H21<>0,\"L1\",\"no\")","v":"no"},{"$f":"IF(Export!I21<>0,\"L2\",\"no\")","v":"no"},{"$f":"IF(Export!J21<>0,\"H1\",\"no\")","v":"no"},{"$f":"IF(Export!K21<>0,\"H2\",\"no\")","v":"no"},null,"no-no-no-no"]
[{"$f":"IF(Export!H22<>0,\"L1\",\"no\")","v":"no"},{"$f":"IF(Export!I22<>0,\"L2\",\"no\")","v":"no"},{"$f":"IF(Export!J22<>0,\"H1\",\"no\")","v":"no"},{"$f":"IF(Export!K22<>0,\"H2\",\"no\")","v":"no"},null,"no-no-no-no"]
[{"$f":"IF(Export!H23<>0,\"L1\",\"no\")","v":"no"},{"$f":"IF(Export!I23<>0,\"L2\",\"no\")","v":"no"},{"$f":"IF(Export!J23<>0,\"H1\",\"no\")","v":"no"},{"$f":"IF(Export!K23<>0,\"H2\",\"no\")","v":"no"},null,"no-no-no-no"]
[{"$f":"IF(Export!H24<>0,\"L1\",\"no\")","v":"no"},{"$f":"IF(Export!I24<>0,\"L2\",\"no\")","v":"no"},{"$f":"IF(Export!J24<>0,\"H1\",\"no\")","v":"no"},{"$f":"IF(Export!K24<>0,\"H2\",\"no\")","v":"no"},null,"no-no-no-no"]
[{"$f":"IF(Export!H25<>0,\"L1\",\"no\")","v":"no"},{"$f":"IF(Export!I25<>0,\"L2\",\"no\")","v":"no"},{"$f":"IF(Export!J25<>0,\"H1\",\"no\")","v":"no"},{"$f":"IF(Export!K25<>0,\"H2\",\"no\")","v":"no"},null,"no-no-no-no"]
[{"$f":"IF(Export!H26<>0,\"L1\",\"no\")","v":"no"},{"$f":"IF(Export!I26<>0,\"L2\",\"no\")","v":"no"},{"$f":"IF(Export!J26<>0,\"H1\",\"no\")","v":"no"},{"$f":"IF(Export!K26<>0,\"H2\",\"no\")","v":"no"},null,"no-no-no-no"]
[{"$f":"IF(Export!H27<>0,\"L1\",\"no\")","v":"no"},{"$f":"IF(Export!I27<>0,\"L2\",\"no\")","v":"no"},{"$f":"IF(Export!J27<>0,\"H1\",\"no\")","v":"no"},{"$f":"IF(Export!K27<>0,\"H2\",\"no\")","v":"no"},null,"no-no-no-no"]
[{"$f":"IF(Export!H28<>0,\"L1\",\"no\")","v":"no"},{"$f":"IF(Export!I28<>0,\"L2\",\"no\")","v":"no"},{"$f":"IF(Export!J28<>0,\"H1\",\"no\")","v":"no"},{"$f":"IF(Export!K28<>0,\"H2\",\"no\")","v":"no"},null,"no-no-no-no"]
[{"$f":"IF(Export!H29<>0,\"L1\",\"no\")","v":"no"},{"$f":"IF(Export!I29<>0,\"L2\",\"no\")","v":"no"},{"$f":"IF(Export!J29<>0,\"H1\",\"no\")","v":"no"},{"$f":"IF(Export!K29<>0,\"H2\",\"no\")","v":"no"},null,"no-no-no-no"]
[{"$f":"IF(Export!H30<>0,\"L1\",\"no\")","v":"no"},{"$f":"IF(Export!I30<>0,\"L2\",\"no\")","v":"no"},{"$f":"IF(Export!J30<>0,\"H1\",\"no\")","v":"no"},{"$f":"IF(Export!K30<>0,\"H2\",\"no\")","v":"no"},null,"no-no-no-no"]
[{"$f":"IF(Export!H31<>0,\"L1\",\"no\")","v":"no"},{"$f":"IF(Export!I31<>0,\"L2\",\"no\")","v":"no"},{"$f":"IF(Export!J31<>0,\"H1\",\"no\")","v":"no"},{"$f":"IF(Export!K31<>0,\"H2\",\"no\")","v":"no"},null,"no-no-no-no"]
[{"$f":"IF(Export!H32<>0,\"L1\",\"no\")","v":"no"},{"$f":"IF(Export!I32<>0,\"L2\",\"no\")","v":"no"},{"$f":"IF(Export!J32<>0,\"H1\",\"no\")","v":"no"},{"$f":"IF(Export!K32<>0,\"H2\",\"no\")","v":"no"},null,"no-no-no-no"]
[{"$f":"IF(Export!H33<>0,\"L1\",\"no\")","v":"no"},{"$f":"IF(Export!I33<>0,\"L2\",\"no\")","v":"no"},{"$f":"IF(Export!J33<>0,\"H1\",\"no\")","v":"no"},{"$f":"IF(Export!K33<>0,\"H2\",\"no\")","v":"no"},null,"no-no-no-no"]
[{"$f":"IF(Export!H34<>0,\"L1\",\"no\")","v":"no"},{"$f":"IF(Export!I34<>0,\"L2\",\"no\")","v":"no"},{"$f":"IF(Export!J34<>0,\"H1\",\"no\")","v":"no"},{"$f":"IF(Export!K34<>0,\"H2\",\"no\")","v":"no"},null,"no-no-no-no"]
[{"$f":"IF(Export!H35<>0,\"L1\",\"no\")","v":"no"},{"$f":"IF(Export!I35<>0,\"L2\",\"no\")","v":"no"},{"$f":"IF(Export!J35<>0,\"H1\",\"no\")","v":"no"},{"$f":"IF(Export!K35<>0,\"H2\",\"no\")","v":"no"},null,"no-no-no-no"]
[{"$f":"IF(Export!H36<>0,\"L1\",\"no\")","v":"no"},{"$f":"IF(Export!I36<>0,\"L2\",\"no\")","v":"no"},{"$f":"IF(Export!J36<>0,\"H1\",\"no\")","v":"no"},{"$f":"IF(Export!K36<>0,\"H2\",\"no\")","v":"no"},null,"no-no-no-no"]
[{"$f":"IF(Export!H37<>0,\"L1\",\"no\")","v":"no"},{"$f":"IF(Export!I37<>0,\"L2\",\"no\")","v":"no"},{"$f":"IF(Export!J37<>0,\"H1\",\"no\")","v":"no"},{"$f":"IF(Export!K37<>0,\"H2\",\"no\")","v":"no"},null,"no-no-no-no"]
[{"$f":"IF(Export!H38<>0,\"L1\",\"no\")","v":"no"},{"$f":"IF(Export!I38<>0,\"L2\",\"no\")","v":"no"},{"$f":"IF(Export!J38<>0,\"H1\",\"no\")","v":"no"},{"$f":"IF(Export!K38<>0,\"H2\",\"no\")","v":"no"},null,"no-no-no-no"]
[{"$f":"IF(Export!H39<>0,\"L1\",\"no\")","v":"no"},{"$f":"IF(Export!I39<>0,\"L2\",\"no\")","v":"no"},{"$f":"IF(Export!J39<>0,\"H1\",\"no\")","v":"no"},{"$f":"IF(Export!K39<>0,\"H2\",\"no\")","v":"no"},null,"no-no-no-no"]
[{"$f":"IF(Export!H40<>0,\"L1\",\"no\")","v":"no"},{"$f":"IF(Export!I40<>0,\"L2\",\"no\")","v":"no"},{"$f":"IF(Export!J40<>0,\"H1\",\"no\")","v":"no"},{"$f":"IF(Export!K40<>0,\"H2\",\"no\")","v":"no"},null,"no-no-no-no"]
[{"$f":"IF(Export!H41<>0,\"L1\",\"no\")","v":"no"},{"$f":"IF(Export!I41<>0,\"L2\",\"no\")","v":"no"},{"$f":"IF(Export!J41<>0,\"H1\",\"no\")","v":"no"},{"$f":"IF(Export!K41<>0,\"H2\",\"no\")","v":"no"},null,"no-no-no-no"]
[{"$f":"IF(Export!H42<>0,\"L1\",\"no\")","v":"no"},{"$f":"IF(Export!I42<>0,\"L2\",\"no\")","v":"no"},{"$f":"IF(Export!J42<>0,\"H1\",\"no\")","v":"no"},{"$f":"IF(Export!K42<>0,\"H2\",\"no\")","v":"no"},null,"no-no-no-no"]
[{"$f":"IF(Export!H43<>0,\"L1\",\"no\")","v":"no"},{"$f":"IF(Export!I43<>0,\"L2\",\"no\")","v":"no"},{"$f":"IF(Export!J43<>0,\"H1\",\"no\")","v":"no"},{"$f":"IF(Export!K43<>0,\"H2\",\"no\")","v":"no"},null,"no-no-no-no"]
[{"$f":"IF(Export!H44<>0,\"L1\",\"no\")","v":"no"},{"$f":"IF(Export!I44<>0,\"L2\",\"no\")","v":"no"},{"$f":"IF(Export!J44<>0,\"H1\",\"no\")","v":"no"},{"$f":"IF(Export!K44<>0,\"H2\",\"no\")","v":"no"},null,"no-no-no-no"]
[{"$f":"IF(Export!H45<>0,\"L1\",\"no\")","v":"no"},{"$f":"IF(Export!I45<>0,\"L2\",\"no\")","v":"no"},{"$f":"IF(Export!J45<>0,\"H1\",\"no\")","v":"no"},{"$f":"IF(Export!K45<>0,\"H2\",\"no\")","v":"no"},null,"no-no-no-no"]
[{"$f":"IF(Export!H46<>0,\"L1\",\"no\")","v":"no"},{"$f":"IF(Export!I46<>0,\"L2\",\"no\")","v":"no"},{"$f":"IF(Export!J46<>0,\"H1\",\"no\")","v":"no"},{"$f":"IF(Export!K46<>0,\"H2\",\"no\")","v":"no"},null,"no-no-no-no"]
[{"$f":"IF(Export!H47<>0,\"L1\",\"no\")","v":"no"},{"$f":"IF(Export!I47<>0,\"L2\",\"no\")","v":"no"},{"$f":"IF(Export!J47<>0,\"H1\",\"no\")","v":"no"},{"$f":"IF(Export!K47<>0,\"H2\",\"no\")","v":"no"},null,"no-no-no-no"]
[{"$f":"IF(Export!H48<>0,\"L1\",\"no\")","v":"no"},{"$f":"IF(Export!I48<>0,\"L2\",\"no\")","v":"no"},{"$f":"IF(Export!J48<>0,\"H1\",\"no\")","v":"no"},{"$f":"IF(Export!K48<>0,\"H2\",\"no\")","v":"no"},null,"no-no-no-no"]
[{"$f":"IF(Export!H49<>0,\"L1\",\"no\")","v":"no"},{"$f":"IF(Export!I49<>0,\"L2\",\"no\")","v":"no"},{"$f":"IF(Export!J49<>0,\"H1\",\"no\")","v":"no"},{"$f":"IF(Export!K49<>0,\"H2\",\"no\")","v":"no"},null,"no-no-no-no"]
[{"$f":"IF(Export!H50<>0,\"L1\",\"no\")","v":"no"},{"$f":"IF(Export!I50<>0,\"L2\",\"no\")","v":"no"},{"$f":"IF(Export!J50<>0,\"H1\",\"no\")","v":"no"},{"$f":"IF(Export!K50<>0,\"H2\",\"no\")","v":"no"},null,"no-no-no-no"]
[{"$f":"IF(Export!H51<>0,\"L1\",\"no\")","v":"no"},{"$f":"IF(Export!I51<>0,\"L2\",\"no\")","v":"no"},{"$f":"IF(Export!J51<>0,\"H1\",\"no\")","v":"no"},{"$f":"IF(Export!K51<>0,\"H2\",\"no\")","v":"no"},null,"no-no-no-no"]
[{"$f":"IF(Export!H52<>0,\"L1\",\"no\")","v":"no"},{"$f":"IF(Export!I52<>0,\"L2\",\"no\")","v":"no"},{"$f":"IF(Export!J52<>0,\"H1\",\"no\")","v":"no"},{"$f":"IF(Export!K52<>0,\"H2\",\"no\")","v":"no"},null,"no-no-no-no"]
[{"$f":"IF(Export!H53<>0,\"L1\",\"no\")","v":"no"},{"$f":"IF(Export!I53<>0,\"L2\",\"no\")","v":"no"},{"$f":"IF(Export!J53<>0,\"H1\",\"no\")","v":"no"},{"$f":"IF(Export!K53<>0,\"H2\",\"no\")","v":"no"},null,"no-no-no-no"]
[{"$f":"IF(Export!H54<>0,\"L1\",\"no\")","v":"no"},{"$f":"IF(Export!I54<>0,\"L2\",\"no\")","v":"no"},{"$f":"IF(Export!J54<>0,\"H1\",\"no\")","v":"no"},{"$f":"IF(Export!K54<>0,\"H2\",\"no\")","v":"no"},null,"no-no-no-no"]
[{"$f":"IF(Export!H55<>0,\"L1\",\"no\")","v":"no"},{"$f":"IF(Export!I55<>0,\"L2\",\"no\")","v":"no"},{"$f":"IF(Export!J55<>0,\"H1\",\"no\")","v":"no"},{"$f":"IF(Export!K55<>0,\"H2\",\"no\")","v":"no"},null,"no-no-no-no"]
[{"$f":"IF(Export!H56<>0,\"L1\",\"no\")","v":"no"},{"$f":"IF(Export!I56<>0,\"L2\",\"no\")","v":"no"},{"$f":"IF(Export!J56<>0,\"H1\",\"no\")","v":"no"},{"$f":"IF(Export!K56<>0,\"H2\",\"no\")","v":"no"},null,"no-no-no-no"]
[{"$f":"IF(Export!H57<>0,\"L1\",\"no\")","v":"no"},{"$f":"IF(Export!I57<>0,\"L2\",\"no\")","v":"no"},{"$f":"IF(Export!J57<>0,\"H1\",\"no\")","v":"no"},{"$f":"IF(Export!K57<>0,\"H2\",\"no\")","v":"no"},null,"no-no-no-no"]
[{"$f":"IF(Export!H58<>0,\"L1\",\"no\")","v":"no"},{"$f":"IF(Export!I58<>0,\"L2\",\"no\")","v":"no"},{"$f":"IF(Export!J58<>0,\"H1\",\"no\")","v":"no"},{"$f":"IF(Export!K58<>0,\"H2\",\"no\")","v":"no"},null,"no-no-no-no"]
[{"$f":"IF(Export!H59<>0,\"L1\",\"no\")","v":"no"},{"$f":"IF(Export!I59<>0,\"L2\",\"no\")","v":"no"},{"$f":"IF(Export!J59<>0,\"H1\",\"no\")","v":"no"},{"$f":"IF(Export!K59<>0,\"H2\",\"no\")","v":"no"},null,"no-no-no-no"]
[{"$f":"IF(Export!H60<>0,\"L1\",\"no\")","v":"no"},{"$f":"IF(Export!I60<>0,\"L2\",\"no\")","v":"no"},{"$f":"IF(Export!J60<>0,\"H1\",\"no\")","v":"no"},{"$f":"IF(Export!K60<>0,\"H2\",\"no\")","v":"no"},null,"no-no-no-no"]
[{"$f":"IF(Export!H61<>0,\"L1\",\"no\")","v":"no"},{"$f":"IF(Export!I61<>0,\"L2\",\"no\")","v":"no"},{"$f":"IF(Export!J61<>0,\"H1\",\"no\")","v":"no"},{"$f":"IF(Export!K61<>0,\"H2\",\"no\")","v":"no"},null,"no-no-no-no"]
[{"$f":"IF(Export!H62<>0,\"L1\",\"no\")","v":"no"},{"$f":"IF(Export!I62<>0,\"L2\",\"no\")","v":"no"},{"$f":"IF(Export!J62<>0,\"H1\",\"no\")","v":"no"},{"$f":"IF(Export!K62<>0,\"H2\",\"no\")","v":"no"},null,"no-no-no-no"]
[{"$f":"IF(Export!H63<>0,\"L1\",\"no\")","v":"no"},{"$f":"IF(Export!I63<>0,\"L2\",\"no\")","v":"no"},{"$f":"IF(Export!J63<>0,\"H1\",\"no\")","v":"no"},{"$f":"IF(Export!K63<>0,\"H2\",\"no\")","v":"no"},null,"no-no-no-no"]
[{"$f":"IF(Export!H64<>0,\"L1\",\"no\")","v":"no"},{"$f":"IF(Export!I64<>0,\"L2\",\"no\")","v":"no"},{"$f":"IF(Export!J64<>0,\"H1\",\"no\")","v":"no"},{"$f":"IF(Export!K64<>0,\"H2\",\"no\")","v":"no"},null,"no-no-no-no"]
[{"$f":"IF(Export!H65<>0,\"L1\",\"no\")","v":"no"},{"$f":"IF(Export!I65<>0,\"L2\",\"no\")","v":"no"},{"$f":"IF(Export!J65<>0,\"H1\",\"no\")","v":"no"},{"$f":"IF(Export!K65<>0,\"H2\",\"no\")","v":"no"},null,"no-no-no-no"]
[{"$f":"IF(Export!H66<>0,\"L1\",\"no\")","v":"no"},{"$f":"IF(Export!I66<>0,\"L2\",\"no\")","v":"no"},{"$f":"IF(Export!J66<>0,\"H1\",\"no\")","v":"no"},{"$f":"IF(Export!K66<>0,\"H2\",\"no\")","v":"no"},null,"no-no-no-no"]
[{"$f":"IF(Export!H67<>0,\"L1\",\"no\")","v":"no"},{"$f":"IF(Export!I67<>0,\"L2\",\"no\")","v":"no"},{"$f":"IF(Export!J67<>0,\"H1\",\"no\")","v":"no"},{"$f":"IF(Export!K67<>0,\"H2\",\"no\")","v":"no"},null,"no-no-no-no"]
[{"$f":"IF(Export!H68<>0,\"L1\",\"no\")","v":"no"},{"$f":"IF(Export!I68<>0,\"L2\",\"no\")","v":"no"},{"$f":"IF(Export!J68<>0,\"H1\",\"no\")","v":"no"},{"$f":"IF(Export!K68<>0,\"H2\",\"no\")","v":"no"},null,{"$f":"CONCATENATE(A68,\"-\",B68,\"-\",C68,\"-\",D68)","v":"no-no-no-no"}]
[{"$f":"IF(Export!H69<>0,\"L1\",\"no\")","v":"no"},{"$f":"IF(Export!I69<>0,\"L2\",\"no\")","v":"no"},{"$f":"IF(Export!J69<>0,\"H1\",\"no\")","v":"no"},{"$f":"IF(Export!K69<>0,\"H2\",\"no\")","v":"no"},null,"no-no-no-no"]
[{"$f":"IF(Export!H70<>0,\"L1\",\"no\")","v":"no"},{"$f":"IF(Export!I70<>0,\"L2\",\"no\")","v":"no"},{"$f":"IF(Export!J70<>0,\"H1\",\"no\")","v":"no"},{"$f":"IF(Export!K70<>0,\"H2\",\"no\")","v":"no"},null,"no-no-no-no"]
[{"$f":"IF(Export!H71<>0,\"L1\",\"no\")","v":"no"},{"$f":"IF(Export!I71<>0,\"L2\",\"no\")","v":"no"},{"$f":"IF(Export!J71<>0,\"H1\",\"no\")","v":"no"},{"$f":"IF(Export!K71<>0,\"H2\",\"no\")","v":"no"},null,"no-no-no-no"]
[{"$f":"IF(Export!H72<>0,\"L1\",\"no\")","v":"no"},{"$f":"IF(Export!I72<>0,\"L2\",\"no\")","v":"no"},{"$f":"IF(Export!J72<>0,\"H1\",\"no\")","v":"no"},{"$f":"IF(Export!K72<>0,\"H2\",\"no\")","v":"no"},null,"no-no-no-no"]
[{"$f":"IF(Export!H73<>0,\"L1\",\"no\")","v":"no"},{"$f":"IF(Export!I73<>0,\"L2\",\"no\")","v":"no"},{"$f":"IF(Export!J73<>0,\"H1\",\"no\")","v":"no"},{"$f":"IF(Export!K73<>0,\"H2\",\"no\")","v":"no"},null,"no-no-no-no"]
[{"$f":"IF(Export!H74<>0,\"L1\",\"no\")","v":"no"},{"$f":"IF(Export!I74<>0,\"L2\",\"no\")","v":"no"},{"$f":"IF(Export!J74<>0,\"H1\",\"no\")","v":"no"},{"$f":"IF(Export!K74<>0,\"H2\",\"no\")","v":"no"},null,"no-no-no-no"]
[{"$f":"IF(Export!H75<>0,\"L1\",\"no\")","v":"no"},{"$f":"IF(Export!I75<>0,\"L2\",\"no\")","v":"no"},{"$f":"IF(Export!J75<>0,\"H1\",\"no\")","v":"no"},{"$f":"IF(Export!K75<>0,\"H2\",\"no\")","v":"no"},null,"no-no-no-no"]
[{"$f":"IF(Export!H76<>0,\"L1\",\"no\")","v":"no"},{"$f":"IF(Export!I76<>0,\"L2\",\"no\")","v":"no"},{"$f":"IF(Export!J76<>0,\"H1\",\"no\")","v":"no"},{"$f":"IF(Export!K76<>0,\"H2\",\"no\")","v":"no"},null,"no-no-no-no"]
[{"$f":"IF(Export!H77<>0,\"L1\",\"no\")","v":"no"},{"$f":"IF(Export!I77<>0,\"L2\",\"no\")","v":"no"},{"$f":"IF(Export!J77<>0,\"H1\",\"no\")","v":"no"},{"$f":"IF(Export!K77<>0,\"H2\",\"no\")","v":"no"},null,"no-no-no-no"]
[{"$f":"IF(Export!H78<>0,\"L1\",\"no\")","v":"no"},{"$f":"IF(Export!I78<>0,\"L2\",\"no\")","v":"no"},{"$f":"IF(Export!J78<>0,\"H1\",\"no\")","v":"no"},{"$f":"IF(Export!K78<>0,\"H2\",\"no\")","v":"no"},null,"no-no-no-no"]
[{"$f":"IF(Export!H79<>0,\"L1\",\"no\")","v":"no"},{"$f":"IF(Export!I79<>0,\"L2\",\"no\")","v":"no"},{"$f":"IF(Export!J79<>0,\"H1\",\"no\")","v":"no"},{"$f":"IF(Export!K79<>0,\"H2\",\"no\")","v":"no"},null,"no-no-no-no"]
[{"$f":"IF(Export!H80<>0,\"L1\",\"no\")","v":"no"},{"$f":"IF(Export!I80<>0,\"L2\",\"no\")","v":"no"},{"$f":"IF(Export!J80<>0,\"H1\",\"no\")","v":"no"},{"$f":"IF(Export!K80<>0,\"H2\",\"no\")","v":"no"},null,"no-no-no-no"]
[{"$f":"IF(Export!H81<>0,\"L1\",\"no\")","v":"no"},{"$f":"IF(Export!I81<>0,\"L2\",\"no\")","v":"no"},{"$f":"IF(Export!J81<>0,\"H1\",\"no\")","v":"no"},{"$f":"IF(Export!K81<>0,\"H2\",\"no\")","v":"no"},null,"no-no-no-no"]
[{"$f":"IF(Export!H82<>0,\"L1\",\"no\")","v":"no"},{"$f":"IF(Export!I82<>0,\"L2\",\"no\")","v":"no"},{"$f":"IF(Export!J82<>0,\"H1\",\"no\")","v":"no"},{"$f":"IF(Export!K82<>0,\"H2\",\"no\")","v":"no"},null,"no-no-no-no"]
[{"$f":"IF(Export!H83<>0,\"L1\",\"no\")","v":"no"},{"$f":"IF(Export!I83<>0,\"L2\",\"no\")","v":"no"},{"$f":"IF(Export!J83<>0,\"H1\",\"no\")","v":"no"},{"$f":"IF(Export!K83<>0,\"H2\",\"no\")","v":"no"},null,"no-no-no-no"]
[{"$f":"IF(Export!H84<>0,\"L1\",\"no\")","v":"no"},{"$f":"IF(Export!I84<>0,\"L2\",\"no\")","v":"no"},{"$f":"IF(Export!J84<>0,\"H1\",\"no\")","v":"no"},{"$f":"IF(Export!K84<>0,\"H2\",\"no\")","v":"no"},null,"no-no-no-no"]
[{"$f":"IF(Export!H85<>0,\"L1\",\"no\")","v":"no"},{"$f":"IF(Export!I85<>0,\"L2\",\"no\")","v":"no"},{"$f":"IF(Export!J85<>0,\"H1\",\"no\")","v":"no"},{"$f":"IF(Export!K85<>0,\"H2\",\"no\")","v":"no"},null,"no-no-no-no"]
[{"$f":"IF(Export!H86<>0,\"L1\",\"no\")","v":"no"},{"$f":"IF(Export!I86<>0,\"L2\",\"no\")","v":"no"},{"$f":"IF(Export!J86<>0,\"H1\",\"no\")","v":"no"},{"$f":"IF(Export!K86<>0,\"H2\",\"no\")","v":"no"},null,"no-no-no-no"]
[{"$f":"IF(Export!H87<>0,\"L1\",\"no\")","v":"no"},{"$f":"IF(Export!I87<>0,\"L2\",\"no\")","v":"no"},{"$f":"IF(Export!J87<>0,\"H1\",\"no\")","v":"no"},{"$f":"IF(Export!K87<>0,\"H2\",\"no\")","v":"no"},null,"no-no-no-no"]
[{"$f":"IF(Export!H88<>0,\"L1\",\"no\")","v":"no"},{"$f":"IF(Export!I88<>0,\"L2\",\"no\")","v":"no"},{"$f":"IF(Export!J88<>0,\"H1\",\"no\")","v":"no"},{"$f":"IF(Export!K88<>0,\"H2\",\"no\")","v":"no"},null,"no-no-no-no"]
[{"$f":"IF(Export!H89<>0,\"L1\",\"no\")","v":"no"},{"$f":"IF(Export!I89<>0,\"L2\",\"no\")","v":"no"},{"$f":"IF(Export!J89<>0,\"H1\",\"no\")","v":"no"},{"$f":"IF(Export!K89<>0,\"H2\",\"no\")","v":"no"},null,"no-no-no-no"]
[{"$f":"IF(Export!H90<>0,\"L1\",\"no\")","v":"no"},{"$f":"IF(Export!I90<>0,\"L2\",\"no\")","v":"no"},{"$f":"IF(Export!J90<>0,\"H1\",\"no\")","v":"no"},{"$f":"IF(Export!K90<>0,\"H2\",\"no\")","v":"no"},null,"no-no-no-no"]
[{"$f":"IF(Export!H91<>0,\"L1\",\"no\")","v":"no"},{"$f":"IF(Export!I91<>0,\"L2\",\"no\")","v":"no"},{"$f":"IF(Export!J91<>0,\"H1\",\"no\")","v":"no"},{"$f":"IF(Export!K91<>0,\"H2\",\"no\")","v":"no"},null,"no-no-no-no"]
[{"$f":"IF(Export!H92<>0,\"L1\",\"no\")","v":"no"},{"$f":"IF(Export!I92<>0,\"L2\",\"no\")","v":"no"},{"$f":"IF(Export!J92<>0,\"H1\",\"no\")","v":"no"},{"$f":"IF(Export!K92<>0,\"H2\",\"no\")","v":"no"},null,"no-no-no-no"]
[{"$f":"IF(Export!H93<>0,\"L1\",\"no\")","v":"no"},{"$f":"IF(Export!I93<>0,\"L2\",\"no\")","v":"no"},{"$f":"IF(Export!J93<>0,\"H1\",\"no\")","v":"no"},{"$f":"IF(Export!K93<>0,\"H2\",\"no\")","v":"no"},null,"no-no-no-no"]
[{"$f":"IF(Export!H94<>0,\"L1\",\"no\")","v":"no"},{"$f":"IF(Export!I94<>0,\"L2\",\"no\")","v":"no"},{"$f":"IF(Export!J94<>0,\"H1\",\"no\")","v":"no"},{"$f":"IF(Export!K94<>0,\"H2\",\"no\")","v":"no"},null,"no-no-no-no"]
[{"$f":"IF(Export!H95<>0,\"L1\",\"no\")","v":"no"},{"$f":"IF(Export!I95<>0,\"L2\",\"no\")","v":"no"},{"$f":"IF(Export!J95<>0,\"H1\",\"no\")","v":"no"},{"$f":"IF(Export!K95<>0,\"H2\",\"no\")","v":"no"},null,"no-no-no-no"]
[{"$f":"IF(Export!H96<>0,\"L1\",\"no\")","v":"no"},{"$f":"IF(Export!I96<>0,\"L2\",\"no\")","v":"no"},{"$f":"IF(Export!J96<>0,\"H1\",\"no\")","v":"no"},{"$f":"IF(Export!K96<>0,\"H2\",\"no\")","v":"no"},null,"no-no-no-no"]
[{"$f":"IF(Export!H97<>0,\"L1\",\"no\")","v":"no"},{"$f":"IF(Export!I97<>0,\"L2\",\"no\")","v":"no"},{"$f":"IF(Export!J97<>0,\"H1\",\"no\")","v":"no"},{"$f":"IF(Export!K97<>0,\"H2\",\"no\")","v":"no"},null,"no-no-no-no"]
[{"$f":"IF(Export!H98<>0,\"L1\",\"no\")","v":"no"},{"$f":"IF(Export!I98<>0,\"L2\",\"no\")","v":"no"},{"$f":"IF(Export!J98<>0,\"H1\",\"no\")","v":"no"},{"$f":"IF(Export!K98<>0,\"H2\",\"no\")","v":"no"},null,"no-no-no-no"]
[{"$f":"IF(Export!H99<>0,\"L1\",\"no\")","v":"no"},{"$f":"IF(Export!I99<>0,\"L2\",\"no\")","v":"no"},{"$f":"IF(Export!J99<>0,\"H1\",\"no\")","v":"no"},{"$f":"IF(Export!K99<>0,\"H2\",\"no\")","v":"no"},null,"no-no-no-no"]
[{"$f":"IF(Export!H100<>0,\"L1\",\"no\")","v":"no"},{"$f":"IF(Export!I100<>0,\"L2\",\"no\")","v":"no"},{"$f":"IF(Export!J100<>0,\"H1\",\"no\")","v":"no"},{"$f":"IF(Export!K100<>0,\"H2\",\"no\")","v":"no"},null,"no-no-no-no"]
[{"$f":"IF(Export!H101<>0,\"L1\",\"no\")","v":"no"},{"$f":"IF(Export!I101<>0,\"L2\",\"no\")","v":"no"},{"$f":"IF(Export!J101<>0,\"H1\",\"no\")","v":"no"},{"$f":"IF(Export!K101<>0,\"H2\",\"no\")","v":"no"},null,"no-no-no-no"]
[{"$f":"IF(Export!H102<>0,\"L1\",\"no\")","v":"no"},{"$f":"IF(Export!I102<>0,\"L2\",\"no\")","v":"no"},{"$f":"IF(Export!J102<>0,\"H1\",\"no\")","v":"no"},{"$f":"IF(Export!K102<>0,\"H2\",\"no\")","v":"no"},null,"no-no-no-no"]
[{"$f":"IF(Export!H103<>0,\"L1\",\"no\")","v":"no"},{"$f":"IF(Export!I103<>0,\"L2\",\"no\")","v":"no"},{"$f":"IF(Export!J103<>0,\"H1\",\"no\")","v":"no"},{"$f":"IF(Export!K103<>0,\"H2\",\"no\")","v":"no"},null,"no-no-no-no"]
[{"$f":"IF(Export!H104<>0,\"L1\",\"no\")","v":"no"},{"$f":"IF(Export!I104<>0,\"L2\",\"no\")","v":"no"},{"$f":"IF(Export!J104<>0,\"H1\",\"no\")","v":"no"},{"$f":"IF(Export!K104<>0,\"H2\",\"no\")","v":"no"},null,"no-no-no-no"]
[{"$f":"IF(Export!H105<>0,\"L1\",\"no\")","v":"no"},{"$f":"IF(Export!I105<>0,\"L2\",\"no\")","v":"no"},{"$f":"IF(Export!J105<>0,\"H1\",\"no\")","v":"no"},{"$f":"IF(Export!K105<>0,\"H2\",\"no\")","v":"no"},null,"no-no-no-no"]
[{"$f":"IF(Export!H106<>0,\"L1\",\"no\")","v":"no"},{"$f":"IF(Export!I106<>0,\"L2\",\"no\")","v":"no"},{"$f":"IF(Export!J106<>0,\"H1\",\"no\")","v":"no"},{"$f":"IF(Export!K106<>0,\"H2\",\"no\")","v":"no"},null,"no-no-no-no"]
[{"$f":"IF(Export!H107<>0,\"L1\",\"no\")","v":"no"},{"$f":"IF(Export!I107<>0,\"L2\",\"no\")","v":"no"},{"$f":"IF(Export!J107<>0,\"H1\",\"no\")","v":"no"},{"$f":"IF(Export!K107<>0,\"H2\",\"no\")","v":"no"},null,"no-no-no-no"]
[{"$f":"IF(Export!H108<>0,\"L1\",\"no\")","v":"no"},{"$f":"IF(Export!I108<>0,\"L2\",\"no\")","v":"no"},{"$f":"IF(Export!J108<>0,\"H1\",\"no\")","v":"no"},{"$f":"IF(Export!K108<>0,\"H2\",\"no\")","v":"no"},null,"no-no-no-no"]
[{"$f":"IF(Export!H109<>0,\"L1\",\"no\")","v":"no"},{"$f":"IF(Export!I109<>0,\"L2\",\"no\")","v":"no"},{"$f":"IF(Export!J109<>0,\"H1\",\"no\")","v":"no"},{"$f":"IF(Export!K109<>0,\"H2\",\"no\")","v":"no"},null,"no-no-no-no"]
[{"$f":"IF(Export!H110<>0,\"L1\",\"no\")","v":"no"},{"$f":"IF(Export!I110<>0,\"L2\",\"no\")","v":"no"},{"$f":"IF(Export!J110<>0,\"H1\",\"no\")","v":"no"},{"$f":"IF(Export!K110<>0,\"H2\",\"no\")","v":"no"},null,"no-no-no-no"]
[{"$f":"IF(Export!H111<>0,\"L1\",\"no\")","v":"no"},{"$f":"IF(Export!I111<>0,\"L2\",\"no\")","v":"no"},{"$f":"IF(Export!J111<>0,\"H1\",\"no\")","v":"no"},{"$f":"IF(Export!K111<>0,\"H2\",\"no\")","v":"no"},null,"no-no-no-no"]
[{"$f":"IF(Export!H112<>0,\"L1\",\"no\")","v":"no"},{"$f":"IF(Export!I112<>0,\"L2\",\"no\")","v":"no"},{"$f":"IF(Export!J112<>0,\"H1\",\"no\")","v":"no"},{"$f":"IF(Export!K112<>0,\"H2\",\"no\")","v":"no"},null,"no-no-no-no"]
[{"$f":"IF(Export!H113<>0,\"L1\",\"no\")","v":"no"},{"$f":"IF(Export!I113<>0,\"L2\",\"no\")","v":"no"},{"$f":"IF(Export!J113<>0,\"H1\",\"no\")","v":"no"},{"$f":"IF(Export!K113<>0,\"H2\",\"no\")","v":"no"},null,"no-no-no-no"]
[{"$f":"IF(Export!H114<>0,\"L1\",\"no\")","v":"no"},{"$f":"IF(Export!I114<>0,\"L2\",\"no\")","v":"no"},{"$f":"IF(Export!J114<>0,\"H1\",\"no\")","v":"no"},{"$f":"IF(Export!K114<>0,\"H2\",\"no\")","v":"no"},null,"no-no-no-no"]
[{"$f":"IF(Export!H115<>0,\"L1\",\"no\")","v":"no"},{"$f":"IF(Export!I115<>0,\"L2\",\"no\")","v":"no"},{"$f":"IF(Export!J115<>0,\"H1\",\"no\")","v":"no"},{"$f":"IF(Export!K115<>0,\"H2\",\"no\")","v":"no"},null,"no-no-no-no"]
[{"$f":"IF(Export!H116<>0,\"L1\",\"no\")","v":"no"},{"$f":"IF(Export!I116<>0,\"L2\",\"no\")","v":"no"},{"$f":"IF(Export!J116<>0,\"H1\",\"no\")","v":"no"},{"$f":"IF(Export!K116<>0,\"H2\",\"no\")","v":"no"},null,"no-no-no-no"]
[{"$f":"IF(Export!H117<>0,\"L1\",\"no\")","v":"no"},{"$f":"IF(Export!I117<>0,\"L2\",\"no\")","v":"no"},{"$f":"IF(Export!J117<>0,\"H1\",\"no\")","v":"no"},{"$f":"IF(Export!K117<>0,\"H2\",\"no\")","v":"no"},null,"no-no-no-no"]
[{"$f":"IF(Export!H118<>0,\"L1\",\"no\")","v":"no"},{"$f":"IF(Export!I118<>0,\"L2\",\"no\")","v":"no"},{"$f":"IF(Export!J118<>0,\"H1\",\"no\")","v":"no"},{"$f":"IF(Export!K118<>0,\"H2\",\"no\")","v":"no"},null,"no-no-no-no"]
[{"$f":"IF(Export!H119<>0,\"L1\",\"no\")","v":"no"},{"$f":"IF(Export!I119<>0,\"L2\",\"no\")","v":"no"},{"$f":"IF(Export!J119<>0,\"H1\",\"no\")","v":"no"},{"$f":"IF(Export!K119<>0,\"H2\",\"no\")","v":"no"},null,"no-no-no-no"]
[{"$f":"IF(Export!H120<>0,\"L1\",\"no\")","v":"no"},{"$f":"IF(Export!I120<>0,\"L2\",\"no\")","v":"no"},{"$f":"IF(Export!J120<>0,\"H1\",\"no\")","v":"no"},{"$f":"IF(Export!K120<>0,\"H2\",\"no\")","v":"no"},null,"no-no-no-no"]
[{"$f":"IF(Export!H121<>0,\"L1\",\"no\")","v":"no"},{"$f":"IF(Export!I121<>0,\"L2\",\"no\")","v":"no"},{"$f":"IF(Export!J121<>0,\"H1\",\"no\")","v":"no"},{"$f":"IF(Export!K121<>0,\"H2\",\"no\")","v":"no"},null,"no-no-no-no"]
[{"$f":"IF(Export!H122<>0,\"L1\",\"no\")","v":"no"},{"$f":"IF(Export!I122<>0,\"L2\",\"no\")","v":"no"},{"$f":"IF(Export!J122<>0,\"H1\",\"no\")","v":"no"},{"$f":"IF(Export!K122<>0,\"H2\",\"no\")","v":"no"},null,"no-no-no-no"]
[{"$f":"IF(Export!H123<>0,\"L1\",\"no\")","v":"no"},{"$f":"IF(Export!I123<>0,\"L2\",\"no\")","v":"no"},{"$f":"IF(Export!J123<>0,\"H1\",\"no\")","v":"no"},{"$f":"IF(Export!K123<>0,\"H2\",\"no\")","v":"no"},null,"no-no-no-no"]
[{"$f":"IF(Export!H124<>0,\"L1\",\"no\")","v":"no"},{"$f":"IF(Export!I124<>0,\"L2\",\"no\")","v":"no"},{"$f":"IF(Export!J124<>0,\"H1\",\"no\")","v":"no"},{"$f":"IF(Export!K124<>0,\"H2\",\"no\")","v":"no"},null,"no-no-no-no"]
[{"$f":"IF(Export!H125<>0,\"L1\",\"no\")","v":"no"},{"$f":"IF(Export!I125<>0,\"L2\",\"no\")","v":"no"},{"$f":"IF(Export!J125<>0,\"H1\",\"no\")","v":"no"},{"$f":"IF(Export!K125<>0,\"H2\",\"no\")","v":"no"},null,"no-no-no-no"]
[{"$f":"IF(Export!H126<>0,\"L1\",\"no\")","v":"no"},{"$f":"IF(Export!I126<>0,\"L2\",\"no\")","v":"no"},{"$f":"IF(Export!J126<>0,\"H1\",\"no\")","v":"no"},{"$f":"IF(Export!K126<>0,\"H2\",\"no\")","v":"no"},null,"no-no-no-no"]
[{"$f":"IF(Export!H127<>0,\"L1\",\"no\")","v":"no"},{"$f":"IF(Export!I127<>0,\"L2\",\"no\")","v":"no"},{"$f":"IF(Export!J127<>0,\"H1\",\"no\")","v":"no"},{"$f":"IF(Export!K127<>0,\"H2\",\"no\")","v":"no"},null,"no-no-no-no"]
[{"$f":"IF(Export!H128<>0,\"L1\",\"no\")","v":"no"},{"$f":"IF(Export!I128<>0,\"L2\",\"no\")","v":"no"},{"$f":"IF(Export!J128<>0,\"H1\",\"no\")","v":"no"},{"$f":"IF(Export!K128<>0,\"H2\",\"no\")","v":"no"},null,"no-no-no-no"]
[{"$f":"IF(Export!H129<>0,\"L1\",\"no\")","v":"no"},{"$f":"IF(Export!I129<>0,\"L2\",\"no\")","v":"no"},{"$f":"IF(Export!J129<>0,\"H1\",\"no\")","v":"no"},{"$f":"IF(Export!K129<>0,\"H2\",\"no\")","v":"no"},null,"no-no-no-no"]
[{"$f":"IF(Export!H130<>0,\"L1\",\"no\")","v":"no"},{"$f":"IF(Export!I130<>0,\"L2\",\"no\")","v":"no"},{"$f":"IF(Export!J130<>0,\"H1\",\"no\")","v":"no"},{"$f":"IF(Export!K130<>0,\"H2\",\"no\")","v":"no"},null,"no-no-no-no"]
[{"$f":"IF(Export!H131<>0,\"L1\",\"no\")","v":"no"},{"$f":"IF(Export!I131<>0,\"L2\",\"no\")","v":"no"},{"$f":"IF(Export!J131<>0,\"H1\",\"no\")","v":"no"},{"$f":"IF(Export!K131<>0,\"H2\",\"no\")","v":"no"},null,"no-no-no-no"]
[{"$f":"IF(Export!H132<>0,\"L1\",\"no\")","v":"no"},{"$f":"IF(Export!I132<>0,\"L2\",\"no\")","v":"no"},{"$f":"IF(Export!J132<>0,\"H1\",\"no\")","v":"no"},{"$f":"IF(Export!K132<>0,\"H2\",\"no\")","v":"no"},null,{"$f":"CONCATENATE(A132,\"-\",B132,\"-\",C132,\"-\",D132)","v":"no-no-no-no"}]
[{"$f":"IF(Export!H133<>0,\"L1\",\"no\")","v":"no"},{"$f":"IF(Export!I133<>0,\"L2\",\"no\")","v":"no"},{"$f":"IF(Export!J133<>0,\"H1\",\"no\")","v":"no"},{"$f":"IF(Export!K133<>0,\"H2\",\"no\")","v":"no"},null,"no-no-no-no"]
[{"$f":"IF(Export!H134<>0,\"L1\",\"no\")","v":"no"},{"$f":"IF(Export!I134<>0,\"L2\",\"no\")","v":"no"},{"$f":"IF(Export!J134<>0,\"H1\",\"no\")","v":"no"},{"$f":"IF(Export!K134<>0,\"H2\",\"no\")","v":"no"},null,"no-no-no-no"]
[{"$f":"IF(Export!H135<>0,\"L1\",\"no\")","v":"no"},{"$f":"IF(Export!I135<>0,\"L2\",\"no\")","v":"no"},{"$f":"IF(Export!J135<>0,\"H1\",\"no\")","v":"no"},{"$f":"IF(Export!K135<>0,\"H2\",\"no\")","v":"no"},null,"no-no-no-no"]
[{"$f":"IF(Export!H136<>0,\"L1\",\"no\")","v":"no"},{"$f":"IF(Export!I136<>0,\"L2\",\"no\")","v":"no"},{"$f":"IF(Export!J136<>0,\"H1\",\"no\")","v":"no"},{"$f":"IF(Export!K136<>0,\"H2\",\"no\")","v":"no"},null,"no-no-no-no"]
[{"$f":"IF(Export!H137<>0,\"L1\",\"no\")","v":"no"},{"$f":"IF(Export!I137<>0,\"L2\",\"no\")","v":"no"},{"$f":"IF(Export!J137<>0,\"H1\",\"no\")","v":"no"},{"$f":"IF(Export!K137<>0,\"H2\",\"no\")","v":"no"},null,"no-no-no-no"]
[{"$f":"IF(Export!H138<>0,\"L1\",\"no\")","v":"no"},{"$f":"IF(Export!I138<>0,\"L2\",\"no\")","v":"no"},{"$f":"IF(Export!J138<>0,\"H1\",\"no\")","v":"no"},{"$f":"IF(Export!K138<>0,\"H2\",\"no\")","v":"no"},null,"no-no-no-no"]
[{"$f":"IF(Export!H139<>0,\"L1\",\"no\")","v":"no"},{"$f":"IF(Export!I139<>0,\"L2\",\"no\")","v":"no"},{"$f":"IF(Export!J139<>0,\"H1\",\"no\")","v":"no"},{"$f":"IF(Export!K139<>0,\"H2\",\"no\")","v":"no"},null,"no-no-no-no"]
[{"$f":"IF(Export!H140<>0,\"L1\",\"no\")","v":"no"},{"$f":"IF(Export!I140<>0,\"L2\",\"no\")","v":"no"},{"$f":"IF(Export!J140<>0,\"H1\",\"no\")","v":"no"},{"$f":"IF(Export!K140<>0,\"H2\",\"no\")","v":"no"},null,"no-no-no-no"]
[{"$f":"IF(Export!H141<>0,\"L1\",\"no\")","v":"no"},{"$f":"IF(Export!I141<>0,\"L2\",\"no\")","v":"no"},{"$f":"IF(Export!J141<>0,\"H1\",\"no\")","v":"no"},{"$f":"IF(Export!K141<>0,\"H2\",\"no\")","v":"no"},null,"no-no-no-no"]
[{"$f":"IF(Export!H142<>0,\"L1\",\"no\")","v":"no"},{"$f":"IF(Export!I142<>0,\"L2\",\"no\")","v":"no"},{"$f":"IF(Export!J142<>0,\"H1\",\"no\")","v":"no"},{"$f":"IF(Export!K142<>0,\"H2\",\"no\")","v":"no"},null,"no-no-no-no"]
[{"$f":"IF(Export!H143<>0,\"L1\",\"no\")","v":"no"},{"$f":"IF(Export!I143<>0,\"L2\",\"no\")","v":"no"},{"$f":"IF(Export!J143<>0,\"H1\",\"no\")","v":"no"},{"$f":"IF(Export!K143<>0,\"H2\",\"no\")","v":"no"},null,"no-no-no-no"]
[{"$f":"IF(Export!H144<>0,\"L1\",\"no\")","v":"no"},{"$f":"IF(Export!I144<>0,\"L2\",\"no\")","v":"no"},{"$f":"IF(Export!J144<>0,\"H1\",\"no\")","v":"no"},{"$f":"IF(Export!K144<>0,\"H2\",\"no\")","v":"no"},null,"no-no-no-no"]
[{"$f":"IF(Export!H145<>0,\"L1\",\"no\")","v":"no"},{"$f":"IF(Export!I145<>0,\"L2\",\"no\")","v":"no"},{"$f":"IF(Export!J145<>0,\"H1\",\"no\")","v":"no"},{"$f":"IF(Export!K145<>0,\"H2\",\"no\")","v":"no"},null,"no-no-no-no"]
[{"$f":"IF(Export!H146<>0,\"L1\",\"no\")","v":"no"},{"$f":"IF(Export!I146<>0,\"L2\",\"no\")","v":"no"},{"$f":"IF(Export!J146<>0,\"H1\",\"no\")","v":"no"},{"$f":"IF(Export!K146<>0,\"H2\",\"no\")","v":"no"},null,"no-no-no-no"]
[{"$f":"IF(Export!H147<>0,\"L1\",\"no\")","v":"no"},{"$f":"IF(Export!I147<>0,\"L2\",\"no\")","v":"no"},{"$f":"IF(Export!J147<>0,\"H1\",\"no\")","v":"no"},{"$f":"IF(Export!K147<>0,\"H2\",\"no\")","v":"no"},null,"no-no-no-no"]
[{"$f":"IF(Export!H148<>0,\"L1\",\"no\")","v":"no"},{"$f":"IF(Export!I148<>0,\"L2\",\"no\")","v":"no"},{"$f":"IF(Export!J148<>0,\"H1\",\"no\")","v":"no"},{"$f":"IF(Export!K148<>0,\"H2\",\"no\")","v":"no"},null,"no-no-no-no"]
[{"$f":"IF(Export!H149<>0,\"L1\",\"no\")","v":"no"},{"$f":"IF(Export!I149<>0,\"L2\",\"no\")","v":"no"},{"$f":"IF(Export!J149<>0,\"H1\",\"no\")","v":"no"},{"$f":"IF(Export!K149<>0,\"H2\",\"no\")","v":"no"},null,"no-no-no-no"]
[{"$f":"IF(Export!H150<>0,\"L1\",\"no\")","v":"no"},{"$f":"IF(Export!I150<>0,\"L2\",\"no\")","v":"no"},{"$f":"IF(Export!J150<>0,\"H1\",\"no\")","v":"no"},{"$f":"IF(Export!K150<>0,\"H2\",\"no\")","v":"no"},null,"no-no-no-no"]
[{"$f":"IF(Export!H151<>0,\"L1\",\"no\")","v":"no"},{"$f":"IF(Export!I151<>0,\"L2\",\"no\")","v":"no"},{"$f":"IF(Export!J151<>0,\"H1\",\"no\")","v":"no"},{"$f":"IF(Export!K151<>0,\"H2\",\"no\")","v":"no"},null,"no-no-no-no"]
[{"$f":"IF(Export!H152<>0,\"L1\",\"no\")","v":"no"},{"$f":"IF(Export!I152<>0,\"L2\",\"no\")","v":"no"},{"$f":"IF(Export!J152<>0,\"H1\",\"no\")","v":"no"},{"$f":"IF(Export!K152<>0,\"H2\",\"no\")","v":"no"},null,"no-no-no-no"]
[{"$f":"IF(Export!H153<>0,\"L1\",\"no\")","v":"no"},{"$f":"IF(Export!I153<>0,\"L2\",\"no\")","v":"no"},{"$f":"IF(Export!J153<>0,\"H1\",\"no\")","v":"no"},{"$f":"IF(Export!K153<>0,\"H2\",\"no\")","v":"no"},null,"no-no-no-no"]
[{"$f":"IF(Export!H154<>0,\"L1\",\"no\")","v":"no"},{"$f":"IF(Export!I154<>0,\"L2\",\"no\")","v":"no"},{"$f":"IF(Export!J154<>0,\"H1\",\"no\")","v":"no"},{"$f":"IF(Export!K154<>0,\"H2\",\"no\")","v":"no"},null,"no-no-no-no"]
[{"$f":"IF(Export!H155<>0,\"L1\",\"no\")","v":"no"},{"$f":"IF(Export!I155<>0,\"L2\",\"no\")","v":"no"},{"$f":"IF(Export!J155<>0,\"H1\",\"no\")","v":"no"},{"$f":"IF(Export!K155<>0,\"H2\",\"no\")","v":"no"},null,"no-no-no-no"]
[{"$f":"IF(Export!H156<>0,\"L1\",\"no\")","v":"no"},{"$f":"IF(Export!I156<>0,\"L2\",\"no\")","v":"no"},{"$f":"IF(Export!J156<>0,\"H1\",\"no\")","v":"no"},{"$f":"IF(Export!K156<>0,\"H2\",\"no\")","v":"no"},null,"no-no-no-no"]
[{"$f":"IF(Export!H157<>0,\"L1\",\"no\")","v":"no"},{"$f":"IF(Export!I157<>0,\"L2\",\"no\")","v":"no"},{"$f":"IF(Export!J157<>0,\"H1\",\"no\")","v":"no"},{"$f":"IF(Export!K157<>0,\"H2\",\"no\")","v":"no"},null,"no-no-no-no"]
[{"$f":"IF(Export!H158<>0,\"L1\",\"no\")","v":"no"},{"$f":"IF(Export!I158<>0,\"L2\",\"no\")","v":"no"},{"$f":"IF(Export!J158<>0,\"H1\",\"no\")","v":"no"},{"$f":"IF(Export!K158<>0,\"H2\",\"no\")","v":"no"},null,"no-no-no-no"]
[{"$f":"IF(Export!H159<>0,\"L1\",\"no\")","v":"no"},{"$f":"IF(Export!I159<>0,\"L2\",\"no\")","v":"no"},{"$f":"IF(Export!J159<>0,\"H1\",\"no\")","v":"no"},{"$f":"IF(Export!K159<>0,\"H2\",\"no\")","v":"no"},null,"no-no-no-no"]
[{"$f":"IF(Export!H160<>0,\"L1\",\"no\")","v":"no"},{"$f":"IF(Export!I160<>0,\"L2\",\"no\")","v":"no"},{"$f":"IF(Export!J160<>0,\"H1\",\"no\")","v":"no"},{"$f":"IF(Export!K160<>0,\"H2\",\"no\")","v":"no"},null,"no-no-no-no"]
[{"$f":"IF(Export!H161<>0,\"L1\",\"no\")","v":"no"},{"$f":"IF(Export!I161<>0,\"L2\",\"no\")","v":"no"},{"$f":"IF(Export!J161<>0,\"H1\",\"no\")","v":"no"},{"$f":"IF(Export!K161<>0,\"H2\",\"no\")","v":"no"},null,"no-no-no-no"]
[{"$f":"IF(Export!H162<>0,\"L1\",\"no\")","v":"no"},{"$f":"IF(Export!I162<>0,\"L2\",\"no\")","v":"no"},{"$f":"IF(Export!J162<>0,\"H1\",\"no\")","v":"no"},{"$f":"IF(Export!K162<>0,\"H2\",\"no\")","v":"no"},null,"no-no-no-no"]
[{"$f":"IF(Export!H163<>0,\"L1\",\"no\")","v":"no"},{"$f":"IF(Export!I163<>0,\"L2\",\"no\")","v":"no"},{"$f":"IF(Export!J163<>0,\"H1\",\"no\")","v":"no"},{"$f":"IF(Export!K163<>0,\"H2\",\"no\")","v":"no"},null,"no-no-no-no"]
[{"$f":"IF(Export!H164<>0,\"L1\",\"no\")","v":"no"},{"$f":"IF(Export!I164<>0,\"L2\",\"no\")","v":"no"},{"$f":"IF(Export!J164<>0,\"H1\",\"no\")","v":"no"},{"$f":"IF(Export!K164<>0,\"H2\",\"no\")","v":"no"},null,"no-no-no-no"]
[{"$f":"IF(Export!H165<>0,\"L1\",\"no\")","v":"no"},{"$f":"IF(Export!I165<>0,\"L2\",\"no\")","v":"no"},{"$f":"IF(Export!J165<>0,\"H1\",\"no\")","v":"no"},{"$f":"IF(Export!K165<>0,\"H2\",\"no\")","v":"no"},null,"no-no-no-no"]
[{"$f":"IF(Export!H166<>0,\"L1\",\"no\")","v":"no"},{"$f":"IF(Export!I166<>0,\"L2\",\"no\")","v":"no"},{"$f":"IF(Export!J166<>0,\"H1\",\"no\")","v":"no"},{"$f":"IF(Export!K166<>0,\"H2\",\"no\")","v":"no"},null,"no-no-no-no"]
[{"$f":"IF(Export!H167<>0,\"L1\",\"no\")","v":"no"},{"$f":"IF(Export!I167<>0,\"L2\",\"no\")","v":"no"},{"$f":"IF(Export!J167<>0,\"H1\",\"no\")","v":"no"},{"$f":"IF(Export!K167<>0,\"H2\",\"no\")","v":"no"},null,"no-no-no-no"]
[{"$f":"IF(Export!H168<>0,\"L1\",\"no\")","v":"no"},{"$f":"IF(Export!I168<>0,\"L2\",\"no\")","v":"no"},{"$f":"IF(Export!J168<>0,\"H1\",\"no\")","v":"no"},{"$f":"IF(Export!K168<>0,\"H2\",\"no\")","v":"no"},null,"no-no-no-no"]
[{"$f":"IF(Export!H169<>0,\"L1\",\"no\")","v":"no"},{"$f":"IF(Export!I169<>0,\"L2\",\"no\")","v":"no"},{"$f":"IF(Export!J169<>0,\"H1\",\"no\")","v":"no"},{"$f":"IF(Export!K169<>0,\"H2\",\"no\")","v":"no"},null,"no-no-no-no"]
[{"$f":"IF(Export!H170<>0,\"L1\",\"no\")","v":"no"},{"$f":"IF(Export!I170<>0,\"L2\",\"no\")","v":"no"},{"$f":"IF(Export!J170<>0,\"H1\",\"no\")","v":"no"},{"$f":"IF(Export!K170<>0,\"H2\",\"no\")","v":"no"},null,"no-no-no-no"]
[{"$f":"IF(Export!H171<>0,\"L1\",\"no\")","v":"no"},{"$f":"IF(Export!I171<>0,\"L2\",\"no\")","v":"no"},{"$f":"IF(Export!J171<>0,\"H1\",\"no\")","v":"no"},{"$f":"IF(Export!K171<>0,\"H2\",\"no\")","v":"no"},null,"no-no-no-no"]
[{"$f":"IF(Export!H172<>0,\"L1\",\"no\")","v":"no"},{"$f":"IF(Export!I172<>0,\"L2\",\"no\")","v":"no"},{"$f":"IF(Export!J172<>0,\"H1\",\"no\")","v":"no"},{"$f":"IF(Export!K172<>0,\"H2\",\"no\")","v":"no"},null,"no-no-no-no"]
[{"$f":"IF(Export!H173<>0,\"L1\",\"no\")","v":"no"},{"$f":"IF(Export!I173<>0,\"L2\",\"no\")","v":"no"},{"$f":"IF(Export!J173<>0,\"H1\",\"no\")","v":"no"},{"$f":"IF(Export!K173<>0,\"H2\",\"no\")","v":"no"},null,"no-no-no-no"]
[{"$f":"IF(Export!H174<>0,\"L1\",\"no\")","v":"no"},{"$f":"IF(Export!I174<>0,\"L2\",\"no\")","v":"no"},{"$f":"IF(Export!J174<>0,\"H1\",\"no\")","v":"no"},{"$f":"IF(Export!K174<>0,\"H2\",\"no\")","v":"no"},null,"no-no-no-no"]
[{"$f":"IF(Export!H175<>0,\"L1\",\"no\")","v":"no"},{"$f":"IF(Export!I175<>0,\"L2\",\"no\")","v":"no"},{"$f":"IF(Export!J175<>0,\"H1\",\"no\")","v":"no"},{"$f":"IF(Export!K175<>0,\"H2\",\"no\")","v":"no"},null,"no-no-no-no"]
[{"$f":"IF(Export!H176<>0,\"L1\",\"no\")","v":"no"},{"$f":"IF(Export!I176<>0,\"L2\",\"no\")","v":"no"},{"$f":"IF(Export!J176<>0,\"H1\",\"no\")","v":"no"},{"$f":"IF(Export!K176<>0,\"H2\",\"no\")","v":"no"},null,"no-no-no-no"]
[{"$f":"IF(Export!H177<>0,\"L1\",\"no\")","v":"no"},{"$f":"IF(Export!I177<>0,\"L2\",\"no\")","v":"no"},{"$f":"IF(Export!J177<>0,\"H1\",\"no\")","v":"no"},{"$f":"IF(Export!K177<>0,\"H2\",\"no\")","v":"no"},null,"no-no-no-no"]
[{"$f":"IF(Export!H178<>0,\"L1\",\"no\")","v":"no"},{"$f":"IF(Export!I178<>0,\"L2\",\"no\")","v":"no"},{"$f":"IF(Export!J178<>0,\"H1\",\"no\")","v":"no"},{"$f":"IF(Export!K178<>0,\"H2\",\"no\")","v":"no"},null,"no-no-no-no"]
[{"$f":"IF(Export!H179<>0,\"L1\",\"no\")","v":"no"},{"$f":"IF(Export!I179<>0,\"L2\",\"no\")","v":"no"},{"$f":"IF(Export!J179<>0,\"H1\",\"no\")","v":"no"},{"$f":"IF(Export!K179<>0,\"H2\",\"no\")","v":"no"},null,"no-no-no-no"]
[{"$f":"IF(Export!H180<>0,\"L1\",\"no\")","v":"no"},{"$f":"IF(Export!I180<>0,\"L2\",\"no\")","v":"no"},{"$f":"IF(Export!J180<>0,\"H1\",\"no\")","v":"no"},{"$f":"IF(Export!K180<>0,\"H2\",\"no\")","v":"no"},null,"no-no-no-no"]
[{"$f":"IF(Export!H181<>0,\"L1\",\"no\")","v":"no"},{"$f":"IF(Export!I181<>0,\"L2\",\"no\")","v":"no"},{"$f":"IF(Export!J181<>0,\"H1\",\"no\")","v":"no"},{"$f":"IF(Export!K181<>0,\"H2\",\"no\")","v":"no"},null,"no-no-no-no"]
[{"$f":"IF(Export!H182<>0,\"L1\",\"no\")","v":"no"},{"$f":"IF(Export!I182<>0,\"L2\",\"no\")","v":"no"},{"$f":"IF(Export!J182<>0,\"H1\",\"no\")","v":"no"},{"$f":"IF(Export!K182<>0,\"H2\",\"no\")","v":"no"},null,"no-no-no-no"]
[{"$f":"IF(Export!H183<>0,\"L1\",\"no\")","v":"no"},{"$f":"IF(Export!I183<>0,\"L2\",\"no\")","v":"no"},{"$f":"IF(Export!J183<>0,\"H1\",\"no\")","v":"no"},{"$f":"IF(Export!K183<>0,\"H2\",\"no\")","v":"no"},null,"no-no-no-no"]
[{"$f":"IF(Export!H184<>0,\"L1\",\"no\")","v":"no"},{"$f":"IF(Export!I184<>0,\"L2\",\"no\")","v":"no"},{"$f":"IF(Export!J184<>0,\"H1\",\"no\")","v":"no"},{"$f":"IF(Export!K184<>0,\"H2\",\"no\")","v":"no"},null,"no-no-no-no"]
[{"$f":"IF(Export!H185<>0,\"L1\",\"no\")","v":"no"},{"$f":"IF(Export!I185<>0,\"L2\",\"no\")","v":"no"},{"$f":"IF(Export!J185<>0,\"H1\",\"no\")","v":"no"},{"$f":"IF(Export!K185<>0,\"H2\",\"no\")","v":"no"},null,"no-no-no-no"]
[{"$f":"IF(Export!H186<>0,\"L1\",\"no\")","v":"no"},{"$f":"IF(Export!I186<>0,\"L2\",\"no\")","v":"no"},{"$f":"IF(Export!J186<>0,\"H1\",\"no\")","v":"no"},{"$f":"IF(Export!K186<>0,\"H2\",\"no\")","v":"no"},null,"no-no-no-no"]
[{"$f":"IF(Export!H187<>0,\"L1\",\"no\")","v":"no"},{"$f":"IF(Export!I187<>0,\"L2\",\"no\")","v":"no"},{"$f":"IF(Export!J187<>0,\"H1\",\"no\")","v":"no"},{"$f":"IF(Export!K187<>0,\"H2\",\"no\")","v":"no"},null,"no-no-no-no"]
[{"$f":"IF(Export!H188<>0,\"L1\",\"no\")","v":"no"},{"$f":"IF(Export!I188<>0,\"L2\",\"no\")","v":"no"},{"$f":"IF(Export!J188<>0,\"H1\",\"no\")","v":"no"},{"$f":"IF(Export!K188<>0,\"H2\",\"no\")","v":"no"},null,"no-no-no-no"]
[{"$f":"IF(Export!H189<>0,\"L1\",\"no\")","v":"no"},{"$f":"IF(Export!I189<>0,\"L2\",\"no\")","v":"no"},{"$f":"IF(Export!J189<>0,\"H1\",\"no\")","v":"no"},{"$f":"IF(Export!K189<>0,\"H2\",\"no\")","v":"no"},null,"no-no-no-no"]
[{"$f":"IF(Export!H190<>0,\"L1\",\"no\")","v":"no"},{"$f":"IF(Export!I190<>0,\"L2\",\"no\")","v":"no"},{"$f":"IF(Export!J190<>0,\"H1\",\"no\")","v":"no"},{"$f":"IF(Export!K190<>0,\"H2\",\"no\")","v":"no"},null,"no-no-no-no"]
[{"$f":"IF(Export!H191<>0,\"L1\",\"no\")","v":"no"},{"$f":"IF(Export!I191<>0,\"L2\",\"no\")","v":"no"},{"$f":"IF(Export!J191<>0,\"H1\",\"no\")","v":"no"},{"$f":"IF(Export!K191<>0,\"H2\",\"no\")","v":"no"},null,"no-no-no-no"]
[{"$f":"IF(Export!H192<>0,\"L1\",\"no\")","v":"no"},{"$f":"IF(Export!I192<>0,\"L2\",\"no\")","v":"no"},{"$f":"IF(Export!J192<>0,\"H1\",\"no\")","v":"no"},{"$f":"IF(Export!K192<>0,\"H2\",\"no\")","v":"no"},null,"no-no-no-no"]
[{"$f":"IF(Export!H193<>0,\"L1\",\"no\")","v":"no"},{"$f":"IF(Export!I193<>0,\"L2\",\"no\")","v":"no"},{"$f":"IF(Export!J193<>0,\"H1\",\"no\")","v":"no"},{"$f":"IF(Export!K193<>0,\"H2\",\"no\")","v":"no"},null,"no-no-no-no"]
[{"$f":"IF(Export!H194<>0,\"L1\",\"no\")","v":"no"},{"$f":"IF(Export!I194<>0,\"L2\",\"no\")","v":"no"},{"$f":"IF(Export!J194<>0,\"H1\",\"no\")","v":"no"},{"$f":"IF(Export!K194<>0,\"H2\",\"no\")","v":"no"},null,"no-no-no-no"]
[{"$f":"IF(Export!H195<>0,\"L1\",\"no\")","v":"no"},{"$f":"IF(Export!I195<>0,\"L2\",\"no\")","v":"no"},{"$f":"IF(Export!J195<>0,\"H1\",\"no\")","v":"no"},{"$f":"IF(Export!K195<>0,\"H2\",\"no\")","v":"no"},null,"no-no-no-no"]
[{"$f":"IF(Export!H196<>0,\"L1\",\"no\")","v":"no"},{"$f":"IF(Export!I196<>0,\"L2\",\"no\")","v":"no"},{"$f":"IF(Export!J196<>0,\"H1\",\"no\")","v":"no"},{"$f":"IF(Export!K196<>0,\"H2\",\"no\")","v":"no"},null,{"$f":"CONCATENATE(A196,\"-\",B196,\"-\",C196,\"-\",D196)","v":"no-no-no-no"}]
[{"$f":"IF(Export!H197<>0,\"L1\",\"no\")","v":"no"},{"$f":"IF(Export!I197<>0,\"L2\",\"no\")","v":"no"},{"$f":"IF(Export!J197<>0,\"H1\",\"no\")","v":"no"},{"$f":"IF(Export!K197<>0,\"H2\",\"no\")","v":"no"},null,"no-no-no-no"]
[{"$f":"IF(Export!H198<>0,\"L1\",\"no\")","v":"no"},{"$f":"IF(Export!I198<>0,\"L2\",\"no\")","v":"no"},{"$f":"IF(Export!J198<>0,\"H1\",\"no\")","v":"no"},{"$f":"IF(Export!K198<>0,\"H2\",\"no\")","v":"no"},null,"no-no-no-no"]
[{"$f":"IF(Export!H199<>0,\"L1\",\"no\")","v":"no"},{"$f":"IF(Export!I199<>0,\"L2\",\"no\")","v":"no"},{"$f":"IF(Export!J199<>0,\"H1\",\"no\")","v":"no"},{"$f":"IF(Export!K199<>0,\"H2\",\"no\")","v":"no"},null,"no-no-no-no"]
[{"$f":"IF(Export!H200<>0,\"L1\",\"no\")","v":"no"},{"$f":"IF(Export!I200<>0,\"L2\",\"no\")","v":"no"},{"$f":"IF(Export!J200<>0,\"H1\",\"no\")","v":"no"},{"$f":"IF(Export!K200<>0,\"H2\",\"no\")","v":"no"},null,"no-no-no-no"]
[{"$f":"IF(Export!H201<>0,\"L1\",\"no\")","v":"no"},{"$f":"IF(Export!I201<>0,\"L2\",\"no\")","v":"no"},{"$f":"IF(Export!J201<>0,\"H1\",\"no\")","v":"no"},{"$f":"IF(Export!K201<>0,\"H2\",\"no\")","v":"no"},null,"no-no-no-no"]
[{"$f":"IF(Export!H202<>0,\"L1\",\"no\")","v":"no"},{"$f":"IF(Export!I202<>0,\"L2\",\"no\")","v":"no"},{"$f":"IF(Export!J202<>0,\"H1\",\"no\")","v":"no"},{"$f":"IF(Export!K202<>0,\"H2\",\"no\")","v":"no"},null,"no-no-no-no"]
[{"$f":"IF(Export!H203<>0,\"L1\",\"no\")","v":"no"},{"$f":"IF(Export!I203<>0,\"L2\",\"no\")","v":"no"},{"$f":"IF(Export!J203<>0,\"H1\",\"no\")","v":"no"},{"$f":"IF(Export!K203<>0,\"H2\",\"no\")","v":"no"},null,"no-no-no-no"]
[{"$f":"IF(Export!H204<>0,\"L1\",\"no\")","v":"no"},{"$f":"IF(Export!I204<>0,\"L2\",\"no\")","v":"no"},{"$f":"IF(Export!J204<>0,\"H1\",\"no\")","v":"no"},{"$f":"IF(Export!K204<>0,\"H2\",\"no\")","v":"no"},null,"no-no-no-no"]
[{"$f":"IF(Export!H205<>0,\"L1\",\"no\")","v":"no"},{"$f":"IF(Export!I205<>0,\"L2\",\"no\")","v":"no"},{"$f":"IF(Export!J205<>0,\"H1\",\"no\")","v":"no"},{"$f":"IF(Export!K205<>0,\"H2\",\"no\")","v":"no"},null,"no-no-no-no"]
[{"$f":"IF(Export!H206<>0,\"L1\",\"no\")","v":"no"},{"$f":"IF(Export!I206<>0,\"L2\",\"no\")","v":"no"},{"$f":"IF(Export!J206<>0,\"H1\",\"no\")","v":"no"},{"$f":"IF(Export!K206<>0,\"H2\",\"no\")","v":"no"},null,"no-no-no-no"]
[{"$f":"IF(Export!H207<>0,\"L1\",\"no\")","v":"no"},{"$f":"IF(Export!I207<>0,\"L2\",\"no\")","v":"no"},{"$f":"IF(Export!J207<>0,\"H1\",\"no\")","v":"no"},{"$f":"IF(Export!K207<>0,\"H2\",\"no\")","v":"no"},null,"no-no-no-no"]
[{"$f":"IF(Export!H208<>0,\"L1\",\"no\")","v":"no"},{"$f":"IF(Export!I208<>0,\"L2\",\"no\")","v":"no"},{"$f":"IF(Export!J208<>0,\"H1\",\"no\")","v":"no"},{"$f":"IF(Export!K208<>0,\"H2\",\"no\")","v":"no"},null,"no-no-no-no"]
[{"$f":"IF(Export!H209<>0,\"L1\",\"no\")","v":"no"},{"$f":"IF(Export!I209<>0,\"L2\",\"no\")","v":"no"},{"$f":"IF(Export!J209<>0,\"H1\",\"no\")","v":"no"},{"$f":"IF(Export!K209<>0,\"H2\",\"no\")","v":"no"},null,"no-no-no-no"]
[{"$f":"IF(Export!H210<>0,\"L1\",\"no\")","v":"no"},{"$f":"IF(Export!I210<>0,\"L2\",\"no\")","v":"no"},{"$f":"IF(Export!J210<>0,\"H1\",\"no\")","v":"no"},{"$f":"IF(Export!K210<>0,\"H2\",\"no\")","v":"no"},null,"no-no-no-no"]
[{"$f":"IF(Export!H211<>0,\"L1\",\"no\")","v":"no"},{"$f":"IF(Export!I211<>0,\"L2\",\"no\")","v":"no"},{"$f":"IF(Export!J211<>0,\"H1\",\"no\")","v":"no"},{"$f":"IF(Export!K211<>0,\"H2\",\"no\")","v":"no"},null,"no-no-no-no"]
[{"$f":"IF(Export!H212<>0,\"L1\",\"no\")","v":"no"},{"$f":"IF(Export!I212<>0,\"L2\",\"no\")","v":"no"},{"$f":"IF(Export!J212<>0,\"H1\",\"no\")","v":"no"},{"$f":"IF(Export!K212<>0,\"H2\",\"no\")","v":"no"},null,"no-no-no-no"]
[{"$f":"IF(Export!H213<>0,\"L1\",\"no\")","v":"no"},{"$f":"IF(Export!I213<>0,\"L2\",\"no\")","v":"no"},{"$f":"IF(Export!J213<>0,\"H1\",\"no\")","v":"no"},{"$f":"IF(Export!K213<>0,\"H2\",\"no\")","v":"no"},null,"no-no-no-no"]
[{"$f":"IF(Export!H214<>0,\"L1\",\"no\")","v":"no"},{"$f":"IF(Export!I214<>0,\"L2\",\"no\")","v":"no"},{"$f":"IF(Export!J214<>0,\"H1\",\"no\")","v":"no"},{"$f":"IF(Export!K214<>0,\"H2\",\"no\")","v":"no"},null,"no-no-no-no"]
[{"$f":"IF(Export!H215<>0,\"L1\",\"no\")","v":"no"},{"$f":"IF(Export!I215<>0,\"L2\",\"no\")","v":"no"},{"$f":"IF(Export!J215<>0,\"H1\",\"no\")","v":"no"},{"$f":"IF(Export!K215<>0,\"H2\",\"no\")","v":"no"},null,"no-no-no-no"]
[{"$f":"IF(Export!H216<>0,\"L1\",\"no\")","v":"no"},{"$f":"IF(Export!I216<>0,\"L2\",\"no\")","v":"no"},{"$f":"IF(Export!J216<>0,\"H1\",\"no\")","v":"no"},{"$f":"IF(Export!K216<>0,\"H2\",\"no\")","v":"no"},null,"no-no-no-no"]
[{"$f":"IF(Export!H217<>0,\"L1\",\"no\")","v":"no"},{"$f":"IF(Export!I217<>0,\"L2\",\"no\")","v":"no"},{"$f":"IF(Export!J217<>0,\"H1\",\"no\")","v":"no"},{"$f":"IF(Export!K217<>0,\"H2\",\"no\")","v":"no"},null,"no-no-no-no"]
[{"$f":"IF(Export!H218<>0,\"L1\",\"no\")","v":"no"},{"$f":"IF(Export!I218<>0,\"L2\",\"no\")","v":"no"},{"$f":"IF(Export!J218<>0,\"H1\",\"no\")","v":"no"},{"$f":"IF(Export!K218<>0,\"H2\",\"no\")","v":"no"},null,"no-no-no-no"]
[{"$f":"IF(Export!H219<>0,\"L1\",\"no\")","v":"no"},{"$f":"IF(Export!I219<>0,\"L2\",\"no\")","v":"no"},{"$f":"IF(Export!J219<>0,\"H1\",\"no\")","v":"no"},{"$f":"IF(Export!K219<>0,\"H2\",\"no\")","v":"no"},null,"no-no-no-no"]
[{"$f":"IF(Export!H220<>0,\"L1\",\"no\")","v":"no"},{"$f":"IF(Export!I220<>0,\"L2\",\"no\")","v":"no"},{"$f":"IF(Export!J220<>0,\"H1\",\"no\")","v":"no"},{"$f":"IF(Export!K220<>0,\"H2\",\"no\")","v":"no"},null,"no-no-no-no"]
[{"$f":"IF(Export!H221<>0,\"L1\",\"no\")","v":"no"},{"$f":"IF(Export!I221<>0,\"L2\",\"no\")","v":"no"},{"$f":"IF(Export!J221<>0,\"H1\",\"no\")","v":"no"},{"$f":"IF(Export!K221<>0,\"H2\",\"no\")","v":"no"},null,"no-no-no-no"]
[{"$f":"IF(Export!H222<>0,\"L1\",\"no\")","v":"no"},{"$f":"IF(Export!I222<>0,\"L2\",\"no\")","v":"no"},{"$f":"IF(Export!J222<>0,\"H1\",\"no\")","v":"no"},{"$f":"IF(Export!K222<>0,\"H2\",\"no\")","v":"no"},null,"no-no-no-no"]
[{"$f":"IF(Export!H223<>0,\"L1\",\"no\")","v":"no"},{"$f":"IF(Export!I223<>0,\"L2\",\"no\")","v":"no"},{"$f":"IF(Export!J223<>0,\"H1\",\"no\")","v":"no"},{"$f":"IF(Export!K223<>0,\"H2\",\"no\")","v":"no"},null,"no-no-no-no"]

{"sheet":"Grafica Cant","index":9,"n_rows":25,"n_cols":8,"rows_kept":25,"hidden":true,"merged":[[0,0,0,3]]}
["Cant PANOU",{"$nulls":3},"Grafica cant",null,"Concatenate","Grafica"]
["L1","NO","NO","NO","000:::",null,{"$f":"CONCATENATE(A2,\"-\",B2,\"-\",C2,\"-\",D2)","v":"L1-NO-NO-NO"},"000:::"]
["NO","L2","NO","NO",":000::",null,"NO-L2-NO-NO",":000::"]
["NO","NO","H1","NO","::000:",null,"NO-NO-H1-NO","::000:"]
["NO","NO","NO","H2",":::000",null,"NO-NO-NO-H2",":::000"]
["L1","L2","NO","NO","000:000::",null,"L1-L2-NO-NO","000:000::"]
["L1","NO","H1","NO","040::003:",null,"L1-NO-H1-NO","040::003:"]
["L1","NO","NO","H2","004:::030",null,"L1-NO-NO-H2","004:::030"]
["L1","L2","NO","NO","000:000::",null,"L1-L2-NO-NO","000:000::"]
["NO","L2","H1","NO",":004:030:",null,"NO-L2-H1-NO",":004:030:"]
["NO","L2","NO","H2",":040::003",null,"NO-L2-NO-H2",":040::003"]
["NO","L2","H1","NO",":004:030:",null,"NO-L2-H1-NO",":004:030:"]
["NO","NO","H1","H2","::000:000",null,"NO-NO-H1-H2","::000:000"]
["L1","NO","H1","NO","040::003:",null,"L1-NO-H1-NO","040::003:"]
["NO","L2","H1","NO",":004:030:",null,"NO-L2-H1-NO",":004:030:"]
["NO","NO","H1","H2","::000:000",null,"NO-NO-H1-H2","::000:000"]
["L1","NO","NO","H2","004:::030",null,"L1-NO-NO-H2","004:::030"]
["NO","L2","NO","H2",":040::003",null,"NO-L2-NO-H2",":040::003"]
["NO","NO","H1","H2","::000:000",null,"NO-NO-H1-H2","::000:000"]
["L1","L2","H1","NO","040:004:033:",null,"L1-L2-H1-NO","040:004:033:"]
["NO","L2","H1","H2",":044:030:003",null,"NO-L2-H1-H2",":044:030:003"]
["L1","NO","H1","H2","044::003:030",null,"L1-NO-H1-H2","044::003:030"]
["L1","L2","NO","H2","004:040::033",null,"L1-L2-NO-H2","004:040::033"]
["L1","L2","H1","H2","044:044:033:033",null,"L1-L2-H1-H2","044:044:033:033"]
["NO","NO","NO","NO",":::",null,"NO-NO-NO-NO",":::"]